{"text_format":"1","workbook":"xlsx","n_sheets":35,"sheets":["S1","S2","S3","S4","S5","S6","S7","S8","S9","S10","S11","S12","QA Samples","Chart 1-24","Chart 25-48","Chart 49-72","Chart 73-96","Chart 97-120","Chart 121-144","S13","S14","Avg","Split 1","Split 2","Split 3","Split 4","Split 5","Split 6","Split 1-24","Split 25-48","Split 49-72","Split Avg","S15","AP2","AP"],"not_rendered":{"charts":150,"images":51,"macros":1,"external_links":1,"defined_names":33,"comments":0,"pivot_tables":0},"unopened":[],"bounds":{"document_bytes":16777216,"sheet_cells":100000,"rows_first":2000,"rows_last":500,"rows_between":2000,"halvings":0,"cell_chars":16384,"cell_head_chars":4096},"cells_cut":0,"cells_raw":0,"read":"whole","date_system":"1900"}

{"sheet":"S1","index":0,"n_rows":74,"n_cols":25,"rows_kept":74,"cut":false,"hidden":false,"merged":[[6,12,6,13],[6,10,6,11],[3,10,3,11],[0,0,3,1],[1,10,1,11],[10,4,10,5],[10,6,10,7],[9,0,9,1],[9,2,9,3],[1,2,1,7],[2,2,2,7],[4,10,4,11],[3,6,4,7],[7,3,7,11],[9,4,9,5],[10,8,10,9],[1,12,1,13],[2,10,2,11],[2,12,2,13],[3,12,3,13],[4,12,4,13],[5,0,5,1],[9,6,9,7],[35,0,37,1],[35,2,37,3],[35,4,37,5],[35,6,37,7],[31,8,31,9],[31,10,31,11],[31,12,31,13],[11,0,11,1],[5,10,5,11],[5,12,5,13],[10,0,10,1],[10,2,10,3],[35,8,37,9],[35,10,37,11],[35,12,37,13],[13,8,13,9],[13,12,13,13],[10,10,10,11],[10,12,10,13],[34,0,34,1],[34,12,34,13],[13,10,13,11],[9,8,9,9],[13,2,13,3],[13,4,13,5],[24,0,24,1],[23,0,23,1],[34,2,34,3],[34,4,34,5],[9,10,9,11],[9,12,9,13],[34,8,34,9],[34,10,34,11],[13,6,13,7],[34,6,34,7],[31,6,31,7],[13,0,13,1],[12,0,12,1],[33,0,33,1],[15,0,15,1],[30,0,30,1],[29,0,29,1],[28,0,28,1],[27,0,27,1],[26,0,26,1],[25,0,25,1],[31,2,31,3],[31,4,31,5],[14,0,14,1],[22,0,22,1],[21,0,21,1],[20,0,20,1],[32,0,32,1],[19,0,19,1],[18,0,18,1],[17,0,17,1],[16,0,16,1],[42,10,42,11],[42,12,42,13],[43,0,43,1],[43,2,43,3],[43,4,43,5],[43,6,43,7],[43,8,43,9],[43,10,43,11],[43,12,43,13],[42,0,42,1],[42,2,42,3],[42,4,42,5],[42,6,42,7],[42,8,42,9],[46,6,46,7],[46,8,46,9],[46,10,46,11],[46,12,46,13],[47,0,47,1],[44,0,44,1],[45,0,45,1],[46,0,46,1],[46,2,46,3],[46,4,46,5],[53,0,53,1],[54,0,54,1],[55,0,55,1],[56,0,56,1],[57,0,57,1],[48,0,48,1],[49,0,49,1],[50,0,50,1],[51,0,51,1],[52,0,52,1],[63,0,63,1],[64,2,64,3],[64,4,64,5],[64,6,64,7],[64,8,64,9],[58,0,58,1],[59,0,59,1],[60,0,60,1],[61,0,61,1],[62,0,62,1],[68,10,70,11],[68,12,70,13],[68,0,70,1],[68,2,70,3],[68,4,70,5],[68,6,70,7],[68,8,70,9],[64,10,64,11],[64,12,64,13],[65,0,65,1],[66,0,66,1],[67,0,67,1],[67,2,67,3],[67,4,67,5],[67,6,67,7],[67,8,67,9],[67,10,67,11],[67,12,67,13]]}
[null,null,null,null,null,null,null,null,null,null,null,null,null,null,null,null,null,null,null,1,null,"FM","Wash"]
[null,null,"COMMONWEALTH OF PENNSYLVANIA",null,null,null,null,null,null,null,"District",null,null,null,null,null,null,null,null,null,null,"Yes","Yes"]
[null,null,"DEPARTMENT OF TRANSPORTATION",null,null,null,null,null,null,null,"Plant Code",null,null,null,null,null,null,null,null,null,null,"No","No"]
[null,null,null,null,null,null,"Select Pounds or Grams",null,null,null,"Agg. Size",null,null,null,null,null,null,null,null,null,null,{"$f":"IF(M7=\"Yes\",1,2)","v":2},{"$f":"IF(M8=\"Yes\",1,2)","v":2}]
[null,null,null,null,null,null,null,null,null,null,"Calculate FM?",null,"No"]
["Aggregate 2023",null,null,null,null,null,null,null,null,null,"Washed Gradation?",null,"No"]
[null,null,null,null,null,null,null,null,null,null,"Aggregate Identifier"]
[null,null,null,"Material Test Results"]
[]
["Sample No.",null,1,null,2,null,3,null,4,null,5,null,6]
["Date"]
[{"$f":"IF(A8=\"Yes\",\"St. Wt. Before Wash\",\"Starting. Wt.\")","v":"Starting. Wt."},null,null,"% Loss",null,"% Loss",null,"% Loss",null,"% Loss",null,"% Loss",null,"% Loss"]
[{"$f":"IF(A8=\"Yes\",\"Dry Wt. After Wash\",\"Ending Wt.\")","v":"Ending Wt."},null,null,{"$f":"IF(ISBLANK(C13),\" \",IF(ISBLANK(C41),\" \",IF($W$4=1,(C13-C41)/C13*100,((C12-C13)/C12)*100)))","v":" "},null,{"$f":"IF(ISBLANK(E13),\" \",IF(ISBLANK(E41),\" \",IF($W$4=1,(E13-E41)/E13*100,((E12-E13)/E12)*100)))","v":" "},null,{"$f":"IF(ISBLANK(G13),\" \",IF(ISBLANK(G41),\" \",IF($W$4=1,(G13-G41)/G13*100,((G12-G13)/G12)*100)))","v":" "},null,{"$f":"IF(ISBLANK(I13),\" \",IF(ISBLANK(I41),\" \",IF($W$4=1,(I13-I41)/I13*100,((I12-I13)/I12)*100)))","v":" "},null,{"$f":"IF(ISBLANK(K13),\" \",IF(ISBLANK(K41),\" \",IF($W$4=1,(K13-K41)/K13*100,((K12-K13)/K12)*100)))","v":" "},null,{"$f":"IF(ISBLANK(M13),\" \",IF(ISBLANK(M41),\" \",IF($W$4=1,(M13-M41)/M13*100,((M12-M13)/M12)*100)))","v":" "}]
["Wt. Loss",null,{"$f":"IF(ISBLANK(C12),\" \",IF(ISBLANK(C13),\" \",C12-C13))","v":" "},null,{"$f":"IF(ISBLANK(E12),\" \",IF(ISBLANK(E13),\" \",E12-E13))","v":" "},null,{"$f":"IF(ISBLANK(G12),\" \",IF(ISBLANK(G13),\" \",G12-G13))","v":" "},null,{"$f":"IF(ISBLANK(I12),\" \",IF(ISBLANK(I13),\" \",I12-I13))","v":" "},null,{"$f":"IF(ISBLANK(K12),\" \",IF(ISBLANK(K13),\" \",K12-K13))","v":" "},null,{"$f":"IF(ISBLANK(M12),\" \",IF(ISBLANK(M13),\" \",M12-M13))","v":" "}]
[null,null,"Wt","% Passing","Wt","% Passing","Wt","% Passing","Wt","% Passing","Wt","% Passing","Wt","% Passing",null,null,null,null,null,null,null,null,null,null,"Type A"]
[2.5,null,null,{"$f":"IF(ISBLANK(C$12),\"  \",IF(ISBLANK(C$13),\" \",IF(ISBLANK(C16),\" \",IF($W$4=1,ROUND((C16+C$14)/C$12*100,0),ROUND(C16/C$12*100,0)))))","v":"  "},null,{"$f":"IF(ISBLANK(E$12),\"  \",IF(ISBLANK(E$13),\" \",IF(ISBLANK(E16),\" \",IF($W$4=1,ROUND((E16+E$14)/E$12*100,0),ROUND(E16/E$12*100,0)))))","v":"  "},null,{"$f":"IF(ISBLANK(G$12),\"  \",IF(ISBLANK(G$13),\" \",IF(ISBLANK(G16),\" \",IF($W$4=1,ROUND((G16+G$14)/G$12*100,0),ROUND(G16/G$12*100,0)))))","v":"  "},null,{"$f":"IF(ISBLANK(I$12),\"  \",IF(ISBLANK(I$13),\" \",IF(ISBLANK(I16),\" \",IF($W$4=1,ROUND((I16+I$14)/I$12*100,0),ROUND(I16/I$12*100,0)))))","v":"  "},null,{"$f":"IF(ISBLANK(K$12),\"  \",IF(ISBLANK(K$13),\" \",IF(ISBLANK(K16),\" \",IF($W$4=1,ROUND((K16+K$14)/K$12*100,0),ROUND(K16/K$12*100,0)))))","v":"  "},null,{"$f":"IF(ISBLANK(M$12),\"  \",IF(ISBLANK(M$13),\" \",IF(ISBLANK(M16),\" \",IF($W$4=1,ROUND((M16+M$14)/M$12*100,0),ROUND(M16/M$12*100,0)))))","v":"  "},null,null,null,null,null,null,null,null,null,null,"B1"]
[2,null,null,{"$f":"IF(ISBLANK(C$12),\"  \",IF(ISBLANK(C$13),\" \",IF(ISBLANK(C17),\" \",IF(W$4=1,ROUND((C17+C$14)/C$12*100,0),ROUND(C17/C$12*100,0)))))","v":"  "},null,{"$f":"IF(ISBLANK(E$12),\"  \",IF(ISBLANK(E$13),\" \",IF(ISBLANK(E17),\" \",IF($W$4=1,ROUND((E17+E$14)/E$12*100,0),ROUND(E17/E$12*100,0)))))","v":"  "},null,{"$f":"IF(ISBLANK(G$12),\"  \",IF(ISBLANK(G$13),\" \",IF(ISBLANK(G17),\" \",IF($W$4=1,ROUND((G17+G$14)/G$12*100,0),ROUND(G17/G$12*100,0)))))","v":"  "},null,{"$f":"IF(ISBLANK(I$12),\"  \",IF(ISBLANK(I$13),\" \",IF(ISBLANK(I17),\" \",IF($W$4=1,ROUND((I17+I$14)/I$12*100,0),ROUND(I17/I$12*100,0)))))","v":"  "},null,{"$f":"IF(ISBLANK(K$12),\"  \",IF(ISBLANK(K$13),\" \",IF(ISBLANK(K17),\" \",IF($W$4=1,ROUND((K17+K$14)/K$12*100,0),ROUND(K17/K$12*100,0)))))","v":"  "},null,{"$f":"IF(ISBLANK(M$12),\"  \",IF(ISBLANK(M$13),\" \",IF(ISBLANK(M17),\" \",IF($W$4=1,ROUND((M17+M$14)/M$12*100,0),ROUND(M17/M$12*100,0)))))","v":"  "},null,null,null,null,null,null,null,null,null,null,"B3"]
[1.5,null,null,"  ",null,"  ",null,{"$f":"IF(ISBLANK(G$12),\"  \",IF(ISBLANK(G$13),\" \",IF(ISBLANK(G18),\" \",IF($W$4=1,ROUND((G18+G$14)/G$12*100,0),ROUND(G18/G$12*100,0)))))","v":"  "},null,{"$f":"IF(ISBLANK(I$12),\"  \",IF(ISBLANK(I$13),\" \",IF(ISBLANK(I18),\" \",IF($W$4=1,ROUND((I18+I$14)/I$12*100,0),ROUND(I18/I$12*100,0)))))","v":"  "},null,{"$f":"IF(ISBLANK(K$12),\"  \",IF(ISBLANK(K$13),\" \",IF(ISBLANK(K18),\" \",IF($W$4=1,ROUND((K18+K$14)/K$12*100,0),ROUND(K18/K$12*100,0)))))","v":"  "},null,{"$f":"IF(ISBLANK(M$12),\"  \",IF(ISBLANK(M$13),\" \",IF(ISBLANK(M18),\" \",IF($W$4=1,ROUND((M18+M$14)/M$12*100,0),ROUND(M18/M$12*100,0)))))","v":"  "},null,null,null,null,null,null,null,null,null,null,"Anti-Skid"]
[1,null,null,"  ",null,"  ",null,{"$f":"IF(ISBLANK(G$12),\"  \",IF(ISBLANK(G$13),\" \",IF(ISBLANK(G19),\" \",IF($W$4=1,ROUND((G19+G$14)/G$12*100,0),ROUND(G19/G$12*100,0)))))","v":"  "},null,{"$f":"IF(ISBLANK(I$12),\"  \",IF(ISBLANK(I$13),\" \",IF(ISBLANK(I19),\" \",IF($W$4=1,ROUND((I19+I$14)/I$12*100,0),ROUND(I19/I$12*100,0)))))","v":"  "},null,{"$f":"IF(ISBLANK(K$12),\"  \",IF(ISBLANK(K$13),\" \",IF(ISBLANK(K19),\" \",IF($W$4=1,ROUND((K19+K$14)/K$12*100,0),ROUND(K19/K$12*100,0)))))","v":"  "},null,{"$f":"IF(ISBLANK(M$12),\"  \",IF(ISBLANK(M$13),\" \",IF(ISBLANK(M19),\" \",IF($W$4=1,ROUND((M19+M$14)/M$12*100,0),ROUND(M19/M$12*100,0)))))","v":"  "},null,null,null,null,null,null,null,null,null,null,3]
[0.75,null,null,"  ",null,"  ",null,{"$f":"IF(ISBLANK(G$12),\"  \",IF(ISBLANK(G$13),\" \",IF(ISBLANK(G20),\" \",IF($W$4=1,ROUND((G20+G$14)/G$12*100,0),ROUND(G20/G$12*100,0)))))","v":"  "},null,{"$f":"IF(ISBLANK(I$12),\"  \",IF(ISBLANK(I$13),\" \",IF(ISBLANK(I20),\" \",IF($W$4=1,ROUND((I20+I$14)/I$12*100,0),ROUND(I20/I$12*100,0)))))","v":"  "},null,{"$f":"IF(ISBLANK(K$12),\"  \",IF(ISBLANK(K$13),\" \",IF(ISBLANK(K20),\" \",IF($W$4=1,ROUND((K20+K$14)/K$12*100,0),ROUND(K20/K$12*100,0)))))","v":"  "},null,{"$f":"IF(ISBLANK(M$12),\"  \",IF(ISBLANK(M$13),\" \",IF(ISBLANK(M20),\" \",IF($W$4=1,ROUND((M20+M$14)/M$12*100,0),ROUND(M20/M$12*100,0)))))","v":"  "},null,null,null,null,null,null,null,null,null,null,467]
[0.625,null,null,"  ",null,"  ",null,{"$f":"IF(ISBLANK(G$12),\"  \",IF(ISBLANK(G$13),\" \",IF(ISBLANK(G21),\" \",IF($W$4=1,ROUND((G21+G$14)/G$12*100,0),ROUND(G21/G$12*100,0)))))","v":"  "},null,{"$f":"IF(ISBLANK(I$12),\"  \",IF(ISBLANK(I$13),\" \",IF(ISBLANK(I21),\" \",IF($W$4=1,ROUND((I21+I$14)/I$12*100,0),ROUND(I21/I$12*100,0)))))","v":"  "},null,{"$f":"IF(ISBLANK(K$12),\"  \",IF(ISBLANK(K$13),\" \",IF(ISBLANK(K21),\" \",IF($W$4=1,ROUND((K21+K$14)/K$12*100,0),ROUND(K21/K$12*100,0)))))","v":"  "},null,{"$f":"IF(ISBLANK(M$12),\"  \",IF(ISBLANK(M$13),\" \",IF(ISBLANK(M21),\" \",IF($W$4=1,ROUND((M21+M$14)/M$12*100,0),ROUND(M21/M$12*100,0)))))","v":"  "},null,null,null,null,null,null,null,null,null,null,5]
[0.5,null,null,"  ",null,"  ",null,{"$f":"IF(ISBLANK(G$12),\"  \",IF(ISBLANK(G$13),\" \",IF(ISBLANK(G22),\" \",IF($W$4=1,ROUND((G22+G$14)/G$12*100,0),ROUND(G22/G$12*100,0)))))","v":"  "},null,{"$f":"IF(ISBLANK(I$12),\"  \",IF(ISBLANK(I$13),\" \",IF(ISBLANK(I22),\" \",IF($W$4=1,ROUND((I22+I$14)/I$12*100,0),ROUND(I22/I$12*100,0)))))","v":"  "},null,{"$f":"IF(ISBLANK(K$12),\"  \",IF(ISBLANK(K$13),\" \",IF(ISBLANK(K22),\" \",IF($W$4=1,ROUND((K22+K$14)/K$12*100,0),ROUND(K22/K$12*100,0)))))","v":"  "},null,{"$f":"IF(ISBLANK(M$12),\"  \",IF(ISBLANK(M$13),\" \",IF(ISBLANK(M22),\" \",IF($W$4=1,ROUND((M22+M$14)/M$12*100,0),ROUND(M22/M$12*100,0)))))","v":"  "},null,null,null,null,null,null,null,null,null,null,57]
[0.375,null,null,{"$f":"IF(ISBLANK(C$12),\"  \",IF(ISBLANK(C$13),\" \",IF(ISBLANK(C23),\" \",IF(W$4=1,ROUND((C23+C$14)/C$12*100,0),ROUND(C23/C$12*100,0)))))","v":"  "},null,"  ",null,{"$f":"IF(ISBLANK(G$12),\"  \",IF(ISBLANK(G$13),\" \",IF(ISBLANK(G23),\" \",IF($W$4=1,ROUND((G23+G$14)/G$12*100,0),ROUND(G23/G$12*100,0)))))","v":"  "},null,{"$f":"IF(ISBLANK(I$12),\"  \",IF(ISBLANK(I$13),\" \",IF(ISBLANK(I23),\" \",IF($W$4=1,ROUND((I23+I$14)/I$12*100,0),ROUND(I23/I$12*100,0)))))","v":"  "},null,{"$f":"IF(ISBLANK(K$12),\"  \",IF(ISBLANK(K$13),\" \",IF(ISBLANK(K23),\" \",IF($W$4=1,ROUND((K23+K$14)/K$12*100,0),ROUND(K23/K$12*100,0)))))","v":"  "},null,{"$f":"IF(ISBLANK(M$12),\"  \",IF(ISBLANK(M$13),\" \",IF(ISBLANK(M23),\" \",IF($W$4=1,ROUND((M23+M$14)/M$12*100,0),ROUND(M23/M$12*100,0)))))","v":"  "},null,null,null,null,null,null,null,null,null,null,67]
[0.25,null,null,"  ",null,"  ",null,{"$f":"IF(ISBLANK(G$12),\"  \",IF(ISBLANK(G$13),\" \",IF(ISBLANK(G24),\" \",IF($W$4=1,ROUND((G24+G$14)/G$12*100,0),ROUND(G24/G$12*100,0)))))","v":"  "},null,{"$f":"IF(ISBLANK(I$12),\"  \",IF(ISBLANK(I$13),\" \",IF(ISBLANK(I24),\" \",IF($W$4=1,ROUND((I24+I$14)/I$12*100,0),ROUND(I24/I$12*100,0)))))","v":"  "},null,{"$f":"IF(ISBLANK(K$12),\"  \",IF(ISBLANK(K$13),\" \",IF(ISBLANK(K24),\" \",IF($W$4=1,ROUND((K24+K$14)/K$12*100,0),ROUND(K24/K$12*100,0)))))","v":"  "},null,{"$f":"IF(ISBLANK(M$12),\"  \",IF(ISBLANK(M$13),\" \",IF(ISBLANK(M24),\" \",IF($W$4=1,ROUND((M24+M$14)/M$12*100,0),ROUND(M24/M$12*100,0)))))","v":"  "},null,null,null,null,null,null,null,null,null,null,7]
[4,null,null,"  ",null,"  ",null,{"$f":"IF(ISBLANK(G$12),\"  \",IF(ISBLANK(G$13),\" \",IF(ISBLANK(G25),\" \",IF($W$4=1,ROUND((G25+G$14)/G$12*100,0),ROUND(G25/G$12*100,0)))))","v":"  "},null,{"$f":"IF(ISBLANK(I$12),\"  \",IF(ISBLANK(I$13),\" \",IF(ISBLANK(I25),\" \",IF($W$4=1,ROUND((I25+I$14)/I$12*100,0),ROUND(I25/I$12*100,0)))))","v":"  "},null,{"$f":"IF(ISBLANK(K$12),\"  \",IF(ISBLANK(K$13),\" \",IF(ISBLANK(K25),\" \",IF($W$4=1,ROUND((K25+K$14)/K$12*100,0),ROUND(K25/K$12*100,0)))))","v":"  "},null,{"$f":"IF(ISBLANK(M$12),\"  \",IF(ISBLANK(M$13),\" \",IF(ISBLANK(M25),\" \",IF($W$4=1,ROUND((M25+M$14)/M$12*100,0),ROUND(M25/M$12*100,0)))))","v":"  "},null,null,null,null,null,null,null,null,null,null,78]
[8,null,null,"  ",null,"  ",null,{"$f":"IF(ISBLANK(G$12),\"  \",IF(ISBLANK(G$13),\" \",IF(ISBLANK(G26),\" \",IF($W$4=1,ROUND((G26+G$14)/G$12*100,0),ROUND(G26/G$12*100,0)))))","v":"  "},null,{"$f":"IF(ISBLANK(I$12),\"  \",IF(ISBLANK(I$13),\" \",IF(ISBLANK(I26),\" \",IF($W$4=1,ROUND((I26+I$14)/I$12*100,0),ROUND(I26/I$12*100,0)))))","v":"  "},null,{"$f":"IF(ISBLANK(K$12),\"  \",IF(ISBLANK(K$13),\" \",IF(ISBLANK(K26),\" \",IF($W$4=1,ROUND((K26+K$14)/K$12*100,0),ROUND(K26/K$12*100,0)))))","v":"  "},null,{"$f":"IF(ISBLANK(M$12),\"  \",IF(ISBLANK(M$13),\" \",IF(ISBLANK(M26),\" \",IF($W$4=1,ROUND((M26+M$14)/M$12*100,0),ROUND(M26/M$12*100,0)))))","v":"  "},null,null,null,null,null,null,null,null,null,null,8]
[16,null,null,"  ",null,{"$f":"IF(ISBLANK(E$12),\"  \",IF(ISBLANK(E$13),\" \",IF(ISBLANK(E27),\" \",IF($W$4=1,ROUND((E27+E$14)/E$12*100,0),ROUND(E27/E$12*100,0)))))","v":"  "},null,{"$f":"IF(ISBLANK(G$12),\"  \",IF(ISBLANK(G$13),\" \",IF(ISBLANK(G27),\" \",IF($W$4=1,ROUND((G27+G$14)/G$12*100,0),ROUND(G27/G$12*100,0)))))","v":"  "},null,{"$f":"IF(ISBLANK(I$12),\"  \",IF(ISBLANK(I$13),\" \",IF(ISBLANK(I27),\" \",IF($W$4=1,ROUND((I27+I$14)/I$12*100,0),ROUND(I27/I$12*100,0)))))","v":"  "},null,{"$f":"IF(ISBLANK(K$12),\"  \",IF(ISBLANK(K$13),\" \",IF(ISBLANK(K27),\" \",IF($W$4=1,ROUND((K27+K$14)/K$12*100,0),ROUND(K27/K$12*100,0)))))","v":"  "},null,{"$f":"IF(ISBLANK(M$12),\"  \",IF(ISBLANK(M$13),\" \",IF(ISBLANK(M27),\" \",IF($W$4=1,ROUND((M27+M$14)/M$12*100,0),ROUND(M27/M$12*100,0)))))","v":"  "},null,null,null,null,null,null,null,null,null,null,9]
[30,null,null,"  ",null,"  ",null,{"$f":"IF(ISBLANK(G$12),\"  \",IF(ISBLANK(G$13),\" \",IF(ISBLANK(G28),\" \",IF($W$4=1,ROUND((G28+G$14)/G$12*100,0),ROUND(G28/G$12*100,0)))))","v":"  "},null,{"$f":"IF(ISBLANK(I$12),\"  \",IF(ISBLANK(I$13),\" \",IF(ISBLANK(I28),\" \",IF($W$4=1,ROUND((I28+I$14)/I$12*100,0),ROUND(I28/I$12*100,0)))))","v":"  "},null,{"$f":"IF(ISBLANK(K$12),\"  \",IF(ISBLANK(K$13),\" \",IF(ISBLANK(K28),\" \",IF($W$4=1,ROUND((K28+K$14)/K$12*100,0),ROUND(K28/K$12*100,0)))))","v":"  "},null,{"$f":"IF(ISBLANK(M$12),\"  \",IF(ISBLANK(M$13),\" \",IF(ISBLANK(M28),\" \",IF($W$4=1,ROUND((M28+M$14)/M$12*100,0),ROUND(M28/M$12*100,0)))))","v":"  "},null,null,null,null,null,null,null,null,null,null,10]
[50,null,null,"  ",null,"  ",null,{"$f":"IF(ISBLANK(G$12),\"  \",IF(ISBLANK(G$13),\" \",IF(ISBLANK(G29),\" \",IF($W$4=1,ROUND((G29+G$14)/G$12*100,0),ROUND(G29/G$12*100,0)))))","v":"  "},null,{"$f":"IF(ISBLANK(I$12),\"  \",IF(ISBLANK(I$13),\" \",IF(ISBLANK(I29),\" \",IF($W$4=1,ROUND((I29+I$14)/I$12*100,0),ROUND(I29/I$12*100,0)))))","v":"  "},null,{"$f":"IF(ISBLANK(K$12),\"  \",IF(ISBLANK(K$13),\" \",IF(ISBLANK(K29),\" \",IF($W$4=1,ROUND((K29+K$14)/K$12*100,0),ROUND(K29/K$12*100,0)))))","v":"  "},null,{"$f":"IF(ISBLANK(M$12),\"  \",IF(ISBLANK(M$13),\" \",IF(ISBLANK(M29),\" \",IF($W$4=1,ROUND((M29+M$14)/M$12*100,0),ROUND(M29/M$12*100,0)))))","v":"  "},null,null,null,null,null,null,null,null,null,null,"2A"]
[100,null,null,{"$f":"IF(ISBLANK(C$12),\"  \",IF(ISBLANK(C$13),\" \",IF(ISBLANK(C30),\" \",IF(W$4=1,ROUND((C30+C$14)/C$12*100,0),ROUND(C30/C$12*100,0)))))","v":"  "},null,"  ",null,{"$f":"IF(ISBLANK(G$12),\"  \",IF(ISBLANK(G$13),\" \",IF(ISBLANK(G30),\" \",IF($W$4=1,ROUND((G30+G$14)/G$12*100,0),ROUND(G30/G$12*100,0)))))","v":"  "},null,{"$f":"IF(ISBLANK(I$12),\"  \",IF(ISBLANK(I$13),\" \",IF(ISBLANK(I30),\" \",IF($W$4=1,ROUND((I30+I$14)/I$12*100,0),ROUND(I30/I$12*100,0)))))","v":"  "},null,{"$f":"IF(ISBLANK(K$12),\"  \",IF(ISBLANK(K$13),\" \",IF(ISBLANK(K30),\" \",IF($W$4=1,ROUND((K30+K$14)/K$12*100,0),ROUND(K30/K$12*100,0)))))","v":"  "},null,{"$f":"IF(ISBLANK(M$12),\"  \",IF(ISBLANK(M$13),\" \",IF(ISBLANK(M30),\" \",IF($W$4=1,ROUND((M30+M$14)/M$12*100,0),ROUND(M30/M$12*100,0)))))","v":"  "},null,null,null,null,null,null,null,null,null,null,"OGS"]
[200,null,null,{"$f":"IF(ISBLANK(C$12),\"  \",IF(ISBLANK(C$13),\" \",IF(ISBLANK(C31),\" \",IF(W$4=1,ROUND((C31+C$14)/C$12*100,2),ROUND(C31/C$12*100,1)))))","v":"  "},null,{"$f":"IF(ISBLANK(E$12),\"  \",IF(ISBLANK(E$13),\" \",IF(ISBLANK(E31),\" \",IF($W$4=1,ROUND((E31+E$14)/E$12*100,2),ROUND(E31/E$12*100,2)))))","v":"  "},null,{"$f":"IF(ISBLANK(G$12),\"  \",IF(ISBLANK(G$13),\" \",IF(ISBLANK(G31),\" \",IF($W$4=1,ROUND((G31+G$14)/G$12*100,2),ROUND(G31/G$12*100,2)))))","v":"  "},null,{"$f":"IF(ISBLANK(I$12),\"  \",IF(ISBLANK(I$13),\" \",IF(ISBLANK(I31),\" \",IF($W$4=1,ROUND((I31+I$14)/I$12*100,2),ROUND(I31/I$12*100,2)))))","v":"  "},null,{"$f":"IF(ISBLANK(K$12),\"  \",IF(ISBLANK(K$13),\" \",IF(ISBLANK(K31),\" \",IF($W$4=1,ROUND((K31+K$14)/K$12*100,2),ROUND(K31/K$12*100,2)))))","v":"  "},null,{"$f":"IF(ISBLANK(M$12),\"  \",IF(ISBLANK(M$13),\" \",IF(ISBLANK(M31),\" \",IF($W$4=1,ROUND((M31+M$14)/M$12*100,2),ROUND(M31/M$12*100,2)))))","v":"  "},null,null,null,null,null,null,null,null,null,null,"2RC"]
["2.30-3.15","FM",{"$f":"IF(ISBLANK(C12),\" \",IF(ISBLANK(C23),\" \",(600-SUM(D24:D30))/100))","v":" "},null,{"$f":"IF(ISBLANK(E12),\" \",IF(ISBLANK(E23),\" \",(600-SUM(F24:F30))/100))","v":" "},null,{"$f":"IF(ISBLANK(G12),\" \",IF(ISBLANK(G23),\" \",(600-SUM(H24:H30))/100))","v":" "},null,{"$f":"IF(ISBLANK(I12),\" \",IF(ISBLANK(I23),\" \",(600-SUM(J24:J30))/100))","v":" "},null,{"$f":"IF(ISBLANK(K12),\" \",IF(ISBLANK(K23),\" \",(600-SUM(L24:L30))/100))","v":" "},null,{"$f":"IF(ISBLANK(M12),\" \",IF(ISBLANK(M23),\" \",(600-SUM(N24:N30))/100))","v":" "},null,null,null,null,null,null,null,null,null,null,null,"DSA"]
["St. Wt. Before Wash",null,null,"% Passing",null,"% Passing",null,"% Passing",null,"% Passing",null,"% Passing",null,"% Passing"]
["End Wt. After Wash",null,null,{"$f":"IF(ISBLANK(C33),\"\",IF(ISBLANK(C34),\"\",((C33-C34)/C33)*100))","v":""},null,{"$f":"IF(ISBLANK(E33),\"\",IF(ISBLANK(E34),\"\",((E33-E34)/E33)*100))","v":""},null,{"$f":"IF(ISBLANK(G33),\"\",IF(ISBLANK(G34),\"\",((G33-G34)/G33)*100))","v":""},null,{"$f":"IF(ISBLANK(I33),\"\",IF(ISBLANK(I34),\"\",((I33-I34)/I33)*100))","v":""},null,{"$f":"IF(ISBLANK(K33),\"\",IF(ISBLANK(K34),\"\",((K33-K34)/K33)*100))","v":""},null,{"$f":"IF(ISBLANK(M33),\"\",IF(ISBLANK(M34),\"\",((M33-M34)/M33)*100))","v":""}]
["Tested By"]
["Remarks"]
[]
[]
[]
[]
[null,null,{"$f":"MAX(C16:C31)","v":0},null,{"$f":"MAX(E16:E31)","v":0},null,{"$f":"MAX(G16:G31)","v":0},null,{"$f":"MAX(I16:I31)","v":0},null,{"$f":"MAX(K16:K31)","v":0},null,{"$f":"MAX(M16:M31)","v":0}]
[]
["Sample No.",null,7,null,8,null,9,null,10,null,11,null,12]
["Date"]
[{"$f":"IF(A8=\"Yes\",\"St. Wt. Before Wash\",\"Starting. Wt.\")","v":"Starting. Wt."},null,25.15,"% Loss",21.3,"% Loss",23.9,"% Loss",22,"% Loss",23.2,"% Loss",null,"% Loss"]
[{"$f":"IF(A8=\"Yes\",\"Dry Wt. After Wash\",\"Ending Wt.\")","v":"Ending Wt."},null,25.15,{"$f":"IF(ISBLANK(C46),\" \",IF(ISBLANK(C74),\" \",IF($W$4=1,(C46-C74)/C46*100,((C45-C46)/C45)*100)))","v":0},21.2,{"$f":"IF(ISBLANK(E46),\" \",IF(ISBLANK(E74),\" \",IF($W$4=1,(E46-E74)/E46*100,((E45-E46)/E45)*100)))","v":0.46948356807512404},23.83,{"$f":"IF(ISBLANK(G46),\" \",IF(ISBLANK(G74),\" \",IF($W$4=1,(G46-G74)/G46*100,((G45-G46)/G45)*100)))","v":0.29288702928870414},22,{"$f":"IF(ISBLANK(I46),\" \",IF(ISBLANK(I74),\" \",IF($W$4=1,(I46-I74)/I46*100,((I45-I46)/I45)*100)))","v":0},23.1,{"$f":"IF(ISBLANK(K46),\" \",IF(ISBLANK(K74),\" \",IF($W$4=1,(K46-K74)/K46*100,((K45-K46)/K45)*100)))","v":0.4310344827586115},null,{"$f":"IF(ISBLANK(M46),\" \",IF(ISBLANK(M74),\" \",IF($W$4=1,(M46-M74)/M46*100,((M45-M46)/M45)*100)))","v":" "}]
["Wt. Loss",null,{"$f":"IF(ISBLANK(C45),\" \",IF(ISBLANK(C46),\" \",C45-C46))","v":0},null,{"$f":"IF(ISBLANK(E45),\" \",IF(ISBLANK(E46),\" \",E45-E46))","v":0.10000000000000142},null,{"$f":"IF(ISBLANK(G45),\" \",IF(ISBLANK(G46),\" \",G45-G46))","v":7.0000000000000284E-2},null,{"$f":"IF(ISBLANK(I45),\" \",IF(ISBLANK(I46),\" \",I45-I46))","v":0},null,{"$f":"IF(ISBLANK(K45),\" \",IF(ISBLANK(K46),\" \",K45-K46))","v":9.9999999999997868E-2},null,{"$f":"IF(ISBLANK(M45),\" \",IF(ISBLANK(M46),\" \",M45-M46))","v":" "}]
[null,null,"Wt","% Passing","Wt","% Passing","Wt","% Passing","Wt","% Passing","Wt","% Passing","Wt","% Passing"]
[2.5,null,null,{"$f":"IF(ISBLANK(C$45),\"  \",IF(ISBLANK(C$46),\" \",IF(ISBLANK(C49),\" \",IF($W$4=1,ROUND((C49+C$47)/C$45*100,0),ROUND(C49/C$45*100,0)))))","v":" "},null,{"$f":"IF(ISBLANK(E$45),\"  \",IF(ISBLANK(E$46),\" \",IF(ISBLANK(E49),\" \",IF($W$4=1,ROUND((E49+E$47)/E$45*100,0),ROUND(E49/E$45*100,0)))))","v":" "},null,{"$f":"IF(ISBLANK(G$45),\"  \",IF(ISBLANK(G$46),\" \",IF(ISBLANK(G49),\" \",IF($W$4=1,ROUND((G49+G$47)/G$45*100,0),ROUND(G49/G$45*100,0)))))","v":" "},null,{"$f":"IF(ISBLANK(I$45),\"  \",IF(ISBLANK(I$46),\" \",IF(ISBLANK(I49),\" \",IF($W$4=1,ROUND((I49+I$47)/I$45*100,0),ROUND(I49/I$45*100,0)))))","v":" "},null,{"$f":"IF(ISBLANK(K$45),\"  \",IF(ISBLANK(K$46),\" \",IF(ISBLANK(K49),\" \",IF($W$4=1,ROUND((K49+K$47)/K$45*100,0),ROUND(K49/K$45*100,0)))))","v":" "},null,{"$f":"IF(ISBLANK(M$45),\"  \",IF(ISBLANK(M$46),\" \",IF(ISBLANK(M49),\" \",IF($W$4=1,ROUND((M49+M$47)/M$45*100,0),ROUND(M49/M$45*100,0)))))","v":"  "}]
[2,null,null,{"$f":"IF(ISBLANK(C$45),\"  \",IF(ISBLANK(C$46),\" \",IF(ISBLANK(C50),\" \",IF($W$4=1,ROUND((C50+C$47)/C$45*100,0),ROUND(C50/C$45*100,0)))))","v":" "},null," ",null,{"$f":"IF(ISBLANK(G$45),\"  \",IF(ISBLANK(G$46),\" \",IF(ISBLANK(G50),\" \",IF($W$4=1,ROUND((G50+G$47)/G$45*100,0),ROUND(G50/G$45*100,0)))))","v":" "},null,{"$f":"IF(ISBLANK(I$45),\"  \",IF(ISBLANK(I$46),\" \",IF(ISBLANK(I50),\" \",IF($W$4=1,ROUND((I50+I$47)/I$45*100,0),ROUND(I50/I$45*100,0)))))","v":" "},null,{"$f":"IF(ISBLANK(K$45),\"  \",IF(ISBLANK(K$46),\" \",IF(ISBLANK(K50),\" \",IF($W$4=1,ROUND((K50+K$47)/K$45*100,0),ROUND(K50/K$45*100,0)))))","v":" "},null,{"$f":"IF(ISBLANK(M$45),\"  \",IF(ISBLANK(M$46),\" \",IF(ISBLANK(M50),\" \",IF($W$4=1,ROUND((M50+M$47)/M$45*100,0),ROUND(M50/M$45*100,0)))))","v":"  "}]
[1.5,null,null," ",null," ",null,{"$f":"IF(ISBLANK(G$45),\"  \",IF(ISBLANK(G$46),\" \",IF(ISBLANK(G51),\" \",IF($W$4=1,ROUND((G51+G$47)/G$45*100,0),ROUND(G51/G$45*100,0)))))","v":" "},null,{"$f":"IF(ISBLANK(I$45),\"  \",IF(ISBLANK(I$46),\" \",IF(ISBLANK(I51),\" \",IF($W$4=1,ROUND((I51+I$47)/I$45*100,0),ROUND(I51/I$45*100,0)))))","v":" "},null,{"$f":"IF(ISBLANK(K$45),\"  \",IF(ISBLANK(K$46),\" \",IF(ISBLANK(K51),\" \",IF($W$4=1,ROUND((K51+K$47)/K$45*100,0),ROUND(K51/K$45*100,0)))))","v":" "},null,{"$f":"IF(ISBLANK(M$45),\"  \",IF(ISBLANK(M$46),\" \",IF(ISBLANK(M51),\" \",IF($W$4=1,ROUND((M51+M$47)/M$45*100,0),ROUND(M51/M$45*100,0)))))","v":"  "}]
[1,null,null," ",null," ",null,{"$f":"IF(ISBLANK(G$45),\"  \",IF(ISBLANK(G$46),\" \",IF(ISBLANK(G52),\" \",IF($W$4=1,ROUND((G52+G$47)/G$45*100,0),ROUND(G52/G$45*100,0)))))","v":" "},null,{"$f":"IF(ISBLANK(I$45),\"  \",IF(ISBLANK(I$46),\" \",IF(ISBLANK(I52),\" \",IF($W$4=1,ROUND((I52+I$47)/I$45*100,0),ROUND(I52/I$45*100,0)))))","v":" "},null,{"$f":"IF(ISBLANK(K$45),\"  \",IF(ISBLANK(K$46),\" \",IF(ISBLANK(K52),\" \",IF($W$4=1,ROUND((K52+K$47)/K$45*100,0),ROUND(K52/K$45*100,0)))))","v":" "},null,{"$f":"IF(ISBLANK(M$45),\"  \",IF(ISBLANK(M$46),\" \",IF(ISBLANK(M52),\" \",IF($W$4=1,ROUND((M52+M$47)/M$45*100,0),ROUND(M52/M$45*100,0)))))","v":"  "}]
[0.75,null,null," ",null," ",null,{"$f":"IF(ISBLANK(G$45),\"  \",IF(ISBLANK(G$46),\" \",IF(ISBLANK(G53),\" \",IF($W$4=1,ROUND((G53+G$47)/G$45*100,0),ROUND(G53/G$45*100,0)))))","v":" "},null,{"$f":"IF(ISBLANK(I$45),\"  \",IF(ISBLANK(I$46),\" \",IF(ISBLANK(I53),\" \",IF($W$4=1,ROUND((I53+I$47)/I$45*100,0),ROUND(I53/I$45*100,0)))))","v":" "},null,{"$f":"IF(ISBLANK(K$45),\"  \",IF(ISBLANK(K$46),\" \",IF(ISBLANK(K53),\" \",IF($W$4=1,ROUND((K53+K$47)/K$45*100,0),ROUND(K53/K$45*100,0)))))","v":" "},null,{"$f":"IF(ISBLANK(M$45),\"  \",IF(ISBLANK(M$46),\" \",IF(ISBLANK(M53),\" \",IF($W$4=1,ROUND((M53+M$47)/M$45*100,0),ROUND(M53/M$45*100,0)))))","v":"  "}]
[0.625,null,null," ",null," ",null,{"$f":"IF(ISBLANK(G$45),\"  \",IF(ISBLANK(G$46),\" \",IF(ISBLANK(G54),\" \",IF($W$4=1,ROUND((G54+G$47)/G$45*100,0),ROUND(G54/G$45*100,0)))))","v":" "},null,{"$f":"IF(ISBLANK(I$45),\"  \",IF(ISBLANK(I$46),\" \",IF(ISBLANK(I54),\" \",IF($W$4=1,ROUND((I54+I$47)/I$45*100,0),ROUND(I54/I$45*100,0)))))","v":" "},null,{"$f":"IF(ISBLANK(K$45),\"  \",IF(ISBLANK(K$46),\" \",IF(ISBLANK(K54),\" \",IF($W$4=1,ROUND((K54+K$47)/K$45*100,0),ROUND(K54/K$45*100,0)))))","v":" "},null,{"$f":"IF(ISBLANK(M$45),\"  \",IF(ISBLANK(M$46),\" \",IF(ISBLANK(M54),\" \",IF($W$4=1,ROUND((M54+M$47)/M$45*100,0),ROUND(M54/M$45*100,0)))))","v":"  "}]
[0.5,null,null," ",null," ",null,{"$f":"IF(ISBLANK(G$45),\"  \",IF(ISBLANK(G$46),\" \",IF(ISBLANK(G55),\" \",IF($W$4=1,ROUND((G55+G$47)/G$45*100,0),ROUND(G55/G$45*100,0)))))","v":" "},null,{"$f":"IF(ISBLANK(I$45),\"  \",IF(ISBLANK(I$46),\" \",IF(ISBLANK(I55),\" \",IF($W$4=1,ROUND((I55+I$47)/I$45*100,0),ROUND(I55/I$45*100,0)))))","v":" "},null,{"$f":"IF(ISBLANK(K$45),\"  \",IF(ISBLANK(K$46),\" \",IF(ISBLANK(K55),\" \",IF($W$4=1,ROUND((K55+K$47)/K$45*100,0),ROUND(K55/K$45*100,0)))))","v":" "},null,{"$f":"IF(ISBLANK(M$45),\"  \",IF(ISBLANK(M$46),\" \",IF(ISBLANK(M55),\" \",IF($W$4=1,ROUND((M55+M$47)/M$45*100,0),ROUND(M55/M$45*100,0)))))","v":"  "}]
[0.375,null,null," ",null," ",null,{"$f":"IF(ISBLANK(G$45),\"  \",IF(ISBLANK(G$46),\" \",IF(ISBLANK(G56),\" \",IF($W$4=1,ROUND((G56+G$47)/G$45*100,0),ROUND(G56/G$45*100,0)))))","v":" "},null,{"$f":"IF(ISBLANK(I$45),\"  \",IF(ISBLANK(I$46),\" \",IF(ISBLANK(I56),\" \",IF($W$4=1,ROUND((I56+I$47)/I$45*100,0),ROUND(I56/I$45*100,0)))))","v":" "},null,{"$f":"IF(ISBLANK(K$45),\"  \",IF(ISBLANK(K$46),\" \",IF(ISBLANK(K56),\" \",IF($W$4=1,ROUND((K56+K$47)/K$45*100,0),ROUND(K56/K$45*100,0)))))","v":" "},null,{"$f":"IF(ISBLANK(M$45),\"  \",IF(ISBLANK(M$46),\" \",IF(ISBLANK(M56),\" \",IF($W$4=1,ROUND((M56+M$47)/M$45*100,0),ROUND(M56/M$45*100,0)))))","v":"  "}]
[0.25,null,null," ",null," ",null,{"$f":"IF(ISBLANK(G$45),\"  \",IF(ISBLANK(G$46),\" \",IF(ISBLANK(G57),\" \",IF($W$4=1,ROUND((G57+G$47)/G$45*100,0),ROUND(G57/G$45*100,0)))))","v":" "},null,{"$f":"IF(ISBLANK(I$45),\"  \",IF(ISBLANK(I$46),\" \",IF(ISBLANK(I57),\" \",IF($W$4=1,ROUND((I57+I$47)/I$45*100,0),ROUND(I57/I$45*100,0)))))","v":" "},null,{"$f":"IF(ISBLANK(K$45),\"  \",IF(ISBLANK(K$46),\" \",IF(ISBLANK(K57),\" \",IF($W$4=1,ROUND((K57+K$47)/K$45*100,0),ROUND(K57/K$45*100,0)))))","v":" "},null,{"$f":"IF(ISBLANK(M$45),\"  \",IF(ISBLANK(M$46),\" \",IF(ISBLANK(M57),\" \",IF($W$4=1,ROUND((M57+M$47)/M$45*100,0),ROUND(M57/M$45*100,0)))))","v":"  "}]
[4,null,null," ",null," ",null,{"$f":"IF(ISBLANK(G$45),\"  \",IF(ISBLANK(G$46),\" \",IF(ISBLANK(G58),\" \",IF($W$4=1,ROUND((G58+G$47)/G$45*100,0),ROUND(G58/G$45*100,0)))))","v":" "},null,{"$f":"IF(ISBLANK(I$45),\"  \",IF(ISBLANK(I$46),\" \",IF(ISBLANK(I58),\" \",IF($W$4=1,ROUND((I58+I$47)/I$45*100,0),ROUND(I58/I$45*100,0)))))","v":" "},null,{"$f":"IF(ISBLANK(K$45),\"  \",IF(ISBLANK(K$46),\" \",IF(ISBLANK(K58),\" \",IF($W$4=1,ROUND((K58+K$47)/K$45*100,0),ROUND(K58/K$45*100,0)))))","v":" "},null,{"$f":"IF(ISBLANK(M$45),\"  \",IF(ISBLANK(M$46),\" \",IF(ISBLANK(M58),\" \",IF($W$4=1,ROUND((M58+M$47)/M$45*100,0),ROUND(M58/M$45*100,0)))))","v":"  "}]
[8,null,null," ",null," ",null,{"$f":"IF(ISBLANK(G$45),\"  \",IF(ISBLANK(G$46),\" \",IF(ISBLANK(G59),\" \",IF($W$4=1,ROUND((G59+G$47)/G$45*100,0),ROUND(G59/G$45*100,0)))))","v":" "},null,{"$f":"IF(ISBLANK(I$45),\"  \",IF(ISBLANK(I$46),\" \",IF(ISBLANK(I59),\" \",IF($W$4=1,ROUND((I59+I$47)/I$45*100,0),ROUND(I59/I$45*100,0)))))","v":" "},null,{"$f":"IF(ISBLANK(K$45),\"  \",IF(ISBLANK(K$46),\" \",IF(ISBLANK(K59),\" \",IF($W$4=1,ROUND((K59+K$47)/K$45*100,0),ROUND(K59/K$45*100,0)))))","v":" "},null,{"$f":"IF(ISBLANK(M$45),\"  \",IF(ISBLANK(M$46),\" \",IF(ISBLANK(M59),\" \",IF($W$4=1,ROUND((M59+M$47)/M$45*100,0),ROUND(M59/M$45*100,0)))))","v":"  "}]
[16,null,null," ",null," ",null,{"$f":"IF(ISBLANK(G$45),\"  \",IF(ISBLANK(G$46),\" \",IF(ISBLANK(G60),\" \",IF($W$4=1,ROUND((G60+G$47)/G$45*100,0),ROUND(G60/G$45*100,0)))))","v":" "},null,{"$f":"IF(ISBLANK(I$45),\"  \",IF(ISBLANK(I$46),\" \",IF(ISBLANK(I60),\" \",IF($W$4=1,ROUND((I60+I$47)/I$45*100,0),ROUND(I60/I$45*100,0)))))","v":" "},null,{"$f":"IF(ISBLANK(K$45),\"  \",IF(ISBLANK(K$46),\" \",IF(ISBLANK(K60),\" \",IF($W$4=1,ROUND((K60+K$47)/K$45*100,0),ROUND(K60/K$45*100,0)))))","v":" "},null,{"$f":"IF(ISBLANK(M$45),\"  \",IF(ISBLANK(M$46),\" \",IF(ISBLANK(M60),\" \",IF($W$4=1,ROUND((M60+M$47)/M$45*100,0),ROUND(M60/M$45*100,0)))))","v":"  "}]
[30,null,null," ",null," ",null,{"$f":"IF(ISBLANK(G$45),\"  \",IF(ISBLANK(G$46),\" \",IF(ISBLANK(G61),\" \",IF($W$4=1,ROUND((G61+G$47)/G$45*100,0),ROUND(G61/G$45*100,0)))))","v":" "},null,{"$f":"IF(ISBLANK(I$45),\"  \",IF(ISBLANK(I$46),\" \",IF(ISBLANK(I61),\" \",IF($W$4=1,ROUND((I61+I$47)/I$45*100,0),ROUND(I61/I$45*100,0)))))","v":" "},null,{"$f":"IF(ISBLANK(K$45),\"  \",IF(ISBLANK(K$46),\" \",IF(ISBLANK(K61),\" \",IF($W$4=1,ROUND((K61+K$47)/K$45*100,0),ROUND(K61/K$45*100,0)))))","v":" "},null,{"$f":"IF(ISBLANK(M$45),\"  \",IF(ISBLANK(M$46),\" \",IF(ISBLANK(M61),\" \",IF($W$4=1,ROUND((M61+M$47)/M$45*100,0),ROUND(M61/M$45*100,0)))))","v":"  "}]
[50,null,null," ",null," ",null,{"$f":"IF(ISBLANK(G$45),\"  \",IF(ISBLANK(G$46),\" \",IF(ISBLANK(G62),\" \",IF($W$4=1,ROUND((G62+G$47)/G$45*100,0),ROUND(G62/G$45*100,0)))))","v":" "},null,{"$f":"IF(ISBLANK(I$45),\"  \",IF(ISBLANK(I$46),\" \",IF(ISBLANK(I62),\" \",IF($W$4=1,ROUND((I62+I$47)/I$45*100,0),ROUND(I62/I$45*100,0)))))","v":" "},null,{"$f":"IF(ISBLANK(K$45),\"  \",IF(ISBLANK(K$46),\" \",IF(ISBLANK(K62),\" \",IF($W$4=1,ROUND((K62+K$47)/K$45*100,0),ROUND(K62/K$45*100,0)))))","v":" "},null,{"$f":"IF(ISBLANK(M$45),\"  \",IF(ISBLANK(M$46),\" \",IF(ISBLANK(M62),\" \",IF($W$4=1,ROUND((M62+M$47)/M$45*100,0),ROUND(M62/M$45*100,0)))))","v":"  "}]
[100,null,null," ",null," ",null,{"$f":"IF(ISBLANK(G$45),\"  \",IF(ISBLANK(G$46),\" \",IF(ISBLANK(G63),\" \",IF($W$4=1,ROUND((G63+G$47)/G$45*100,0),ROUND(G63/G$45*100,0)))))","v":" "},null,{"$f":"IF(ISBLANK(I$45),\"  \",IF(ISBLANK(I$46),\" \",IF(ISBLANK(I63),\" \",IF($W$4=1,ROUND((I63+I$47)/I$45*100,0),ROUND(I63/I$45*100,0)))))","v":" "},null,{"$f":"IF(ISBLANK(K$45),\"  \",IF(ISBLANK(K$46),\" \",IF(ISBLANK(K63),\" \",IF($W$4=1,ROUND((K63+K$47)/K$45*100,0),ROUND(K63/K$45*100,0)))))","v":" "},null,{"$f":"IF(ISBLANK(M$45),\"  \",IF(ISBLANK(M$46),\" \",IF(ISBLANK(M63),\" \",IF($W$4=1,ROUND((M63+M$47)/M$45*100,0),ROUND(M63/M$45*100,0)))))","v":"  "}]
[200,null,null,{"$f":"IF(ISBLANK(C$45),\"  \",IF(ISBLANK(C$46),\" \",IF(ISBLANK(C64),\" \",IF($W$4=1,ROUND((C64+C$47)/C$45*100,2),ROUND(C64/C$45*100,2)))))","v":" "},null,{"$f":"IF(ISBLANK(E$45),\"  \",IF(ISBLANK(E$46),\" \",IF(ISBLANK(E64),\" \",IF($W$4=1,ROUND((E64+E$47)/E$45*100,2),ROUND(E64/E$45*100,2)))))","v":" "},null,{"$f":"IF(ISBLANK(G$45),\"  \",IF(ISBLANK(G$46),\" \",IF(ISBLANK(G64),\" \",IF($W$4=1,ROUND((G64+G$47)/G$45*100,2),ROUND(G64/G$45*100,2)))))","v":" "},null,{"$f":"IF(ISBLANK(I$45),\"  \",IF(ISBLANK(I$46),\" \",IF(ISBLANK(I64),\" \",IF($W$4=1,ROUND((I64+I$47)/I$45*100,2),ROUND(I64/I$45*100,2)))))","v":" "},null,{"$f":"IF(ISBLANK(K$45),\"  \",IF(ISBLANK(K$46),\" \",IF(ISBLANK(K64),\" \",IF($W$4=1,ROUND((K64+K$47)/K$45*100,2),ROUND(K64/K$45*100,2)))))","v":" "},null,{"$f":"IF(ISBLANK(M$45),\"  \",IF(ISBLANK(M$46),\" \",IF(ISBLANK(M64),\" \",IF($W$4=1,ROUND((M64+M$47)/M$45*100,2),ROUND(M64/M$45*100,2)))))","v":"  "}]
["2.30-3.15","FM",{"$f":"IF(ISBLANK(C45),\" \",IF(ISBLANK(C56),\" \",(600-SUM(D57:D63))/100))","v":" "},null,{"$f":"IF(ISBLANK(E45),\" \",IF(ISBLANK(E56),\" \",(600-SUM(F57:F63))/100))","v":" "},null,{"$f":"IF(ISBLANK(G45),\" \",IF(ISBLANK(G56),\" \",(600-SUM(H57:H63))/100))","v":" "},null,{"$f":"IF(ISBLANK(I45),\" \",IF(ISBLANK(I56),\" \",(600-SUM(J57:J63))/100))","v":" "},null,{"$f":"IF(ISBLANK(K45),\" \",IF(ISBLANK(K56),\" \",(600-SUM(L57:L63))/100))","v":" "},null,{"$f":"IF(ISBLANK(M45),\" \",IF(ISBLANK(M56),\" \",(600-SUM(N57:N63))/100))","v":" "}]
["St. Wt. Before Wash",null,null,"% Passing",null,"% Passing",null,"% Passing",null,"% Passing",null,"% Passing",null,"% Passing"]
["End Wt. After Wash",null,null,{"$f":"IF(ISBLANK(C66),\"\",IF(ISBLANK(C67),\"\",((C66-C67)/C66)*100))","v":""},null,{"$f":"IF(ISBLANK(E66),\"\",IF(ISBLANK(E67),\"\",((E66-E67)/E66)*100))","v":""},null,{"$f":"IF(ISBLANK(G66),\"\",IF(ISBLANK(G67),\"\",((G66-G67)/G66)*100))","v":""},null,{"$f":"IF(ISBLANK(I66),\"\",IF(ISBLANK(I67),\"\",((I66-I67)/I66)*100))","v":""},null,{"$f":"IF(ISBLANK(K66),\"\",IF(ISBLANK(K67),\"\",((K66-K67)/K66)*100))","v":""},null,{"$f":"IF(ISBLANK(M66),\"\",IF(ISBLANK(M67),\"\",((M66-M67)/M66)*100))","v":""}]
["Tested By"]
["Remarks"]
[]
[]
[]
[]
[null,null,{"$f":"MAX(C49:C64)","v":0},null,{"$f":"MAX(E49:E64)","v":0},null,{"$f":"MAX(G49:G64)","v":0},null,{"$f":"MAX(I49:I64)","v":0},null,{"$f":"MAX(K49:K64)","v":0},null,{"$f":"MAX(M49:M64)","v":0}]

{"sheet":"S2","index":1,"n_rows":74,"n_cols":23,"rows_kept":74,"cut":false,"hidden":true,"merged":[[6,12,6,13],[6,10,6,11],[35,10,37,11],[35,12,37,13],[4,10,4,11],[4,12,4,13],[10,10,10,11],[10,12,10,13],[13,10,13,11],[13,12,13,13],[31,10,31,11],[31,12,31,13],[34,10,34,11],[34,12,34,13],[7,0,7,13],[31,8,31,9],[32,0,32,1],[33,0,33,1],[35,2,37,3],[35,4,37,5],[35,6,37,7],[35,8,37,9],[34,6,34,7],[34,8,34,9],[34,0,34,1],[34,2,34,3],[34,4,34,5],[35,0,37,1],[25,0,25,1],[26,0,26,1],[13,0,13,1],[12,0,12,1],[22,0,22,1],[14,0,14,1],[31,2,31,3],[31,4,31,5],[31,6,31,7],[0,0,3,1],[1,10,1,11],[1,12,1,13],[2,10,2,11],[2,12,2,13],[3,10,3,11],[3,12,3,13],[0,8,3,9],[1,2,1,7],[2,2,2,7],[3,2,3,7],[4,0,4,1],[5,3,5,8],[5,10,5,11],[5,12,5,13],[9,0,9,1],[9,2,9,3],[9,4,9,5],[9,6,9,7],[9,8,9,9],[9,10,9,11],[9,12,9,13],[4,8,4,9],[10,2,10,3],[10,4,10,5],[10,6,10,7],[10,8,10,9],[15,0,15,1],[10,0,10,1],[13,2,13,3],[13,4,13,5],[42,10,42,11],[13,6,13,7],[13,8,13,9],[29,0,29,1],[30,0,30,1],[28,0,28,1],[11,0,11,1],[16,0,16,1],[17,0,17,1],[27,0,27,1],[18,0,18,1],[19,0,19,1],[20,0,20,1],[21,0,21,1],[23,0,23,1],[24,0,24,1],[42,12,42,13],[43,0,43,1],[43,2,43,3],[43,4,43,5],[43,6,43,7],[43,8,43,9],[43,10,43,11],[43,12,43,13],[42,0,42,1],[42,2,42,3],[42,4,42,5],[42,6,42,7],[42,8,42,9],[46,6,46,7],[46,8,46,9],[46,10,46,11],[46,12,46,13],[47,0,47,1],[44,0,44,1],[45,0,45,1],[46,0,46,1],[46,2,46,3],[46,4,46,5],[53,0,53,1],[54,0,54,1],[55,0,55,1],[56,0,56,1],[57,0,57,1],[48,0,48,1],[49,0,49,1],[50,0,50,1],[51,0,51,1],[52,0,52,1],[63,0,63,1],[64,2,64,3],[64,4,64,5],[64,6,64,7],[64,8,64,9],[58,0,58,1],[59,0,59,1],[60,0,60,1],[61,0,61,1],[62,0,62,1],[68,10,70,11],[68,12,70,13],[68,0,70,1],[68,2,70,3],[68,4,70,5],[68,6,70,7],[68,8,70,9],[64,10,64,11],[64,12,64,13],[65,0,65,1],[66,0,66,1],[67,0,67,1],[67,2,67,3],[67,4,67,5],[67,6,67,7],[67,8,67,9],[67,10,67,11],[67,12,67,13]]}
[null,null,null,null,null,null,null,null,null,null,null,null,null,null,null,null,null,null,{"$f":"'S1'!T1","v":1},1,null,"FM","Wash"]
[null,null,"COMMONWEALTH OF PENNSYLVANIA",null,null,null,null,null,null,null,"District",null,{"$f":"IF(ISBLANK('S1'!M2),\" \",'S1'!M2)","v":" "}]
[null,null,"DEPARTMENT OF TRANSPORTATION",null,null,null,null,null,null,null,"Plant Code",null,{"$f":"IF(ISBLANK('S1'!M3),\" \",'S1'!M3)","v":" "}]
[null,null,null,null,null,null,null,null,null,null,"Agg Size",null,{"$f":"IF(ISBLANK('S1'!M4),\" \",'S1'!M4)","v":" "},null,null,null,null,null,null,null,null,{"$f":"IF(M5=\"Yes\",1,2)","v":2},{"$f":"IF(M6=\"Yes\",1,2)","v":2}]
[{"$f":"'S1'!A6","v":"Aggregate 2023"},null,null,null,null,null,null,null,{"$f":"IF(T1=1,\"Pounds\",\"Grams\")","v":"Pounds"},null,"Calculate FM?",null,{"$f":"IF(ISBLANK('S1'!M5),\" \",'S1'!M5)","v":"No"}]
[null,null,null,null,null,null,null,null,null,null,"Washed Gradation?",null,{"$f":"IF(ISBLANK('S1'!M6),\" \",'S1'!M6)","v":"No"}]
[null,null,null,null,null,null,null,null,null,null,"Aggregate Identifier",null,{"$f":"IF(ISBLANK('S1'!M7),\" \",'S1'!M7)","v":" "}]
["Material Test Results"]
[]
["Sample No.",null,13,null,14,null,15,null,16,null,17,null,18]
["Date"]
[{"$f":"IF(M6=\"Yes\",\"St. Wt. Before Wash\",\"Starting. Wt.\")","v":"Starting. Wt."},null,null,"% Loss",null,"% Loss",null,"% Loss",null,"% Loss",null,"% Loss",null,"% Loss"]
[{"$f":"IF(M6=\"Yes\",\"Dry Wt. After Wash\",\"Ending Wt.\")","v":"Ending Wt."},null,null,{"$f":"IF(ISBLANK(C13),\" \",IF(ISBLANK(C41),\" \",IF($W$4=1,(C13-C41)/C13*100,((C12-C13)/C12)*100)))","v":" "},null,{"$f":"IF(ISBLANK(E13),\" \",IF(ISBLANK(E41),\" \",IF($W$4=1,(E13-E41)/E13*100,((E12-E13)/E12)*100)))","v":" "},null,{"$f":"IF(ISBLANK(G13),\" \",IF(ISBLANK(G41),\" \",IF($W$4=1,(G13-G41)/G13*100,((G12-G13)/G12)*100)))","v":" "},null,{"$f":"IF(ISBLANK(I13),\" \",IF(ISBLANK(I41),\" \",IF($W$4=1,(I13-I41)/I13*100,((I12-I13)/I12)*100)))","v":" "},null,{"$f":"IF(ISBLANK(K13),\" \",IF(ISBLANK(K41),\" \",IF($W$4=1,(K13-K41)/K13*100,((K12-K13)/K12)*100)))","v":" "},null,{"$f":"IF(ISBLANK(M13),\" \",IF(ISBLANK(M41),\" \",IF($W$4=1,(M13-M41)/M13*100,((M12-M13)/M12)*100)))","v":" "}]
["Wt. Loss",null,{"$f":"IF(ISBLANK(C12),\" \",IF(ISBLANK(C13),\" \",C12-C13))","v":" "},null,{"$f":"IF(ISBLANK(E12),\" \",IF(ISBLANK(E13),\" \",E12-E13))","v":" "},null,{"$f":"IF(ISBLANK(G12),\" \",IF(ISBLANK(G13),\" \",G12-G13))","v":" "},null,{"$f":"IF(ISBLANK(I12),\" \",IF(ISBLANK(I13),\" \",I12-I13))","v":" "},null,{"$f":"IF(ISBLANK(K12),\" \",IF(ISBLANK(K13),\" \",K12-K13))","v":" "},null,{"$f":"IF(ISBLANK(M12),\" \",IF(ISBLANK(M13),\" \",M12-M13))","v":" "}]
[null,null,"Wt","% Passing","Wt","% Passing","Wt","% Passing","Wt","% Passing","Wt","% Passing","Wt","% Passing"]
[2.5,null,null,{"$f":"IF(ISBLANK(C$12),\"  \",IF(ISBLANK(C$13),\" \",IF(ISBLANK(C16),\" \",IF($W$4=1,ROUND((C16+C$14)/C$12*100,0),ROUND(C16/C$12*100,0)))))","v":"  "},null,{"$f":"IF(ISBLANK(E$12),\"  \",IF(ISBLANK(E$13),\" \",IF(ISBLANK(E16),\" \",IF($W$4=1,ROUND((E16+E$14)/E$12*100,0),ROUND(E16/E$12*100,0)))))","v":"  "},null,{"$f":"IF(ISBLANK(G$12),\"  \",IF(ISBLANK(G$13),\" \",IF(ISBLANK(G16),\" \",IF($W$4=1,ROUND((G16+G$14)/G$12*100,0),ROUND(G16/G$12*100,0)))))","v":"  "},null,{"$f":"IF(ISBLANK(I$12),\"  \",IF(ISBLANK(I$13),\" \",IF(ISBLANK(I16),\" \",IF($W$4=1,ROUND((I16+I$14)/I$12*100,0),ROUND(I16/I$12*100,0)))))","v":"  "},null,{"$f":"IF(ISBLANK(K$12),\"  \",IF(ISBLANK(K$13),\" \",IF(ISBLANK(K16),\" \",IF($W$4=1,ROUND((K16+K$14)/K$12*100,0),ROUND(K16/K$12*100,0)))))","v":"  "},null,{"$f":"IF(ISBLANK(M$12),\"  \",IF(ISBLANK(M$13),\" \",IF(ISBLANK(M16),\" \",IF($W$4=1,ROUND((M16+M$14)/M$12*100,0),ROUND(M16/M$12*100,0)))))","v":"  "}]
[2,null,null,{"$f":"IF(ISBLANK(C$12),\"  \",IF(ISBLANK(C$13),\" \",IF(ISBLANK(C17),\" \",IF(W$4=1,ROUND((C17+C$14)/C$12*100,0),ROUND(C17/C$12*100,0)))))","v":"  "},null,{"$f":"IF(ISBLANK(E$12),\"  \",IF(ISBLANK(E$13),\" \",IF(ISBLANK(E17),\" \",IF($W$4=1,ROUND((E17+E$14)/E$12*100,0),ROUND(E17/E$12*100,0)))))","v":"  "},null,{"$f":"IF(ISBLANK(G$12),\"  \",IF(ISBLANK(G$13),\" \",IF(ISBLANK(G17),\" \",IF($W$4=1,ROUND((G17+G$14)/G$12*100,0),ROUND(G17/G$12*100,0)))))","v":"  "},null,{"$f":"IF(ISBLANK(I$12),\"  \",IF(ISBLANK(I$13),\" \",IF(ISBLANK(I17),\" \",IF($W$4=1,ROUND((I17+I$14)/I$12*100,0),ROUND(I17/I$12*100,0)))))","v":"  "},null,{"$f":"IF(ISBLANK(K$12),\"  \",IF(ISBLANK(K$13),\" \",IF(ISBLANK(K17),\" \",IF($W$4=1,ROUND((K17+K$14)/K$12*100,0),ROUND(K17/K$12*100,0)))))","v":"  "},null,{"$f":"IF(ISBLANK(M$12),\"  \",IF(ISBLANK(M$13),\" \",IF(ISBLANK(M17),\" \",IF($W$4=1,ROUND((M17+M$14)/M$12*100,0),ROUND(M17/M$12*100,0)))))","v":"  "}]
[1.5,null,null,"  ",null,"  ",null,"  ",null,"  ",null,"  ",null,"  "]
[1,null,null,"  ",null,"  ",null,"  ",null,"  ",null,"  ",null,"  "]
[0.75,null,null,"  ",null,"  ",null,"  ",null,"  ",null,"  ",null,"  "]
[0.625,null,null,"  ",null,"  ",null,"  ",null,"  ",null,"  ",null,"  "]
[0.5,null,null,"  ",null,"  ",null,"  ",null,"  ",null,"  ",null,"  "]
[0.375,null,null,{"$f":"IF(ISBLANK(C$12),\"  \",IF(ISBLANK(C$13),\" \",IF(ISBLANK(C23),\" \",IF(W$4=1,ROUND((C23+C$14)/C$12*100,0),ROUND(C23/C$12*100,0)))))","v":"  "},null,"  ",null,"  ",null,"  ",null,"  ",null,"  "]
[0.25,null,null,"  ",null,"  ",null,"  ",null,"  ",null,"  ",null,"  "]
[4,null,null,"  ",null,"  ",null,"  ",null,"  ",null,"  ",null,"  "]
[8,null,null,"  ",null,"  ",null,"  ",null,"  ",null,"  ",null,"  "]
[16,null,null,"  ",null,"  ",null,"  ",null,"  ",null,"  ",null,"  "]
[30,null,null,"  ",null,"  ",null,"  ",null,"  ",null,"  ",null,"  "]
[50,null,null,"  ",null,"  ",null,"  ",null,"  ",null,"  ",null,"  "]
[100,null,null,{"$f":"IF(ISBLANK(C$12),\"  \",IF(ISBLANK(C$13),\" \",IF(ISBLANK(C30),\" \",IF(W$4=1,ROUND((C30+C$14)/C$12*100,0),ROUND(C30/C$12*100,0)))))","v":"  "},null,"  ",null,"  ",null,"  ",null,"  ",null,"  "]
[200,null,null,{"$f":"IF(ISBLANK(C$12),\"  \",IF(ISBLANK(C$13),\" \",IF(ISBLANK(C31),\" \",IF(W$4=1,ROUND((C31+C$14)/C$12*100,2),ROUND(C31/C$12*100,1)))))","v":"  "},null,{"$f":"IF(ISBLANK(E$12),\"  \",IF(ISBLANK(E$13),\" \",IF(ISBLANK(E31),\" \",IF($W$4=1,ROUND((E31+E$14)/E$12*100,2),ROUND(E31/E$12*100,2)))))","v":"  "},null,{"$f":"IF(ISBLANK(G$12),\"  \",IF(ISBLANK(G$13),\" \",IF(ISBLANK(G31),\" \",IF($W$4=1,ROUND((G31+G$14)/G$12*100,2),ROUND(G31/G$12*100,2)))))","v":"  "},null,{"$f":"IF(ISBLANK(I$12),\"  \",IF(ISBLANK(I$13),\" \",IF(ISBLANK(I31),\" \",IF($W$4=1,ROUND((I31+I$14)/I$12*100,2),ROUND(I31/I$12*100,2)))))","v":"  "},null,{"$f":"IF(ISBLANK(K$12),\"  \",IF(ISBLANK(K$13),\" \",IF(ISBLANK(K31),\" \",IF($W$4=1,ROUND((K31+K$14)/K$12*100,2),ROUND(K31/K$12*100,2)))))","v":"  "},null,{"$f":"IF(ISBLANK(M$12),\"  \",IF(ISBLANK(M$13),\" \",IF(ISBLANK(M31),\" \",IF($W$4=1,ROUND((M31+M$14)/M$12*100,2),ROUND(M31/M$12*100,2)))))","v":"  "}]
["2.30-3.15","FM",{"$f":"IF(ISBLANK(C12),\" \",IF(ISBLANK(C23),\" \",(600-SUM(D24:D30))/100))","v":" "},null,{"$f":"IF(ISBLANK(E12),\" \",IF(ISBLANK(E23),\" \",(600-SUM(F24:F30))/100))","v":" "},null,{"$f":"IF(ISBLANK(G12),\" \",IF(ISBLANK(G23),\" \",(600-SUM(H24:H30))/100))","v":" "},null,{"$f":"IF(ISBLANK(I12),\" \",IF(ISBLANK(I23),\" \",(600-SUM(J24:J30))/100))","v":" "},null,{"$f":"IF(ISBLANK(K12),\" \",IF(ISBLANK(K23),\" \",(600-SUM(L24:L30))/100))","v":" "},null,{"$f":"IF(ISBLANK(M12),\" \",IF(ISBLANK(M23),\" \",(600-SUM(N24:N30))/100))","v":" "}]
["St. Wt. Before Wash",null,null,"% Passing",null,"% Passing",null,"% Passing",null,"% Passing",null,"% Passing",null,"% Passing"]
["End Wt. After Wash",null,null,{"$f":"IF(ISBLANK(C33),\"\",IF(ISBLANK(C34),\"\",((C33-C34)/C33)*100))","v":""},null,{"$f":"IF(ISBLANK(E33),\"\",IF(ISBLANK(E34),\"\",((E33-E34)/E33)*100))","v":""},null,{"$f":"IF(ISBLANK(G33),\"\",IF(ISBLANK(G34),\"\",((G33-G34)/G33)*100))","v":""},null,{"$f":"IF(ISBLANK(I33),\"\",IF(ISBLANK(I34),\"\",((I33-I34)/I33)*100))","v":""},null,{"$f":"IF(ISBLANK(K33),\"\",IF(ISBLANK(K34),\"\",((K33-K34)/K33)*100))","v":""},null,{"$f":"IF(ISBLANK(M33),\"\",IF(ISBLANK(M34),\"\",((M33-M34)/M33)*100))","v":""}]
["Tested By"]
["Remarks"]
[]
[]
[]
[]
[null,null,{"$f":"MAX(C16:C31)","v":0},null,{"$f":"MAX(E16:E31)","v":0},null,{"$f":"MAX(G16:G31)","v":0},null,{"$f":"MAX(I16:I31)","v":0},null,{"$f":"MAX(K16:K31)","v":0},null,{"$f":"MAX(M16:M31)","v":0}]
[]
["Sample No.",null,19,null,20,null,21,null,22,null,23,null,24]
["Date"]
[{"$f":"IF(M6=\"Yes\",\"St. Wt. Before Wash\",\"Starting. Wt.\")","v":"Starting. Wt."},null,null,"% Loss",null,"% Loss",null,"% Loss",null,"% Loss",null,"% Loss",null,"% Loss"]
[{"$f":"IF(M6=\"Yes\",\"Dry Wt. After Wash\",\"Ending Wt.\")","v":"Ending Wt."},null,null,{"$f":"IF(ISBLANK(C46),\" \",IF(ISBLANK(C74),\" \",IF($W$4=1,(C46-C74)/C46*100,((C45-C46)/C45)*100)))","v":" "},null,{"$f":"IF(ISBLANK(E46),\" \",IF(ISBLANK(E74),\" \",IF($W$4=1,(E46-E74)/E46*100,((E45-E46)/E45)*100)))","v":" "},null,{"$f":"IF(ISBLANK(G46),\" \",IF(ISBLANK(G74),\" \",IF($W$4=1,(G46-G74)/G46*100,((G45-G46)/G45)*100)))","v":" "},null,{"$f":"IF(ISBLANK(I46),\" \",IF(ISBLANK(I74),\" \",IF($W$4=1,(I46-I74)/I46*100,((I45-I46)/I45)*100)))","v":" "},null,{"$f":"IF(ISBLANK(K46),\" \",IF(ISBLANK(K74),\" \",IF($W$4=1,(K46-K74)/K46*100,((K45-K46)/K45)*100)))","v":" "},null,{"$f":"IF(ISBLANK(M46),\" \",IF(ISBLANK(M74),\" \",IF($W$4=1,(M46-M74)/M46*100,((M45-M46)/M45)*100)))","v":" "}]
["Wt. Loss",null,{"$f":"IF(ISBLANK(C45),\" \",IF(ISBLANK(C46),\" \",C45-C46))","v":" "},null,{"$f":"IF(ISBLANK(E45),\" \",IF(ISBLANK(E46),\" \",E45-E46))","v":" "},null,{"$f":"IF(ISBLANK(G45),\" \",IF(ISBLANK(G46),\" \",G45-G46))","v":" "},null,{"$f":"IF(ISBLANK(I45),\" \",IF(ISBLANK(I46),\" \",I45-I46))","v":" "},null,{"$f":"IF(ISBLANK(K45),\" \",IF(ISBLANK(K46),\" \",K45-K46))","v":" "},null,{"$f":"IF(ISBLANK(M45),\" \",IF(ISBLANK(M46),\" \",M45-M46))","v":" "}]
[null,null,"Wt","% Passing","Wt","% Passing","Wt","% Passing","Wt","% Passing","Wt","% Passing","Wt","% Passing"]
[2.5,null,null,{"$f":"IF(ISBLANK(C$45),\"  \",IF(ISBLANK(C$46),\" \",IF(ISBLANK(C49),\" \",IF(W$4=1,ROUND((C49+C$47)/C$45*100,0),ROUND(C49/C$45*100,0)))))","v":"  "},null,{"$f":"IF(ISBLANK(E$45),\"  \",IF(ISBLANK(E$46),\" \",IF(ISBLANK(E49),\" \",IF(Y$4=1,ROUND((E49+E$47)/E$45*100,0),ROUND(E49/E$45*100,0)))))","v":"  "},null,{"$f":"IF(ISBLANK(G$45),\"  \",IF(ISBLANK(G$46),\" \",IF(ISBLANK(G49),\" \",IF(AA$4=1,ROUND((G49+G$47)/G$45*100,0),ROUND(G49/G$45*100,0)))))","v":"  "},null,{"$f":"IF(ISBLANK(I$45),\"  \",IF(ISBLANK(I$46),\" \",IF(ISBLANK(I49),\" \",IF(AC$4=1,ROUND((I49+I$47)/I$45*100,0),ROUND(I49/I$45*100,0)))))","v":"  "},null,{"$f":"IF(ISBLANK(K$45),\"  \",IF(ISBLANK(K$46),\" \",IF(ISBLANK(K49),\" \",IF(AE$4=1,ROUND((K49+K$47)/K$45*100,0),ROUND(K49/K$45*100,0)))))","v":"  "},null,{"$f":"IF(ISBLANK(M$45),\"  \",IF(ISBLANK(M$46),\" \",IF(ISBLANK(M49),\" \",IF(AG$4=1,ROUND((M49+M$47)/M$45*100,0),ROUND(M49/M$45*100,0)))))","v":"  "}]
[2,null,null,{"$f":"IF(ISBLANK(C$45),\"  \",IF(ISBLANK(C$46),\" \",IF(ISBLANK(C50),\" \",IF(W$4=1,ROUND((C50+C$47)/C$45*100,0),ROUND(C50/C$45*100,0)))))","v":"  "},null,"  ",null,"  ",null,"  ",null,"  ",null,{"$f":"IF(ISBLANK(M$45),\"  \",IF(ISBLANK(M$46),\" \",IF(ISBLANK(M50),\" \",IF(AG$4=1,ROUND((M50+M$47)/M$45*100,0),ROUND(M50/M$45*100,0)))))","v":"  "}]
[1.5,null,null,"  ",null,"  ",null,"  ",null,"  ",null,"  ",null,"  "]
[1,null,null,"  ",null,"  ",null,"  ",null,"  ",null,"  ",null,"  "]
[0.75,null,null,"  ",null,"  ",null,"  ",null,"  ",null,"  ",null,"  "]
[0.625,null,null,"  ",null,"  ",null,"  ",null,"  ",null,"  ",null,"  "]
[0.5,null,null,"  ",null,"  ",null,"  ",null,"  ",null,"  ",null,"  "]
[0.375,null,null,"  ",null,{"$f":"IF(ISBLANK(E$45),\"  \",IF(ISBLANK(E$46),\" \",IF(ISBLANK(E56),\" \",IF(Y$4=1,ROUND((E56+E$47)/E$45*100,0),ROUND(E56/E$45*100,0)))))","v":"  "},null,"  ",null,"  ",null,"  ",null,"  "]
[0.25,null,null,"  ",null,"  ",null,"  ",null,"  ",null,"  ",null,"  "]
[4,null,null,"  ",null,"  ",null,"  ",null,"  ",null,"  ",null,"  "]
[8,null,null,"  ",null,"  ",null,"  ",null,"  ",null,"  ",null,"  "]
[16,null,null,"  ",null,"  ",null,"  ",null,"  ",null,"  ",null,"  "]
[30,null,null,"  ",null,"  ",null,"  ",null,"  ",null,"  ",null,"  "]
[50,null,null,"  ",null,"  ",null,"  ",null,"  ",null,"  ",null,"  "]
[100,null,null,"  ",null,"  ",null,"  ",null,"  ",null,"  ",null,{"$f":"IF(ISBLANK(M$45),\"  \",IF(ISBLANK(M$46),\" \",IF(ISBLANK(M63),\" \",IF(AG$4=1,ROUND((M63+M$47)/M$45*100,0),ROUND(M63/M$45*100,0)))))","v":"  "}]
[200,null,null,{"$f":"IF(ISBLANK(C$45),\"  \",IF(ISBLANK(C$46),\" \",IF(ISBLANK(C64),\" \",IF(W$4=1,ROUND((C64+C$47)/C$45*100,2),ROUND(C64/C$45*100,2)))))","v":"  "},null,{"$f":"IF(ISBLANK(E$45),\"  \",IF(ISBLANK(E$46),\" \",IF(ISBLANK(E64),\" \",IF(Y$4=1,ROUND((E64+E$47)/E$45*100,2),ROUND(E64/E$45*100,2)))))","v":"  "},null,{"$f":"IF(ISBLANK(G$45),\"  \",IF(ISBLANK(G$46),\" \",IF(ISBLANK(G64),\" \",IF(AA$4=1,ROUND((G64+G$47)/G$45*100,2),ROUND(G64/G$45*100,2)))))","v":"  "},null,{"$f":"IF(ISBLANK(I$45),\"  \",IF(ISBLANK(I$46),\" \",IF(ISBLANK(I64),\" \",IF(AC$4=1,ROUND((I64+I$47)/I$45*100,2),ROUND(I64/I$45*100,2)))))","v":"  "},null,{"$f":"IF(ISBLANK(K$45),\"  \",IF(ISBLANK(K$46),\" \",IF(ISBLANK(K64),\" \",IF(AE$4=1,ROUND((K64+K$47)/K$45*100,2),ROUND(K64/K$45*100,2)))))","v":"  "},null,{"$f":"IF(ISBLANK(M$45),\"  \",IF(ISBLANK(M$46),\" \",IF(ISBLANK(M64),\" \",IF(AG$4=1,ROUND((M64+M$47)/M$45*100,2),ROUND(M64/M$45*100,2)))))","v":"  "}]
["2.30-3.15","FM",{"$f":"IF(ISBLANK(C45),\" \",IF(ISBLANK(C56),\" \",(600-SUM(D57:D63))/100))","v":" "},null,{"$f":"IF(ISBLANK(E45),\" \",IF(ISBLANK(E56),\" \",(600-SUM(F57:F63))/100))","v":" "},null,{"$f":"IF(ISBLANK(G45),\" \",IF(ISBLANK(G56),\" \",(600-SUM(H57:H63))/100))","v":" "},null,{"$f":"IF(ISBLANK(I45),\" \",IF(ISBLANK(I56),\" \",(600-SUM(J57:J63))/100))","v":" "},null,{"$f":"IF(ISBLANK(K45),\" \",IF(ISBLANK(K56),\" \",(600-SUM(L57:L63))/100))","v":" "},null,{"$f":"IF(ISBLANK(M45),\" \",IF(ISBLANK(M56),\" \",(600-SUM(N57:N63))/100))","v":" "}]
["St. Wt. Before Wash",null,null,"% Passing",null,"% Passing",null,"% Passing",null,"% Passing",null,"% Passing",null,"% Passing"]
["End Wt. After Wash",null,null,{"$f":"IF(ISBLANK(C66),\"\",IF(ISBLANK(C67),\"\",((C66-C67)/C66)*100))","v":""},null,{"$f":"IF(ISBLANK(E66),\"\",IF(ISBLANK(E67),\"\",((E66-E67)/E66)*100))","v":""},null,{"$f":"IF(ISBLANK(G66),\"\",IF(ISBLANK(G67),\"\",((G66-G67)/G66)*100))","v":""},null,{"$f":"IF(ISBLANK(I66),\"\",IF(ISBLANK(I67),\"\",((I66-I67)/I66)*100))","v":""},null,{"$f":"IF(ISBLANK(K66),\"\",IF(ISBLANK(K67),\"\",((K66-K67)/K66)*100))","v":""},null,{"$f":"IF(ISBLANK(M66),\"\",IF(ISBLANK(M67),\"\",((M66-M67)/M66)*100))","v":""}]
["Tested By"]
["Remarks"]
[]
[]
[]
[]
[null,null,{"$f":"MAX(C49:C64)","v":0},null,{"$f":"MAX(E49:E64)","v":0},null,{"$f":"MAX(G49:G64)","v":0},null,{"$f":"MAX(I49:I64)","v":0},null,{"$f":"MAX(K49:K64)","v":0},null,{"$f":"MAX(M49:M64)","v":0}]

{"sheet":"S3","index":2,"n_rows":74,"n_cols":23,"rows_kept":74,"cut":false,"hidden":true,"merged":[[35,0,37,1],[6,12,6,13],[6,10,6,11],[7,0,7,13],[5,12,5,13],[42,4,42,5],[42,6,42,7],[42,0,42,1],[42,2,42,3],[35,2,37,3],[35,4,37,5],[35,6,37,7],[35,8,37,9],[35,10,37,11],[35,12,37,13],[42,8,42,9],[42,10,42,11],[42,12,42,13],[4,10,4,11],[4,12,4,13],[33,0,33,1],[34,0,34,1],[34,2,34,3],[34,4,34,5],[34,6,34,7],[34,8,34,9],[34,10,34,11],[9,12,9,13],[10,12,10,13],[13,12,13,13],[14,0,14,1],[15,0,15,1],[18,0,18,1],[19,0,19,1],[20,0,20,1],[21,0,21,1],[23,0,23,1],[24,0,24,1],[25,0,25,1],[34,12,34,13],[4,8,4,9],[1,12,1,13],[2,10,2,11],[2,12,2,13],[3,10,3,11],[3,12,3,13],[31,12,31,13],[31,2,31,3],[32,0,32,1],[29,0,29,1],[28,0,28,1],[27,0,27,1],[26,0,26,1],[0,8,3,9],[1,2,1,7],[2,2,2,7],[3,2,3,7],[4,0,4,1],[31,8,31,9],[31,10,31,11],[10,0,10,1],[12,0,12,1],[22,0,22,1],[9,0,9,1],[5,10,5,11],[0,0,3,1],[1,10,1,11],[11,0,11,1],[31,4,31,5],[31,6,31,7],[30,0,30,1],[9,2,9,3],[9,4,9,5],[9,6,9,7],[9,8,9,9],[9,10,9,11],[10,2,10,3],[10,4,10,5],[10,6,10,7],[10,8,10,9],[10,10,10,11],[13,0,13,1],[13,2,13,3],[13,4,13,5],[13,6,13,7],[13,8,13,9],[13,10,13,11],[16,0,16,1],[17,0,17,1],[44,0,44,1],[43,0,43,1],[43,2,43,3],[43,4,43,5],[43,6,43,7],[43,8,43,9],[43,10,43,11],[43,12,43,13],[48,0,48,1],[46,0,46,1],[46,2,46,3],[46,4,46,5],[46,6,46,7],[46,8,46,9],[46,10,46,11],[46,12,46,13],[47,0,47,1],[45,0,45,1],[62,0,62,1],[63,0,63,1],[64,2,64,3],[64,4,64,5],[64,6,64,7],[49,0,49,1],[50,0,50,1],[51,0,51,1],[52,0,52,1],[53,0,53,1],[54,0,54,1],[55,0,55,1],[56,0,56,1],[57,0,57,1],[58,0,58,1],[59,0,59,1],[60,0,60,1],[61,0,61,1],[68,0,70,1],[68,2,70,3],[68,4,70,5],[68,6,70,7],[68,8,70,9],[68,10,70,11],[68,12,70,13],[64,8,64,9],[64,10,64,11],[64,12,64,13],[65,0,65,1],[66,0,66,1],[67,0,67,1],[67,2,67,3],[67,4,67,5],[67,6,67,7],[67,8,67,9],[67,10,67,11],[67,12,67,13]]}
[null,null,null,null,null,null,null,null,null,null,null,null,null,null,null,null,null,null,{"$f":"'S1'!T1","v":1},1,null,"FM","Wash"]
[null,null,"COMMONWEALTH OF PENNSYLVANIA",null,null,null,null,null,null,null,"District",null,{"$f":"IF(ISBLANK('S1'!M2),\" \",'S1'!M2)","v":" "}]
[null,null,"DEPARTMENT OF TRANSPORTATION",null,null,null,null,null,null,null,"Plant Code",null,{"$f":"IF(ISBLANK('S1'!M3),\" \",'S1'!M3)","v":" "}]
[null,null,null,null,null,null,null,null,null,null,"Agg Size",null,{"$f":"IF(ISBLANK('S1'!M4),\" \",'S1'!M4)","v":" "},null,null,null,null,null,null,null,null,{"$f":"IF(M5=\"Yes\",1,2)","v":2},{"$f":"IF(M6=\"Yes\",1,2)","v":2}]
[{"$f":"'S1'!A6","v":"Aggregate 2023"},null,null,null,null,null,null,null,{"$f":"IF(T1=1,\"Pounds\",\"Grams\")","v":"Pounds"},null,"Calculate FM?",null,{"$f":"IF(ISBLANK('S1'!M5),\" \",'S1'!M5)","v":"No"}]
[null,null,null,null,null,null,null,null,null,null,"Washed Gradation?",null,{"$f":"IF(ISBLANK('S1'!M6),\" \",'S1'!M6)","v":"No"}]
[null,null,null,null,null,null,null,null,null,null,"Aggregate Identifier",null,{"$f":"IF(ISBLANK('S1'!M7),\" \",'S1'!M7)","v":" "}]
["Material Test Results"]
[]
["Sample No.",null,25,null,26,null,27,null,28,null,29,null,30]
["Date"]
[{"$f":"IF(M6=\"Yes\",\"St. Wt. Before Wash\",\"Starting. Wt.\")","v":"Starting. Wt."},null,null,"% Loss",null,"% Loss",null,"% Loss",null,"% Loss",null,"% Loss",null,"% Loss"]
[{"$f":"IF(M6=\"Yes\",\"Dry Wt. After Wash\",\"Ending Wt.\")","v":"Ending Wt."},null,null,{"$f":"IF(ISBLANK(C13),\" \",IF(ISBLANK(C41),\" \",IF($W$4=1,(C13-C41)/C13*100,((C12-C13)/C12)*100)))","v":" "},null,{"$f":"IF(ISBLANK(E13),\" \",IF(ISBLANK(E41),\" \",IF($W$4=1,(E13-E41)/E13*100,((E12-E13)/E12)*100)))","v":" "},null,{"$f":"IF(ISBLANK(G13),\" \",IF(ISBLANK(G41),\" \",IF($W$4=1,(G13-G41)/G13*100,((G12-G13)/G12)*100)))","v":" "},null,{"$f":"IF(ISBLANK(I13),\" \",IF(ISBLANK(I41),\" \",IF($W$4=1,(I13-I41)/I13*100,((I12-I13)/I12)*100)))","v":" "},null,{"$f":"IF(ISBLANK(K13),\" \",IF(ISBLANK(K41),\" \",IF($W$4=1,(K13-K41)/K13*100,((K12-K13)/K12)*100)))","v":" "},null,{"$f":"IF(ISBLANK(M13),\" \",IF(ISBLANK(M41),\" \",IF($W$4=1,(M13-M41)/M13*100,((M12-M13)/M12)*100)))","v":" "}]
["Wt. Loss",null,{"$f":"IF(ISBLANK(C12),\" \",IF(ISBLANK(C13),\" \",C12-C13))","v":" "},null,{"$f":"IF(ISBLANK(E12),\" \",IF(ISBLANK(E13),\" \",E12-E13))","v":" "},null,{"$f":"IF(ISBLANK(G12),\" \",IF(ISBLANK(G13),\" \",G12-G13))","v":" "},null,{"$f":"IF(ISBLANK(I12),\" \",IF(ISBLANK(I13),\" \",I12-I13))","v":" "},null,{"$f":"IF(ISBLANK(K12),\" \",IF(ISBLANK(K13),\" \",K12-K13))","v":" "},null,{"$f":"IF(ISBLANK(M12),\" \",IF(ISBLANK(M13),\" \",M12-M13))","v":" "}]
[null,null,"Wt","% Passing","Wt","% Passing","Wt","% Passing","Wt","% Passing","Wt","% Passing","Wt","% Passing"]
[2.5,null,null,{"$f":"IF(ISBLANK(C$12),\"  \",IF(ISBLANK(C$13),\" \",IF(ISBLANK(C16),\" \",IF($W$4=1,ROUND((C16+C$14)/C$12*100,0),ROUND(C16/C$12*100,0)))))","v":"  "},null,{"$f":"IF(ISBLANK(E$12),\"  \",IF(ISBLANK(E$13),\" \",IF(ISBLANK(E16),\" \",IF($W$4=1,ROUND((E16+E$14)/E$12*100,0),ROUND(E16/E$12*100,0)))))","v":"  "},null,{"$f":"IF(ISBLANK(G$12),\"  \",IF(ISBLANK(G$13),\" \",IF(ISBLANK(G16),\" \",IF($W$4=1,ROUND((G16+G$14)/G$12*100,0),ROUND(G16/G$12*100,0)))))","v":"  "},null,{"$f":"IF(ISBLANK(I$12),\"  \",IF(ISBLANK(I$13),\" \",IF(ISBLANK(I16),\" \",IF($W$4=1,ROUND((I16+I$14)/I$12*100,0),ROUND(I16/I$12*100,0)))))","v":"  "},null,{"$f":"IF(ISBLANK(K$12),\"  \",IF(ISBLANK(K$13),\" \",IF(ISBLANK(K16),\" \",IF($W$4=1,ROUND((K16+K$14)/K$12*100,0),ROUND(K16/K$12*100,0)))))","v":"  "},null,{"$f":"IF(ISBLANK(M$12),\"  \",IF(ISBLANK(M$13),\" \",IF(ISBLANK(M16),\" \",IF($W$4=1,ROUND((M16+M$14)/M$12*100,0),ROUND(M16/M$12*100,0)))))","v":"  "}]
[2,null,null,{"$f":"IF(ISBLANK(C$12),\"  \",IF(ISBLANK(C$13),\" \",IF(ISBLANK(C17),\" \",IF(W$4=1,ROUND((C17+C$14)/C$12*100,0),ROUND(C17/C$12*100,0)))))","v":"  "},null,{"$f":"IF(ISBLANK(E$12),\"  \",IF(ISBLANK(E$13),\" \",IF(ISBLANK(E17),\" \",IF($W$4=1,ROUND((E17+E$14)/E$12*100,0),ROUND(E17/E$12*100,0)))))","v":"  "},null,{"$f":"IF(ISBLANK(G$12),\"  \",IF(ISBLANK(G$13),\" \",IF(ISBLANK(G17),\" \",IF($W$4=1,ROUND((G17+G$14)/G$12*100,0),ROUND(G17/G$12*100,0)))))","v":"  "},null,{"$f":"IF(ISBLANK(I$12),\"  \",IF(ISBLANK(I$13),\" \",IF(ISBLANK(I17),\" \",IF($W$4=1,ROUND((I17+I$14)/I$12*100,0),ROUND(I17/I$12*100,0)))))","v":"  "},null,{"$f":"IF(ISBLANK(K$12),\"  \",IF(ISBLANK(K$13),\" \",IF(ISBLANK(K17),\" \",IF($W$4=1,ROUND((K17+K$14)/K$12*100,0),ROUND(K17/K$12*100,0)))))","v":"  "},null,{"$f":"IF(ISBLANK(M$12),\"  \",IF(ISBLANK(M$13),\" \",IF(ISBLANK(M17),\" \",IF($W$4=1,ROUND((M17+M$14)/M$12*100,0),ROUND(M17/M$12*100,0)))))","v":"  "}]
[1.5,null,null,"  ",null,"  ",null,"  ",null,"  ",null,"  ",null,"  "]
[1,null,null,"  ",null,"  ",null,"  ",null,"  ",null,"  ",null,"  "]
[0.75,null,null,"  ",null,"  ",null,"  ",null,"  ",null,"  ",null,"  "]
[0.625,null,null,"  ",null,"  ",null,"  ",null,"  ",null,"  ",null,"  "]
[0.5,null,null,"  ",null,"  ",null,"  ",null,"  ",null,"  ",null,"  "]
[0.375,null,null,{"$f":"IF(ISBLANK(C$12),\"  \",IF(ISBLANK(C$13),\" \",IF(ISBLANK(C23),\" \",IF(W$4=1,ROUND((C23+C$14)/C$12*100,0),ROUND(C23/C$12*100,0)))))","v":"  "},null,"  ",null,"  ",null,"  ",null,"  ",null,"  "]
[0.25,null,null,"  ",null,"  ",null,"  ",null,"  ",null,"  ",null,"  "]
[4,null,null,"  ",null,"  ",null,"  ",null,"  ",null,"  ",null,"  "]
[8,null,null,"  ",null,"  ",null,"  ",null,"  ",null,"  ",null,"  "]
[16,null,null,"  ",null,"  ",null,"  ",null,"  ",null,"  ",null,"  "]
[30,null,null,"  ",null,"  ",null,"  ",null,"  ",null,"  ",null,"  "]
[50,null,null,"  ",null,"  ",null,"  ",null,"  ",null,"  ",null,"  "]
[100,null,null,{"$f":"IF(ISBLANK(C$12),\"  \",IF(ISBLANK(C$13),\" \",IF(ISBLANK(C30),\" \",IF(W$4=1,ROUND((C30+C$14)/C$12*100,0),ROUND(C30/C$12*100,0)))))","v":"  "},null,"  ",null,"  ",null,"  ",null,"  ",null,"  "]
[200,null,null,{"$f":"IF(ISBLANK(C$12),\"  \",IF(ISBLANK(C$13),\" \",IF(ISBLANK(C31),\" \",IF(W$4=1,ROUND((C31+C$14)/C$12*100,2),ROUND(C31/C$12*100,1)))))","v":"  "},null,{"$f":"IF(ISBLANK(E$12),\"  \",IF(ISBLANK(E$13),\" \",IF(ISBLANK(E31),\" \",IF($W$4=1,ROUND((E31+E$14)/E$12*100,2),ROUND(E31/E$12*100,2)))))","v":"  "},null,{"$f":"IF(ISBLANK(G$12),\"  \",IF(ISBLANK(G$13),\" \",IF(ISBLANK(G31),\" \",IF($W$4=1,ROUND((G31+G$14)/G$12*100,2),ROUND(G31/G$12*100,2)))))","v":"  "},null,{"$f":"IF(ISBLANK(I$12),\"  \",IF(ISBLANK(I$13),\" \",IF(ISBLANK(I31),\" \",IF($W$4=1,ROUND((I31+I$14)/I$12*100,2),ROUND(I31/I$12*100,2)))))","v":"  "},null,{"$f":"IF(ISBLANK(K$12),\"  \",IF(ISBLANK(K$13),\" \",IF(ISBLANK(K31),\" \",IF($W$4=1,ROUND((K31+K$14)/K$12*100,2),ROUND(K31/K$12*100,2)))))","v":"  "},null,{"$f":"IF(ISBLANK(M$12),\"  \",IF(ISBLANK(M$13),\" \",IF(ISBLANK(M31),\" \",IF($W$4=1,ROUND((M31+M$14)/M$12*100,2),ROUND(M31/M$12*100,2)))))","v":"  "}]
["2.30-3.15","FM",{"$f":"IF(ISBLANK(C12),\" \",IF(ISBLANK(C23),\" \",(600-SUM(D24:D30))/100))","v":" "},null,{"$f":"IF(ISBLANK(E12),\" \",IF(ISBLANK(E23),\" \",(600-SUM(F24:F30))/100))","v":" "},null,{"$f":"IF(ISBLANK(G12),\" \",IF(ISBLANK(G23),\" \",(600-SUM(H24:H30))/100))","v":" "},null,{"$f":"IF(ISBLANK(I12),\" \",IF(ISBLANK(I23),\" \",(600-SUM(J24:J30))/100))","v":" "},null,{"$f":"IF(ISBLANK(K12),\" \",IF(ISBLANK(K23),\" \",(600-SUM(L24:L30))/100))","v":" "},null,{"$f":"IF(ISBLANK(M12),\" \",IF(ISBLANK(M23),\" \",(600-SUM(N24:N30))/100))","v":" "}]
["St. Wt. Before Wash",null,null,"% Passing",null,"% Passing",null,"% Passing",null,"% Passing",null,"% Passing",null,"% Passing"]
["End Wt. After Wash",null,null,{"$f":"IF(ISBLANK(C33),\"\",IF(ISBLANK(C34),\"\",((C33-C34)/C33)*100))","v":""},null,{"$f":"IF(ISBLANK(E33),\"\",IF(ISBLANK(E34),\"\",((E33-E34)/E33)*100))","v":""},null,{"$f":"IF(ISBLANK(G33),\"\",IF(ISBLANK(G34),\"\",((G33-G34)/G33)*100))","v":""},null,{"$f":"IF(ISBLANK(I33),\"\",IF(ISBLANK(I34),\"\",((I33-I34)/I33)*100))","v":""},null,{"$f":"IF(ISBLANK(K33),\"\",IF(ISBLANK(K34),\"\",((K33-K34)/K33)*100))","v":""},null,{"$f":"IF(ISBLANK(M33),\"\",IF(ISBLANK(M34),\"\",((M33-M34)/M33)*100))","v":""}]
["Tested By"]
["Remarks"]
[]
[]
[]
[]
[null,null,{"$f":"MAX(C16:C31)","v":0},null,{"$f":"MAX(E16:E31)","v":0},null,{"$f":"MAX(G16:G31)","v":0},null,{"$f":"MAX(I16:I31)","v":0},null,{"$f":"MAX(K16:K31)","v":0},null,{"$f":"MAX(M16:M31)","v":0}]
[]
["Sample No.",null,31,null,32,null,33,null,34,null,35,null,36]
["Date"]
[{"$f":"IF(M6=\"Yes\",\"St. Wt. Before Wash\",\"Starting. Wt.\")","v":"Starting. Wt."},null,null,"% Loss",null,"% Loss",null,"% Loss",null,"% Loss",null,"% Loss",null,"% Loss"]
[{"$f":"IF(M6=\"Yes\",\"Dry Wt. After Wash\",\"Ending Wt.\")","v":"Ending Wt."},null,null,{"$f":"IF(ISBLANK(C46),\" \",IF(ISBLANK(C74),\" \",IF($W$4=1,(C46-C74)/C46*100,((C45-C46)/C45)*100)))","v":" "},null,{"$f":"IF(ISBLANK(E46),\" \",IF(ISBLANK(E74),\" \",IF($W$4=1,(E46-E74)/E46*100,((E45-E46)/E45)*100)))","v":" "},null,{"$f":"IF(ISBLANK(G46),\" \",IF(ISBLANK(G74),\" \",IF($W$4=1,(G46-G74)/G46*100,((G45-G46)/G45)*100)))","v":" "},null,{"$f":"IF(ISBLANK(I46),\" \",IF(ISBLANK(I74),\" \",IF($W$4=1,(I46-I74)/I46*100,((I45-I46)/I45)*100)))","v":" "},null,{"$f":"IF(ISBLANK(K46),\" \",IF(ISBLANK(K74),\" \",IF($W$4=1,(K46-K74)/K46*100,((K45-K46)/K45)*100)))","v":" "},null,{"$f":"IF(ISBLANK(M46),\" \",IF(ISBLANK(M74),\" \",IF($W$4=1,(M46-M74)/M46*100,((M45-M46)/M45)*100)))","v":" "}]
["Wt. Loss",null,{"$f":"IF(ISBLANK(C45),\" \",IF(ISBLANK(C46),\" \",C45-C46))","v":" "},null,{"$f":"IF(ISBLANK(E45),\" \",IF(ISBLANK(E46),\" \",E45-E46))","v":" "},null,{"$f":"IF(ISBLANK(G45),\" \",IF(ISBLANK(G46),\" \",G45-G46))","v":" "},null,{"$f":"IF(ISBLANK(I45),\" \",IF(ISBLANK(I46),\" \",I45-I46))","v":" "},null,{"$f":"IF(ISBLANK(K45),\" \",IF(ISBLANK(K46),\" \",K45-K46))","v":" "},null,{"$f":"IF(ISBLANK(M45),\" \",IF(ISBLANK(M46),\" \",M45-M46))","v":" "}]
[null,null,"Wt","% Passing","Wt","% Passing","Wt","% Passing","Wt","% Passing","Wt","% Passing","Wt","% Passing"]
[2.5,null,null,{"$f":"IF(ISBLANK(C$45),\"  \",IF(ISBLANK(C$46),\" \",IF(ISBLANK(C49),\" \",IF(W$4=1,ROUND((C49+C$47)/C$45*100,0),ROUND(C49/C$45*100,0)))))","v":"  "},null,{"$f":"IF(ISBLANK(E$45),\"  \",IF(ISBLANK(E$46),\" \",IF(ISBLANK(E49),\" \",IF(Y$4=1,ROUND((E49+E$47)/E$45*100,0),ROUND(E49/E$45*100,0)))))","v":"  "},null,{"$f":"IF(ISBLANK(G$45),\"  \",IF(ISBLANK(G$46),\" \",IF(ISBLANK(G49),\" \",IF(AA$4=1,ROUND((G49+G$47)/G$45*100,0),ROUND(G49/G$45*100,0)))))","v":"  "},null,{"$f":"IF(ISBLANK(I$45),\"  \",IF(ISBLANK(I$46),\" \",IF(ISBLANK(I49),\" \",IF(AC$4=1,ROUND((I49+I$47)/I$45*100,0),ROUND(I49/I$45*100,0)))))","v":"  "},null,{"$f":"IF(ISBLANK(K$45),\"  \",IF(ISBLANK(K$46),\" \",IF(ISBLANK(K49),\" \",IF(AE$4=1,ROUND((K49+K$47)/K$45*100,0),ROUND(K49/K$45*100,0)))))","v":"  "},null,{"$f":"IF(ISBLANK(M$45),\"  \",IF(ISBLANK(M$46),\" \",IF(ISBLANK(M49),\" \",IF(AG$4=1,ROUND((M49+M$47)/M$45*100,0),ROUND(M49/M$45*100,0)))))","v":"  "}]
[2,null,null,{"$f":"IF(ISBLANK(C$45),\"  \",IF(ISBLANK(C$46),\" \",IF(ISBLANK(C50),\" \",IF(W$4=1,ROUND((C50+C$47)/C$45*100,0),ROUND(C50/C$45*100,0)))))","v":"  "},null,"  ",null,"  ",null,"  ",null,"  ",null,{"$f":"IF(ISBLANK(M$45),\"  \",IF(ISBLANK(M$46),\" \",IF(ISBLANK(M50),\" \",IF(AG$4=1,ROUND((M50+M$47)/M$45*100,0),ROUND(M50/M$45*100,0)))))","v":"  "}]
[1.5,null,null,"  ",null,"  ",null,"  ",null,"  ",null,"  ",null,"  "]
[1,null,null,"  ",null,"  ",null,"  ",null,"  ",null,"  ",null,"  "]
[0.75,null,null,"  ",null,"  ",null,"  ",null,"  ",null,"  ",null,"  "]
[0.625,null,null,"  ",null,"  ",null,"  ",null,"  ",null,"  ",null,"  "]
[0.5,null,null,"  ",null,"  ",null,"  ",null,"  ",null,"  ",null,"  "]
[0.375,null,null,"  ",null,{"$f":"IF(ISBLANK(E$45),\"  \",IF(ISBLANK(E$46),\" \",IF(ISBLANK(E56),\" \",IF(Y$4=1,ROUND((E56+E$47)/E$45*100,0),ROUND(E56/E$45*100,0)))))","v":"  "},null,"  ",null,"  ",null,"  ",null,"  "]
[0.25,null,null,"  ",null,"  ",null,"  ",null,"  ",null,"  ",null,"  "]
[4,null,null,"  ",null,"  ",null,"  ",null,"  ",null,"  ",null,"  "]
[8,null,null,"  ",null,"  ",null,"  ",null,"  ",null,"  ",null,"  "]
[16,null,null,"  ",null,"  ",null,"  ",null,"  ",null,"  ",null,"  "]
[30,null,null,"  ",null,"  ",null,"  ",null,"  ",null,"  ",null,"  "]
[50,null,null,"  ",null,"  ",null,"  ",null,"  ",null,"  ",null,"  "]
[100,null,null,"  ",null,"  ",null,"  ",null,"  ",null,"  ",null,{"$f":"IF(ISBLANK(M$45),\"  \",IF(ISBLANK(M$46),\" \",IF(ISBLANK(M63),\" \",IF(AG$4=1,ROUND((M63+M$47)/M$45*100,0),ROUND(M63/M$45*100,0)))))","v":"  "}]
[200,null,null,{"$f":"IF(ISBLANK(C$45),\"  \",IF(ISBLANK(C$46),\" \",IF(ISBLANK(C64),\" \",IF(W$4=1,ROUND((C64+C$47)/C$45*100,2),ROUND(C64/C$45*100,2)))))","v":"  "},null,{"$f":"IF(ISBLANK(E$45),\"  \",IF(ISBLANK(E$46),\" \",IF(ISBLANK(E64),\" \",IF(Y$4=1,ROUND((E64+E$47)/E$45*100,2),ROUND(E64/E$45*100,2)))))","v":"  "},null,{"$f":"IF(ISBLANK(G$45),\"  \",IF(ISBLANK(G$46),\" \",IF(ISBLANK(G64),\" \",IF(AA$4=1,ROUND((G64+G$47)/G$45*100,2),ROUND(G64/G$45*100,2)))))","v":"  "},null,{"$f":"IF(ISBLANK(I$45),\"  \",IF(ISBLANK(I$46),\" \",IF(ISBLANK(I64),\" \",IF(AC$4=1,ROUND((I64+I$47)/I$45*100,2),ROUND(I64/I$45*100,2)))))","v":"  "},null,{"$f":"IF(ISBLANK(K$45),\"  \",IF(ISBLANK(K$46),\" \",IF(ISBLANK(K64),\" \",IF(AE$4=1,ROUND((K64+K$47)/K$45*100,2),ROUND(K64/K$45*100,2)))))","v":"  "},null,{"$f":"IF(ISBLANK(M$45),\"  \",IF(ISBLANK(M$46),\" \",IF(ISBLANK(M64),\" \",IF(AG$4=1,ROUND((M64+M$47)/M$45*100,2),ROUND(M64/M$45*100,2)))))","v":"  "}]
["2.30-3.15","FM",{"$f":"IF(ISBLANK(C45),\" \",IF(ISBLANK(C56),\" \",(600-SUM(D57:D63))/100))","v":" "},null,{"$f":"IF(ISBLANK(E45),\" \",IF(ISBLANK(E56),\" \",(600-SUM(F57:F63))/100))","v":" "},null,{"$f":"IF(ISBLANK(G45),\" \",IF(ISBLANK(G56),\" \",(600-SUM(H57:H63))/100))","v":" "},null,{"$f":"IF(ISBLANK(I45),\" \",IF(ISBLANK(I56),\" \",(600-SUM(J57:J63))/100))","v":" "},null,{"$f":"IF(ISBLANK(K45),\" \",IF(ISBLANK(K56),\" \",(600-SUM(L57:L63))/100))","v":" "},null,{"$f":"IF(ISBLANK(M45),\" \",IF(ISBLANK(M56),\" \",(600-SUM(N57:N63))/100))","v":" "}]
["St. Wt. Before Wash",null,null,"% Passing",null,"% Passing",null,"% Passing",null,"% Passing",null,"% Passing",null,"% Passing"]
["End Wt. After Wash",null,null,{"$f":"IF(ISBLANK(C66),\"\",IF(ISBLANK(C67),\"\",((C66-C67)/C66)*100))","v":""},null,{"$f":"IF(ISBLANK(E66),\"\",IF(ISBLANK(E67),\"\",((E66-E67)/E66)*100))","v":""},null,{"$f":"IF(ISBLANK(G66),\"\",IF(ISBLANK(G67),\"\",((G66-G67)/G66)*100))","v":""},null,{"$f":"IF(ISBLANK(I66),\"\",IF(ISBLANK(I67),\"\",((I66-I67)/I66)*100))","v":""},null,{"$f":"IF(ISBLANK(K66),\"\",IF(ISBLANK(K67),\"\",((K66-K67)/K66)*100))","v":""},null,{"$f":"IF(ISBLANK(M66),\"\",IF(ISBLANK(M67),\"\",((M66-M67)/M66)*100))","v":""}]
["Tested By"]
["Remarks"]
[]
[]
[]
[]
[null,null,{"$f":"MAX(C49:C64)","v":0},null,{"$f":"MAX(E49:E64)","v":0},null,{"$f":"MAX(G49:G64)","v":0},null,{"$f":"MAX(I49:I64)","v":0},null,{"$f":"MAX(K49:K64)","v":0},null,{"$f":"MAX(M49:M64)","v":0}]

{"sheet":"S4","index":3,"n_rows":74,"n_cols":23,"rows_kept":74,"cut":false,"hidden":true,"merged":[[7,0,7,13],[5,12,5,13],[42,4,42,5],[42,6,42,7],[42,0,42,1],[42,2,42,3],[44,0,44,1],[45,0,45,1],[4,10,4,11],[4,12,4,13],[33,0,33,1],[34,0,34,1],[34,2,34,3],[34,4,34,5],[34,6,34,7],[34,8,34,9],[34,10,34,11],[9,12,9,13],[10,12,10,13],[13,12,13,13],[14,0,14,1],[15,0,15,1],[17,0,17,1],[18,0,18,1],[1,12,1,13],[2,10,2,11],[2,12,2,13],[3,10,3,11],[3,12,3,13],[31,12,31,13],[31,2,31,3],[32,0,32,1],[29,0,29,1],[28,0,28,1],[27,0,27,1],[26,0,26,1],[0,8,3,9],[1,2,1,7],[2,2,2,7],[3,2,3,7],[4,0,4,1],[31,8,31,9],[31,10,31,11],[10,0,10,1],[12,0,12,1],[22,0,22,1],[9,0,9,1],[5,10,5,11],[0,0,3,1],[1,10,1,11],[11,0,11,1],[31,4,31,5],[31,6,31,7],[30,0,30,1],[5,3,5,8],[9,2,9,3],[9,4,9,5],[9,6,9,7],[9,8,9,9],[9,10,9,11],[10,2,10,3],[10,4,10,5],[10,6,10,7],[10,8,10,9],[10,10,10,11],[13,0,13,1],[13,2,13,3],[13,4,13,5],[13,6,13,7],[13,8,13,9],[13,10,13,11],[16,0,16,1],[19,0,19,1],[20,0,20,1],[21,0,21,1],[23,0,23,1],[24,0,24,1],[25,0,25,1],[34,12,34,13],[35,0,37,1],[35,2,37,3],[35,4,37,5],[35,6,37,7],[35,8,37,9],[35,10,37,11],[35,12,37,13],[43,0,43,1],[43,2,43,3],[43,4,43,5],[43,6,43,7],[43,8,43,9],[43,10,43,11],[43,12,43,13],[42,8,42,9],[42,10,42,11],[42,12,42,13],[46,0,46,1],[46,2,46,3],[46,4,46,5],[46,6,46,7],[46,8,46,9],[46,10,46,11],[46,12,46,13],[47,0,47,1],[48,0,48,1],[60,0,60,1],[61,0,61,1],[62,0,62,1],[63,0,63,1],[64,2,64,3],[64,4,64,5],[64,6,64,7],[49,0,49,1],[50,0,50,1],[51,0,51,1],[52,0,52,1],[53,0,53,1],[54,0,54,1],[55,0,55,1],[56,0,56,1],[57,0,57,1],[6,12,6,13],[6,10,6,11],[4,8,4,9],[68,0,70,1],[68,2,70,3],[68,4,70,5],[68,6,70,7],[68,8,70,9],[68,10,70,11],[68,12,70,13],[64,8,64,9],[64,10,64,11],[64,12,64,13],[65,0,65,1],[66,0,66,1],[67,0,67,1],[67,2,67,3],[67,4,67,5],[67,6,67,7],[67,8,67,9],[67,10,67,11],[67,12,67,13],[58,0,58,1],[59,0,59,1]]}
[null,null,null,null,null,null,null,null,null,null,null,null,null,null,null,null,null,null,{"$f":"'S1'!T1","v":1},1,null,"FM","Wash"]
[null,null,"COMMONWEALTH OF PENNSYLVANIA",null,null,null,null,null,null,null,"District",null,{"$f":"IF(ISBLANK('S1'!M2),\" \",'S1'!M2)","v":" "}]
[null,null,"DEPARTMENT OF TRANSPORTATION",null,null,null,null,null,null,null,"Plant Code",null,{"$f":"IF(ISBLANK('S1'!M3),\" \",'S1'!M3)","v":" "}]
[null,null,null,null,null,null,null,null,null,null,"Agg Size",null,{"$f":"IF(ISBLANK('S1'!M4),\" \",'S1'!M4)","v":" "},null,null,null,null,null,null,null,null,{"$f":"IF(M5=\"Yes\",1,2)","v":2},{"$f":"IF(M6=\"Yes\",1,2)","v":2}]
[{"$f":"'S1'!A6","v":"Aggregate 2023"},null,null,null,null,null,null,null,{"$f":"IF(T1=1,\"Pounds\",\"Grams\")","v":"Pounds"},null,"Calculate FM?",null,{"$f":"IF(ISBLANK('S1'!M5),\" \",'S1'!M5)","v":"No"}]
[null,null,null,null,null,null,null,null,null,null,"Washed Gradation?",null,{"$f":"IF(ISBLANK('S1'!M6),\" \",'S1'!M6)","v":"No"}]
[null,null,null,null,null,null,null,null,null,null,"Aggregate Identifier",null,{"$f":"IF(ISBLANK('S1'!M7),\" \",'S1'!M7)","v":" "}]
["Material Test Results "]
[]
["Sample No.",null,37,null,38,null,39,null,40,null,41,null,42]
["Date"]
[{"$f":"IF(M6=\"Yes\",\"St. Wt. Before Wash\",\"Starting. Wt.\")","v":"Starting. Wt."},null,null,"% Loss",null,"% Loss",null,"% Loss",null,"% Loss",null,"% Loss",null,"% Loss"]
[{"$f":"IF(M6=\"Yes\",\"Dry Wt. After Wash\",\"Ending Wt.\")","v":"Ending Wt."},null,null,{"$f":"IF(ISBLANK(C13),\" \",IF(ISBLANK(C41),\" \",IF($W$4=1,(C13-C41)/C13*100,((C12-C13)/C12)*100)))","v":" "},null,{"$f":"IF(ISBLANK(E13),\" \",IF(ISBLANK(E41),\" \",IF($W$4=1,(E13-E41)/E13*100,((E12-E13)/E12)*100)))","v":" "},null,{"$f":"IF(ISBLANK(G13),\" \",IF(ISBLANK(G41),\" \",IF($W$4=1,(G13-G41)/G13*100,((G12-G13)/G12)*100)))","v":" "},null,{"$f":"IF(ISBLANK(I13),\" \",IF(ISBLANK(I41),\" \",IF($W$4=1,(I13-I41)/I13*100,((I12-I13)/I12)*100)))","v":" "},null,{"$f":"IF(ISBLANK(K13),\" \",IF(ISBLANK(K41),\" \",IF($W$4=1,(K13-K41)/K13*100,((K12-K13)/K12)*100)))","v":" "},null,{"$f":"IF(ISBLANK(M13),\" \",IF(ISBLANK(M41),\" \",IF($W$4=1,(M13-M41)/M13*100,((M12-M13)/M12)*100)))","v":" "}]
["Wt. Loss",null,{"$f":"IF(ISBLANK(C12),\" \",IF(ISBLANK(C13),\" \",C12-C13))","v":" "},null,{"$f":"IF(ISBLANK(E12),\" \",IF(ISBLANK(E13),\" \",E12-E13))","v":" "},null,{"$f":"IF(ISBLANK(G12),\" \",IF(ISBLANK(G13),\" \",G12-G13))","v":" "},null,{"$f":"IF(ISBLANK(I12),\" \",IF(ISBLANK(I13),\" \",I12-I13))","v":" "},null,{"$f":"IF(ISBLANK(K12),\" \",IF(ISBLANK(K13),\" \",K12-K13))","v":" "},null,{"$f":"IF(ISBLANK(M12),\" \",IF(ISBLANK(M13),\" \",M12-M13))","v":" "}]
[null,null,"Wt","% Passing","Wt","% Passing","Wt","% Passing","Wt","% Passing","Wt","% Passing","Wt","% Passing"]
[2.5,null,null,{"$f":"IF(ISBLANK(C$12),\"  \",IF(ISBLANK(C$13),\" \",IF(ISBLANK(C16),\" \",IF($W$4=1,ROUND((C16+C$14)/C$12*100,0),ROUND(C16/C$12*100,0)))))","v":"  "},null,{"$f":"IF(ISBLANK(E$12),\"  \",IF(ISBLANK(E$13),\" \",IF(ISBLANK(E16),\" \",IF($W$4=1,ROUND((E16+E$14)/E$12*100,0),ROUND(E16/E$12*100,0)))))","v":"  "},null,{"$f":"IF(ISBLANK(G$12),\"  \",IF(ISBLANK(G$13),\" \",IF(ISBLANK(G16),\" \",IF($W$4=1,ROUND((G16+G$14)/G$12*100,0),ROUND(G16/G$12*100,0)))))","v":"  "},null,{"$f":"IF(ISBLANK(I$12),\"  \",IF(ISBLANK(I$13),\" \",IF(ISBLANK(I16),\" \",IF($W$4=1,ROUND((I16+I$14)/I$12*100,0),ROUND(I16/I$12*100,0)))))","v":"  "},null,{"$f":"IF(ISBLANK(K$12),\"  \",IF(ISBLANK(K$13),\" \",IF(ISBLANK(K16),\" \",IF($W$4=1,ROUND((K16+K$14)/K$12*100,0),ROUND(K16/K$12*100,0)))))","v":"  "},null,{"$f":"IF(ISBLANK(M$12),\"  \",IF(ISBLANK(M$13),\" \",IF(ISBLANK(M16),\" \",IF($W$4=1,ROUND((M16+M$14)/M$12*100,0),ROUND(M16/M$12*100,0)))))","v":"  "}]
[2,null,null,{"$f":"IF(ISBLANK(C$12),\"  \",IF(ISBLANK(C$13),\" \",IF(ISBLANK(C17),\" \",IF(W$4=1,ROUND((C17+C$14)/C$12*100,0),ROUND(C17/C$12*100,0)))))","v":"  "},null,{"$f":"IF(ISBLANK(E$12),\"  \",IF(ISBLANK(E$13),\" \",IF(ISBLANK(E17),\" \",IF($W$4=1,ROUND((E17+E$14)/E$12*100,0),ROUND(E17/E$12*100,0)))))","v":"  "},null,{"$f":"IF(ISBLANK(G$12),\"  \",IF(ISBLANK(G$13),\" \",IF(ISBLANK(G17),\" \",IF($W$4=1,ROUND((G17+G$14)/G$12*100,0),ROUND(G17/G$12*100,0)))))","v":"  "},null,{"$f":"IF(ISBLANK(I$12),\"  \",IF(ISBLANK(I$13),\" \",IF(ISBLANK(I17),\" \",IF($W$4=1,ROUND((I17+I$14)/I$12*100,0),ROUND(I17/I$12*100,0)))))","v":"  "},null,{"$f":"IF(ISBLANK(K$12),\"  \",IF(ISBLANK(K$13),\" \",IF(ISBLANK(K17),\" \",IF($W$4=1,ROUND((K17+K$14)/K$12*100,0),ROUND(K17/K$12*100,0)))))","v":"  "},null,{"$f":"IF(ISBLANK(M$12),\"  \",IF(ISBLANK(M$13),\" \",IF(ISBLANK(M17),\" \",IF($W$4=1,ROUND((M17+M$14)/M$12*100,0),ROUND(M17/M$12*100,0)))))","v":"  "}]
[1.5,null,null,"  ",null,"  ",null,"  ",null,"  ",null,"  ",null,"  "]
[1,null,null,"  ",null,"  ",null,"  ",null,"  ",null,"  ",null,"  "]
[0.75,null,null,"  ",null,"  ",null,"  ",null,"  ",null,"  ",null,"  "]
[0.625,null,null,"  ",null,"  ",null,"  ",null,"  ",null,"  ",null,"  "]
[0.5,null,null,"  ",null,"  ",null,"  ",null,"  ",null,"  ",null,"  "]
[0.375,null,null,{"$f":"IF(ISBLANK(C$12),\"  \",IF(ISBLANK(C$13),\" \",IF(ISBLANK(C23),\" \",IF(W$4=1,ROUND((C23+C$14)/C$12*100,0),ROUND(C23/C$12*100,0)))))","v":"  "},null,"  ",null,"  ",null,"  ",null,"  ",null,"  "]
[0.25,null,null,"  ",null,"  ",null,"  ",null,"  ",null,"  ",null,"  "]
[4,null,null,"  ",null,"  ",null,"  ",null,"  ",null,"  ",null,"  "]
[8,null,null,"  ",null,"  ",null,"  ",null,"  ",null,"  ",null,"  "]
[16,null,null,"  ",null,"  ",null,"  ",null,"  ",null,"  ",null,"  "]
[30,null,null,"  ",null,"  ",null,"  ",null,"  ",null,"  ",null,"  "]
[50,null,null,"  ",null,"  ",null,"  ",null,"  ",null,"  ",null,"  "]
[100,null,null,{"$f":"IF(ISBLANK(C$12),\"  \",IF(ISBLANK(C$13),\" \",IF(ISBLANK(C30),\" \",IF(W$4=1,ROUND((C30+C$14)/C$12*100,0),ROUND(C30/C$12*100,0)))))","v":"  "},null,"  ",null,"  ",null,"  ",null,"  ",null,"  "]
[200,null,null,{"$f":"IF(ISBLANK(C$12),\"  \",IF(ISBLANK(C$13),\" \",IF(ISBLANK(C31),\" \",IF(W$4=1,ROUND((C31+C$14)/C$12*100,2),ROUND(C31/C$12*100,1)))))","v":"  "},null,{"$f":"IF(ISBLANK(E$12),\"  \",IF(ISBLANK(E$13),\" \",IF(ISBLANK(E31),\" \",IF($W$4=1,ROUND((E31+E$14)/E$12*100,2),ROUND(E31/E$12*100,2)))))","v":"  "},null,{"$f":"IF(ISBLANK(G$12),\"  \",IF(ISBLANK(G$13),\" \",IF(ISBLANK(G31),\" \",IF($W$4=1,ROUND((G31+G$14)/G$12*100,2),ROUND(G31/G$12*100,2)))))","v":"  "},null,{"$f":"IF(ISBLANK(I$12),\"  \",IF(ISBLANK(I$13),\" \",IF(ISBLANK(I31),\" \",IF($W$4=1,ROUND((I31+I$14)/I$12*100,2),ROUND(I31/I$12*100,2)))))","v":"  "},null,{"$f":"IF(ISBLANK(K$12),\"  \",IF(ISBLANK(K$13),\" \",IF(ISBLANK(K31),\" \",IF($W$4=1,ROUND((K31+K$14)/K$12*100,2),ROUND(K31/K$12*100,2)))))","v":"  "},null,{"$f":"IF(ISBLANK(M$12),\"  \",IF(ISBLANK(M$13),\" \",IF(ISBLANK(M31),\" \",IF($W$4=1,ROUND((M31+M$14)/M$12*100,2),ROUND(M31/M$12*100,2)))))","v":"  "}]
["2.30-3.15","FM",{"$f":"IF(ISBLANK(C12),\" \",IF(ISBLANK(C23),\" \",(600-SUM(D24:D30))/100))","v":" "},null,{"$f":"IF(ISBLANK(E12),\" \",IF(ISBLANK(E23),\" \",(600-SUM(F24:F30))/100))","v":" "},null,{"$f":"IF(ISBLANK(G12),\" \",IF(ISBLANK(G23),\" \",(600-SUM(H24:H30))/100))","v":" "},null,{"$f":"IF(ISBLANK(I12),\" \",IF(ISBLANK(I23),\" \",(600-SUM(J24:J30))/100))","v":" "},null,{"$f":"IF(ISBLANK(K12),\" \",IF(ISBLANK(K23),\" \",(600-SUM(L24:L30))/100))","v":" "},null,{"$f":"IF(ISBLANK(M12),\" \",IF(ISBLANK(M23),\" \",(600-SUM(N24:N30))/100))","v":" "}]
["St. Wt. Before Wash",null,null,"% Passing",null,"% Passing",null,"% Passing",null,"% Passing",null,"% Passing",null,"% Passing"]
["End Wt. After Wash",null,null,{"$f":"IF(ISBLANK(C33),\"\",IF(ISBLANK(C34),\"\",((C33-C34)/C33)*100))","v":""},null,{"$f":"IF(ISBLANK(E33),\"\",IF(ISBLANK(E34),\"\",((E33-E34)/E33)*100))","v":""},null,{"$f":"IF(ISBLANK(G33),\"\",IF(ISBLANK(G34),\"\",((G33-G34)/G33)*100))","v":""},null,{"$f":"IF(ISBLANK(I33),\"\",IF(ISBLANK(I34),\"\",((I33-I34)/I33)*100))","v":""},null,{"$f":"IF(ISBLANK(K33),\"\",IF(ISBLANK(K34),\"\",((K33-K34)/K33)*100))","v":""},null,{"$f":"IF(ISBLANK(M33),\"\",IF(ISBLANK(M34),\"\",((M33-M34)/M33)*100))","v":""}]
["Tested By"]
["Remarks"]
[]
[]
[]
[]
[null,null,{"$f":"MAX(C16:C31)","v":0},null,{"$f":"MAX(E16:E31)","v":0},null,{"$f":"MAX(G16:G31)","v":0},null,{"$f":"MAX(I16:I31)","v":0},null,{"$f":"MAX(K16:K31)","v":0},null,{"$f":"MAX(M16:M31)","v":0}]
[]
["Sample No.",null,43,null,44,null,45,null,46,null,47,null,48]
["Date"]
[{"$f":"IF(M6=\"Yes\",\"St. Wt. Before Wash\",\"Starting. Wt.\")","v":"Starting. Wt."},null,null,"% Loss",null,"% Loss",null,"% Loss",null,"% Loss",null,"% Loss",null,"% Loss"]
[{"$f":"IF(M6=\"Yes\",\"Dry Wt. After Wash\",\"Ending Wt.\")","v":"Ending Wt."},null,null,{"$f":"IF(ISBLANK(C46),\" \",IF(ISBLANK(C74),\" \",IF($W$4=1,(C46-C74)/C46*100,((C45-C46)/C45)*100)))","v":" "},null,{"$f":"IF(ISBLANK(E46),\" \",IF(ISBLANK(E74),\" \",IF($W$4=1,(E46-E74)/E46*100,((E45-E46)/E45)*100)))","v":" "},null,{"$f":"IF(ISBLANK(G46),\" \",IF(ISBLANK(G74),\" \",IF($W$4=1,(G46-G74)/G46*100,((G45-G46)/G45)*100)))","v":" "},null,{"$f":"IF(ISBLANK(I46),\" \",IF(ISBLANK(I74),\" \",IF($W$4=1,(I46-I74)/I46*100,((I45-I46)/I45)*100)))","v":" "},null,{"$f":"IF(ISBLANK(K46),\" \",IF(ISBLANK(K74),\" \",IF($W$4=1,(K46-K74)/K46*100,((K45-K46)/K45)*100)))","v":" "},null,{"$f":"IF(ISBLANK(M46),\" \",IF(ISBLANK(M74),\" \",IF($W$4=1,(M46-M74)/M46*100,((M45-M46)/M45)*100)))","v":" "}]
["Wt. Loss",null,{"$f":"IF(ISBLANK(C45),\" \",IF(ISBLANK(C46),\" \",C45-C46))","v":" "},null,{"$f":"IF(ISBLANK(E45),\" \",IF(ISBLANK(E46),\" \",E45-E46))","v":" "},null,{"$f":"IF(ISBLANK(G45),\" \",IF(ISBLANK(G46),\" \",G45-G46))","v":" "},null,{"$f":"IF(ISBLANK(I45),\" \",IF(ISBLANK(I46),\" \",I45-I46))","v":" "},null,{"$f":"IF(ISBLANK(K45),\" \",IF(ISBLANK(K46),\" \",K45-K46))","v":" "},null,{"$f":"IF(ISBLANK(M45),\" \",IF(ISBLANK(M46),\" \",M45-M46))","v":" "}]
[null,null,"Wt","% Passing","Wt","% Passing","Wt","% Passing","Wt","% Passing","Wt","% Passing","Wt","% Passing"]
[2.5,null,null,{"$f":"IF(ISBLANK(C$45),\"  \",IF(ISBLANK(C$46),\" \",IF(ISBLANK(C49),\" \",IF(W$4=1,ROUND((C49+C$47)/C$45*100,0),ROUND(C49/C$45*100,0)))))","v":"  "},null,{"$f":"IF(ISBLANK(E$45),\"  \",IF(ISBLANK(E$46),\" \",IF(ISBLANK(E49),\" \",IF(Y$4=1,ROUND((E49+E$47)/E$45*100,0),ROUND(E49/E$45*100,0)))))","v":"  "},null,{"$f":"IF(ISBLANK(G$45),\"  \",IF(ISBLANK(G$46),\" \",IF(ISBLANK(G49),\" \",IF(AA$4=1,ROUND((G49+G$47)/G$45*100,0),ROUND(G49/G$45*100,0)))))","v":"  "},null,{"$f":"IF(ISBLANK(I$45),\"  \",IF(ISBLANK(I$46),\" \",IF(ISBLANK(I49),\" \",IF(AC$4=1,ROUND((I49+I$47)/I$45*100,0),ROUND(I49/I$45*100,0)))))","v":"  "},null,{"$f":"IF(ISBLANK(K$45),\"  \",IF(ISBLANK(K$46),\" \",IF(ISBLANK(K49),\" \",IF(AE$4=1,ROUND((K49+K$47)/K$45*100,0),ROUND(K49/K$45*100,0)))))","v":"  "},null,{"$f":"IF(ISBLANK(M$45),\"  \",IF(ISBLANK(M$46),\" \",IF(ISBLANK(M49),\" \",IF(AG$4=1,ROUND((M49+M$47)/M$45*100,0),ROUND(M49/M$45*100,0)))))","v":"  "}]
[2,null,null,{"$f":"IF(ISBLANK(C$45),\"  \",IF(ISBLANK(C$46),\" \",IF(ISBLANK(C50),\" \",IF(W$4=1,ROUND((C50+C$47)/C$45*100,0),ROUND(C50/C$45*100,0)))))","v":"  "},null,"  ",null,"  ",null,"  ",null,"  ",null,{"$f":"IF(ISBLANK(M$45),\"  \",IF(ISBLANK(M$46),\" \",IF(ISBLANK(M50),\" \",IF(AG$4=1,ROUND((M50+M$47)/M$45*100,0),ROUND(M50/M$45*100,0)))))","v":"  "}]
[1.5,null,null,"  ",null,"  ",null,"  ",null,"  ",null,"  ",null,"  "]
[1,null,null,"  ",null,"  ",null,"  ",null,"  ",null,"  ",null,"  "]
[0.75,null,null,"  ",null,"  ",null,"  ",null,"  ",null,"  ",null,"  "]
[0.625,null,null,"  ",null,"  ",null,"  ",null,"  ",null,"  ",null,"  "]
[0.5,null,null,"  ",null,"  ",null,"  ",null,"  ",null,"  ",null,"  "]
[0.375,null,null,"  ",null,"  ",null,"  ",null,"  ",null,"  ",null,"  "]
[0.25,null,null,"  ",null,"  ",null,"  ",null,"  ",null,"  ",null,"  "]
[4,null,null,"  ",null,"  ",null,"  ",null,"  ",null,"  ",null,"  "]
[8,null,null,"  ",null,"  ",null,"  ",null,"  ",null,"  ",null,"  "]
[16,null,null,"  ",null,"  ",null,"  ",null,"  ",null,"  ",null,"  "]
[30,null,null,"  ",null,"  ",null,"  ",null,"  ",null,"  ",null,"  "]
[50,null,null,"  ",null,"  ",null,"  ",null,"  ",null,"  ",null,"  "]
[100,null,null,"  ",null,"  ",null,"  ",null,"  ",null,"  ",null,{"$f":"IF(ISBLANK(M$45),\"  \",IF(ISBLANK(M$46),\" \",IF(ISBLANK(M63),\" \",IF(AG$4=1,ROUND((M63+M$47)/M$45*100,0),ROUND(M63/M$45*100,0)))))","v":"  "}]
[200,null,null,{"$f":"IF(ISBLANK(C$45),\"  \",IF(ISBLANK(C$46),\" \",IF(ISBLANK(C64),\" \",IF(W$4=1,ROUND((C64+C$47)/C$45*100,2),ROUND(C64/C$45*100,2)))))","v":"  "},null,{"$f":"IF(ISBLANK(E$45),\"  \",IF(ISBLANK(E$46),\" \",IF(ISBLANK(E64),\" \",IF(Y$4=1,ROUND((E64+E$47)/E$45*100,2),ROUND(E64/E$45*100,2)))))","v":"  "},null,{"$f":"IF(ISBLANK(G$45),\"  \",IF(ISBLANK(G$46),\" \",IF(ISBLANK(G64),\" \",IF(AA$4=1,ROUND((G64+G$47)/G$45*100,2),ROUND(G64/G$45*100,2)))))","v":"  "},null,{"$f":"IF(ISBLANK(I$45),\"  \",IF(ISBLANK(I$46),\" \",IF(ISBLANK(I64),\" \",IF(AC$4=1,ROUND((I64+I$47)/I$45*100,2),ROUND(I64/I$45*100,2)))))","v":"  "},null,{"$f":"IF(ISBLANK(K$45),\"  \",IF(ISBLANK(K$46),\" \",IF(ISBLANK(K64),\" \",IF(AE$4=1,ROUND((K64+K$47)/K$45*100,2),ROUND(K64/K$45*100,2)))))","v":"  "},null,{"$f":"IF(ISBLANK(M$45),\"  \",IF(ISBLANK(M$46),\" \",IF(ISBLANK(M64),\" \",IF(AG$4=1,ROUND((M64+M$47)/M$45*100,2),ROUND(M64/M$45*100,2)))))","v":"  "}]
["2.30-3.15","FM",{"$f":"IF(ISBLANK(C45),\" \",IF(ISBLANK(C56),\" \",(600-SUM(D57:D63))/100))","v":" "},null,{"$f":"IF(ISBLANK(E45),\" \",IF(ISBLANK(E56),\" \",(600-SUM(F57:F63))/100))","v":" "},null,{"$f":"IF(ISBLANK(G45),\" \",IF(ISBLANK(G56),\" \",(600-SUM(H57:H63))/100))","v":" "},null,{"$f":"IF(ISBLANK(I45),\" \",IF(ISBLANK(I56),\" \",(600-SUM(J57:J63))/100))","v":" "},null,{"$f":"IF(ISBLANK(K45),\" \",IF(ISBLANK(K56),\" \",(600-SUM(L57:L63))/100))","v":" "},null,{"$f":"IF(ISBLANK(M45),\" \",IF(ISBLANK(M56),\" \",(600-SUM(N57:N63))/100))","v":" "}]
["St. Wt. Before Wash",null,null,"% Passing",null,"% Passing",null,"% Passing",null,"% Passing",null,"% Passing",null,"% Passing"]
["End Wt. After Wash",null,null,{"$f":"IF(ISBLANK(C66),\"\",IF(ISBLANK(C67),\"\",((C66-C67)/C66)*100))","v":""},null,{"$f":"IF(ISBLANK(E66),\"\",IF(ISBLANK(E67),\"\",((E66-E67)/E66)*100))","v":""},null,{"$f":"IF(ISBLANK(G66),\"\",IF(ISBLANK(G67),\"\",((G66-G67)/G66)*100))","v":""},null,{"$f":"IF(ISBLANK(I66),\"\",IF(ISBLANK(I67),\"\",((I66-I67)/I66)*100))","v":""},null,{"$f":"IF(ISBLANK(K66),\"\",IF(ISBLANK(K67),\"\",((K66-K67)/K66)*100))","v":""},null,{"$f":"IF(ISBLANK(M66),\"\",IF(ISBLANK(M67),\"\",((M66-M67)/M66)*100))","v":""}]
["Tested By"]
["Remarks"]
[]
[]
[]
[]
[null,null,{"$f":"MAX(C49:C64)","v":0},null,{"$f":"MAX(E49:E64)","v":0},null,{"$f":"MAX(G49:G64)","v":0},null,{"$f":"MAX(I49:I64)","v":0},null,{"$f":"MAX(K49:K64)","v":0},null,{"$f":"MAX(M49:M64)","v":0}]

{"sheet":"S5","index":4,"n_rows":74,"n_cols":23,"rows_kept":74,"cut":false,"hidden":true,"merged":[[5,12,5,13],[42,4,42,5],[42,6,42,7],[42,0,42,1],[42,2,42,3],[44,0,44,1],[45,0,45,1],[4,10,4,11],[4,12,4,13],[33,0,33,1],[34,0,34,1],[34,2,34,3],[34,4,34,5],[34,6,34,7],[34,8,34,9],[34,10,34,11],[9,12,9,13],[10,12,10,13],[13,12,13,13],[14,0,14,1],[15,0,15,1],[7,0,7,13],[18,0,18,1],[19,0,19,1],[1,12,1,13],[2,10,2,11],[2,12,2,13],[3,10,3,11],[3,12,3,13],[31,12,31,13],[31,2,31,3],[32,0,32,1],[29,0,29,1],[28,0,28,1],[27,0,27,1],[26,0,26,1],[0,8,3,9],[1,2,1,7],[2,2,2,7],[3,2,3,7],[4,0,4,1],[31,8,31,9],[31,10,31,11],[10,0,10,1],[12,0,12,1],[22,0,22,1],[9,0,9,1],[5,10,5,11],[0,0,3,1],[1,10,1,11],[11,0,11,1],[31,4,31,5],[31,6,31,7],[30,0,30,1],[9,2,9,3],[9,4,9,5],[9,6,9,7],[9,8,9,9],[9,10,9,11],[10,2,10,3],[10,4,10,5],[10,6,10,7],[10,8,10,9],[10,10,10,11],[13,0,13,1],[13,2,13,3],[13,4,13,5],[13,6,13,7],[13,8,13,9],[13,10,13,11],[16,0,16,1],[17,0,17,1],[20,0,20,1],[21,0,21,1],[23,0,23,1],[24,0,24,1],[25,0,25,1],[34,12,34,13],[35,0,37,1],[35,2,37,3],[35,4,37,5],[35,6,37,7],[35,8,37,9],[35,10,37,11],[35,12,37,13],[43,0,43,1],[43,2,43,3],[43,4,43,5],[43,6,43,7],[43,8,43,9],[43,10,43,11],[43,12,43,13],[42,8,42,9],[42,10,42,11],[42,12,42,13],[46,0,46,1],[46,2,46,3],[46,4,46,5],[46,6,46,7],[46,8,46,9],[46,10,46,11],[46,12,46,13],[47,0,47,1],[48,0,48,1],[60,0,60,1],[61,0,61,1],[62,0,62,1],[63,0,63,1],[64,2,64,3],[64,4,64,5],[64,6,64,7],[49,0,49,1],[50,0,50,1],[51,0,51,1],[52,0,52,1],[53,0,53,1],[54,0,54,1],[55,0,55,1],[56,0,56,1],[57,0,57,1],[6,12,6,13],[6,10,6,11],[4,8,4,9],[68,0,70,1],[68,2,70,3],[68,4,70,5],[68,6,70,7],[68,8,70,9],[68,10,70,11],[68,12,70,13],[64,8,64,9],[64,10,64,11],[64,12,64,13],[65,0,65,1],[66,0,66,1],[67,0,67,1],[67,2,67,3],[67,4,67,5],[67,6,67,7],[67,8,67,9],[67,10,67,11],[67,12,67,13],[58,0,58,1],[59,0,59,1]]}
[null,null,null,null,null,null,null,null,null,null,null,null,null,null,null,null,null,null,{"$f":"'S1'!T1","v":1},1,null,"FM","Wash"]
[null,null,"COMMONWEALTH OF PENNSYLVANIA",null,null,null,null,null,null,null,"District",null,{"$f":"IF(ISBLANK('S1'!M2),\" \",'S1'!M2)","v":" "}]
[null,null,"DEPARTMENT OF TRANSPORTATION",null,null,null,null,null,null,null,"Plant Code",null,{"$f":"IF(ISBLANK('S1'!M3),\" \",'S1'!M3)","v":" "}]
[null,null,null,null,null,null,null,null,null,null,"Agg Size",null,{"$f":"IF(ISBLANK('S1'!M4),\" \",'S1'!M4)","v":" "},null,null,null,null,null,null,null,null,{"$f":"IF(M5=\"Yes\",1,2)","v":2},{"$f":"IF(M6=\"Yes\",1,2)","v":2}]
[{"$f":"'S1'!A6","v":"Aggregate 2023"},null,null,null,null,null,null,null,{"$f":"IF(T1=1,\"Pounds\",\"Grams\")","v":"Pounds"},null,"Calculate FM?",null,{"$f":"IF(ISBLANK('S1'!M5),\" \",'S1'!M5)","v":"No"}]
[null,null,null,null,null,null,null,null,null,null,"Washed Gradation?",null,{"$f":"IF(ISBLANK('S1'!M6),\" \",'S1'!M6)","v":"No"}]
[null,null,null,null,null,null,null,null,null,null,"Aggregate Identifier",null,{"$f":"IF(ISBLANK('S1'!M7),\" \",'S1'!M7)","v":" "}]
["Material Test Results "]
[]
["Sample No.",null,49,null,50,null,51,null,52,null,53,null,54]
["Date"]
[{"$f":"IF(M6=\"Yes\",\"St. Wt. Before Wash\",\"Starting. Wt.\")","v":"Starting. Wt."},null,null,"% Loss",null,"% Loss",null,"% Loss",null,"% Loss",null,"% Loss",null,"% Loss"]
[{"$f":"IF(M6=\"Yes\",\"Dry Wt. After Wash\",\"Ending Wt.\")","v":"Ending Wt."},null,null,{"$f":"IF(ISBLANK(C13),\" \",IF(ISBLANK(C41),\" \",IF($W$4=1,(C13-C41)/C13*100,((C12-C13)/C12)*100)))","v":" "},null,{"$f":"IF(ISBLANK(E13),\" \",IF(ISBLANK(E41),\" \",IF($W$4=1,(E13-E41)/E13*100,((E12-E13)/E12)*100)))","v":" "},null,{"$f":"IF(ISBLANK(G13),\" \",IF(ISBLANK(G41),\" \",IF($W$4=1,(G13-G41)/G13*100,((G12-G13)/G12)*100)))","v":" "},null,{"$f":"IF(ISBLANK(I13),\" \",IF(ISBLANK(I41),\" \",IF($W$4=1,(I13-I41)/I13*100,((I12-I13)/I12)*100)))","v":" "},null,{"$f":"IF(ISBLANK(K13),\" \",IF(ISBLANK(K41),\" \",IF($W$4=1,(K13-K41)/K13*100,((K12-K13)/K12)*100)))","v":" "},null,{"$f":"IF(ISBLANK(M13),\" \",IF(ISBLANK(M41),\" \",IF($W$4=1,(M13-M41)/M13*100,((M12-M13)/M12)*100)))","v":" "}]
["Wt. Loss",null,{"$f":"IF(ISBLANK(C12),\" \",IF(ISBLANK(C13),\" \",C12-C13))","v":" "},null,{"$f":"IF(ISBLANK(E12),\" \",IF(ISBLANK(E13),\" \",E12-E13))","v":" "},null,{"$f":"IF(ISBLANK(G12),\" \",IF(ISBLANK(G13),\" \",G12-G13))","v":" "},null,{"$f":"IF(ISBLANK(I12),\" \",IF(ISBLANK(I13),\" \",I12-I13))","v":" "},null,{"$f":"IF(ISBLANK(K12),\" \",IF(ISBLANK(K13),\" \",K12-K13))","v":" "},null,{"$f":"IF(ISBLANK(M12),\" \",IF(ISBLANK(M13),\" \",M12-M13))","v":" "}]
[null,null,"Wt","% Passing","Wt","% Passing","Wt","% Passing","Wt","% Passing","Wt","% Passing","Wt","% Passing"]
[2.5,null,null,{"$f":"IF(ISBLANK(C$12),\"  \",IF(ISBLANK(C$13),\" \",IF(ISBLANK(C16),\" \",IF($W$4=1,ROUND((C16+C$14)/C$12*100,0),ROUND(C16/C$12*100,0)))))","v":"  "},null,{"$f":"IF(ISBLANK(E$12),\"  \",IF(ISBLANK(E$13),\" \",IF(ISBLANK(E16),\" \",IF($W$4=1,ROUND((E16+E$14)/E$12*100,0),ROUND(E16/E$12*100,0)))))","v":"  "},null,{"$f":"IF(ISBLANK(G$12),\"  \",IF(ISBLANK(G$13),\" \",IF(ISBLANK(G16),\" \",IF($W$4=1,ROUND((G16+G$14)/G$12*100,0),ROUND(G16/G$12*100,0)))))","v":"  "},null,{"$f":"IF(ISBLANK(I$12),\"  \",IF(ISBLANK(I$13),\" \",IF(ISBLANK(I16),\" \",IF($W$4=1,ROUND((I16+I$14)/I$12*100,0),ROUND(I16/I$12*100,0)))))","v":"  "},null,{"$f":"IF(ISBLANK(K$12),\"  \",IF(ISBLANK(K$13),\" \",IF(ISBLANK(K16),\" \",IF($W$4=1,ROUND((K16+K$14)/K$12*100,0),ROUND(K16/K$12*100,0)))))","v":"  "},null,{"$f":"IF(ISBLANK(M$12),\"  \",IF(ISBLANK(M$13),\" \",IF(ISBLANK(M16),\" \",IF($W$4=1,ROUND((M16+M$14)/M$12*100,0),ROUND(M16/M$12*100,0)))))","v":"  "}]
[2,null,null,{"$f":"IF(ISBLANK(C$12),\"  \",IF(ISBLANK(C$13),\" \",IF(ISBLANK(C17),\" \",IF(W$4=1,ROUND((C17+C$14)/C$12*100,0),ROUND(C17/C$12*100,0)))))","v":"  "},null,{"$f":"IF(ISBLANK(E$12),\"  \",IF(ISBLANK(E$13),\" \",IF(ISBLANK(E17),\" \",IF($W$4=1,ROUND((E17+E$14)/E$12*100,0),ROUND(E17/E$12*100,0)))))","v":"  "},null,{"$f":"IF(ISBLANK(G$12),\"  \",IF(ISBLANK(G$13),\" \",IF(ISBLANK(G17),\" \",IF($W$4=1,ROUND((G17+G$14)/G$12*100,0),ROUND(G17/G$12*100,0)))))","v":"  "},null,{"$f":"IF(ISBLANK(I$12),\"  \",IF(ISBLANK(I$13),\" \",IF(ISBLANK(I17),\" \",IF($W$4=1,ROUND((I17+I$14)/I$12*100,0),ROUND(I17/I$12*100,0)))))","v":"  "},null,{"$f":"IF(ISBLANK(K$12),\"  \",IF(ISBLANK(K$13),\" \",IF(ISBLANK(K17),\" \",IF($W$4=1,ROUND((K17+K$14)/K$12*100,0),ROUND(K17/K$12*100,0)))))","v":"  "},null,{"$f":"IF(ISBLANK(M$12),\"  \",IF(ISBLANK(M$13),\" \",IF(ISBLANK(M17),\" \",IF($W$4=1,ROUND((M17+M$14)/M$12*100,0),ROUND(M17/M$12*100,0)))))","v":"  "}]
[1.5,null,null,"  ",null,"  ",null,"  ",null,"  ",null,"  ",null,"  "]
[1,null,null,"  ",null,"  ",null,"  ",null,"  ",null,"  ",null,"  "]
[0.75,null,null,"  ",null,"  ",null,"  ",null,"  ",null,"  ",null,"  "]
[0.625,null,null,"  ",null,"  ",null,"  ",null,"  ",null,"  ",null,"  "]
[0.5,null,null,"  ",null,"  ",null,"  ",null,"  ",null,"  ",null,"  "]
[0.375,null,null,{"$f":"IF(ISBLANK(C$12),\"  \",IF(ISBLANK(C$13),\" \",IF(ISBLANK(C23),\" \",IF(W$4=1,ROUND((C23+C$14)/C$12*100,0),ROUND(C23/C$12*100,0)))))","v":"  "},null,"  ",null,"  ",null,"  ",null,"  ",null,"  "]
[0.25,null,null,"  ",null,"  ",null,"  ",null,"  ",null,"  ",null,"  "]
[4,null,null,"  ",null,"  ",null,"  ",null,"  ",null,"  ",null,"  "]
[8,null,null,"  ",null,"  ",null,"  ",null,"  ",null,"  ",null,"  "]
[16,null,null,"  ",null,"  ",null,"  ",null,"  ",null,"  ",null,"  "]
[30,null,null,"  ",null,"  ",null,"  ",null,"  ",null,"  ",null,"  "]
[50,null,null,"  ",null,"  ",null,"  ",null,"  ",null,"  ",null,"  "]
[100,null,null,{"$f":"IF(ISBLANK(C$12),\"  \",IF(ISBLANK(C$13),\" \",IF(ISBLANK(C30),\" \",IF(W$4=1,ROUND((C30+C$14)/C$12*100,0),ROUND(C30/C$12*100,0)))))","v":"  "},null,"  ",null,"  ",null,"  ",null,"  ",null,"  "]
[200,null,null,{"$f":"IF(ISBLANK(C$12),\"  \",IF(ISBLANK(C$13),\" \",IF(ISBLANK(C31),\" \",IF(W$4=1,ROUND((C31+C$14)/C$12*100,2),ROUND(C31/C$12*100,1)))))","v":"  "},null,{"$f":"IF(ISBLANK(E$12),\"  \",IF(ISBLANK(E$13),\" \",IF(ISBLANK(E31),\" \",IF($W$4=1,ROUND((E31+E$14)/E$12*100,2),ROUND(E31/E$12*100,2)))))","v":"  "},null,{"$f":"IF(ISBLANK(G$12),\"  \",IF(ISBLANK(G$13),\" \",IF(ISBLANK(G31),\" \",IF($W$4=1,ROUND((G31+G$14)/G$12*100,2),ROUND(G31/G$12*100,2)))))","v":"  "},null,{"$f":"IF(ISBLANK(I$12),\"  \",IF(ISBLANK(I$13),\" \",IF(ISBLANK(I31),\" \",IF($W$4=1,ROUND((I31+I$14)/I$12*100,2),ROUND(I31/I$12*100,2)))))","v":"  "},null,{"$f":"IF(ISBLANK(K$12),\"  \",IF(ISBLANK(K$13),\" \",IF(ISBLANK(K31),\" \",IF($W$4=1,ROUND((K31+K$14)/K$12*100,2),ROUND(K31/K$12*100,2)))))","v":"  "},null,{"$f":"IF(ISBLANK(M$12),\"  \",IF(ISBLANK(M$13),\" \",IF(ISBLANK(M31),\" \",IF($W$4=1,ROUND((M31+M$14)/M$12*100,2),ROUND(M31/M$12*100,2)))))","v":"  "}]
["2.30-3.15","FM",{"$f":"IF(ISBLANK(C12),\" \",IF(ISBLANK(C23),\" \",(600-SUM(D24:D30))/100))","v":" "},null,{"$f":"IF(ISBLANK(E12),\" \",IF(ISBLANK(E23),\" \",(600-SUM(F24:F30))/100))","v":" "},null,{"$f":"IF(ISBLANK(G12),\" \",IF(ISBLANK(G23),\" \",(600-SUM(H24:H30))/100))","v":" "},null,{"$f":"IF(ISBLANK(I12),\" \",IF(ISBLANK(I23),\" \",(600-SUM(J24:J30))/100))","v":" "},null,{"$f":"IF(ISBLANK(K12),\" \",IF(ISBLANK(K23),\" \",(600-SUM(L24:L30))/100))","v":" "},null,{"$f":"IF(ISBLANK(M12),\" \",IF(ISBLANK(M23),\" \",(600-SUM(N24:N30))/100))","v":" "}]
["St. Wt. Before Wash",null,null,"% Passing",null,"% Passing",null,"% Passing",null,"% Passing",null,"% Passing",null,"% Passing"]
["End Wt. After Wash",null,null,{"$f":"IF(ISBLANK(C33),\"\",IF(ISBLANK(C34),\"\",((C33-C34)/C33)*100))","v":""},null,{"$f":"IF(ISBLANK(E33),\"\",IF(ISBLANK(E34),\"\",((E33-E34)/E33)*100))","v":""},null,{"$f":"IF(ISBLANK(G33),\"\",IF(ISBLANK(G34),\"\",((G33-G34)/G33)*100))","v":""},null,{"$f":"IF(ISBLANK(I33),\"\",IF(ISBLANK(I34),\"\",((I33-I34)/I33)*100))","v":""},null,{"$f":"IF(ISBLANK(K33),\"\",IF(ISBLANK(K34),\"\",((K33-K34)/K33)*100))","v":""},null,{"$f":"IF(ISBLANK(M33),\"\",IF(ISBLANK(M34),\"\",((M33-M34)/M33)*100))","v":""}]
["Tested By"]
["Remarks"]
[]
[]
[]
[]
[null,null,{"$f":"MAX(C16:C31)","v":0},null,{"$f":"MAX(E16:E31)","v":0},null,{"$f":"MAX(G16:G31)","v":0},null,{"$f":"MAX(I16:I31)","v":0},null,{"$f":"MAX(K16:K31)","v":0},null,{"$f":"MAX(M16:M31)","v":0}]
[]
["Sample No.",null,55,null,56,null,57,null,58,null,59,null,60]
["Date"]
[{"$f":"IF(M6=\"Yes\",\"St. Wt. Before Wash\",\"Starting. Wt.\")","v":"Starting. Wt."},null,null,"% Loss",null,"% Loss",null,"% Loss",null,"% Loss",null,"% Loss",null,"% Loss"]
[{"$f":"IF(M6=\"Yes\",\"Dry Wt. After Wash\",\"Ending Wt.\")","v":"Ending Wt."},null,null,{"$f":"IF(ISBLANK(C46),\" \",IF(ISBLANK(C74),\" \",IF($W$4=1,(C46-C74)/C46*100,((C45-C46)/C45)*100)))","v":" "},null,{"$f":"IF(ISBLANK(E46),\" \",IF(ISBLANK(E74),\" \",IF($W$4=1,(E46-E74)/E46*100,((E45-E46)/E45)*100)))","v":" "},null,{"$f":"IF(ISBLANK(G46),\" \",IF(ISBLANK(G74),\" \",IF($W$4=1,(G46-G74)/G46*100,((G45-G46)/G45)*100)))","v":" "},null,{"$f":"IF(ISBLANK(I46),\" \",IF(ISBLANK(I74),\" \",IF($W$4=1,(I46-I74)/I46*100,((I45-I46)/I45)*100)))","v":" "},null,{"$f":"IF(ISBLANK(K46),\" \",IF(ISBLANK(K74),\" \",IF($W$4=1,(K46-K74)/K46*100,((K45-K46)/K45)*100)))","v":" "},null,{"$f":"IF(ISBLANK(M46),\" \",IF(ISBLANK(M74),\" \",IF($W$4=1,(M46-M74)/M46*100,((M45-M46)/M45)*100)))","v":" "}]
["Wt. Loss",null,{"$f":"IF(ISBLANK(C45),\" \",IF(ISBLANK(C46),\" \",C45-C46))","v":" "},null,{"$f":"IF(ISBLANK(E45),\" \",IF(ISBLANK(E46),\" \",E45-E46))","v":" "},null,{"$f":"IF(ISBLANK(G45),\" \",IF(ISBLANK(G46),\" \",G45-G46))","v":" "},null,{"$f":"IF(ISBLANK(I45),\" \",IF(ISBLANK(I46),\" \",I45-I46))","v":" "},null,{"$f":"IF(ISBLANK(K45),\" \",IF(ISBLANK(K46),\" \",K45-K46))","v":" "},null,{"$f":"IF(ISBLANK(M45),\" \",IF(ISBLANK(M46),\" \",M45-M46))","v":" "}]
[null,null,"Wt","% Passing","Wt","% Passing","Wt","% Passing","Wt","% Passing","Wt","% Passing","Wt","% Passing"]
[2.5,null,null,{"$f":"IF(ISBLANK(C$45),\"  \",IF(ISBLANK(C$46),\" \",IF(ISBLANK(C49),\" \",IF(W$4=1,ROUND((C49+C$47)/C$45*100,0),ROUND(C49/C$45*100,0)))))","v":"  "},null,{"$f":"IF(ISBLANK(E$45),\"  \",IF(ISBLANK(E$46),\" \",IF(ISBLANK(E49),\" \",IF(Y$4=1,ROUND((E49+E$47)/E$45*100,0),ROUND(E49/E$45*100,0)))))","v":"  "},null,{"$f":"IF(ISBLANK(G$45),\"  \",IF(ISBLANK(G$46),\" \",IF(ISBLANK(G49),\" \",IF(AA$4=1,ROUND((G49+G$47)/G$45*100,0),ROUND(G49/G$45*100,0)))))","v":"  "},null,{"$f":"IF(ISBLANK(I$45),\"  \",IF(ISBLANK(I$46),\" \",IF(ISBLANK(I49),\" \",IF(AC$4=1,ROUND((I49+I$47)/I$45*100,0),ROUND(I49/I$45*100,0)))))","v":"  "},null,{"$f":"IF(ISBLANK(K$45),\"  \",IF(ISBLANK(K$46),\" \",IF(ISBLANK(K49),\" \",IF(AE$4=1,ROUND((K49+K$47)/K$45*100,0),ROUND(K49/K$45*100,0)))))","v":"  "},null,{"$f":"IF(ISBLANK(M$45),\"  \",IF(ISBLANK(M$46),\" \",IF(ISBLANK(M49),\" \",IF(AG$4=1,ROUND((M49+M$47)/M$45*100,0),ROUND(M49/M$45*100,0)))))","v":"  "}]
[2,null,null,{"$f":"IF(ISBLANK(C$45),\"  \",IF(ISBLANK(C$46),\" \",IF(ISBLANK(C50),\" \",IF(W$4=1,ROUND((C50+C$47)/C$45*100,0),ROUND(C50/C$45*100,0)))))","v":"  "},null,"  ",null,"  ",null,"  ",null,"  ",null,{"$f":"IF(ISBLANK(M$45),\"  \",IF(ISBLANK(M$46),\" \",IF(ISBLANK(M50),\" \",IF(AG$4=1,ROUND((M50+M$47)/M$45*100,0),ROUND(M50/M$45*100,0)))))","v":"  "}]
[1.5,null,null,"  ",null,"  ",null,"  ",null,"  ",null,"  ",null,"  "]
[1,null,null,"  ",null,"  ",null,"  ",null,"  ",null,"  ",null,"  "]
[0.75,null,null,"  ",null,"  ",null,"  ",null,"  ",null,"  ",null,"  "]
[0.625,null,null,"  ",null,"  ",null,"  ",null,"  ",null,"  ",null,"  "]
[0.5,null,null,"  ",null,"  ",null,"  ",null,"  ",null,"  ",null,"  "]
[0.375,null,null,"  ",null,"  ",null,"  ",null,"  ",null,"  ",null,"  "]
[0.25,null,null,"  ",null,"  ",null,"  ",null,"  ",null,"  ",null,"  "]
[4,null,null,"  ",null,"  ",null,"  ",null,"  ",null,"  ",null,"  "]
[8,null,null,"  ",null,"  ",null,"  ",null,"  ",null,"  ",null,"  "]
[16,null,null,"  ",null,"  ",null,"  ",null,"  ",null,"  ",null,"  "]
[30,null,null,"  ",null,"  ",null,"  ",null,"  ",null,"  ",null,"  "]
[50,null,null,"  ",null,"  ",null,"  ",null,"  ",null,"  ",null,"  "]
[100,null,null,"  ",null,"  ",null,"  ",null,"  ",null,"  ",null,{"$f":"IF(ISBLANK(M$45),\"  \",IF(ISBLANK(M$46),\" \",IF(ISBLANK(M63),\" \",IF(AG$4=1,ROUND((M63+M$47)/M$45*100,0),ROUND(M63/M$45*100,0)))))","v":"  "}]
[200,null,null,{"$f":"IF(ISBLANK(C$45),\"  \",IF(ISBLANK(C$46),\" \",IF(ISBLANK(C64),\" \",IF(W$4=1,ROUND((C64+C$47)/C$45*100,2),ROUND(C64/C$45*100,2)))))","v":"  "},null,{"$f":"IF(ISBLANK(E$45),\"  \",IF(ISBLANK(E$46),\" \",IF(ISBLANK(E64),\" \",IF(Y$4=1,ROUND((E64+E$47)/E$45*100,2),ROUND(E64/E$45*100,2)))))","v":"  "},null,{"$f":"IF(ISBLANK(G$45),\"  \",IF(ISBLANK(G$46),\" \",IF(ISBLANK(G64),\" \",IF(AA$4=1,ROUND((G64+G$47)/G$45*100,2),ROUND(G64/G$45*100,2)))))","v":"  "},null,{"$f":"IF(ISBLANK(I$45),\"  \",IF(ISBLANK(I$46),\" \",IF(ISBLANK(I64),\" \",IF(AC$4=1,ROUND((I64+I$47)/I$45*100,2),ROUND(I64/I$45*100,2)))))","v":"  "},null,{"$f":"IF(ISBLANK(K$45),\"  \",IF(ISBLANK(K$46),\" \",IF(ISBLANK(K64),\" \",IF(AE$4=1,ROUND((K64+K$47)/K$45*100,2),ROUND(K64/K$45*100,2)))))","v":"  "},null,{"$f":"IF(ISBLANK(M$45),\"  \",IF(ISBLANK(M$46),\" \",IF(ISBLANK(M64),\" \",IF(AG$4=1,ROUND((M64+M$47)/M$45*100,2),ROUND(M64/M$45*100,2)))))","v":"  "}]
["2.30-3.15","FM",{"$f":"IF(ISBLANK(C45),\" \",IF(ISBLANK(C56),\" \",(600-SUM(D57:D63))/100))","v":" "},null,{"$f":"IF(ISBLANK(E45),\" \",IF(ISBLANK(E56),\" \",(600-SUM(F57:F63))/100))","v":" "},null,{"$f":"IF(ISBLANK(G45),\" \",IF(ISBLANK(G56),\" \",(600-SUM(H57:H63))/100))","v":" "},null,{"$f":"IF(ISBLANK(I45),\" \",IF(ISBLANK(I56),\" \",(600-SUM(J57:J63))/100))","v":" "},null,{"$f":"IF(ISBLANK(K45),\" \",IF(ISBLANK(K56),\" \",(600-SUM(L57:L63))/100))","v":" "},null,{"$f":"IF(ISBLANK(M45),\" \",IF(ISBLANK(M56),\" \",(600-SUM(N57:N63))/100))","v":" "}]
["St. Wt. Before Wash",null,null,"% Passing",null,"% Passing",null,"% Passing",null,"% Passing",null,"% Passing",null,"% Passing"]
["End Wt. After Wash",null,null,{"$f":"IF(ISBLANK(C66),\"\",IF(ISBLANK(C67),\"\",((C66-C67)/C66)*100))","v":""},null,{"$f":"IF(ISBLANK(E66),\"\",IF(ISBLANK(E67),\"\",((E66-E67)/E66)*100))","v":""},null,{"$f":"IF(ISBLANK(G66),\"\",IF(ISBLANK(G67),\"\",((G66-G67)/G66)*100))","v":""},null,{"$f":"IF(ISBLANK(I66),\"\",IF(ISBLANK(I67),\"\",((I66-I67)/I66)*100))","v":""},null,{"$f":"IF(ISBLANK(K66),\"\",IF(ISBLANK(K67),\"\",((K66-K67)/K66)*100))","v":""},null,{"$f":"IF(ISBLANK(M66),\"\",IF(ISBLANK(M67),\"\",((M66-M67)/M66)*100))","v":""}]
["Tested By"]
["Remarks"]
[]
[]
[]
[]
[null,null,{"$f":"MAX(C49:C64)","v":0},null,{"$f":"MAX(E49:E64)","v":0},null,{"$f":"MAX(G49:G64)","v":0},null,{"$f":"MAX(I49:I64)","v":0},null,{"$f":"MAX(K49:K64)","v":0},null,{"$f":"MAX(M49:M64)","v":0}]

{"sheet":"S6","index":5,"n_rows":74,"n_cols":23,"rows_kept":74,"cut":false,"hidden":true,"merged":[[7,0,7,13],[5,12,5,13],[42,4,42,5],[42,6,42,7],[42,0,42,1],[42,2,42,3],[44,0,44,1],[45,0,45,1],[4,10,4,11],[4,12,4,13],[33,0,33,1],[34,0,34,1],[34,2,34,3],[34,4,34,5],[34,6,34,7],[34,8,34,9],[34,10,34,11],[9,12,9,13],[10,12,10,13],[13,12,13,13],[14,0,14,1],[15,0,15,1],[17,0,17,1],[18,0,18,1],[1,12,1,13],[2,10,2,11],[2,12,2,13],[3,10,3,11],[3,12,3,13],[31,12,31,13],[31,2,31,3],[32,0,32,1],[29,0,29,1],[28,0,28,1],[27,0,27,1],[26,0,26,1],[0,8,3,9],[1,2,1,7],[2,2,2,7],[3,2,3,7],[4,0,4,1],[31,8,31,9],[31,10,31,11],[10,0,10,1],[12,0,12,1],[22,0,22,1],[9,0,9,1],[5,10,5,11],[0,0,3,1],[1,10,1,11],[11,0,11,1],[31,4,31,5],[31,6,31,7],[30,0,30,1],[5,3,5,8],[9,2,9,3],[9,4,9,5],[9,6,9,7],[9,8,9,9],[9,10,9,11],[10,2,10,3],[10,4,10,5],[10,6,10,7],[10,8,10,9],[10,10,10,11],[13,0,13,1],[13,2,13,3],[13,4,13,5],[13,6,13,7],[13,8,13,9],[13,10,13,11],[16,0,16,1],[19,0,19,1],[20,0,20,1],[21,0,21,1],[23,0,23,1],[24,0,24,1],[25,0,25,1],[34,12,34,13],[35,0,37,1],[35,2,37,3],[35,4,37,5],[35,6,37,7],[35,8,37,9],[35,10,37,11],[35,12,37,13],[43,0,43,1],[43,2,43,3],[43,4,43,5],[43,6,43,7],[43,8,43,9],[43,10,43,11],[43,12,43,13],[42,8,42,9],[42,10,42,11],[42,12,42,13],[46,0,46,1],[46,2,46,3],[46,4,46,5],[46,6,46,7],[46,8,46,9],[46,10,46,11],[46,12,46,13],[47,0,47,1],[48,0,48,1],[60,0,60,1],[61,0,61,1],[62,0,62,1],[63,0,63,1],[64,2,64,3],[64,4,64,5],[64,6,64,7],[49,0,49,1],[50,0,50,1],[51,0,51,1],[52,0,52,1],[53,0,53,1],[54,0,54,1],[55,0,55,1],[56,0,56,1],[57,0,57,1],[6,12,6,13],[6,10,6,11],[4,8,4,9],[68,0,70,1],[68,2,70,3],[68,4,70,5],[68,6,70,7],[68,8,70,9],[68,10,70,11],[68,12,70,13],[64,8,64,9],[64,10,64,11],[64,12,64,13],[65,0,65,1],[66,0,66,1],[67,0,67,1],[67,2,67,3],[67,4,67,5],[67,6,67,7],[67,8,67,9],[67,10,67,11],[67,12,67,13],[58,0,58,1],[59,0,59,1]]}
[null,null,null,null,null,null,null,null,null,null,null,null,null,null,null,null,null,null,{"$f":"'S1'!T1","v":1},1,null,"FM","Wash"]
[null,null,"COMMONWEALTH OF PENNSYLVANIA",null,null,null,null,null,null,null,"District",null,{"$f":"IF(ISBLANK('S1'!M2),\" \",'S1'!M2)","v":" "}]
[null,null,"DEPARTMENT OF TRANSPORTATION",null,null,null,null,null,null,null,"Plant Code",null,{"$f":"IF(ISBLANK('S1'!M3),\" \",'S1'!M3)","v":" "}]
[null,null,null,null,null,null,null,null,null,null,"Agg Size",null,{"$f":"IF(ISBLANK('S1'!M4),\" \",'S1'!M4)","v":" "},null,null,null,null,null,null,null,null,{"$f":"IF(M5=\"Yes\",1,2)","v":2},{"$f":"IF(M6=\"Yes\",1,2)","v":2}]
[{"$f":"'S1'!A6","v":"Aggregate 2023"},null,null,null,null,null,null,null,{"$f":"IF(T1=1,\"Pounds\",\"Grams\")","v":"Pounds"},null,"Calculate FM?",null,{"$f":"IF(ISBLANK('S1'!M5),\" \",'S1'!M5)","v":"No"}]
[null,null,null,null,null,null,null,null,null,null,"Washed Gradation?",null,{"$f":"IF(ISBLANK('S1'!M6),\" \",'S1'!M6)","v":"No"}]
[null,null,null,null,null,null,null,null,null,null,"Aggregate Identifier",null,{"$f":"IF(ISBLANK('S1'!M7),\" \",'S1'!M7)","v":" "}]
["Material Test Results "]
[]
["Sample No.",null,61,null,62,null,63,null,64,null,65,null,66]
["Date"]
[{"$f":"IF(M6=\"Yes\",\"St. Wt. Before Wash\",\"Starting. Wt.\")","v":"Starting. Wt."},null,null,"% Loss",null,"% Loss",null,"% Loss",null,"% Loss",null,"% Loss",null,"% Loss"]
[{"$f":"IF(M6=\"Yes\",\"Dry Wt. After Wash\",\"Ending Wt.\")","v":"Ending Wt."},null,null,{"$f":"IF(ISBLANK(C13),\" \",IF(ISBLANK(C41),\" \",IF($W$4=1,(C13-C41)/C13*100,((C12-C13)/C12)*100)))","v":" "},null,{"$f":"IF(ISBLANK(E13),\" \",IF(ISBLANK(E41),\" \",IF($W$4=1,(E13-E41)/E13*100,((E12-E13)/E12)*100)))","v":" "},null,{"$f":"IF(ISBLANK(G13),\" \",IF(ISBLANK(G41),\" \",IF($W$4=1,(G13-G41)/G13*100,((G12-G13)/G12)*100)))","v":" "},null,{"$f":"IF(ISBLANK(I13),\" \",IF(ISBLANK(I41),\" \",IF($W$4=1,(I13-I41)/I13*100,((I12-I13)/I12)*100)))","v":" "},null,{"$f":"IF(ISBLANK(K13),\" \",IF(ISBLANK(K41),\" \",IF($W$4=1,(K13-K41)/K13*100,((K12-K13)/K12)*100)))","v":" "},null,{"$f":"IF(ISBLANK(M13),\" \",IF(ISBLANK(M41),\" \",IF($W$4=1,(M13-M41)/M13*100,((M12-M13)/M12)*100)))","v":" "}]
["Wt. Loss",null,{"$f":"IF(ISBLANK(C12),\" \",IF(ISBLANK(C13),\" \",C12-C13))","v":" "},null,{"$f":"IF(ISBLANK(E12),\" \",IF(ISBLANK(E13),\" \",E12-E13))","v":" "},null,{"$f":"IF(ISBLANK(G12),\" \",IF(ISBLANK(G13),\" \",G12-G13))","v":" "},null,{"$f":"IF(ISBLANK(I12),\" \",IF(ISBLANK(I13),\" \",I12-I13))","v":" "},null,{"$f":"IF(ISBLANK(K12),\" \",IF(ISBLANK(K13),\" \",K12-K13))","v":" "},null,{"$f":"IF(ISBLANK(M12),\" \",IF(ISBLANK(M13),\" \",M12-M13))","v":" "}]
[null,null,"Wt","% Passing","Wt","% Passing","Wt","% Passing","Wt","% Passing","Wt","% Passing","Wt","% Passing"]
[2.5,null,null,{"$f":"IF(ISBLANK(C$12),\"  \",IF(ISBLANK(C$13),\" \",IF(ISBLANK(C16),\" \",IF($W$4=1,ROUND((C16+C$14)/C$12*100,0),ROUND(C16/C$12*100,0)))))","v":"  "},null,{"$f":"IF(ISBLANK(E$12),\"  \",IF(ISBLANK(E$13),\" \",IF(ISBLANK(E16),\" \",IF($W$4=1,ROUND((E16+E$14)/E$12*100,0),ROUND(E16/E$12*100,0)))))","v":"  "},null,{"$f":"IF(ISBLANK(G$12),\"  \",IF(ISBLANK(G$13),\" \",IF(ISBLANK(G16),\" \",IF($W$4=1,ROUND((G16+G$14)/G$12*100,0),ROUND(G16/G$12*100,0)))))","v":"  "},null,{"$f":"IF(ISBLANK(I$12),\"  \",IF(ISBLANK(I$13),\" \",IF(ISBLANK(I16),\" \",IF($W$4=1,ROUND((I16+I$14)/I$12*100,0),ROUND(I16/I$12*100,0)))))","v":"  "},null,{"$f":"IF(ISBLANK(K$12),\"  \",IF(ISBLANK(K$13),\" \",IF(ISBLANK(K16),\" \",IF($W$4=1,ROUND((K16+K$14)/K$12*100,0),ROUND(K16/K$12*100,0)))))","v":"  "},null,{"$f":"IF(ISBLANK(M$12),\"  \",IF(ISBLANK(M$13),\" \",IF(ISBLANK(M16),\" \",IF($W$4=1,ROUND((M16+M$14)/M$12*100,0),ROUND(M16/M$12*100,0)))))","v":"  "}]
[2,null,null,{"$f":"IF(ISBLANK(C$12),\"  \",IF(ISBLANK(C$13),\" \",IF(ISBLANK(C17),\" \",IF(W$4=1,ROUND((C17+C$14)/C$12*100,0),ROUND(C17/C$12*100,0)))))","v":"  "},null,{"$f":"IF(ISBLANK(E$12),\"  \",IF(ISBLANK(E$13),\" \",IF(ISBLANK(E17),\" \",IF($W$4=1,ROUND((E17+E$14)/E$12*100,0),ROUND(E17/E$12*100,0)))))","v":"  "},null,{"$f":"IF(ISBLANK(G$12),\"  \",IF(ISBLANK(G$13),\" \",IF(ISBLANK(G17),\" \",IF($W$4=1,ROUND((G17+G$14)/G$12*100,0),ROUND(G17/G$12*100,0)))))","v":"  "},null,{"$f":"IF(ISBLANK(I$12),\"  \",IF(ISBLANK(I$13),\" \",IF(ISBLANK(I17),\" \",IF($W$4=1,ROUND((I17+I$14)/I$12*100,0),ROUND(I17/I$12*100,0)))))","v":"  "},null,{"$f":"IF(ISBLANK(K$12),\"  \",IF(ISBLANK(K$13),\" \",IF(ISBLANK(K17),\" \",IF($W$4=1,ROUND((K17+K$14)/K$12*100,0),ROUND(K17/K$12*100,0)))))","v":"  "},null,{"$f":"IF(ISBLANK(M$12),\"  \",IF(ISBLANK(M$13),\" \",IF(ISBLANK(M17),\" \",IF($W$4=1,ROUND((M17+M$14)/M$12*100,0),ROUND(M17/M$12*100,0)))))","v":"  "}]
[1.5,null,null,"  ",null,"  ",null,"  ",null,"  ",null,"  ",null,"  "]
[1,null,null,"  ",null,"  ",null,"  ",null,"  ",null,"  ",null,"  "]
[0.75,null,null,"  ",null,"  ",null,"  ",null,"  ",null,"  ",null,"  "]
[0.625,null,null,"  ",null,"  ",null,"  ",null,"  ",null,"  ",null,"  "]
[0.5,null,null,"  ",null,"  ",null,"  ",null,"  ",null,"  ",null,"  "]
[0.375,null,null,{"$f":"IF(ISBLANK(C$12),\"  \",IF(ISBLANK(C$13),\" \",IF(ISBLANK(C23),\" \",IF(W$4=1,ROUND((C23+C$14)/C$12*100,0),ROUND(C23/C$12*100,0)))))","v":"  "},null,"  ",null,"  ",null,"  ",null,"  ",null,"  "]
[0.25,null,null,"  ",null,"  ",null,"  ",null,"  ",null,"  ",null,"  "]
[4,null,null,"  ",null,"  ",null,"  ",null,"  ",null,"  ",null,"  "]
[8,null,null,"  ",null,"  ",null,"  ",null,"  ",null,"  ",null,"  "]
[16,null,null,"  ",null,"  ",null,"  ",null,"  ",null,"  ",null,"  "]
[30,null,null,"  ",null,"  ",null,"  ",null,"  ",null,"  ",null,"  "]
[50,null,null,"  ",null,"  ",null,"  ",null,"  ",null,"  ",null,"  "]
[100,null,null,{"$f":"IF(ISBLANK(C$12),\"  \",IF(ISBLANK(C$13),\" \",IF(ISBLANK(C30),\" \",IF(W$4=1,ROUND((C30+C$14)/C$12*100,0),ROUND(C30/C$12*100,0)))))","v":"  "},null,"  ",null,"  ",null,"  ",null,"  ",null,"  "]
[200,null,null,{"$f":"IF(ISBLANK(C$12),\"  \",IF(ISBLANK(C$13),\" \",IF(ISBLANK(C31),\" \",IF(W$4=1,ROUND((C31+C$14)/C$12*100,2),ROUND(C31/C$12*100,1)))))","v":"  "},null,{"$f":"IF(ISBLANK(E$12),\"  \",IF(ISBLANK(E$13),\" \",IF(ISBLANK(E31),\" \",IF($W$4=1,ROUND((E31+E$14)/E$12*100,2),ROUND(E31/E$12*100,2)))))","v":"  "},null,{"$f":"IF(ISBLANK(G$12),\"  \",IF(ISBLANK(G$13),\" \",IF(ISBLANK(G31),\" \",IF($W$4=1,ROUND((G31+G$14)/G$12*100,2),ROUND(G31/G$12*100,2)))))","v":"  "},null,{"$f":"IF(ISBLANK(I$12),\"  \",IF(ISBLANK(I$13),\" \",IF(ISBLANK(I31),\" \",IF($W$4=1,ROUND((I31+I$14)/I$12*100,2),ROUND(I31/I$12*100,2)))))","v":"  "},null,{"$f":"IF(ISBLANK(K$12),\"  \",IF(ISBLANK(K$13),\" \",IF(ISBLANK(K31),\" \",IF($W$4=1,ROUND((K31+K$14)/K$12*100,2),ROUND(K31/K$12*100,2)))))","v":"  "},null,{"$f":"IF(ISBLANK(M$12),\"  \",IF(ISBLANK(M$13),\" \",IF(ISBLANK(M31),\" \",IF($W$4=1,ROUND((M31+M$14)/M$12*100,2),ROUND(M31/M$12*100,2)))))","v":"  "}]
["2.30-3.15","FM",{"$f":"IF(ISBLANK(C12),\" \",IF(ISBLANK(C23),\" \",(600-SUM(D24:D30))/100))","v":" "},null,{"$f":"IF(ISBLANK(E12),\" \",IF(ISBLANK(E23),\" \",(600-SUM(F24:F30))/100))","v":" "},null,{"$f":"IF(ISBLANK(G12),\" \",IF(ISBLANK(G23),\" \",(600-SUM(H24:H30))/100))","v":" "},null,{"$f":"IF(ISBLANK(I12),\" \",IF(ISBLANK(I23),\" \",(600-SUM(J24:J30))/100))","v":" "},null,{"$f":"IF(ISBLANK(K12),\" \",IF(ISBLANK(K23),\" \",(600-SUM(L24:L30))/100))","v":" "},null,{"$f":"IF(ISBLANK(M12),\" \",IF(ISBLANK(M23),\" \",(600-SUM(N24:N30))/100))","v":" "}]
["St. Wt. Before Wash",null,null,"% Passing",null,"% Passing",null,"% Passing",null,"% Passing",null,"% Passing",null,"% Passing"]
["End Wt. After Wash",null,null,{"$f":"IF(ISBLANK(C33),\"\",IF(ISBLANK(C34),\"\",((C33-C34)/C33)*100))","v":""},null,{"$f":"IF(ISBLANK(E33),\"\",IF(ISBLANK(E34),\"\",((E33-E34)/E33)*100))","v":""},null,{"$f":"IF(ISBLANK(G33),\"\",IF(ISBLANK(G34),\"\",((G33-G34)/G33)*100))","v":""},null,{"$f":"IF(ISBLANK(I33),\"\",IF(ISBLANK(I34),\"\",((I33-I34)/I33)*100))","v":""},null,{"$f":"IF(ISBLANK(K33),\"\",IF(ISBLANK(K34),\"\",((K33-K34)/K33)*100))","v":""},null,{"$f":"IF(ISBLANK(M33),\"\",IF(ISBLANK(M34),\"\",((M33-M34)/M33)*100))","v":""}]
["Tested By"]
["Remarks"]
[]
[]
[]
[]
[null,null,{"$f":"MAX(C16:C31)","v":0},null,{"$f":"MAX(E16:E31)","v":0},null,{"$f":"MAX(G16:G31)","v":0},null,{"$f":"MAX(I16:I31)","v":0},null,{"$f":"MAX(K16:K31)","v":0},null,{"$f":"MAX(M16:M31)","v":0}]
[]
["Sample No.",null,67,null,68,null,69,null,70,null,71,null,72]
["Date"]
[{"$f":"IF(M6=\"Yes\",\"St. Wt. Before Wash\",\"Starting. Wt.\")","v":"Starting. Wt."},null,null,"% Loss",null,"% Loss",null,"% Loss",null,"% Loss",null,"% Loss",null,"% Loss"]
[{"$f":"IF(M6=\"Yes\",\"Dry Wt. After Wash\",\"Ending Wt.\")","v":"Ending Wt."},null,null,{"$f":"IF(ISBLANK(C46),\" \",IF(ISBLANK(C74),\" \",IF($W$4=1,(C46-C74)/C46*100,((C45-C46)/C45)*100)))","v":" "},null,{"$f":"IF(ISBLANK(E46),\" \",IF(ISBLANK(E74),\" \",IF($W$4=1,(E46-E74)/E46*100,((E45-E46)/E45)*100)))","v":" "},null,{"$f":"IF(ISBLANK(G46),\" \",IF(ISBLANK(G74),\" \",IF($W$4=1,(G46-G74)/G46*100,((G45-G46)/G45)*100)))","v":" "},null,{"$f":"IF(ISBLANK(I46),\" \",IF(ISBLANK(I74),\" \",IF($W$4=1,(I46-I74)/I46*100,((I45-I46)/I45)*100)))","v":" "},null,{"$f":"IF(ISBLANK(K46),\" \",IF(ISBLANK(K74),\" \",IF($W$4=1,(K46-K74)/K46*100,((K45-K46)/K45)*100)))","v":" "},null,{"$f":"IF(ISBLANK(M46),\" \",IF(ISBLANK(M74),\" \",IF($W$4=1,(M46-M74)/M46*100,((M45-M46)/M45)*100)))","v":" "}]
["Wt. Loss",null,{"$f":"IF(ISBLANK(C45),\" \",IF(ISBLANK(C46),\" \",C45-C46))","v":" "},null,{"$f":"IF(ISBLANK(E45),\" \",IF(ISBLANK(E46),\" \",E45-E46))","v":" "},null,{"$f":"IF(ISBLANK(G45),\" \",IF(ISBLANK(G46),\" \",G45-G46))","v":" "},null,{"$f":"IF(ISBLANK(I45),\" \",IF(ISBLANK(I46),\" \",I45-I46))","v":" "},null,{"$f":"IF(ISBLANK(K45),\" \",IF(ISBLANK(K46),\" \",K45-K46))","v":" "},null,{"$f":"IF(ISBLANK(M45),\" \",IF(ISBLANK(M46),\" \",M45-M46))","v":" "}]
[null,null,"Wt","% Passing","Wt","% Passing","Wt","% Passing","Wt","% Passing","Wt","% Passing","Wt","% Passing"]
[2.5,null,null,{"$f":"IF(ISBLANK(C$45),\"  \",IF(ISBLANK(C$46),\" \",IF(ISBLANK(C49),\" \",IF(W$4=1,ROUND((C49+C$47)/C$45*100,0),ROUND(C49/C$45*100,0)))))","v":"  "},null,{"$f":"IF(ISBLANK(E$45),\"  \",IF(ISBLANK(E$46),\" \",IF(ISBLANK(E49),\" \",IF(Y$4=1,ROUND((E49+E$47)/E$45*100,0),ROUND(E49/E$45*100,0)))))","v":"  "},null,{"$f":"IF(ISBLANK(G$45),\"  \",IF(ISBLANK(G$46),\" \",IF(ISBLANK(G49),\" \",IF(AA$4=1,ROUND((G49+G$47)/G$45*100,0),ROUND(G49/G$45*100,0)))))","v":"  "},null,{"$f":"IF(ISBLANK(I$45),\"  \",IF(ISBLANK(I$46),\" \",IF(ISBLANK(I49),\" \",IF(AC$4=1,ROUND((I49+I$47)/I$45*100,0),ROUND(I49/I$45*100,0)))))","v":"  "},null,{"$f":"IF(ISBLANK(K$45),\"  \",IF(ISBLANK(K$46),\" \",IF(ISBLANK(K49),\" \",IF(AE$4=1,ROUND((K49+K$47)/K$45*100,0),ROUND(K49/K$45*100,0)))))","v":"  "},null,{"$f":"IF(ISBLANK(M$45),\"  \",IF(ISBLANK(M$46),\" \",IF(ISBLANK(M49),\" \",IF(AG$4=1,ROUND((M49+M$47)/M$45*100,0),ROUND(M49/M$45*100,0)))))","v":"  "}]
[2,null,null,{"$f":"IF(ISBLANK(C$45),\"  \",IF(ISBLANK(C$46),\" \",IF(ISBLANK(C50),\" \",IF(W$4=1,ROUND((C50+C$47)/C$45*100,0),ROUND(C50/C$45*100,0)))))","v":"  "},null,"  ",null,"  ",null,"  ",null,"  ",null,{"$f":"IF(ISBLANK(M$45),\"  \",IF(ISBLANK(M$46),\" \",IF(ISBLANK(M50),\" \",IF(AG$4=1,ROUND((M50+M$47)/M$45*100,0),ROUND(M50/M$45*100,0)))))","v":"  "}]
[1.5,null,null,"  ",null,"  ",null,"  ",null,"  ",null,"  ",null,"  "]
[1,null,null,"  ",null,"  ",null,"  ",null,"  ",null,"  ",null,"  "]
[0.75,null,null,"  ",null,"  ",null,"  ",null,"  ",null,"  ",null,"  "]
[0.625,null,null,"  ",null,"  ",null,"  ",null,"  ",null,"  ",null,"  "]
[0.5,null,null,"  ",null,"  ",null,"  ",null,"  ",null,"  ",null,"  "]
[0.375,null,null,"  ",null,"  ",null,"  ",null,"  ",null,"  ",null,"  "]
[0.25,null,null,"  ",null,"  ",null,"  ",null,"  ",null,"  ",null,"  "]
[4,null,null,"  ",null,"  ",null,"  ",null,"  ",null,"  ",null,"  "]
[8,null,null,"  ",null,"  ",null,"  ",null,"  ",null,"  ",null,"  "]
[16,null,null,"  ",null,"  ",null,"  ",null,"  ",null,"  ",null,"  "]
[30,null,null,"  ",null,"  ",null,"  ",null,"  ",null,"  ",null,"  "]
[50,null,null,"  ",null,"  ",null,"  ",null,"  ",null,"  ",null,"  "]
[100,null,null,"  ",null,"  ",null,"  ",null,"  ",null,"  ",null,{"$f":"IF(ISBLANK(M$45),\"  \",IF(ISBLANK(M$46),\" \",IF(ISBLANK(M63),\" \",IF(AG$4=1,ROUND((M63+M$47)/M$45*100,0),ROUND(M63/M$45*100,0)))))","v":"  "}]
[200,null,null,{"$f":"IF(ISBLANK(C$45),\"  \",IF(ISBLANK(C$46),\" \",IF(ISBLANK(C64),\" \",IF(W$4=1,ROUND((C64+C$47)/C$45*100,2),ROUND(C64/C$45*100,2)))))","v":"  "},null,{"$f":"IF(ISBLANK(E$45),\"  \",IF(ISBLANK(E$46),\" \",IF(ISBLANK(E64),\" \",IF(Y$4=1,ROUND((E64+E$47)/E$45*100,2),ROUND(E64/E$45*100,2)))))","v":"  "},null,{"$f":"IF(ISBLANK(G$45),\"  \",IF(ISBLANK(G$46),\" \",IF(ISBLANK(G64),\" \",IF(AA$4=1,ROUND((G64+G$47)/G$45*100,2),ROUND(G64/G$45*100,2)))))","v":"  "},null,{"$f":"IF(ISBLANK(I$45),\"  \",IF(ISBLANK(I$46),\" \",IF(ISBLANK(I64),\" \",IF(AC$4=1,ROUND((I64+I$47)/I$45*100,2),ROUND(I64/I$45*100,2)))))","v":"  "},null,{"$f":"IF(ISBLANK(K$45),\"  \",IF(ISBLANK(K$46),\" \",IF(ISBLANK(K64),\" \",IF(AE$4=1,ROUND((K64+K$47)/K$45*100,2),ROUND(K64/K$45*100,2)))))","v":"  "},null,{"$f":"IF(ISBLANK(M$45),\"  \",IF(ISBLANK(M$46),\" \",IF(ISBLANK(M64),\" \",IF(AG$4=1,ROUND((M64+M$47)/M$45*100,2),ROUND(M64/M$45*100,2)))))","v":"  "}]
["2.30-3.15","FM",{"$f":"IF(ISBLANK(C45),\" \",IF(ISBLANK(C56),\" \",(600-SUM(D57:D63))/100))","v":" "},null,{"$f":"IF(ISBLANK(E45),\" \",IF(ISBLANK(E56),\" \",(600-SUM(F57:F63))/100))","v":" "},null,{"$f":"IF(ISBLANK(G45),\" \",IF(ISBLANK(G56),\" \",(600-SUM(H57:H63))/100))","v":" "},null,{"$f":"IF(ISBLANK(I45),\" \",IF(ISBLANK(I56),\" \",(600-SUM(J57:J63))/100))","v":" "},null,{"$f":"IF(ISBLANK(K45),\" \",IF(ISBLANK(K56),\" \",(600-SUM(L57:L63))/100))","v":" "},null,{"$f":"IF(ISBLANK(M45),\" \",IF(ISBLANK(M56),\" \",(600-SUM(N57:N63))/100))","v":" "}]
["St. Wt. Before Wash",null,null,"% Passing",null,"% Passing",null,"% Passing",null,"% Passing",null,"% Passing",null,"% Passing"]
["End Wt. After Wash",null,null,{"$f":"IF(ISBLANK(C66),\"\",IF(ISBLANK(C67),\"\",((C66-C67)/C66)*100))","v":""},null,{"$f":"IF(ISBLANK(E66),\"\",IF(ISBLANK(E67),\"\",((E66-E67)/E66)*100))","v":""},null,{"$f":"IF(ISBLANK(G66),\"\",IF(ISBLANK(G67),\"\",((G66-G67)/G66)*100))","v":""},null,{"$f":"IF(ISBLANK(I66),\"\",IF(ISBLANK(I67),\"\",((I66-I67)/I66)*100))","v":""},null,{"$f":"IF(ISBLANK(K66),\"\",IF(ISBLANK(K67),\"\",((K66-K67)/K66)*100))","v":""},null,{"$f":"IF(ISBLANK(M66),\"\",IF(ISBLANK(M67),\"\",((M66-M67)/M66)*100))","v":""}]
["Tested By"]
["Remarks"]
[]
[]
[]
[]
[null,null,{"$f":"MAX(C49:C64)","v":0},null,{"$f":"MAX(E49:E64)","v":0},null,{"$f":"MAX(G49:G64)","v":0},null,{"$f":"MAX(I49:I64)","v":0},null,{"$f":"MAX(K49:K64)","v":0},null,{"$f":"MAX(M49:M64)","v":0}]

{"sheet":"S7","index":6,"n_rows":74,"n_cols":23,"rows_kept":74,"cut":false,"hidden":true,"merged":[[7,0,7,13],[5,12,5,13],[42,4,42,5],[42,6,42,7],[42,0,42,1],[42,2,42,3],[44,0,44,1],[45,0,45,1],[4,10,4,11],[4,12,4,13],[33,0,33,1],[34,0,34,1],[34,2,34,3],[34,4,34,5],[34,6,34,7],[34,8,34,9],[34,10,34,11],[9,12,9,13],[10,12,10,13],[13,12,13,13],[14,0,14,1],[15,0,15,1],[17,0,17,1],[18,0,18,1],[1,12,1,13],[2,10,2,11],[2,12,2,13],[3,10,3,11],[3,12,3,13],[31,12,31,13],[31,2,31,3],[32,0,32,1],[29,0,29,1],[28,0,28,1],[27,0,27,1],[26,0,26,1],[0,8,3,9],[1,2,1,7],[2,2,2,7],[3,2,3,7],[4,0,4,1],[31,8,31,9],[31,10,31,11],[10,0,10,1],[12,0,12,1],[22,0,22,1],[9,0,9,1],[5,10,5,11],[0,0,3,1],[1,10,1,11],[11,0,11,1],[31,4,31,5],[31,6,31,7],[30,0,30,1],[5,3,5,8],[9,2,9,3],[9,4,9,5],[9,6,9,7],[9,8,9,9],[9,10,9,11],[10,2,10,3],[10,4,10,5],[10,6,10,7],[10,8,10,9],[10,10,10,11],[13,0,13,1],[13,2,13,3],[13,4,13,5],[13,6,13,7],[13,8,13,9],[13,10,13,11],[16,0,16,1],[19,0,19,1],[20,0,20,1],[21,0,21,1],[23,0,23,1],[24,0,24,1],[25,0,25,1],[34,12,34,13],[35,0,37,1],[35,2,37,3],[35,4,37,5],[35,6,37,7],[35,8,37,9],[35,10,37,11],[35,12,37,13],[43,0,43,1],[43,2,43,3],[43,4,43,5],[43,6,43,7],[43,8,43,9],[43,10,43,11],[43,12,43,13],[42,8,42,9],[42,10,42,11],[42,12,42,13],[46,0,46,1],[46,2,46,3],[46,4,46,5],[46,6,46,7],[46,8,46,9],[46,10,46,11],[46,12,46,13],[47,0,47,1],[48,0,48,1],[60,0,60,1],[61,0,61,1],[62,0,62,1],[63,0,63,1],[64,2,64,3],[64,4,64,5],[64,6,64,7],[49,0,49,1],[50,0,50,1],[51,0,51,1],[52,0,52,1],[53,0,53,1],[54,0,54,1],[55,0,55,1],[56,0,56,1],[57,0,57,1],[6,12,6,13],[6,10,6,11],[4,8,4,9],[68,0,70,1],[68,2,70,3],[68,4,70,5],[68,6,70,7],[68,8,70,9],[68,10,70,11],[68,12,70,13],[64,8,64,9],[64,10,64,11],[64,12,64,13],[65,0,65,1],[66,0,66,1],[67,0,67,1],[67,2,67,3],[67,4,67,5],[67,6,67,7],[67,8,67,9],[67,10,67,11],[67,12,67,13],[58,0,58,1],[59,0,59,1]]}
[null,null,null,null,null,null,null,null,null,null,null,null,null,null,null,null,null,null,{"$f":"'S1'!T1","v":1},1,null,"FM","Wash"]
[null,null,"COMMONWEALTH OF PENNSYLVANIA",null,null,null,null,null,null,null,"District",null,{"$f":"IF(ISBLANK('S1'!M2),\" \",'S1'!M2)","v":" "}]
[null,null,"DEPARTMENT OF TRANSPORTATION",null,null,null,null,null,null,null,"Plant Code",null,{"$f":"IF(ISBLANK('S1'!M3),\" \",'S1'!M3)","v":" "}]
[null,null,null,null,null,null,null,null,null,null,"Agg Size",null,{"$f":"IF(ISBLANK('S1'!M4),\" \",'S1'!M4)","v":" "},null,null,null,null,null,null,null,null,{"$f":"IF(M5=\"Yes\",1,2)","v":2},{"$f":"IF(M6=\"Yes\",1,2)","v":2}]
[{"$f":"'S1'!A6","v":"Aggregate 2023"},null,null,null,null,null,null,null,{"$f":"IF(T1=1,\"Pounds\",\"Grams\")","v":"Pounds"},null,"Calculate FM?",null,{"$f":"IF(ISBLANK('S1'!M5),\" \",'S1'!M5)","v":"No"}]
[null,null,null,null,null,null,null,null,null,null,"Washed Gradation?",null,{"$f":"IF(ISBLANK('S1'!M6),\" \",'S1'!M6)","v":"No"}]
[null,null,null,null,null,null,null,null,null,null,"Aggregate Identifier",null,{"$f":"IF(ISBLANK('S1'!M7),\" \",'S1'!M7)","v":" "}]
["Material Test Results "]
[]
["Sample No.",null,73,null,74,null,75,null,76,null,77,null,78]
["Date"]
[{"$f":"IF(M6=\"Yes\",\"St. Wt. Before Wash\",\"Starting. Wt.\")","v":"Starting. Wt."},null,null,"% Loss",null,"% Loss",null,"% Loss",null,"% Loss",null,"% Loss",null,"% Loss"]
[{"$f":"IF(M6=\"Yes\",\"Dry Wt. After Wash\",\"Ending Wt.\")","v":"Ending Wt."},null,null,{"$f":"IF(ISBLANK(C13),\" \",IF(ISBLANK(C41),\" \",IF($W$4=1,(C13-C41)/C13*100,((C12-C13)/C12)*100)))","v":" "},null,{"$f":"IF(ISBLANK(E13),\" \",IF(ISBLANK(E41),\" \",IF($W$4=1,(E13-E41)/E13*100,((E12-E13)/E12)*100)))","v":" "},null,{"$f":"IF(ISBLANK(G13),\" \",IF(ISBLANK(G41),\" \",IF($W$4=1,(G13-G41)/G13*100,((G12-G13)/G12)*100)))","v":" "},null,{"$f":"IF(ISBLANK(I13),\" \",IF(ISBLANK(I41),\" \",IF($W$4=1,(I13-I41)/I13*100,((I12-I13)/I12)*100)))","v":" "},null,{"$f":"IF(ISBLANK(K13),\" \",IF(ISBLANK(K41),\" \",IF($W$4=1,(K13-K41)/K13*100,((K12-K13)/K12)*100)))","v":" "},null,{"$f":"IF(ISBLANK(M13),\" \",IF(ISBLANK(M41),\" \",IF($W$4=1,(M13-M41)/M13*100,((M12-M13)/M12)*100)))","v":" "}]
["Wt. Loss",null,{"$f":"IF(ISBLANK(C12),\" \",IF(ISBLANK(C13),\" \",C12-C13))","v":" "},null,{"$f":"IF(ISBLANK(E12),\" \",IF(ISBLANK(E13),\" \",E12-E13))","v":" "},null,{"$f":"IF(ISBLANK(G12),\" \",IF(ISBLANK(G13),\" \",G12-G13))","v":" "},null,{"$f":"IF(ISBLANK(I12),\" \",IF(ISBLANK(I13),\" \",I12-I13))","v":" "},null,{"$f":"IF(ISBLANK(K12),\" \",IF(ISBLANK(K13),\" \",K12-K13))","v":" "},null,{"$f":"IF(ISBLANK(M12),\" \",IF(ISBLANK(M13),\" \",M12-M13))","v":" "}]
[null,null,"Wt","% Passing","Wt","% Passing","Wt","% Passing","Wt","% Passing","Wt","% Passing","Wt","% Passing"]
[2.5,null,null,{"$f":"IF(ISBLANK(C$12),\"  \",IF(ISBLANK(C$13),\" \",IF(ISBLANK(C16),\" \",IF($W$4=1,ROUND((C16+C$14)/C$12*100,0),ROUND(C16/C$12*100,0)))))","v":"  "},null,{"$f":"IF(ISBLANK(E$12),\"  \",IF(ISBLANK(E$13),\" \",IF(ISBLANK(E16),\" \",IF($W$4=1,ROUND((E16+E$14)/E$12*100,0),ROUND(E16/E$12*100,0)))))","v":"  "},null,{"$f":"IF(ISBLANK(G$12),\"  \",IF(ISBLANK(G$13),\" \",IF(ISBLANK(G16),\" \",IF($W$4=1,ROUND((G16+G$14)/G$12*100,0),ROUND(G16/G$12*100,0)))))","v":"  "},null,{"$f":"IF(ISBLANK(I$12),\"  \",IF(ISBLANK(I$13),\" \",IF(ISBLANK(I16),\" \",IF($W$4=1,ROUND((I16+I$14)/I$12*100,0),ROUND(I16/I$12*100,0)))))","v":"  "},null,{"$f":"IF(ISBLANK(K$12),\"  \",IF(ISBLANK(K$13),\" \",IF(ISBLANK(K16),\" \",IF($W$4=1,ROUND((K16+K$14)/K$12*100,0),ROUND(K16/K$12*100,0)))))","v":"  "},null,{"$f":"IF(ISBLANK(M$12),\"  \",IF(ISBLANK(M$13),\" \",IF(ISBLANK(M16),\" \",IF($W$4=1,ROUND((M16+M$14)/M$12*100,0),ROUND(M16/M$12*100,0)))))","v":"  "}]
[2,null,null,{"$f":"IF(ISBLANK(C$12),\"  \",IF(ISBLANK(C$13),\" \",IF(ISBLANK(C17),\" \",IF(W$4=1,ROUND((C17+C$14)/C$12*100,0),ROUND(C17/C$12*100,0)))))","v":"  "},null,{"$f":"IF(ISBLANK(E$12),\"  \",IF(ISBLANK(E$13),\" \",IF(ISBLANK(E17),\" \",IF($W$4=1,ROUND((E17+E$14)/E$12*100,0),ROUND(E17/E$12*100,0)))))","v":"  "},null,{"$f":"IF(ISBLANK(G$12),\"  \",IF(ISBLANK(G$13),\" \",IF(ISBLANK(G17),\" \",IF($W$4=1,ROUND((G17+G$14)/G$12*100,0),ROUND(G17/G$12*100,0)))))","v":"  "},null,{"$f":"IF(ISBLANK(I$12),\"  \",IF(ISBLANK(I$13),\" \",IF(ISBLANK(I17),\" \",IF($W$4=1,ROUND((I17+I$14)/I$12*100,0),ROUND(I17/I$12*100,0)))))","v":"  "},null,{"$f":"IF(ISBLANK(K$12),\"  \",IF(ISBLANK(K$13),\" \",IF(ISBLANK(K17),\" \",IF($W$4=1,ROUND((K17+K$14)/K$12*100,0),ROUND(K17/K$12*100,0)))))","v":"  "},null,{"$f":"IF(ISBLANK(M$12),\"  \",IF(ISBLANK(M$13),\" \",IF(ISBLANK(M17),\" \",IF($W$4=1,ROUND((M17+M$14)/M$12*100,0),ROUND(M17/M$12*100,0)))))","v":"  "}]
[1.5,null,null,"  ",null,"  ",null,"  ",null,"  ",null,"  ",null,"  "]
[1,null,null,"  ",null,"  ",null,"  ",null,"  ",null,"  ",null,"  "]
[0.75,null,null,"  ",null,"  ",null,"  ",null,"  ",null,"  ",null,"  "]
[0.625,null,null,"  ",null,"  ",null,"  ",null,"  ",null,"  ",null,"  "]
[0.5,null,null,"  ",null,"  ",null,"  ",null,"  ",null,"  ",null,"  "]
[0.375,null,null,{"$f":"IF(ISBLANK(C$12),\"  \",IF(ISBLANK(C$13),\" \",IF(ISBLANK(C23),\" \",IF(W$4=1,ROUND((C23+C$14)/C$12*100,0),ROUND(C23/C$12*100,0)))))","v":"  "},null,"  ",null,"  ",null,"  ",null,"  ",null,"  "]
[0.25,null,null,"  ",null,"  ",null,"  ",null,"  ",null,"  ",null,"  "]
[4,null,null,"  ",null,"  ",null,"  ",null,"  ",null,"  ",null,"  "]
[8,null,null,"  ",null,"  ",null,"  ",null,"  ",null,"  ",null,"  "]
[16,null,null,"  ",null,"  ",null,"  ",null,"  ",null,"  ",null,"  "]
[30,null,null,"  ",null,"  ",null,"  ",null,"  ",null,"  ",null,"  "]
[50,null,null,"  ",null,"  ",null,"  ",null,"  ",null,"  ",null,"  "]
[100,null,null,{"$f":"IF(ISBLANK(C$12),\"  \",IF(ISBLANK(C$13),\" \",IF(ISBLANK(C30),\" \",IF(W$4=1,ROUND((C30+C$14)/C$12*100,0),ROUND(C30/C$12*100,0)))))","v":"  "},null,"  ",null,"  ",null,"  ",null,"  ",null,"  "]
[200,null,null,{"$f":"IF(ISBLANK(C$12),\"  \",IF(ISBLANK(C$13),\" \",IF(ISBLANK(C31),\" \",IF(W$4=1,ROUND((C31+C$14)/C$12*100,2),ROUND(C31/C$12*100,1)))))","v":"  "},null,{"$f":"IF(ISBLANK(E$12),\"  \",IF(ISBLANK(E$13),\" \",IF(ISBLANK(E31),\" \",IF($W$4=1,ROUND((E31+E$14)/E$12*100,2),ROUND(E31/E$12*100,2)))))","v":"  "},null,{"$f":"IF(ISBLANK(G$12),\"  \",IF(ISBLANK(G$13),\" \",IF(ISBLANK(G31),\" \",IF($W$4=1,ROUND((G31+G$14)/G$12*100,2),ROUND(G31/G$12*100,2)))))","v":"  "},null,{"$f":"IF(ISBLANK(I$12),\"  \",IF(ISBLANK(I$13),\" \",IF(ISBLANK(I31),\" \",IF($W$4=1,ROUND((I31+I$14)/I$12*100,2),ROUND(I31/I$12*100,2)))))","v":"  "},null,{"$f":"IF(ISBLANK(K$12),\"  \",IF(ISBLANK(K$13),\" \",IF(ISBLANK(K31),\" \",IF($W$4=1,ROUND((K31+K$14)/K$12*100,2),ROUND(K31/K$12*100,2)))))","v":"  "},null,{"$f":"IF(ISBLANK(M$12),\"  \",IF(ISBLANK(M$13),\" \",IF(ISBLANK(M31),\" \",IF($W$4=1,ROUND((M31+M$14)/M$12*100,2),ROUND(M31/M$12*100,2)))))","v":"  "}]
["2.30-3.15","FM",{"$f":"IF(ISBLANK(C12),\" \",IF(ISBLANK(C23),\" \",(600-SUM(D24:D30))/100))","v":" "},null,{"$f":"IF(ISBLANK(E12),\" \",IF(ISBLANK(E23),\" \",(600-SUM(F24:F30))/100))","v":" "},null,{"$f":"IF(ISBLANK(G12),\" \",IF(ISBLANK(G23),\" \",(600-SUM(H24:H30))/100))","v":" "},null,{"$f":"IF(ISBLANK(I12),\" \",IF(ISBLANK(I23),\" \",(600-SUM(J24:J30))/100))","v":" "},null,{"$f":"IF(ISBLANK(K12),\" \",IF(ISBLANK(K23),\" \",(600-SUM(L24:L30))/100))","v":" "},null,{"$f":"IF(ISBLANK(M12),\" \",IF(ISBLANK(M23),\" \",(600-SUM(N24:N30))/100))","v":" "}]
["St. Wt. Before Wash",null,null,"% Passing",null,"% Passing",null,"% Passing",null,"% Passing",null,"% Passing",null,"% Passing"]
["End Wt. After Wash",null,null,{"$f":"IF(ISBLANK(C33),\"\",IF(ISBLANK(C34),\"\",((C33-C34)/C33)*100))","v":""},null,{"$f":"IF(ISBLANK(E33),\"\",IF(ISBLANK(E34),\"\",((E33-E34)/E33)*100))","v":""},null,{"$f":"IF(ISBLANK(G33),\"\",IF(ISBLANK(G34),\"\",((G33-G34)/G33)*100))","v":""},null,{"$f":"IF(ISBLANK(I33),\"\",IF(ISBLANK(I34),\"\",((I33-I34)/I33)*100))","v":""},null,{"$f":"IF(ISBLANK(K33),\"\",IF(ISBLANK(K34),\"\",((K33-K34)/K33)*100))","v":""},null,{"$f":"IF(ISBLANK(M33),\"\",IF(ISBLANK(M34),\"\",((M33-M34)/M33)*100))","v":""}]
["Tested By"]
["Remarks"]
[]
[]
[]
[]
[null,null,{"$f":"MAX(C16:C31)","v":0},null,{"$f":"MAX(E16:E31)","v":0},null,{"$f":"MAX(G16:G31)","v":0},null,{"$f":"MAX(I16:I31)","v":0},null,{"$f":"MAX(K16:K31)","v":0},null,{"$f":"MAX(M16:M31)","v":0}]
[]
["Sample No.",null,79,null,80,null,81,null,82,null,83,null,84]
["Date"]
[{"$f":"IF(M6=\"Yes\",\"St. Wt. Before Wash\",\"Starting. Wt.\")","v":"Starting. Wt."},null,null,"% Loss",null,"% Loss",null,"% Loss",null,"% Loss",null,"% Loss",null,"% Loss"]
[{"$f":"IF(M6=\"Yes\",\"Dry Wt. After Wash\",\"Ending Wt.\")","v":"Ending Wt."},null,null,{"$f":"IF(ISBLANK(C46),\" \",IF(ISBLANK(C74),\" \",IF($W$4=1,(C46-C74)/C46*100,((C45-C46)/C45)*100)))","v":" "},null,{"$f":"IF(ISBLANK(E46),\" \",IF(ISBLANK(E74),\" \",IF($W$4=1,(E46-E74)/E46*100,((E45-E46)/E45)*100)))","v":" "},null,{"$f":"IF(ISBLANK(G46),\" \",IF(ISBLANK(G74),\" \",IF($W$4=1,(G46-G74)/G46*100,((G45-G46)/G45)*100)))","v":" "},null,{"$f":"IF(ISBLANK(I46),\" \",IF(ISBLANK(I74),\" \",IF($W$4=1,(I46-I74)/I46*100,((I45-I46)/I45)*100)))","v":" "},null,{"$f":"IF(ISBLANK(K46),\" \",IF(ISBLANK(K74),\" \",IF($W$4=1,(K46-K74)/K46*100,((K45-K46)/K45)*100)))","v":" "},null,{"$f":"IF(ISBLANK(M46),\" \",IF(ISBLANK(M74),\" \",IF($W$4=1,(M46-M74)/M46*100,((M45-M46)/M45)*100)))","v":" "}]
["Wt. Loss",null,{"$f":"IF(ISBLANK(C45),\" \",IF(ISBLANK(C46),\" \",C45-C46))","v":" "},null,{"$f":"IF(ISBLANK(E45),\" \",IF(ISBLANK(E46),\" \",E45-E46))","v":" "},null,{"$f":"IF(ISBLANK(G45),\" \",IF(ISBLANK(G46),\" \",G45-G46))","v":" "},null,{"$f":"IF(ISBLANK(I45),\" \",IF(ISBLANK(I46),\" \",I45-I46))","v":" "},null,{"$f":"IF(ISBLANK(K45),\" \",IF(ISBLANK(K46),\" \",K45-K46))","v":" "},null,{"$f":"IF(ISBLANK(M45),\" \",IF(ISBLANK(M46),\" \",M45-M46))","v":" "}]
[null,null,"Wt","% Passing","Wt","% Passing","Wt","% Passing","Wt","% Passing","Wt","% Passing","Wt","% Passing"]
[2.5,null,null,{"$f":"IF(ISBLANK(C$45),\"  \",IF(ISBLANK(C$46),\" \",IF(ISBLANK(C49),\" \",IF(W$4=1,ROUND((C49+C$47)/C$45*100,0),ROUND(C49/C$45*100,0)))))","v":"  "},null,{"$f":"IF(ISBLANK(E$45),\"  \",IF(ISBLANK(E$46),\" \",IF(ISBLANK(E49),\" \",IF(Y$4=1,ROUND((E49+E$47)/E$45*100,0),ROUND(E49/E$45*100,0)))))","v":"  "},null,{"$f":"IF(ISBLANK(G$45),\"  \",IF(ISBLANK(G$46),\" \",IF(ISBLANK(G49),\" \",IF(AA$4=1,ROUND((G49+G$47)/G$45*100,0),ROUND(G49/G$45*100,0)))))","v":"  "},null,{"$f":"IF(ISBLANK(I$45),\"  \",IF(ISBLANK(I$46),\" \",IF(ISBLANK(I49),\" \",IF(AC$4=1,ROUND((I49+I$47)/I$45*100,0),ROUND(I49/I$45*100,0)))))","v":"  "},null,{"$f":"IF(ISBLANK(K$45),\"  \",IF(ISBLANK(K$46),\" \",IF(ISBLANK(K49),\" \",IF(AE$4=1,ROUND((K49+K$47)/K$45*100,0),ROUND(K49/K$45*100,0)))))","v":"  "},null,{"$f":"IF(ISBLANK(M$45),\"  \",IF(ISBLANK(M$46),\" \",IF(ISBLANK(M49),\" \",IF(AG$4=1,ROUND((M49+M$47)/M$45*100,0),ROUND(M49/M$45*100,0)))))","v":"  "}]
[2,null,null,{"$f":"IF(ISBLANK(C$45),\"  \",IF(ISBLANK(C$46),\" \",IF(ISBLANK(C50),\" \",IF(W$4=1,ROUND((C50+C$47)/C$45*100,0),ROUND(C50/C$45*100,0)))))","v":"  "},null,"  ",null,"  ",null,"  ",null,"  ",null,{"$f":"IF(ISBLANK(M$45),\"  \",IF(ISBLANK(M$46),\" \",IF(ISBLANK(M50),\" \",IF(AG$4=1,ROUND((M50+M$47)/M$45*100,0),ROUND(M50/M$45*100,0)))))","v":"  "}]
[1.5,null,null,"  ",null,"  ",null,"  ",null,"  ",null,"  ",null,"  "]
[1,null,null,"  ",null,"  ",null,"  ",null,"  ",null,"  ",null,"  "]
[0.75,null,null,"  ",null,"  ",null,"  ",null,"  ",null,"  ",null,"  "]
[0.625,null,null,"  ",null,"  ",null,"  ",null,"  ",null,"  ",null,"  "]
[0.5,null,null,"  ",null,"  ",null,"  ",null,"  ",null,"  ",null,"  "]
[0.375,null,null,"  ",null,"  ",null,"  ",null,"  ",null,"  ",null,"  "]
[0.25,null,null,"  ",null,"  ",null,"  ",null,"  ",null,"  ",null,"  "]
[4,null,null,"  ",null,"  ",null,"  ",null,"  ",null,"  ",null,"  "]
[8,null,null,"  ",null,"  ",null,"  ",null,"  ",null,"  ",null,"  "]
[16,null,null,"  ",null,"  ",null,"  ",null,"  ",null,"  ",null,"  "]
[30,null,null,"  ",null,"  ",null,"  ",null,"  ",null,"  ",null,"  "]
[50,null,null,"  ",null,"  ",null,"  ",null,"  ",null,"  ",null,"  "]
[100,null,null,"  ",null,"  ",null,"  ",null,"  ",null,"  ",null,{"$f":"IF(ISBLANK(M$45),\"  \",IF(ISBLANK(M$46),\" \",IF(ISBLANK(M63),\" \",IF(AG$4=1,ROUND((M63+M$47)/M$45*100,0),ROUND(M63/M$45*100,0)))))","v":"  "}]
[200,null,null,{"$f":"IF(ISBLANK(C$45),\"  \",IF(ISBLANK(C$46),\" \",IF(ISBLANK(C64),\" \",IF(W$4=1,ROUND((C64+C$47)/C$45*100,2),ROUND(C64/C$45*100,2)))))","v":"  "},null,{"$f":"IF(ISBLANK(E$45),\"  \",IF(ISBLANK(E$46),\" \",IF(ISBLANK(E64),\" \",IF(Y$4=1,ROUND((E64+E$47)/E$45*100,2),ROUND(E64/E$45*100,2)))))","v":"  "},null,{"$f":"IF(ISBLANK(G$45),\"  \",IF(ISBLANK(G$46),\" \",IF(ISBLANK(G64),\" \",IF(AA$4=1,ROUND((G64+G$47)/G$45*100,2),ROUND(G64/G$45*100,2)))))","v":"  "},null,{"$f":"IF(ISBLANK(I$45),\"  \",IF(ISBLANK(I$46),\" \",IF(ISBLANK(I64),\" \",IF(AC$4=1,ROUND((I64+I$47)/I$45*100,2),ROUND(I64/I$45*100,2)))))","v":"  "},null,{"$f":"IF(ISBLANK(K$45),\"  \",IF(ISBLANK(K$46),\" \",IF(ISBLANK(K64),\" \",IF(AE$4=1,ROUND((K64+K$47)/K$45*100,2),ROUND(K64/K$45*100,2)))))","v":"  "},null,{"$f":"IF(ISBLANK(M$45),\"  \",IF(ISBLANK(M$46),\" \",IF(ISBLANK(M64),\" \",IF(AG$4=1,ROUND((M64+M$47)/M$45*100,2),ROUND(M64/M$45*100,2)))))","v":"  "}]
["2.30-3.15","FM",{"$f":"IF(ISBLANK(C45),\" \",IF(ISBLANK(C56),\" \",(600-SUM(D57:D63))/100))","v":" "},null,{"$f":"IF(ISBLANK(E45),\" \",IF(ISBLANK(E56),\" \",(600-SUM(F57:F63))/100))","v":" "},null,{"$f":"IF(ISBLANK(G45),\" \",IF(ISBLANK(G56),\" \",(600-SUM(H57:H63))/100))","v":" "},null,{"$f":"IF(ISBLANK(I45),\" \",IF(ISBLANK(I56),\" \",(600-SUM(J57:J63))/100))","v":" "},null,{"$f":"IF(ISBLANK(K45),\" \",IF(ISBLANK(K56),\" \",(600-SUM(L57:L63))/100))","v":" "},null,{"$f":"IF(ISBLANK(M45),\" \",IF(ISBLANK(M56),\" \",(600-SUM(N57:N63))/100))","v":" "}]
["St. Wt. Before Wash",null,null,"% Passing",null,"% Passing",null,"% Passing",null,"% Passing",null,"% Passing",null,"% Passing"]
["End Wt. After Wash",null,null,{"$f":"IF(ISBLANK(C66),\"\",IF(ISBLANK(C67),\"\",((C66-C67)/C66)*100))","v":""},null,{"$f":"IF(ISBLANK(E66),\"\",IF(ISBLANK(E67),\"\",((E66-E67)/E66)*100))","v":""},null,{"$f":"IF(ISBLANK(G66),\"\",IF(ISBLANK(G67),\"\",((G66-G67)/G66)*100))","v":""},null,{"$f":"IF(ISBLANK(I66),\"\",IF(ISBLANK(I67),\"\",((I66-I67)/I66)*100))","v":""},null,{"$f":"IF(ISBLANK(K66),\"\",IF(ISBLANK(K67),\"\",((K66-K67)/K66)*100))","v":""},null,{"$f":"IF(ISBLANK(M66),\"\",IF(ISBLANK(M67),\"\",((M66-M67)/M66)*100))","v":""}]
["Tested By"]
["Remarks"]
[]
[]
[]
[]
[null,null,{"$f":"MAX(C49:C64)","v":0},null,{"$f":"MAX(E49:E64)","v":0},null,{"$f":"MAX(G49:G64)","v":0},null,{"$f":"MAX(I49:I64)","v":0},null,{"$f":"MAX(K49:K64)","v":0},null,{"$f":"MAX(M49:M64)","v":0}]

{"sheet":"S8","index":7,"n_rows":74,"n_cols":23,"rows_kept":74,"cut":false,"hidden":true,"merged":[[7,0,7,13],[5,12,5,13],[42,4,42,5],[42,6,42,7],[42,0,42,1],[42,2,42,3],[44,0,44,1],[45,0,45,1],[4,10,4,11],[4,12,4,13],[33,0,33,1],[34,0,34,1],[34,2,34,3],[34,4,34,5],[34,6,34,7],[34,8,34,9],[34,10,34,11],[9,12,9,13],[10,12,10,13],[13,12,13,13],[14,0,14,1],[15,0,15,1],[17,0,17,1],[18,0,18,1],[1,12,1,13],[2,10,2,11],[2,12,2,13],[3,10,3,11],[3,12,3,13],[31,12,31,13],[31,2,31,3],[32,0,32,1],[29,0,29,1],[28,0,28,1],[27,0,27,1],[26,0,26,1],[0,8,3,9],[1,2,1,7],[2,2,2,7],[3,2,3,7],[4,0,4,1],[31,8,31,9],[31,10,31,11],[10,0,10,1],[12,0,12,1],[22,0,22,1],[9,0,9,1],[5,10,5,11],[0,0,3,1],[1,10,1,11],[11,0,11,1],[31,4,31,5],[31,6,31,7],[30,0,30,1],[5,3,5,8],[9,2,9,3],[9,4,9,5],[9,6,9,7],[9,8,9,9],[9,10,9,11],[10,2,10,3],[10,4,10,5],[10,6,10,7],[10,8,10,9],[10,10,10,11],[13,0,13,1],[13,2,13,3],[13,4,13,5],[13,6,13,7],[13,8,13,9],[13,10,13,11],[16,0,16,1],[19,0,19,1],[20,0,20,1],[21,0,21,1],[23,0,23,1],[24,0,24,1],[25,0,25,1],[34,12,34,13],[35,0,37,1],[35,2,37,3],[35,4,37,5],[35,6,37,7],[35,8,37,9],[35,10,37,11],[35,12,37,13],[43,0,43,1],[43,2,43,3],[43,4,43,5],[43,6,43,7],[43,8,43,9],[43,10,43,11],[43,12,43,13],[42,8,42,9],[42,10,42,11],[42,12,42,13],[46,0,46,1],[46,2,46,3],[46,4,46,5],[46,6,46,7],[46,8,46,9],[46,10,46,11],[46,12,46,13],[47,0,47,1],[48,0,48,1],[60,0,60,1],[61,0,61,1],[62,0,62,1],[63,0,63,1],[64,2,64,3],[64,4,64,5],[64,6,64,7],[49,0,49,1],[50,0,50,1],[51,0,51,1],[52,0,52,1],[53,0,53,1],[54,0,54,1],[55,0,55,1],[56,0,56,1],[57,0,57,1],[6,12,6,13],[6,10,6,11],[4,8,4,9],[68,0,70,1],[68,2,70,3],[68,4,70,5],[68,6,70,7],[68,8,70,9],[68,10,70,11],[68,12,70,13],[64,8,64,9],[64,10,64,11],[64,12,64,13],[65,0,65,1],[66,0,66,1],[67,0,67,1],[67,2,67,3],[67,4,67,5],[67,6,67,7],[67,8,67,9],[67,10,67,11],[67,12,67,13],[58,0,58,1],[59,0,59,1]]}
[null,null,null,null,null,null,null,null,null,null,null,null,null,null,null,null,null,null,{"$f":"'S1'!T1","v":1},1,null,"FM","Wash"]
[null,null,"COMMONWEALTH OF PENNSYLVANIA",null,null,null,null,null,null,null,"District",null,{"$f":"IF(ISBLANK('S1'!M2),\" \",'S1'!M2)","v":" "}]
[null,null,"DEPARTMENT OF TRANSPORTATION",null,null,null,null,null,null,null,"Plant Code",null,{"$f":"IF(ISBLANK('S1'!M3),\" \",'S1'!M3)","v":" "}]
[null,null,null,null,null,null,null,null,null,null,"Agg Size",null,{"$f":"IF(ISBLANK('S1'!M4),\" \",'S1'!M4)","v":" "},null,null,null,null,null,null,null,null,{"$f":"IF(M5=\"Yes\",1,2)","v":2},{"$f":"IF(M6=\"Yes\",1,2)","v":2}]
[{"$f":"'S1'!A6","v":"Aggregate 2023"},null,null,null,null,null,null,null,{"$f":"IF(T1=1,\"Pounds\",\"Grams\")","v":"Pounds"},null,"Calculate FM?",null,{"$f":"IF(ISBLANK('S1'!M5),\" \",'S1'!M5)","v":"No"}]
[null,null,null,null,null,null,null,null,null,null,"Washed Gradation?",null,{"$f":"IF(ISBLANK('S1'!M6),\" \",'S1'!M6)","v":"No"}]
[null,null,null,null,null,null,null,null,null,null,"Aggregate Identifier",null,{"$f":"IF(ISBLANK('S1'!M7),\" \",'S1'!M7)","v":" "}]
["Material Test Results "]
[]
["Sample No.",null,85,null,86,null,87,null,88,null,89,null,90]
["Date"]
[{"$f":"IF(M6=\"Yes\",\"St. Wt. Before Wash\",\"Starting. Wt.\")","v":"Starting. Wt."},null,null,"% Loss",null,"% Loss",null,"% Loss",null,"% Loss",null,"% Loss",null,"% Loss"]
[{"$f":"IF(M6=\"Yes\",\"Dry Wt. After Wash\",\"Ending Wt.\")","v":"Ending Wt."},null,null,{"$f":"IF(ISBLANK(C13),\" \",IF(ISBLANK(C41),\" \",IF($W$4=1,(C13-C41)/C13*100,((C12-C13)/C12)*100)))","v":" "},null,{"$f":"IF(ISBLANK(E13),\" \",IF(ISBLANK(E41),\" \",IF($W$4=1,(E13-E41)/E13*100,((E12-E13)/E12)*100)))","v":" "},null,{"$f":"IF(ISBLANK(G13),\" \",IF(ISBLANK(G41),\" \",IF($W$4=1,(G13-G41)/G13*100,((G12-G13)/G12)*100)))","v":" "},null,{"$f":"IF(ISBLANK(I13),\" \",IF(ISBLANK(I41),\" \",IF($W$4=1,(I13-I41)/I13*100,((I12-I13)/I12)*100)))","v":" "},null,{"$f":"IF(ISBLANK(K13),\" \",IF(ISBLANK(K41),\" \",IF($W$4=1,(K13-K41)/K13*100,((K12-K13)/K12)*100)))","v":" "},null,{"$f":"IF(ISBLANK(M13),\" \",IF(ISBLANK(M41),\" \",IF($W$4=1,(M13-M41)/M13*100,((M12-M13)/M12)*100)))","v":" "}]
["Wt. Loss",null,{"$f":"IF(ISBLANK(C12),\" \",IF(ISBLANK(C13),\" \",C12-C13))","v":" "},null,{"$f":"IF(ISBLANK(E12),\" \",IF(ISBLANK(E13),\" \",E12-E13))","v":" "},null,{"$f":"IF(ISBLANK(G12),\" \",IF(ISBLANK(G13),\" \",G12-G13))","v":" "},null,{"$f":"IF(ISBLANK(I12),\" \",IF(ISBLANK(I13),\" \",I12-I13))","v":" "},null,{"$f":"IF(ISBLANK(K12),\" \",IF(ISBLANK(K13),\" \",K12-K13))","v":" "},null,{"$f":"IF(ISBLANK(M12),\" \",IF(ISBLANK(M13),\" \",M12-M13))","v":" "}]
[null,null,"Wt","% Passing","Wt","% Passing","Wt","% Passing","Wt","% Passing","Wt","% Passing","Wt","% Passing"]
[2.5,null,null,{"$f":"IF(ISBLANK(C$12),\"  \",IF(ISBLANK(C$13),\" \",IF(ISBLANK(C16),\" \",IF($W$4=1,ROUND((C16+C$14)/C$12*100,0),ROUND(C16/C$12*100,0)))))","v":"  "},null,{"$f":"IF(ISBLANK(E$12),\"  \",IF(ISBLANK(E$13),\" \",IF(ISBLANK(E16),\" \",IF($W$4=1,ROUND((E16+E$14)/E$12*100,0),ROUND(E16/E$12*100,0)))))","v":"  "},null,{"$f":"IF(ISBLANK(G$12),\"  \",IF(ISBLANK(G$13),\" \",IF(ISBLANK(G16),\" \",IF($W$4=1,ROUND((G16+G$14)/G$12*100,0),ROUND(G16/G$12*100,0)))))","v":"  "},null,{"$f":"IF(ISBLANK(I$12),\"  \",IF(ISBLANK(I$13),\" \",IF(ISBLANK(I16),\" \",IF($W$4=1,ROUND((I16+I$14)/I$12*100,0),ROUND(I16/I$12*100,0)))))","v":"  "},null,{"$f":"IF(ISBLANK(K$12),\"  \",IF(ISBLANK(K$13),\" \",IF(ISBLANK(K16),\" \",IF($W$4=1,ROUND((K16+K$14)/K$12*100,0),ROUND(K16/K$12*100,0)))))","v":"  "},null,{"$f":"IF(ISBLANK(M$12),\"  \",IF(ISBLANK(M$13),\" \",IF(ISBLANK(M16),\" \",IF($W$4=1,ROUND((M16+M$14)/M$12*100,0),ROUND(M16/M$12*100,0)))))","v":"  "}]
[2,null,null,{"$f":"IF(ISBLANK(C$12),\"  \",IF(ISBLANK(C$13),\" \",IF(ISBLANK(C17),\" \",IF(W$4=1,ROUND((C17+C$14)/C$12*100,0),ROUND(C17/C$12*100,0)))))","v":"  "},null,{"$f":"IF(ISBLANK(E$12),\"  \",IF(ISBLANK(E$13),\" \",IF(ISBLANK(E17),\" \",IF($W$4=1,ROUND((E17+E$14)/E$12*100,0),ROUND(E17/E$12*100,0)))))","v":"  "},null,{"$f":"IF(ISBLANK(G$12),\"  \",IF(ISBLANK(G$13),\" \",IF(ISBLANK(G17),\" \",IF($W$4=1,ROUND((G17+G$14)/G$12*100,0),ROUND(G17/G$12*100,0)))))","v":"  "},null,{"$f":"IF(ISBLANK(I$12),\"  \",IF(ISBLANK(I$13),\" \",IF(ISBLANK(I17),\" \",IF($W$4=1,ROUND((I17+I$14)/I$12*100,0),ROUND(I17/I$12*100,0)))))","v":"  "},null,{"$f":"IF(ISBLANK(K$12),\"  \",IF(ISBLANK(K$13),\" \",IF(ISBLANK(K17),\" \",IF($W$4=1,ROUND((K17+K$14)/K$12*100,0),ROUND(K17/K$12*100,0)))))","v":"  "},null,{"$f":"IF(ISBLANK(M$12),\"  \",IF(ISBLANK(M$13),\" \",IF(ISBLANK(M17),\" \",IF($W$4=1,ROUND((M17+M$14)/M$12*100,0),ROUND(M17/M$12*100,0)))))","v":"  "}]
[1.5,null,null,"  ",null,"  ",null,"  ",null,"  ",null,"  ",null,"  "]
[1,null,null,"  ",null,"  ",null,"  ",null,"  ",null,"  ",null,"  "]
[0.75,null,null,"  ",null,"  ",null,"  ",null,"  ",null,"  ",null,"  "]
[0.625,null,null,"  ",null,"  ",null,"  ",null,"  ",null,"  ",null,"  "]
[0.5,null,null,"  ",null,"  ",null,"  ",null,"  ",null,"  ",null,"  "]
[0.375,null,null,{"$f":"IF(ISBLANK(C$12),\"  \",IF(ISBLANK(C$13),\" \",IF(ISBLANK(C23),\" \",IF(W$4=1,ROUND((C23+C$14)/C$12*100,0),ROUND(C23/C$12*100,0)))))","v":"  "},null,"  ",null,"  ",null,"  ",null,"  ",null,"  "]
[0.25,null,null,"  ",null,"  ",null,"  ",null,"  ",null,"  ",null,"  "]
[4,null,null,"  ",null,"  ",null,"  ",null,"  ",null,"  ",null,"  "]
[8,null,null,"  ",null,"  ",null,"  ",null,"  ",null,"  ",null,"  "]
[16,null,null,"  ",null,"  ",null,"  ",null,"  ",null,"  ",null,"  "]
[30,null,null,"  ",null,"  ",null,"  ",null,"  ",null,"  ",null,"  "]
[50,null,null,"  ",null,"  ",null,"  ",null,"  ",null,"  ",null,"  "]
[100,null,null,{"$f":"IF(ISBLANK(C$12),\"  \",IF(ISBLANK(C$13),\" \",IF(ISBLANK(C30),\" \",IF(W$4=1,ROUND((C30+C$14)/C$12*100,0),ROUND(C30/C$12*100,0)))))","v":"  "},null,"  ",null,"  ",null,"  ",null,"  ",null,"  "]
[200,null,null,{"$f":"IF(ISBLANK(C$12),\"  \",IF(ISBLANK(C$13),\" \",IF(ISBLANK(C31),\" \",IF(W$4=1,ROUND((C31+C$14)/C$12*100,2),ROUND(C31/C$12*100,1)))))","v":"  "},null,{"$f":"IF(ISBLANK(E$12),\"  \",IF(ISBLANK(E$13),\" \",IF(ISBLANK(E31),\" \",IF($W$4=1,ROUND((E31+E$14)/E$12*100,2),ROUND(E31/E$12*100,2)))))","v":"  "},null,{"$f":"IF(ISBLANK(G$12),\"  \",IF(ISBLANK(G$13),\" \",IF(ISBLANK(G31),\" \",IF($W$4=1,ROUND((G31+G$14)/G$12*100,2),ROUND(G31/G$12*100,2)))))","v":"  "},null,{"$f":"IF(ISBLANK(I$12),\"  \",IF(ISBLANK(I$13),\" \",IF(ISBLANK(I31),\" \",IF($W$4=1,ROUND((I31+I$14)/I$12*100,2),ROUND(I31/I$12*100,2)))))","v":"  "},null,{"$f":"IF(ISBLANK(K$12),\"  \",IF(ISBLANK(K$13),\" \",IF(ISBLANK(K31),\" \",IF($W$4=1,ROUND((K31+K$14)/K$12*100,2),ROUND(K31/K$12*100,2)))))","v":"  "},null,{"$f":"IF(ISBLANK(M$12),\"  \",IF(ISBLANK(M$13),\" \",IF(ISBLANK(M31),\" \",IF($W$4=1,ROUND((M31+M$14)/M$12*100,2),ROUND(M31/M$12*100,2)))))","v":"  "}]
["2.30-3.15","FM",{"$f":"IF(ISBLANK(C12),\" \",IF(ISBLANK(C23),\" \",(600-SUM(D24:D30))/100))","v":" "},null,{"$f":"IF(ISBLANK(E12),\" \",IF(ISBLANK(E23),\" \",(600-SUM(F24:F30))/100))","v":" "},null,{"$f":"IF(ISBLANK(G12),\" \",IF(ISBLANK(G23),\" \",(600-SUM(H24:H30))/100))","v":" "},null,{"$f":"IF(ISBLANK(I12),\" \",IF(ISBLANK(I23),\" \",(600-SUM(J24:J30))/100))","v":" "},null,{"$f":"IF(ISBLANK(K12),\" \",IF(ISBLANK(K23),\" \",(600-SUM(L24:L30))/100))","v":" "},null,{"$f":"IF(ISBLANK(M12),\" \",IF(ISBLANK(M23),\" \",(600-SUM(N24:N30))/100))","v":" "}]
["St. Wt. Before Wash",null,null,"% Passing",null,"% Passing",null,"% Passing",null,"% Passing",null,"% Passing",null,"% Passing"]
["End Wt. After Wash",null,null,{"$f":"IF(ISBLANK(C33),\"\",IF(ISBLANK(C34),\"\",((C33-C34)/C33)*100))","v":""},null,{"$f":"IF(ISBLANK(E33),\"\",IF(ISBLANK(E34),\"\",((E33-E34)/E33)*100))","v":""},null,{"$f":"IF(ISBLANK(G33),\"\",IF(ISBLANK(G34),\"\",((G33-G34)/G33)*100))","v":""},null,{"$f":"IF(ISBLANK(I33),\"\",IF(ISBLANK(I34),\"\",((I33-I34)/I33)*100))","v":""},null,{"$f":"IF(ISBLANK(K33),\"\",IF(ISBLANK(K34),\"\",((K33-K34)/K33)*100))","v":""},null,{"$f":"IF(ISBLANK(M33),\"\",IF(ISBLANK(M34),\"\",((M33-M34)/M33)*100))","v":""}]
["Tested By"]
["Remarks"]
[]
[]
[]
[]
[null,null,{"$f":"MAX(C16:C31)","v":0},null,{"$f":"MAX(E16:E31)","v":0},null,{"$f":"MAX(G16:G31)","v":0},null,{"$f":"MAX(I16:I31)","v":0},null,{"$f":"MAX(K16:K31)","v":0},null,{"$f":"MAX(M16:M31)","v":0}]
[]
["Sample No.",null,91,null,92,null,93,null,94,null,95,null,96]
["Date"]
[{"$f":"IF(M6=\"Yes\",\"St. Wt. Before Wash\",\"Starting. Wt.\")","v":"Starting. Wt."},null,null,"% Loss",null,"% Loss",null,"% Loss",null,"% Loss",null,"% Loss",null,"% Loss"]
[{"$f":"IF(M6=\"Yes\",\"Dry Wt. After Wash\",\"Ending Wt.\")","v":"Ending Wt."},null,null,{"$f":"IF(ISBLANK(C46),\" \",IF(ISBLANK(C74),\" \",IF($W$4=1,(C46-C74)/C46*100,((C45-C46)/C45)*100)))","v":" "},null,{"$f":"IF(ISBLANK(E46),\" \",IF(ISBLANK(E74),\" \",IF($W$4=1,(E46-E74)/E46*100,((E45-E46)/E45)*100)))","v":" "},null,{"$f":"IF(ISBLANK(G46),\" \",IF(ISBLANK(G74),\" \",IF($W$4=1,(G46-G74)/G46*100,((G45-G46)/G45)*100)))","v":" "},null,{"$f":"IF(ISBLANK(I46),\" \",IF(ISBLANK(I74),\" \",IF($W$4=1,(I46-I74)/I46*100,((I45-I46)/I45)*100)))","v":" "},null,{"$f":"IF(ISBLANK(K46),\" \",IF(ISBLANK(K74),\" \",IF($W$4=1,(K46-K74)/K46*100,((K45-K46)/K45)*100)))","v":" "},null,{"$f":"IF(ISBLANK(M46),\" \",IF(ISBLANK(M74),\" \",IF($W$4=1,(M46-M74)/M46*100,((M45-M46)/M45)*100)))","v":" "}]
["Wt. Loss",null,{"$f":"IF(ISBLANK(C45),\" \",IF(ISBLANK(C46),\" \",C45-C46))","v":" "},null,{"$f":"IF(ISBLANK(E45),\" \",IF(ISBLANK(E46),\" \",E45-E46))","v":" "},null,{"$f":"IF(ISBLANK(G45),\" \",IF(ISBLANK(G46),\" \",G45-G46))","v":" "},null,{"$f":"IF(ISBLANK(I45),\" \",IF(ISBLANK(I46),\" \",I45-I46))","v":" "},null,{"$f":"IF(ISBLANK(K45),\" \",IF(ISBLANK(K46),\" \",K45-K46))","v":" "},null,{"$f":"IF(ISBLANK(M45),\" \",IF(ISBLANK(M46),\" \",M45-M46))","v":" "}]
[null,null,"Wt","% Passing","Wt","% Passing","Wt","% Passing","Wt","% Passing","Wt","% Passing","Wt","% Passing"]
[2.5,null,null,{"$f":"IF(ISBLANK(C$45),\"  \",IF(ISBLANK(C$46),\" \",IF(ISBLANK(C49),\" \",IF(W$4=1,ROUND((C49+C$47)/C$45*100,0),ROUND(C49/C$45*100,0)))))","v":"  "},null,{"$f":"IF(ISBLANK(E$45),\"  \",IF(ISBLANK(E$46),\" \",IF(ISBLANK(E49),\" \",IF(Y$4=1,ROUND((E49+E$47)/E$45*100,0),ROUND(E49/E$45*100,0)))))","v":"  "},null,{"$f":"IF(ISBLANK(G$45),\"  \",IF(ISBLANK(G$46),\" \",IF(ISBLANK(G49),\" \",IF(AA$4=1,ROUND((G49+G$47)/G$45*100,0),ROUND(G49/G$45*100,0)))))","v":"  "},null,{"$f":"IF(ISBLANK(I$45),\"  \",IF(ISBLANK(I$46),\" \",IF(ISBLANK(I49),\" \",IF(AC$4=1,ROUND((I49+I$47)/I$45*100,0),ROUND(I49/I$45*100,0)))))","v":"  "},null,{"$f":"IF(ISBLANK(K$45),\"  \",IF(ISBLANK(K$46),\" \",IF(ISBLANK(K49),\" \",IF(AE$4=1,ROUND((K49+K$47)/K$45*100,0),ROUND(K49/K$45*100,0)))))","v":"  "},null,{"$f":"IF(ISBLANK(M$45),\"  \",IF(ISBLANK(M$46),\" \",IF(ISBLANK(M49),\" \",IF(AG$4=1,ROUND((M49+M$47)/M$45*100,0),ROUND(M49/M$45*100,0)))))","v":"  "}]
[2,null,null,{"$f":"IF(ISBLANK(C$45),\"  \",IF(ISBLANK(C$46),\" \",IF(ISBLANK(C50),\" \",IF(W$4=1,ROUND((C50+C$47)/C$45*100,0),ROUND(C50/C$45*100,0)))))","v":"  "},null,"  ",null,"  ",null,"  ",null,"  ",null,{"$f":"IF(ISBLANK(M$45),\"  \",IF(ISBLANK(M$46),\" \",IF(ISBLANK(M50),\" \",IF(AG$4=1,ROUND((M50+M$47)/M$45*100,0),ROUND(M50/M$45*100,0)))))","v":"  "}]
[1.5,null,null,"  ",null,"  ",null,"  ",null,"  ",null,"  ",null,"  "]
[1,null,null,"  ",null,"  ",null,"  ",null,"  ",null,"  ",null,"  "]
[0.75,null,null,"  ",null,"  ",null,"  ",null,"  ",null,"  ",null,"  "]
[0.625,null,null,"  ",null,"  ",null,"  ",null,"  ",null,"  ",null,"  "]
[0.5,null,null,"  ",null,"  ",null,"  ",null,"  ",null,"  ",null,{"$f":"IF(ISBLANK(M$45),\"  \",IF(ISBLANK(M$46),\" \",IF(ISBLANK(M55),\" \",IF(AG$4=1,ROUND((M55+M$47)/M$45*100,0),ROUND(M55/M$45*100,0)))))","v":"  "}]
[0.375,null,null,"  ",null,"  ",null,"  ",null,"  ",null,"  ",null,"  "]
[0.25,null,null,"  ",null,"  ",null,"  ",null,"  ",null,"  ",null,"  "]
[4,null,null,"  ",null,"  ",null,"  ",null,"  ",null,"  ",null,"  "]
[8,null,null,"  ",null,"  ",null,"  ",null,"  ",null,"  ",null,"  "]
[16,null,null,"  ",null,"  ",null,"  ",null,"  ",null,"  ",null,"  "]
[30,null,null,"  ",null,"  ",null,"  ",null,"  ",null,"  ",null,"  "]
[50,null,null,"  ",null,"  ",null,"  ",null,"  ",null,"  ",null,"  "]
[100,null,null,"  ",null,"  ",null,"  ",null,"  ",null,"  ",null,{"$f":"IF(ISBLANK(M$45),\"  \",IF(ISBLANK(M$46),\" \",IF(ISBLANK(M63),\" \",IF(AG$4=1,ROUND((M63+M$47)/M$45*100,0),ROUND(M63/M$45*100,0)))))","v":"  "}]
[200,null,null,{"$f":"IF(ISBLANK(C$45),\"  \",IF(ISBLANK(C$46),\" \",IF(ISBLANK(C64),\" \",IF(W$4=1,ROUND((C64+C$47)/C$45*100,2),ROUND(C64/C$45*100,2)))))","v":"  "},null,{"$f":"IF(ISBLANK(E$45),\"  \",IF(ISBLANK(E$46),\" \",IF(ISBLANK(E64),\" \",IF(Y$4=1,ROUND((E64+E$47)/E$45*100,2),ROUND(E64/E$45*100,2)))))","v":"  "},null,{"$f":"IF(ISBLANK(G$45),\"  \",IF(ISBLANK(G$46),\" \",IF(ISBLANK(G64),\" \",IF(AA$4=1,ROUND((G64+G$47)/G$45*100,2),ROUND(G64/G$45*100,2)))))","v":"  "},null,{"$f":"IF(ISBLANK(I$45),\"  \",IF(ISBLANK(I$46),\" \",IF(ISBLANK(I64),\" \",IF(AC$4=1,ROUND((I64+I$47)/I$45*100,2),ROUND(I64/I$45*100,2)))))","v":"  "},null,{"$f":"IF(ISBLANK(K$45),\"  \",IF(ISBLANK(K$46),\" \",IF(ISBLANK(K64),\" \",IF(AE$4=1,ROUND((K64+K$47)/K$45*100,2),ROUND(K64/K$45*100,2)))))","v":"  "},null,{"$f":"IF(ISBLANK(M$45),\"  \",IF(ISBLANK(M$46),\" \",IF(ISBLANK(M64),\" \",IF(AG$4=1,ROUND((M64+M$47)/M$45*100,2),ROUND(M64/M$45*100,2)))))","v":"  "}]
["2.30-3.15","FM",{"$f":"IF(ISBLANK(C45),\" \",IF(ISBLANK(C56),\" \",(600-SUM(D57:D63))/100))","v":" "},null,{"$f":"IF(ISBLANK(E45),\" \",IF(ISBLANK(E56),\" \",(600-SUM(F57:F63))/100))","v":" "},null,{"$f":"IF(ISBLANK(G45),\" \",IF(ISBLANK(G56),\" \",(600-SUM(H57:H63))/100))","v":" "},null,{"$f":"IF(ISBLANK(I45),\" \",IF(ISBLANK(I56),\" \",(600-SUM(J57:J63))/100))","v":" "},null,{"$f":"IF(ISBLANK(K45),\" \",IF(ISBLANK(K56),\" \",(600-SUM(L57:L63))/100))","v":" "},null,{"$f":"IF(ISBLANK(M45),\" \",IF(ISBLANK(M56),\" \",(600-SUM(N57:N63))/100))","v":" "}]
["St. Wt. Before Wash",null,null,"% Passing",null,"% Passing",null,"% Passing",null,"% Passing",null,"% Passing",null,"% Passing"]
["End Wt. After Wash",null,null,{"$f":"IF(ISBLANK(C66),\"\",IF(ISBLANK(C67),\"\",((C66-C67)/C66)*100))","v":""},null,{"$f":"IF(ISBLANK(E66),\"\",IF(ISBLANK(E67),\"\",((E66-E67)/E66)*100))","v":""},null,{"$f":"IF(ISBLANK(G66),\"\",IF(ISBLANK(G67),\"\",((G66-G67)/G66)*100))","v":""},null,{"$f":"IF(ISBLANK(I66),\"\",IF(ISBLANK(I67),\"\",((I66-I67)/I66)*100))","v":""},null,{"$f":"IF(ISBLANK(K66),\"\",IF(ISBLANK(K67),\"\",((K66-K67)/K66)*100))","v":""},null,{"$f":"IF(ISBLANK(M66),\"\",IF(ISBLANK(M67),\"\",((M66-M67)/M66)*100))","v":""}]
["Tested By"]
["Remarks"]
[]
[]
[]
[]
[null,null,{"$f":"MAX(C49:C64)","v":0},null,{"$f":"MAX(E49:E64)","v":0},null,{"$f":"MAX(G49:G64)","v":0},null,{"$f":"MAX(I49:I64)","v":0},null,{"$f":"MAX(K49:K64)","v":0},null,{"$f":"MAX(M49:M64)","v":0}]

{"sheet":"S9","index":8,"n_rows":74,"n_cols":23,"rows_kept":74,"cut":false,"hidden":true,"merged":[[7,0,7,13],[5,12,5,13],[42,4,42,5],[42,6,42,7],[42,0,42,1],[42,2,42,3],[44,0,44,1],[45,0,45,1],[4,10,4,11],[4,12,4,13],[33,0,33,1],[34,0,34,1],[34,2,34,3],[34,4,34,5],[34,6,34,7],[34,8,34,9],[34,10,34,11],[9,12,9,13],[10,12,10,13],[13,12,13,13],[14,0,14,1],[15,0,15,1],[18,0,18,1],[19,0,19,1],[1,12,1,13],[2,10,2,11],[2,12,2,13],[3,10,3,11],[3,12,3,13],[31,12,31,13],[31,2,31,3],[32,0,32,1],[29,0,29,1],[28,0,28,1],[27,0,27,1],[26,0,26,1],[0,8,3,9],[1,2,1,7],[2,2,2,7],[3,2,3,7],[4,0,4,1],[31,8,31,9],[31,10,31,11],[10,0,10,1],[12,0,12,1],[22,0,22,1],[9,0,9,1],[5,10,5,11],[0,0,3,1],[1,10,1,11],[11,0,11,1],[31,4,31,5],[31,6,31,7],[30,0,30,1],[9,2,9,3],[9,4,9,5],[9,6,9,7],[9,8,9,9],[9,10,9,11],[10,2,10,3],[10,4,10,5],[10,6,10,7],[10,8,10,9],[10,10,10,11],[13,0,13,1],[13,2,13,3],[13,4,13,5],[13,6,13,7],[13,8,13,9],[13,10,13,11],[16,0,16,1],[17,0,17,1],[20,0,20,1],[21,0,21,1],[23,0,23,1],[24,0,24,1],[25,0,25,1],[34,12,34,13],[35,0,37,1],[35,2,37,3],[35,4,37,5],[35,6,37,7],[35,8,37,9],[35,10,37,11],[35,12,37,13],[43,0,43,1],[43,2,43,3],[43,4,43,5],[43,6,43,7],[43,8,43,9],[43,10,43,11],[43,12,43,13],[42,8,42,9],[42,10,42,11],[42,12,42,13],[46,0,46,1],[46,2,46,3],[46,4,46,5],[46,6,46,7],[46,8,46,9],[46,10,46,11],[46,12,46,13],[47,0,47,1],[48,0,48,1],[60,0,60,1],[61,0,61,1],[62,0,62,1],[63,0,63,1],[64,2,64,3],[64,4,64,5],[64,6,64,7],[49,0,49,1],[50,0,50,1],[51,0,51,1],[52,0,52,1],[53,0,53,1],[54,0,54,1],[55,0,55,1],[56,0,56,1],[57,0,57,1],[6,12,6,13],[6,10,6,11],[4,8,4,9],[68,0,70,1],[68,2,70,3],[68,4,70,5],[68,6,70,7],[68,8,70,9],[68,10,70,11],[68,12,70,13],[64,8,64,9],[64,10,64,11],[64,12,64,13],[65,0,65,1],[66,0,66,1],[67,0,67,1],[67,2,67,3],[67,4,67,5],[67,6,67,7],[67,8,67,9],[67,10,67,11],[67,12,67,13],[58,0,58,1],[59,0,59,1]]}
[null,null,null,null,null,null,null,null,null,null,null,null,null,null,null,null,null,null,{"$f":"'S1'!T1","v":1},1,null,"FM","Wash"]
[null,null,"COMMONWEALTH OF PENNSYLVANIA",null,null,null,null,null,null,null,"District",null,{"$f":"IF(ISBLANK('S1'!M2),\" \",'S1'!M2)","v":" "}]
[null,null,"DEPARTMENT OF TRANSPORTATION",null,null,null,null,null,null,null,"Plant Code",null,{"$f":"IF(ISBLANK('S1'!M3),\" \",'S1'!M3)","v":" "}]
[null,null,null,null,null,null,null,null,null,null,"Agg Size",null,{"$f":"IF(ISBLANK('S1'!M4),\" \",'S1'!M4)","v":" "},null,null,null,null,null,null,null,null,{"$f":"IF(M5=\"Yes\",1,2)","v":2},{"$f":"IF(M6=\"Yes\",1,2)","v":2}]
[{"$f":"'S1'!A6","v":"Aggregate 2023"},null,null,null,null,null,null,null,{"$f":"IF(T1=1,\"Pounds\",\"Grams\")","v":"Pounds"},null,"Calculate FM?",null,{"$f":"IF(ISBLANK('S1'!M5),\" \",'S1'!M5)","v":"No"}]
[null,null,null,null,null,null,null,null,null,null,"Washed Gradation?",null,{"$f":"IF(ISBLANK('S1'!M6),\" \",'S1'!M6)","v":"No"}]
[null,null,null,null,null,null,null,null,null,null,"Aggregate Identifier",null,{"$f":"IF(ISBLANK('S1'!M7),\" \",'S1'!M7)","v":" "}]
["Material Test Results "]
[]
["Sample No.",null,97,null,98,null,99,null,100,null,101,null,102]
["Date"]
[{"$f":"IF(M6=\"Yes\",\"St. Wt. Before Wash\",\"Starting. Wt.\")","v":"Starting. Wt."},null,null,"% Loss",null,"% Loss",null,"% Loss",null,"% Loss",null,"% Loss",null,"% Loss"]
[{"$f":"IF(M6=\"Yes\",\"Dry Wt. After Wash\",\"Ending Wt.\")","v":"Ending Wt."},null,null,{"$f":"IF(ISBLANK(C13),\" \",IF(ISBLANK(C41),\" \",IF($W$4=1,(C13-C41)/C13*100,((C12-C13)/C12)*100)))","v":" "},null,{"$f":"IF(ISBLANK(E13),\" \",IF(ISBLANK(E41),\" \",IF($W$4=1,(E13-E41)/E13*100,((E12-E13)/E12)*100)))","v":" "},null,{"$f":"IF(ISBLANK(G13),\" \",IF(ISBLANK(G41),\" \",IF($W$4=1,(G13-G41)/G13*100,((G12-G13)/G12)*100)))","v":" "},null,{"$f":"IF(ISBLANK(I13),\" \",IF(ISBLANK(I41),\" \",IF($W$4=1,(I13-I41)/I13*100,((I12-I13)/I12)*100)))","v":" "},null,{"$f":"IF(ISBLANK(K13),\" \",IF(ISBLANK(K41),\" \",IF($W$4=1,(K13-K41)/K13*100,((K12-K13)/K12)*100)))","v":" "},null,{"$f":"IF(ISBLANK(M13),\" \",IF(ISBLANK(M41),\" \",IF($W$4=1,(M13-M41)/M13*100,((M12-M13)/M12)*100)))","v":" "}]
["Wt. Loss",null,{"$f":"IF(ISBLANK(C12),\" \",IF(ISBLANK(C13),\" \",C12-C13))","v":" "},null,{"$f":"IF(ISBLANK(E12),\" \",IF(ISBLANK(E13),\" \",E12-E13))","v":" "},null,{"$f":"IF(ISBLANK(G12),\" \",IF(ISBLANK(G13),\" \",G12-G13))","v":" "},null,{"$f":"IF(ISBLANK(I12),\" \",IF(ISBLANK(I13),\" \",I12-I13))","v":" "},null,{"$f":"IF(ISBLANK(K12),\" \",IF(ISBLANK(K13),\" \",K12-K13))","v":" "},null,{"$f":"IF(ISBLANK(M12),\" \",IF(ISBLANK(M13),\" \",M12-M13))","v":" "}]
[null,null,"Wt","% Passing","Wt","% Passing","Wt","% Passing","Wt","% Passing","Wt","% Passing","Wt","% Passing"]
[2.5,null,null,{"$f":"IF(ISBLANK(C$12),\"  \",IF(ISBLANK(C$13),\" \",IF(ISBLANK(C16),\" \",IF($W$4=1,ROUND((C16+C$14)/C$12*100,0),ROUND(C16/C$12*100,0)))))","v":"  "},null,{"$f":"IF(ISBLANK(E$12),\"  \",IF(ISBLANK(E$13),\" \",IF(ISBLANK(E16),\" \",IF($W$4=1,ROUND((E16+E$14)/E$12*100,0),ROUND(E16/E$12*100,0)))))","v":"  "},null,{"$f":"IF(ISBLANK(G$12),\"  \",IF(ISBLANK(G$13),\" \",IF(ISBLANK(G16),\" \",IF($W$4=1,ROUND((G16+G$14)/G$12*100,0),ROUND(G16/G$12*100,0)))))","v":"  "},null,{"$f":"IF(ISBLANK(I$12),\"  \",IF(ISBLANK(I$13),\" \",IF(ISBLANK(I16),\" \",IF($W$4=1,ROUND((I16+I$14)/I$12*100,0),ROUND(I16/I$12*100,0)))))","v":"  "},null,{"$f":"IF(ISBLANK(K$12),\"  \",IF(ISBLANK(K$13),\" \",IF(ISBLANK(K16),\" \",IF($W$4=1,ROUND((K16+K$14)/K$12*100,0),ROUND(K16/K$12*100,0)))))","v":"  "},null,{"$f":"IF(ISBLANK(M$12),\"  \",IF(ISBLANK(M$13),\" \",IF(ISBLANK(M16),\" \",IF($W$4=1,ROUND((M16+M$14)/M$12*100,0),ROUND(M16/M$12*100,0)))))","v":"  "}]
[2,null,null,{"$f":"IF(ISBLANK(C$12),\"  \",IF(ISBLANK(C$13),\" \",IF(ISBLANK(C17),\" \",IF(W$4=1,ROUND((C17+C$14)/C$12*100,0),ROUND(C17/C$12*100,0)))))","v":"  "},null,{"$f":"IF(ISBLANK(E$12),\"  \",IF(ISBLANK(E$13),\" \",IF(ISBLANK(E17),\" \",IF($W$4=1,ROUND((E17+E$14)/E$12*100,0),ROUND(E17/E$12*100,0)))))","v":"  "},null,{"$f":"IF(ISBLANK(G$12),\"  \",IF(ISBLANK(G$13),\" \",IF(ISBLANK(G17),\" \",IF($W$4=1,ROUND((G17+G$14)/G$12*100,0),ROUND(G17/G$12*100,0)))))","v":"  "},null,{"$f":"IF(ISBLANK(I$12),\"  \",IF(ISBLANK(I$13),\" \",IF(ISBLANK(I17),\" \",IF($W$4=1,ROUND((I17+I$14)/I$12*100,0),ROUND(I17/I$12*100,0)))))","v":"  "},null,{"$f":"IF(ISBLANK(K$12),\"  \",IF(ISBLANK(K$13),\" \",IF(ISBLANK(K17),\" \",IF($W$4=1,ROUND((K17+K$14)/K$12*100,0),ROUND(K17/K$12*100,0)))))","v":"  "},null,{"$f":"IF(ISBLANK(M$12),\"  \",IF(ISBLANK(M$13),\" \",IF(ISBLANK(M17),\" \",IF($W$4=1,ROUND((M17+M$14)/M$12*100,0),ROUND(M17/M$12*100,0)))))","v":"  "}]
[1.5,null,null,"  ",null,"  ",null,"  ",null,"  ",null,"  ",null,"  "]
[1,null,null,"  ",null,"  ",null,"  ",null,"  ",null,"  ",null,"  "]
[0.75,null,null,"  ",null,"  ",null,"  ",null,"  ",null,"  ",null,"  "]
[0.625,null,null,"  ",null,"  ",null,"  ",null,"  ",null,"  ",null,"  "]
[0.5,null,null,"  ",null,"  ",null,"  ",null,"  ",null,"  ",null,"  "]
[0.375,null,null,{"$f":"IF(ISBLANK(C$12),\"  \",IF(ISBLANK(C$13),\" \",IF(ISBLANK(C23),\" \",IF(W$4=1,ROUND((C23+C$14)/C$12*100,0),ROUND(C23/C$12*100,0)))))","v":"  "},null,"  ",null,"  ",null,"  ",null,"  ",null,"  "]
[0.25,null,null,"  ",null,"  ",null,"  ",null,"  ",null,"  ",null,"  "]
[4,null,null,"  ",null,"  ",null,"  ",null,"  ",null,"  ",null,"  "]
[8,null,null,"  ",null,"  ",null,"  ",null,"  ",null,"  ",null,"  "]
[16,null,null,"  ",null,"  ",null,"  ",null,"  ",null,"  ",null,"  "]
[30,null,null,"  ",null,"  ",null,"  ",null,"  ",null,"  ",null,"  "]
[50,null,null,"  ",null,"  ",null,"  ",null,"  ",null,"  ",null,"  "]
[100,null,null,{"$f":"IF(ISBLANK(C$12),\"  \",IF(ISBLANK(C$13),\" \",IF(ISBLANK(C30),\" \",IF(W$4=1,ROUND((C30+C$14)/C$12*100,0),ROUND(C30/C$12*100,0)))))","v":"  "},null,"  ",null,"  ",null,"  ",null,"  ",null,"  "]
[200,null,null,{"$f":"IF(ISBLANK(C$12),\"  \",IF(ISBLANK(C$13),\" \",IF(ISBLANK(C31),\" \",IF(W$4=1,ROUND((C31+C$14)/C$12*100,2),ROUND(C31/C$12*100,1)))))","v":"  "},null,{"$f":"IF(ISBLANK(E$12),\"  \",IF(ISBLANK(E$13),\" \",IF(ISBLANK(E31),\" \",IF($W$4=1,ROUND((E31+E$14)/E$12*100,2),ROUND(E31/E$12*100,2)))))","v":"  "},null,{"$f":"IF(ISBLANK(G$12),\"  \",IF(ISBLANK(G$13),\" \",IF(ISBLANK(G31),\" \",IF($W$4=1,ROUND((G31+G$14)/G$12*100,2),ROUND(G31/G$12*100,2)))))","v":"  "},null,{"$f":"IF(ISBLANK(I$12),\"  \",IF(ISBLANK(I$13),\" \",IF(ISBLANK(I31),\" \",IF($W$4=1,ROUND((I31+I$14)/I$12*100,2),ROUND(I31/I$12*100,2)))))","v":"  "},null,{"$f":"IF(ISBLANK(K$12),\"  \",IF(ISBLANK(K$13),\" \",IF(ISBLANK(K31),\" \",IF($W$4=1,ROUND((K31+K$14)/K$12*100,2),ROUND(K31/K$12*100,2)))))","v":"  "},null,{"$f":"IF(ISBLANK(M$12),\"  \",IF(ISBLANK(M$13),\" \",IF(ISBLANK(M31),\" \",IF($W$4=1,ROUND((M31+M$14)/M$12*100,2),ROUND(M31/M$12*100,2)))))","v":"  "}]
["2.30-3.15","FM",{"$f":"IF(ISBLANK(C12),\" \",IF(ISBLANK(C23),\" \",(600-SUM(D24:D30))/100))","v":" "},null,{"$f":"IF(ISBLANK(E12),\" \",IF(ISBLANK(E23),\" \",(600-SUM(F24:F30))/100))","v":" "},null,{"$f":"IF(ISBLANK(G12),\" \",IF(ISBLANK(G23),\" \",(600-SUM(H24:H30))/100))","v":" "},null,{"$f":"IF(ISBLANK(I12),\" \",IF(ISBLANK(I23),\" \",(600-SUM(J24:J30))/100))","v":" "},null,{"$f":"IF(ISBLANK(K12),\" \",IF(ISBLANK(K23),\" \",(600-SUM(L24:L30))/100))","v":" "},null,{"$f":"IF(ISBLANK(M12),\" \",IF(ISBLANK(M23),\" \",(600-SUM(N24:N30))/100))","v":" "}]
["St. Wt. Before Wash",null,null,"% Passing",null,"% Passing",null,"% Passing",null,"% Passing",null,"% Passing",null,"% Passing"]
["End Wt. After Wash",null,null,{"$f":"IF(ISBLANK(C33),\"\",IF(ISBLANK(C34),\"\",((C33-C34)/C33)*100))","v":""},null,{"$f":"IF(ISBLANK(E33),\"\",IF(ISBLANK(E34),\"\",((E33-E34)/E33)*100))","v":""},null,{"$f":"IF(ISBLANK(G33),\"\",IF(ISBLANK(G34),\"\",((G33-G34)/G33)*100))","v":""},null,{"$f":"IF(ISBLANK(I33),\"\",IF(ISBLANK(I34),\"\",((I33-I34)/I33)*100))","v":""},null,{"$f":"IF(ISBLANK(K33),\"\",IF(ISBLANK(K34),\"\",((K33-K34)/K33)*100))","v":""},null,{"$f":"IF(ISBLANK(M33),\"\",IF(ISBLANK(M34),\"\",((M33-M34)/M33)*100))","v":""}]
["Tested By"]
["Remarks"]
[]
[]
[]
[]
[null,null,{"$f":"MAX(C16:C31)","v":0},null,{"$f":"MAX(E16:E31)","v":0},null,{"$f":"MAX(G16:G31)","v":0},null,{"$f":"MAX(I16:I31)","v":0},null,{"$f":"MAX(K16:K31)","v":0},null,{"$f":"MAX(M16:M31)","v":0}]
[]
["Sample No.",null,103,null,104,null,105,null,106,null,107,null,108]
["Date"]
[{"$f":"IF(M6=\"Yes\",\"St. Wt. Before Wash\",\"Starting. Wt.\")","v":"Starting. Wt."},null,null,"% Loss",null,"% Loss",null,"% Loss",null,"% Loss",null,"% Loss",null,"% Loss"]
[{"$f":"IF(M6=\"Yes\",\"Dry Wt. After Wash\",\"Ending Wt.\")","v":"Ending Wt."},null,null,{"$f":"IF(ISBLANK(C46),\" \",IF(ISBLANK(C74),\" \",IF($W$4=1,(C46-C74)/C46*100,((C45-C46)/C45)*100)))","v":" "},null,{"$f":"IF(ISBLANK(E46),\" \",IF(ISBLANK(E74),\" \",IF($W$4=1,(E46-E74)/E46*100,((E45-E46)/E45)*100)))","v":" "},null,{"$f":"IF(ISBLANK(G46),\" \",IF(ISBLANK(G74),\" \",IF($W$4=1,(G46-G74)/G46*100,((G45-G46)/G45)*100)))","v":" "},null,{"$f":"IF(ISBLANK(I46),\" \",IF(ISBLANK(I74),\" \",IF($W$4=1,(I46-I74)/I46*100,((I45-I46)/I45)*100)))","v":" "},null,{"$f":"IF(ISBLANK(K46),\" \",IF(ISBLANK(K74),\" \",IF($W$4=1,(K46-K74)/K46*100,((K45-K46)/K45)*100)))","v":" "},null,{"$f":"IF(ISBLANK(M46),\" \",IF(ISBLANK(M74),\" \",IF($W$4=1,(M46-M74)/M46*100,((M45-M46)/M45)*100)))","v":" "}]
["Wt. Loss",null,{"$f":"IF(ISBLANK(C45),\" \",IF(ISBLANK(C46),\" \",C45-C46))","v":" "},null,{"$f":"IF(ISBLANK(E45),\" \",IF(ISBLANK(E46),\" \",E45-E46))","v":" "},null,{"$f":"IF(ISBLANK(G45),\" \",IF(ISBLANK(G46),\" \",G45-G46))","v":" "},null,{"$f":"IF(ISBLANK(I45),\" \",IF(ISBLANK(I46),\" \",I45-I46))","v":" "},null,{"$f":"IF(ISBLANK(K45),\" \",IF(ISBLANK(K46),\" \",K45-K46))","v":" "},null,{"$f":"IF(ISBLANK(M45),\" \",IF(ISBLANK(M46),\" \",M45-M46))","v":" "}]
[null,null,"Wt","% Passing","Wt","% Passing","Wt","% Passing","Wt","% Passing","Wt","% Passing","Wt","% Passing"]
[2.5,null,null,{"$f":"IF(ISBLANK(C$45),\"  \",IF(ISBLANK(C$46),\" \",IF(ISBLANK(C49),\" \",IF(W$4=1,ROUND((C49+C$47)/C$45*100,0),ROUND(C49/C$45*100,0)))))","v":"  "},null,{"$f":"IF(ISBLANK(E$45),\"  \",IF(ISBLANK(E$46),\" \",IF(ISBLANK(E49),\" \",IF(Y$4=1,ROUND((E49+E$47)/E$45*100,0),ROUND(E49/E$45*100,0)))))","v":"  "},null,{"$f":"IF(ISBLANK(G$45),\"  \",IF(ISBLANK(G$46),\" \",IF(ISBLANK(G49),\" \",IF(AA$4=1,ROUND((G49+G$47)/G$45*100,0),ROUND(G49/G$45*100,0)))))","v":"  "},null,{"$f":"IF(ISBLANK(I$45),\"  \",IF(ISBLANK(I$46),\" \",IF(ISBLANK(I49),\" \",IF(AC$4=1,ROUND((I49+I$47)/I$45*100,0),ROUND(I49/I$45*100,0)))))","v":"  "},null,{"$f":"IF(ISBLANK(K$45),\"  \",IF(ISBLANK(K$46),\" \",IF(ISBLANK(K49),\" \",IF(AE$4=1,ROUND((K49+K$47)/K$45*100,0),ROUND(K49/K$45*100,0)))))","v":"  "},null,{"$f":"IF(ISBLANK(M$45),\"  \",IF(ISBLANK(M$46),\" \",IF(ISBLANK(M49),\" \",IF(AG$4=1,ROUND((M49+M$47)/M$45*100,0),ROUND(M49/M$45*100,0)))))","v":"  "}]
[2,null,null,{"$f":"IF(ISBLANK(C$45),\"  \",IF(ISBLANK(C$46),\" \",IF(ISBLANK(C50),\" \",IF(W$4=1,ROUND((C50+C$47)/C$45*100,0),ROUND(C50/C$45*100,0)))))","v":"  "},null,"  ",null,"  ",null,"  ",null,"  ",null,{"$f":"IF(ISBLANK(M$45),\"  \",IF(ISBLANK(M$46),\" \",IF(ISBLANK(M50),\" \",IF(AG$4=1,ROUND((M50+M$47)/M$45*100,0),ROUND(M50/M$45*100,0)))))","v":"  "}]
[1.5,null,null,"  ",null,"  ",null,"  ",null,"  ",null,"  ",null,"  "]
[1,null,null,"  ",null,"  ",null,"  ",null,"  ",null,"  ",null,"  "]
[0.75,null,null,"  ",null,"  ",null,"  ",null,"  ",null,"  ",null,"  "]
[0.625,null,null,"  ",null,"  ",null,"  ",null,"  ",null,"  ",null,"  "]
[0.5,null,null,"  ",null,"  ",null,"  ",null,"  ",null,"  ",null,"  "]
[0.375,null,null,"  ",null,"  ",null,"  ",null,"  ",null,"  ",null,"  "]
[0.25,null,null,"  ",null,"  ",null,"  ",null,"  ",null,"  ",null,"  "]
[4,null,null,"  ",null,"  ",null,"  ",null,"  ",null,"  ",null,"  "]
[8,null,null,"  ",null,"  ",null,"  ",null,"  ",null,"  ",null,"  "]
[16,null,null,"  ",null,"  ",null,"  ",null,"  ",null,"  ",null,"  "]
[30,null,null,"  ",null,"  ",null,"  ",null,"  ",null,"  ",null,"  "]
[50,null,null,"  ",null,"  ",null,"  ",null,"  ",null,"  ",null,"  "]
[100,null,null,"  ",null,"  ",null,"  ",null,"  ",null,"  ",null,{"$f":"IF(ISBLANK(M$45),\"  \",IF(ISBLANK(M$46),\" \",IF(ISBLANK(M63),\" \",IF(AG$4=1,ROUND((M63+M$47)/M$45*100,0),ROUND(M63/M$45*100,0)))))","v":"  "}]
[200,null,null,{"$f":"IF(ISBLANK(C$45),\"  \",IF(ISBLANK(C$46),\" \",IF(ISBLANK(C64),\" \",IF(W$4=1,ROUND((C64+C$47)/C$45*100,2),ROUND(C64/C$45*100,2)))))","v":"  "},null,{"$f":"IF(ISBLANK(E$45),\"  \",IF(ISBLANK(E$46),\" \",IF(ISBLANK(E64),\" \",IF(Y$4=1,ROUND((E64+E$47)/E$45*100,2),ROUND(E64/E$45*100,2)))))","v":"  "},null,{"$f":"IF(ISBLANK(G$45),\"  \",IF(ISBLANK(G$46),\" \",IF(ISBLANK(G64),\" \",IF(AA$4=1,ROUND((G64+G$47)/G$45*100,2),ROUND(G64/G$45*100,2)))))","v":"  "},null,{"$f":"IF(ISBLANK(I$45),\"  \",IF(ISBLANK(I$46),\" \",IF(ISBLANK(I64),\" \",IF(AC$4=1,ROUND((I64+I$47)/I$45*100,2),ROUND(I64/I$45*100,2)))))","v":"  "},null,{"$f":"IF(ISBLANK(K$45),\"  \",IF(ISBLANK(K$46),\" \",IF(ISBLANK(K64),\" \",IF(AE$4=1,ROUND((K64+K$47)/K$45*100,2),ROUND(K64/K$45*100,2)))))","v":"  "},null,{"$f":"IF(ISBLANK(M$45),\"  \",IF(ISBLANK(M$46),\" \",IF(ISBLANK(M64),\" \",IF(AG$4=1,ROUND((M64+M$47)/M$45*100,2),ROUND(M64/M$45*100,2)))))","v":"  "}]
["2.30-3.15","FM",{"$f":"IF(ISBLANK(C45),\" \",IF(ISBLANK(C56),\" \",(600-SUM(D57:D63))/100))","v":" "},null,{"$f":"IF(ISBLANK(E45),\" \",IF(ISBLANK(E56),\" \",(600-SUM(F57:F63))/100))","v":" "},null,{"$f":"IF(ISBLANK(G45),\" \",IF(ISBLANK(G56),\" \",(600-SUM(H57:H63))/100))","v":" "},null,{"$f":"IF(ISBLANK(I45),\" \",IF(ISBLANK(I56),\" \",(600-SUM(J57:J63))/100))","v":" "},null,{"$f":"IF(ISBLANK(K45),\" \",IF(ISBLANK(K56),\" \",(600-SUM(L57:L63))/100))","v":" "},null,{"$f":"IF(ISBLANK(M45),\" \",IF(ISBLANK(M56),\" \",(600-SUM(N57:N63))/100))","v":" "}]
["St. Wt. Before Wash",null,null,"% Passing",null,"% Passing",null,"% Passing",null,"% Passing",null,"% Passing",null,"% Passing"]
["End Wt. After Wash",null,null,{"$f":"IF(ISBLANK(C66),\"\",IF(ISBLANK(C67),\"\",((C66-C67)/C66)*100))","v":""},null,{"$f":"IF(ISBLANK(E66),\"\",IF(ISBLANK(E67),\"\",((E66-E67)/E66)*100))","v":""},null,{"$f":"IF(ISBLANK(G66),\"\",IF(ISBLANK(G67),\"\",((G66-G67)/G66)*100))","v":""},null,{"$f":"IF(ISBLANK(I66),\"\",IF(ISBLANK(I67),\"\",((I66-I67)/I66)*100))","v":""},null,{"$f":"IF(ISBLANK(K66),\"\",IF(ISBLANK(K67),\"\",((K66-K67)/K66)*100))","v":""},null,{"$f":"IF(ISBLANK(M66),\"\",IF(ISBLANK(M67),\"\",((M66-M67)/M66)*100))","v":""}]
["Tested By"]
["Remarks"]
[]
[]
[]
[]
[null,null,{"$f":"MAX(C49:C64)","v":0},null,{"$f":"MAX(E49:E64)","v":0},null,{"$f":"MAX(G49:G64)","v":0},null,{"$f":"MAX(I49:I64)","v":0},null,{"$f":"MAX(K49:K64)","v":0},null,{"$f":"MAX(M49:M64)","v":0}]

{"sheet":"S10","index":9,"n_rows":74,"n_cols":23,"rows_kept":74,"cut":false,"hidden":true,"merged":[[7,0,7,13],[5,12,5,13],[42,4,42,5],[42,6,42,7],[42,0,42,1],[42,2,42,3],[44,0,44,1],[45,0,45,1],[4,10,4,11],[4,12,4,13],[33,0,33,1],[34,0,34,1],[34,2,34,3],[34,4,34,5],[34,6,34,7],[34,8,34,9],[34,10,34,11],[9,12,9,13],[10,12,10,13],[13,12,13,13],[14,0,14,1],[15,0,15,1],[18,0,18,1],[19,0,19,1],[1,12,1,13],[2,10,2,11],[2,12,2,13],[3,10,3,11],[3,12,3,13],[31,12,31,13],[31,2,31,3],[32,0,32,1],[29,0,29,1],[28,0,28,1],[27,0,27,1],[26,0,26,1],[0,8,3,9],[1,2,1,7],[2,2,2,7],[3,2,3,7],[4,0,4,1],[31,8,31,9],[31,10,31,11],[10,0,10,1],[12,0,12,1],[22,0,22,1],[9,0,9,1],[5,10,5,11],[0,0,3,1],[1,10,1,11],[11,0,11,1],[31,4,31,5],[31,6,31,7],[30,0,30,1],[9,2,9,3],[9,4,9,5],[9,6,9,7],[9,8,9,9],[9,10,9,11],[10,2,10,3],[10,4,10,5],[10,6,10,7],[10,8,10,9],[10,10,10,11],[13,0,13,1],[13,2,13,3],[13,4,13,5],[13,6,13,7],[13,8,13,9],[13,10,13,11],[16,0,16,1],[17,0,17,1],[20,0,20,1],[21,0,21,1],[23,0,23,1],[24,0,24,1],[25,0,25,1],[34,12,34,13],[35,0,37,1],[35,2,37,3],[35,4,37,5],[35,6,37,7],[35,8,37,9],[35,10,37,11],[35,12,37,13],[43,0,43,1],[43,2,43,3],[43,4,43,5],[43,6,43,7],[43,8,43,9],[43,10,43,11],[43,12,43,13],[42,8,42,9],[42,10,42,11],[42,12,42,13],[46,0,46,1],[46,2,46,3],[46,4,46,5],[46,6,46,7],[46,8,46,9],[46,10,46,11],[46,12,46,13],[47,0,47,1],[48,0,48,1],[60,0,60,1],[61,0,61,1],[62,0,62,1],[63,0,63,1],[64,2,64,3],[64,4,64,5],[64,6,64,7],[49,0,49,1],[50,0,50,1],[51,0,51,1],[52,0,52,1],[53,0,53,1],[54,0,54,1],[55,0,55,1],[56,0,56,1],[57,0,57,1],[6,10,6,11],[6,12,6,13],[4,8,4,9],[68,0,70,1],[68,2,70,3],[68,4,70,5],[68,6,70,7],[68,8,70,9],[68,10,70,11],[68,12,70,13],[64,8,64,9],[64,10,64,11],[64,12,64,13],[65,0,65,1],[66,0,66,1],[67,0,67,1],[67,2,67,3],[67,4,67,5],[67,6,67,7],[67,8,67,9],[67,10,67,11],[67,12,67,13],[58,0,58,1],[59,0,59,1]]}
[null,null,null,null,null,null,null,null,null,null,null,null,null,null,null,null,null,null,{"$f":"'S1'!T1","v":1},1,null,"FM","Wash"]
[null,null,"COMMONWEALTH OF PENNSYLVANIA",null,null,null,null,null,null,null,"District",null,{"$f":"IF(ISBLANK('S1'!M2),\" \",'S1'!M2)","v":" "}]
[null,null,"DEPARTMENT OF TRANSPORTATION",null,null,null,null,null,null,null,"Plant Code",null,{"$f":"IF(ISBLANK('S1'!M3),\" \",'S1'!M3)","v":" "}]
[null,null,null,null,null,null,null,null,null,null,"Agg Size",null,{"$f":"IF(ISBLANK('S1'!M4),\" \",'S1'!M4)","v":" "},null,null,null,null,null,null,null,null,{"$f":"IF(M5=\"Yes\",1,2)","v":2},{"$f":"IF(M6=\"Yes\",1,2)","v":2}]
[{"$f":"'S1'!A6","v":"Aggregate 2023"},null,null,null,null,null,null,null,{"$f":"IF(T1=1,\"Pounds\",\"Grams\")","v":"Pounds"},null,"Calculate FM?",null,{"$f":"IF(ISBLANK('S1'!M5),\" \",'S1'!M5)","v":"No"}]
[null,null,null,null,null,null,null,null,null,null,"Washed Gradation?",null,{"$f":"IF(ISBLANK('S1'!M6),\" \",'S1'!M6)","v":"No"}]
[null,null,null,null,null,null,null,null,null,null,"Aggregate Identifier",null,{"$f":"IF(ISBLANK('S1'!M7),\" \",'S1'!M7)","v":" "}]
["Material Test Results "]
[]
["Sample No.",null,109,null,110,null,111,null,112,null,113,null,114]
["Date"]
[{"$f":"IF(M6=\"Yes\",\"St. Wt. Before Wash\",\"Starting. Wt.\")","v":"Starting. Wt."},null,null,"% Loss",null,"% Loss",null,"% Loss",null,"% Loss",null,"% Loss",null,"% Loss"]
[{"$f":"IF(M6=\"Yes\",\"Dry Wt. After Wash\",\"Ending Wt.\")","v":"Ending Wt."},null,null,{"$f":"IF(ISBLANK(C13),\" \",IF(ISBLANK(C41),\" \",IF($W$4=1,(C13-C41)/C13*100,((C12-C13)/C12)*100)))","v":" "},null,{"$f":"IF(ISBLANK(E13),\" \",IF(ISBLANK(E41),\" \",IF($W$4=1,(E13-E41)/E13*100,((E12-E13)/E12)*100)))","v":" "},null,{"$f":"IF(ISBLANK(G13),\" \",IF(ISBLANK(G41),\" \",IF($W$4=1,(G13-G41)/G13*100,((G12-G13)/G12)*100)))","v":" "},null,{"$f":"IF(ISBLANK(I13),\" \",IF(ISBLANK(I41),\" \",IF($W$4=1,(I13-I41)/I13*100,((I12-I13)/I12)*100)))","v":" "},null,{"$f":"IF(ISBLANK(K13),\" \",IF(ISBLANK(K41),\" \",IF($W$4=1,(K13-K41)/K13*100,((K12-K13)/K12)*100)))","v":" "},null,{"$f":"IF(ISBLANK(M13),\" \",IF(ISBLANK(M41),\" \",IF($W$4=1,(M13-M41)/M13*100,((M12-M13)/M12)*100)))","v":" "}]
["Wt. Loss",null,{"$f":"IF(ISBLANK(C12),\" \",IF(ISBLANK(C13),\" \",C12-C13))","v":" "},null,{"$f":"IF(ISBLANK(E12),\" \",IF(ISBLANK(E13),\" \",E12-E13))","v":" "},null,{"$f":"IF(ISBLANK(G12),\" \",IF(ISBLANK(G13),\" \",G12-G13))","v":" "},null,{"$f":"IF(ISBLANK(I12),\" \",IF(ISBLANK(I13),\" \",I12-I13))","v":" "},null,{"$f":"IF(ISBLANK(K12),\" \",IF(ISBLANK(K13),\" \",K12-K13))","v":" "},null,{"$f":"IF(ISBLANK(M12),\" \",IF(ISBLANK(M13),\" \",M12-M13))","v":" "}]
[null,null,"Wt","% Passing","Wt","% Passing","Wt","% Passing","Wt","% Passing","Wt","% Passing","Wt","% Passing"]
[2.5,null,null,{"$f":"IF(ISBLANK(C$12),\"  \",IF(ISBLANK(C$13),\" \",IF(ISBLANK(C16),\" \",IF($W$4=1,ROUND((C16+C$14)/C$12*100,0),ROUND(C16/C$12*100,0)))))","v":"  "},null,{"$f":"IF(ISBLANK(E$12),\"  \",IF(ISBLANK(E$13),\" \",IF(ISBLANK(E16),\" \",IF($W$4=1,ROUND((E16+E$14)/E$12*100,0),ROUND(E16/E$12*100,0)))))","v":"  "},null,{"$f":"IF(ISBLANK(G$12),\"  \",IF(ISBLANK(G$13),\" \",IF(ISBLANK(G16),\" \",IF($W$4=1,ROUND((G16+G$14)/G$12*100,0),ROUND(G16/G$12*100,0)))))","v":"  "},null,{"$f":"IF(ISBLANK(I$12),\"  \",IF(ISBLANK(I$13),\" \",IF(ISBLANK(I16),\" \",IF($W$4=1,ROUND((I16+I$14)/I$12*100,0),ROUND(I16/I$12*100,0)))))","v":"  "},null,{"$f":"IF(ISBLANK(K$12),\"  \",IF(ISBLANK(K$13),\" \",IF(ISBLANK(K16),\" \",IF($W$4=1,ROUND((K16+K$14)/K$12*100,0),ROUND(K16/K$12*100,0)))))","v":"  "},null,{"$f":"IF(ISBLANK(M$12),\"  \",IF(ISBLANK(M$13),\" \",IF(ISBLANK(M16),\" \",IF($W$4=1,ROUND((M16+M$14)/M$12*100,0),ROUND(M16/M$12*100,0)))))","v":"  "}]
[2,null,null,{"$f":"IF(ISBLANK(C$12),\"  \",IF(ISBLANK(C$13),\" \",IF(ISBLANK(C17),\" \",IF(W$4=1,ROUND((C17+C$14)/C$12*100,0),ROUND(C17/C$12*100,0)))))","v":"  "},null,{"$f":"IF(ISBLANK(E$12),\"  \",IF(ISBLANK(E$13),\" \",IF(ISBLANK(E17),\" \",IF($W$4=1,ROUND((E17+E$14)/E$12*100,0),ROUND(E17/E$12*100,0)))))","v":"  "},null,{"$f":"IF(ISBLANK(G$12),\"  \",IF(ISBLANK(G$13),\" \",IF(ISBLANK(G17),\" \",IF($W$4=1,ROUND((G17+G$14)/G$12*100,0),ROUND(G17/G$12*100,0)))))","v":"  "},null,{"$f":"IF(ISBLANK(I$12),\"  \",IF(ISBLANK(I$13),\" \",IF(ISBLANK(I17),\" \",IF($W$4=1,ROUND((I17+I$14)/I$12*100,0),ROUND(I17/I$12*100,0)))))","v":"  "},null,{"$f":"IF(ISBLANK(K$12),\"  \",IF(ISBLANK(K$13),\" \",IF(ISBLANK(K17),\" \",IF($W$4=1,ROUND((K17+K$14)/K$12*100,0),ROUND(K17/K$12*100,0)))))","v":"  "},null,{"$f":"IF(ISBLANK(M$12),\"  \",IF(ISBLANK(M$13),\" \",IF(ISBLANK(M17),\" \",IF($W$4=1,ROUND((M17+M$14)/M$12*100,0),ROUND(M17/M$12*100,0)))))","v":"  "}]
[1.5,null,null,"  ",null,"  ",null,"  ",null,"  ",null,"  ",null,"  "]
[1,null,null,"  ",null,"  ",null,"  ",null,"  ",null,"  ",null,"  "]
[0.75,null,null,"  ",null,"  ",null,"  ",null,"  ",null,"  ",null,"  "]
[0.625,null,null,"  ",null,"  ",null,"  ",null,"  ",null,"  ",null,"  "]
[0.5,null,null,"  ",null,"  ",null,"  ",null,"  ",null,"  ",null,"  "]
[0.375,null,null,{"$f":"IF(ISBLANK(C$12),\"  \",IF(ISBLANK(C$13),\" \",IF(ISBLANK(C23),\" \",IF(W$4=1,ROUND((C23+C$14)/C$12*100,0),ROUND(C23/C$12*100,0)))))","v":"  "},null,"  ",null,"  ",null,"  ",null,"  ",null,"  "]
[0.25,null,null,"  ",null,"  ",null,"  ",null,"  ",null,"  ",null,"  "]
[4,null,null,"  ",null,"  ",null,"  ",null,"  ",null,"  ",null,"  "]
[8,null,null,"  ",null,"  ",null,"  ",null,"  ",null,"  ",null,"  "]
[16,null,null,"  ",null,"  ",null,"  ",null,"  ",null,"  ",null,"  "]
[30,null,null,"  ",null,"  ",null,"  ",null,"  ",null,"  ",null,"  "]
[50,null,null,"  ",null,"  ",null,"  ",null,"  ",null,"  ",null,"  "]
[100,null,null,{"$f":"IF(ISBLANK(C$12),\"  \",IF(ISBLANK(C$13),\" \",IF(ISBLANK(C30),\" \",IF(W$4=1,ROUND((C30+C$14)/C$12*100,0),ROUND(C30/C$12*100,0)))))","v":"  "},null,"  ",null,"  ",null,"  ",null,"  ",null,"  "]
[200,null,null,{"$f":"IF(ISBLANK(C$12),\"  \",IF(ISBLANK(C$13),\" \",IF(ISBLANK(C31),\" \",IF(W$4=1,ROUND((C31+C$14)/C$12*100,2),ROUND(C31/C$12*100,1)))))","v":"  "},null,{"$f":"IF(ISBLANK(E$12),\"  \",IF(ISBLANK(E$13),\" \",IF(ISBLANK(E31),\" \",IF($W$4=1,ROUND((E31+E$14)/E$12*100,2),ROUND(E31/E$12*100,2)))))","v":"  "},null,{"$f":"IF(ISBLANK(G$12),\"  \",IF(ISBLANK(G$13),\" \",IF(ISBLANK(G31),\" \",IF($W$4=1,ROUND((G31+G$14)/G$12*100,2),ROUND(G31/G$12*100,2)))))","v":"  "},null,{"$f":"IF(ISBLANK(I$12),\"  \",IF(ISBLANK(I$13),\" \",IF(ISBLANK(I31),\" \",IF($W$4=1,ROUND((I31+I$14)/I$12*100,2),ROUND(I31/I$12*100,2)))))","v":"  "},null,{"$f":"IF(ISBLANK(K$12),\"  \",IF(ISBLANK(K$13),\" \",IF(ISBLANK(K31),\" \",IF($W$4=1,ROUND((K31+K$14)/K$12*100,2),ROUND(K31/K$12*100,2)))))","v":"  "},null,{"$f":"IF(ISBLANK(M$12),\"  \",IF(ISBLANK(M$13),\" \",IF(ISBLANK(M31),\" \",IF($W$4=1,ROUND((M31+M$14)/M$12*100,2),ROUND(M31/M$12*100,2)))))","v":"  "}]
["2.30-3.15","FM",{"$f":"IF(ISBLANK(C12),\" \",IF(ISBLANK(C23),\" \",(600-SUM(D24:D30))/100))","v":" "},null,{"$f":"IF(ISBLANK(E12),\" \",IF(ISBLANK(E23),\" \",(600-SUM(F24:F30))/100))","v":" "},null,{"$f":"IF(ISBLANK(G12),\" \",IF(ISBLANK(G23),\" \",(600-SUM(H24:H30))/100))","v":" "},null,{"$f":"IF(ISBLANK(I12),\" \",IF(ISBLANK(I23),\" \",(600-SUM(J24:J30))/100))","v":" "},null,{"$f":"IF(ISBLANK(K12),\" \",IF(ISBLANK(K23),\" \",(600-SUM(L24:L30))/100))","v":" "},null,{"$f":"IF(ISBLANK(M12),\" \",IF(ISBLANK(M23),\" \",(600-SUM(N24:N30))/100))","v":" "}]
["St. Wt. Before Wash",null,null,"% Passing",null,"% Passing",null,"% Passing",null,"% Passing",null,"% Passing",null,"% Passing"]
["End Wt. After Wash",null,null,{"$f":"IF(ISBLANK(C33),\"\",IF(ISBLANK(C34),\"\",((C33-C34)/C33)*100))","v":""},null,{"$f":"IF(ISBLANK(E33),\"\",IF(ISBLANK(E34),\"\",((E33-E34)/E33)*100))","v":""},null,{"$f":"IF(ISBLANK(G33),\"\",IF(ISBLANK(G34),\"\",((G33-G34)/G33)*100))","v":""},null,{"$f":"IF(ISBLANK(I33),\"\",IF(ISBLANK(I34),\"\",((I33-I34)/I33)*100))","v":""},null,{"$f":"IF(ISBLANK(K33),\"\",IF(ISBLANK(K34),\"\",((K33-K34)/K33)*100))","v":""},null,{"$f":"IF(ISBLANK(M33),\"\",IF(ISBLANK(M34),\"\",((M33-M34)/M33)*100))","v":""}]
["Tested By"]
["Remarks"]
[]
[]
[]
[]
[null,null,{"$f":"MAX(C16:C31)","v":0},null,{"$f":"MAX(E16:E31)","v":0},null,{"$f":"MAX(G16:G31)","v":0},null,{"$f":"MAX(I16:I31)","v":0},null,{"$f":"MAX(K16:K31)","v":0},null,{"$f":"MAX(M16:M31)","v":0}]
[]
["Sample No.",null,115,null,116,null,117,null,118,null,119,null,120]
["Date"]
[{"$f":"IF(M6=\"Yes\",\"St. Wt. Before Wash\",\"Starting. Wt.\")","v":"Starting. Wt."},null,null,"% Loss",null,"% Loss",null,"% Loss",null,"% Loss",null,"% Loss",null,"% Loss"]
[{"$f":"IF(M6=\"Yes\",\"Dry Wt. After Wash\",\"Ending Wt.\")","v":"Ending Wt."},null,null,{"$f":"IF(ISBLANK(C46),\" \",IF(ISBLANK(C74),\" \",IF($W$4=1,(C46-C74)/C46*100,((C45-C46)/C45)*100)))","v":" "},null,{"$f":"IF(ISBLANK(E46),\" \",IF(ISBLANK(E74),\" \",IF($W$4=1,(E46-E74)/E46*100,((E45-E46)/E45)*100)))","v":" "},null,{"$f":"IF(ISBLANK(G46),\" \",IF(ISBLANK(G74),\" \",IF($W$4=1,(G46-G74)/G46*100,((G45-G46)/G45)*100)))","v":" "},null,{"$f":"IF(ISBLANK(I46),\" \",IF(ISBLANK(I74),\" \",IF($W$4=1,(I46-I74)/I46*100,((I45-I46)/I45)*100)))","v":" "},null,{"$f":"IF(ISBLANK(K46),\" \",IF(ISBLANK(K74),\" \",IF($W$4=1,(K46-K74)/K46*100,((K45-K46)/K45)*100)))","v":" "},null,{"$f":"IF(ISBLANK(M46),\" \",IF(ISBLANK(M74),\" \",IF($W$4=1,(M46-M74)/M46*100,((M45-M46)/M45)*100)))","v":" "}]
["Wt. Loss",null,{"$f":"IF(ISBLANK(C45),\" \",IF(ISBLANK(C46),\" \",C45-C46))","v":" "},null,{"$f":"IF(ISBLANK(E45),\" \",IF(ISBLANK(E46),\" \",E45-E46))","v":" "},null,{"$f":"IF(ISBLANK(G45),\" \",IF(ISBLANK(G46),\" \",G45-G46))","v":" "},null,{"$f":"IF(ISBLANK(I45),\" \",IF(ISBLANK(I46),\" \",I45-I46))","v":" "},null,{"$f":"IF(ISBLANK(K45),\" \",IF(ISBLANK(K46),\" \",K45-K46))","v":" "},null,{"$f":"IF(ISBLANK(M45),\" \",IF(ISBLANK(M46),\" \",M45-M46))","v":" "}]
[null,null,"Wt","% Passing","Wt","% Passing","Wt","% Passing","Wt","% Passing","Wt","% Passing","Wt","% Passing"]
[2.5,null,null,{"$f":"IF(ISBLANK(C$45),\"  \",IF(ISBLANK(C$46),\" \",IF(ISBLANK(C49),\" \",IF(W$4=1,ROUND((C49+C$47)/C$45*100,0),ROUND(C49/C$45*100,0)))))","v":"  "},null,{"$f":"IF(ISBLANK(E$45),\"  \",IF(ISBLANK(E$46),\" \",IF(ISBLANK(E49),\" \",IF(Y$4=1,ROUND((E49+E$47)/E$45*100,0),ROUND(E49/E$45*100,0)))))","v":"  "},null,{"$f":"IF(ISBLANK(G$45),\"  \",IF(ISBLANK(G$46),\" \",IF(ISBLANK(G49),\" \",IF(AA$4=1,ROUND((G49+G$47)/G$45*100,0),ROUND(G49/G$45*100,0)))))","v":"  "},null,{"$f":"IF(ISBLANK(I$45),\"  \",IF(ISBLANK(I$46),\" \",IF(ISBLANK(I49),\" \",IF(AC$4=1,ROUND((I49+I$47)/I$45*100,0),ROUND(I49/I$45*100,0)))))","v":"  "},null,{"$f":"IF(ISBLANK(K$45),\"  \",IF(ISBLANK(K$46),\" \",IF(ISBLANK(K49),\" \",IF(AE$4=1,ROUND((K49+K$47)/K$45*100,0),ROUND(K49/K$45*100,0)))))","v":"  "},null,{"$f":"IF(ISBLANK(M$45),\"  \",IF(ISBLANK(M$46),\" \",IF(ISBLANK(M49),\" \",IF(AG$4=1,ROUND((M49+M$47)/M$45*100,0),ROUND(M49/M$45*100,0)))))","v":"  "}]
[2,null,null,{"$f":"IF(ISBLANK(C$45),\"  \",IF(ISBLANK(C$46),\" \",IF(ISBLANK(C50),\" \",IF(W$4=1,ROUND((C50+C$47)/C$45*100,0),ROUND(C50/C$45*100,0)))))","v":"  "},null,"  ",null,"  ",null,"  ",null,"  ",null,{"$f":"IF(ISBLANK(M$45),\"  \",IF(ISBLANK(M$46),\" \",IF(ISBLANK(M50),\" \",IF(AG$4=1,ROUND((M50+M$47)/M$45*100,0),ROUND(M50/M$45*100,0)))))","v":"  "}]
[1.5,null,null,"  ",null,"  ",null,"  ",null,"  ",null,"  ",null,"  "]
[1,null,null,"  ",null,"  ",null,"  ",null,"  ",null,"  ",null,"  "]
[0.75,null,null,"  ",null,"  ",null,"  ",null,"  ",null,"  ",null,"  "]
[0.625,null,null,"  ",null,"  ",null,"  ",null,"  ",null,"  ",null,"  "]
[0.5,null,null,"  ",null,"  ",null,"  ",null,"  ",null,"  ",null,"  "]
[0.375,null,null,"  ",null,"  ",null,"  ",null,"  ",null,"  ",null,"  "]
[0.25,null,null,"  ",null,"  ",null,"  ",null,"  ",null,"  ",null,"  "]
[4,null,null,"  ",null,"  ",null,"  ",null,"  ",null,"  ",null,"  "]
[8,null,null,"  ",null,"  ",null,"  ",null,"  ",null,"  ",null,"  "]
[16,null,null,"  ",null,"  ",null,"  ",null,"  ",null,"  ",null,"  "]
[30,null,null,"  ",null,"  ",null,"  ",null,"  ",null,"  ",null,"  "]
[50,null,null,"  ",null,"  ",null,"  ",null,"  ",null,"  ",null,"  "]
[100,null,null,"  ",null,"  ",null,"  ",null,"  ",null,"  ",null,{"$f":"IF(ISBLANK(M$45),\"  \",IF(ISBLANK(M$46),\" \",IF(ISBLANK(M63),\" \",IF(AG$4=1,ROUND((M63+M$47)/M$45*100,0),ROUND(M63/M$45*100,0)))))","v":"  "}]
[200,null,null,{"$f":"IF(ISBLANK(C$45),\"  \",IF(ISBLANK(C$46),\" \",IF(ISBLANK(C64),\" \",IF(W$4=1,ROUND((C64+C$47)/C$45*100,2),ROUND(C64/C$45*100,2)))))","v":"  "},null,{"$f":"IF(ISBLANK(E$45),\"  \",IF(ISBLANK(E$46),\" \",IF(ISBLANK(E64),\" \",IF(Y$4=1,ROUND((E64+E$47)/E$45*100,2),ROUND(E64/E$45*100,2)))))","v":"  "},null,{"$f":"IF(ISBLANK(G$45),\"  \",IF(ISBLANK(G$46),\" \",IF(ISBLANK(G64),\" \",IF(AA$4=1,ROUND((G64+G$47)/G$45*100,2),ROUND(G64/G$45*100,2)))))","v":"  "},null,{"$f":"IF(ISBLANK(I$45),\"  \",IF(ISBLANK(I$46),\" \",IF(ISBLANK(I64),\" \",IF(AC$4=1,ROUND((I64+I$47)/I$45*100,2),ROUND(I64/I$45*100,2)))))","v":"  "},null,{"$f":"IF(ISBLANK(K$45),\"  \",IF(ISBLANK(K$46),\" \",IF(ISBLANK(K64),\" \",IF(AE$4=1,ROUND((K64+K$47)/K$45*100,2),ROUND(K64/K$45*100,2)))))","v":"  "},null,{"$f":"IF(ISBLANK(M$45),\"  \",IF(ISBLANK(M$46),\" \",IF(ISBLANK(M64),\" \",IF(AG$4=1,ROUND((M64+M$47)/M$45*100,2),ROUND(M64/M$45*100,2)))))","v":"  "}]
["2.30-3.15","FM",{"$f":"IF(ISBLANK(C45),\" \",IF(ISBLANK(C56),\" \",(600-SUM(D57:D63))/100))","v":" "},null,{"$f":"IF(ISBLANK(E45),\" \",IF(ISBLANK(E56),\" \",(600-SUM(F57:F63))/100))","v":" "},null,{"$f":"IF(ISBLANK(G45),\" \",IF(ISBLANK(G56),\" \",(600-SUM(H57:H63))/100))","v":" "},null,{"$f":"IF(ISBLANK(I45),\" \",IF(ISBLANK(I56),\" \",(600-SUM(J57:J63))/100))","v":" "},null,{"$f":"IF(ISBLANK(K45),\" \",IF(ISBLANK(K56),\" \",(600-SUM(L57:L63))/100))","v":" "},null,{"$f":"IF(ISBLANK(M45),\" \",IF(ISBLANK(M56),\" \",(600-SUM(N57:N63))/100))","v":" "}]
["St. Wt. Before Wash",null,null,"% Passing",null,"% Passing",null,"% Passing",null,"% Passing",null,"% Passing",null,"% Passing"]
["End Wt. After Wash",null,null,{"$f":"IF(ISBLANK(C66),\"\",IF(ISBLANK(C67),\"\",((C66-C67)/C66)*100))","v":""},null,{"$f":"IF(ISBLANK(E66),\"\",IF(ISBLANK(E67),\"\",((E66-E67)/E66)*100))","v":""},null,{"$f":"IF(ISBLANK(G66),\"\",IF(ISBLANK(G67),\"\",((G66-G67)/G66)*100))","v":""},null,{"$f":"IF(ISBLANK(I66),\"\",IF(ISBLANK(I67),\"\",((I66-I67)/I66)*100))","v":""},null,{"$f":"IF(ISBLANK(K66),\"\",IF(ISBLANK(K67),\"\",((K66-K67)/K66)*100))","v":""},null,{"$f":"IF(ISBLANK(M66),\"\",IF(ISBLANK(M67),\"\",((M66-M67)/M66)*100))","v":""}]
["Tested By"]
["Remarks"]
[]
[]
[]
[]
[null,null,{"$f":"MAX(C49:C64)","v":0},null,{"$f":"MAX(E49:E64)","v":0},null,{"$f":"MAX(G49:G64)","v":0},null,{"$f":"MAX(I49:I64)","v":0},null,{"$f":"MAX(K49:K64)","v":0},null,{"$f":"MAX(M49:M64)","v":0}]

{"sheet":"S11","index":10,"n_rows":74,"n_cols":23,"rows_kept":74,"cut":false,"hidden":true,"merged":[[7,0,7,13],[5,12,5,13],[42,4,42,5],[42,6,42,7],[42,0,42,1],[42,2,42,3],[44,0,44,1],[45,0,45,1],[4,10,4,11],[4,12,4,13],[33,0,33,1],[34,0,34,1],[34,2,34,3],[34,4,34,5],[34,6,34,7],[34,8,34,9],[34,10,34,11],[9,12,9,13],[10,12,10,13],[13,12,13,13],[14,0,14,1],[15,0,15,1],[18,0,18,1],[19,0,19,1],[1,12,1,13],[2,10,2,11],[2,12,2,13],[3,10,3,11],[3,12,3,13],[31,12,31,13],[31,2,31,3],[32,0,32,1],[29,0,29,1],[28,0,28,1],[27,0,27,1],[26,0,26,1],[0,8,3,9],[1,2,1,7],[2,2,2,7],[3,2,3,7],[4,0,4,1],[31,8,31,9],[31,10,31,11],[10,0,10,1],[12,0,12,1],[22,0,22,1],[9,0,9,1],[5,10,5,11],[0,0,3,1],[1,10,1,11],[11,0,11,1],[31,4,31,5],[31,6,31,7],[30,0,30,1],[9,2,9,3],[9,4,9,5],[9,6,9,7],[9,8,9,9],[9,10,9,11],[10,2,10,3],[10,4,10,5],[10,6,10,7],[10,8,10,9],[10,10,10,11],[13,0,13,1],[13,2,13,3],[13,4,13,5],[13,6,13,7],[13,8,13,9],[13,10,13,11],[16,0,16,1],[17,0,17,1],[20,0,20,1],[21,0,21,1],[23,0,23,1],[24,0,24,1],[25,0,25,1],[34,12,34,13],[35,0,37,1],[35,2,37,3],[35,4,37,5],[35,6,37,7],[35,8,37,9],[35,10,37,11],[35,12,37,13],[43,0,43,1],[43,2,43,3],[43,4,43,5],[43,6,43,7],[43,8,43,9],[43,10,43,11],[43,12,43,13],[42,8,42,9],[42,10,42,11],[42,12,42,13],[46,0,46,1],[46,2,46,3],[46,4,46,5],[46,6,46,7],[46,8,46,9],[46,10,46,11],[46,12,46,13],[47,0,47,1],[48,0,48,1],[60,0,60,1],[61,0,61,1],[62,0,62,1],[63,0,63,1],[64,2,64,3],[64,4,64,5],[64,6,64,7],[49,0,49,1],[50,0,50,1],[51,0,51,1],[52,0,52,1],[53,0,53,1],[54,0,54,1],[55,0,55,1],[56,0,56,1],[57,0,57,1],[6,10,6,11],[6,12,6,13],[4,8,4,9],[68,0,70,1],[68,2,70,3],[68,4,70,5],[68,6,70,7],[68,8,70,9],[68,10,70,11],[68,12,70,13],[64,8,64,9],[64,10,64,11],[64,12,64,13],[65,0,65,1],[66,0,66,1],[67,0,67,1],[67,2,67,3],[67,4,67,5],[67,6,67,7],[67,8,67,9],[67,10,67,11],[67,12,67,13],[58,0,58,1],[59,0,59,1]]}
[null,null,null,null,null,null,null,null,null,null,null,null,null,null,null,null,null,null,{"$f":"'S1'!T1","v":1},1,null,"FM","Wash"]
[null,null,"COMMONWEALTH OF PENNSYLVANIA",null,null,null,null,null,null,null,"District",null,{"$f":"IF(ISBLANK('S1'!M2),\" \",'S1'!M2)","v":" "}]
[null,null,"DEPARTMENT OF TRANSPORTATION",null,null,null,null,null,null,null,"Plant Code",null,{"$f":"IF(ISBLANK('S1'!M3),\" \",'S1'!M3)","v":" "}]
[null,null,null,null,null,null,null,null,null,null,"Agg Size",null,{"$f":"IF(ISBLANK('S1'!M4),\" \",'S1'!M4)","v":" "},null,null,null,null,null,null,null,null,{"$f":"IF(M5=\"Yes\",1,2)","v":2},{"$f":"IF(M6=\"Yes\",1,2)","v":2}]
[{"$f":"'S1'!A6","v":"Aggregate 2023"},null,null,null,null,null,null,null,{"$f":"IF(T1=1,\"Pounds\",\"Grams\")","v":"Pounds"},null,"Calculate FM?",null,{"$f":"IF(ISBLANK('S1'!M5),\" \",'S1'!M5)","v":"No"}]
[null,null,null,null,null,null,null,null,null,null,"Washed Gradation?",null,{"$f":"IF(ISBLANK('S1'!M6),\" \",'S1'!M6)","v":"No"}]
[null,null,null,null,null,null,null,null,null,null,"Aggregate Identifier",null,{"$f":"IF(ISBLANK('S1'!M7),\" \",'S1'!M7)","v":" "}]
["Material Test Results "]
[]
["Sample No.",null,121,null,122,null,123,null,124,null,125,null,126]
["Date"]
[{"$f":"IF(M6=\"Yes\",\"St. Wt. Before Wash\",\"Starting. Wt.\")","v":"Starting. Wt."},null,null,"% Loss",null,"% Loss",null,"% Loss",null,"% Loss",null,"% Loss",null,"% Loss"]
[{"$f":"IF(M6=\"Yes\",\"Dry Wt. After Wash\",\"Ending Wt.\")","v":"Ending Wt."},null,null,{"$f":"IF(ISBLANK(C13),\" \",IF(ISBLANK(C41),\" \",IF($W$4=1,(C13-C41)/C13*100,((C12-C13)/C12)*100)))","v":" "},null,{"$f":"IF(ISBLANK(E13),\" \",IF(ISBLANK(E41),\" \",IF($W$4=1,(E13-E41)/E13*100,((E12-E13)/E12)*100)))","v":" "},null,{"$f":"IF(ISBLANK(G13),\" \",IF(ISBLANK(G41),\" \",IF($W$4=1,(G13-G41)/G13*100,((G12-G13)/G12)*100)))","v":" "},null,{"$f":"IF(ISBLANK(I13),\" \",IF(ISBLANK(I41),\" \",IF($W$4=1,(I13-I41)/I13*100,((I12-I13)/I12)*100)))","v":" "},null,{"$f":"IF(ISBLANK(K13),\" \",IF(ISBLANK(K41),\" \",IF($W$4=1,(K13-K41)/K13*100,((K12-K13)/K12)*100)))","v":" "},null,{"$f":"IF(ISBLANK(M13),\" \",IF(ISBLANK(M41),\" \",IF($W$4=1,(M13-M41)/M13*100,((M12-M13)/M12)*100)))","v":" "}]
["Wt. Loss",null,{"$f":"IF(ISBLANK(C12),\" \",IF(ISBLANK(C13),\" \",C12-C13))","v":" "},null,{"$f":"IF(ISBLANK(E12),\" \",IF(ISBLANK(E13),\" \",E12-E13))","v":" "},null,{"$f":"IF(ISBLANK(G12),\" \",IF(ISBLANK(G13),\" \",G12-G13))","v":" "},null,{"$f":"IF(ISBLANK(I12),\" \",IF(ISBLANK(I13),\" \",I12-I13))","v":" "},null,{"$f":"IF(ISBLANK(K12),\" \",IF(ISBLANK(K13),\" \",K12-K13))","v":" "},null,{"$f":"IF(ISBLANK(M12),\" \",IF(ISBLANK(M13),\" \",M12-M13))","v":" "}]
[null,null,"Wt","% Passing","Wt","% Passing","Wt","% Passing","Wt","% Passing","Wt","% Passing","Wt","% Passing"]
[2.5,null,null,{"$f":"IF(ISBLANK(C$12),\"  \",IF(ISBLANK(C$13),\" \",IF(ISBLANK(C16),\" \",IF($W$4=1,ROUND((C16+C$14)/C$12*100,0),ROUND(C16/C$12*100,0)))))","v":"  "},null,{"$f":"IF(ISBLANK(E$12),\"  \",IF(ISBLANK(E$13),\" \",IF(ISBLANK(E16),\" \",IF($W$4=1,ROUND((E16+E$14)/E$12*100,0),ROUND(E16/E$12*100,0)))))","v":"  "},null,{"$f":"IF(ISBLANK(G$12),\"  \",IF(ISBLANK(G$13),\" \",IF(ISBLANK(G16),\" \",IF($W$4=1,ROUND((G16+G$14)/G$12*100,0),ROUND(G16/G$12*100,0)))))","v":"  "},null,{"$f":"IF(ISBLANK(I$12),\"  \",IF(ISBLANK(I$13),\" \",IF(ISBLANK(I16),\" \",IF($W$4=1,ROUND((I16+I$14)/I$12*100,0),ROUND(I16/I$12*100,0)))))","v":"  "},null,{"$f":"IF(ISBLANK(K$12),\"  \",IF(ISBLANK(K$13),\" \",IF(ISBLANK(K16),\" \",IF($W$4=1,ROUND((K16+K$14)/K$12*100,0),ROUND(K16/K$12*100,0)))))","v":"  "},null,{"$f":"IF(ISBLANK(M$12),\"  \",IF(ISBLANK(M$13),\" \",IF(ISBLANK(M16),\" \",IF($W$4=1,ROUND((M16+M$14)/M$12*100,0),ROUND(M16/M$12*100,0)))))","v":"  "}]
[2,null,null,{"$f":"IF(ISBLANK(C$12),\"  \",IF(ISBLANK(C$13),\" \",IF(ISBLANK(C17),\" \",IF(W$4=1,ROUND((C17+C$14)/C$12*100,0),ROUND(C17/C$12*100,0)))))","v":"  "},null,{"$f":"IF(ISBLANK(E$12),\"  \",IF(ISBLANK(E$13),\" \",IF(ISBLANK(E17),\" \",IF($W$4=1,ROUND((E17+E$14)/E$12*100,0),ROUND(E17/E$12*100,0)))))","v":"  "},null,{"$f":"IF(ISBLANK(G$12),\"  \",IF(ISBLANK(G$13),\" \",IF(ISBLANK(G17),\" \",IF($W$4=1,ROUND((G17+G$14)/G$12*100,0),ROUND(G17/G$12*100,0)))))","v":"  "},null,{"$f":"IF(ISBLANK(I$12),\"  \",IF(ISBLANK(I$13),\" \",IF(ISBLANK(I17),\" \",IF($W$4=1,ROUND((I17+I$14)/I$12*100,0),ROUND(I17/I$12*100,0)))))","v":"  "},null,{"$f":"IF(ISBLANK(K$12),\"  \",IF(ISBLANK(K$13),\" \",IF(ISBLANK(K17),\" \",IF($W$4=1,ROUND((K17+K$14)/K$12*100,0),ROUND(K17/K$12*100,0)))))","v":"  "},null,{"$f":"IF(ISBLANK(M$12),\"  \",IF(ISBLANK(M$13),\" \",IF(ISBLANK(M17),\" \",IF($W$4=1,ROUND((M17+M$14)/M$12*100,0),ROUND(M17/M$12*100,0)))))","v":"  "}]
[1.5,null,null,"  ",null,"  ",null,"  ",null,"  ",null,"  ",null,"  "]
[1,null,null,"  ",null,"  ",null,"  ",null,"  ",null,"  ",null,"  "]
[0.75,null,null,"  ",null,"  ",null,"  ",null,"  ",null,"  ",null,"  "]
[0.625,null,null,"  ",null,"  ",null,"  ",null,"  ",null,"  ",null,"  "]
[0.5,null,null,"  ",null,"  ",null,"  ",null,"  ",null,"  ",null,"  "]
[0.375,null,null,{"$f":"IF(ISBLANK(C$12),\"  \",IF(ISBLANK(C$13),\" \",IF(ISBLANK(C23),\" \",IF(W$4=1,ROUND((C23+C$14)/C$12*100,0),ROUND(C23/C$12*100,0)))))","v":"  "},null,"  ",null,"  ",null,"  ",null,"  ",null,"  "]
[0.25,null,null,"  ",null,"  ",null,"  ",null,"  ",null,"  ",null,"  "]
[4,null,null,"  ",null,"  ",null,"  ",null,"  ",null,"  ",null,"  "]
[8,null,null,"  ",null,"  ",null,"  ",null,"  ",null,"  ",null,"  "]
[16,null,null,"  ",null,"  ",null,"  ",null,"  ",null,"  ",null,"  "]
[30,null,null,"  ",null,"  ",null,"  ",null,"  ",null,"  ",null,"  "]
[50,null,null,"  ",null,"  ",null,"  ",null,"  ",null,"  ",null,"  "]
[100,null,null,{"$f":"IF(ISBLANK(C$12),\"  \",IF(ISBLANK(C$13),\" \",IF(ISBLANK(C30),\" \",IF(W$4=1,ROUND((C30+C$14)/C$12*100,0),ROUND(C30/C$12*100,0)))))","v":"  "},null,"  ",null,"  ",null,"  ",null,"  ",null,"  "]
[200,null,null,{"$f":"IF(ISBLANK(C$12),\"  \",IF(ISBLANK(C$13),\" \",IF(ISBLANK(C31),\" \",IF(W$4=1,ROUND((C31+C$14)/C$12*100,2),ROUND(C31/C$12*100,1)))))","v":"  "},null,{"$f":"IF(ISBLANK(E$12),\"  \",IF(ISBLANK(E$13),\" \",IF(ISBLANK(E31),\" \",IF($W$4=1,ROUND((E31+E$14)/E$12*100,2),ROUND(E31/E$12*100,2)))))","v":"  "},null,{"$f":"IF(ISBLANK(G$12),\"  \",IF(ISBLANK(G$13),\" \",IF(ISBLANK(G31),\" \",IF($W$4=1,ROUND((G31+G$14)/G$12*100,2),ROUND(G31/G$12*100,2)))))","v":"  "},null,{"$f":"IF(ISBLANK(I$12),\"  \",IF(ISBLANK(I$13),\" \",IF(ISBLANK(I31),\" \",IF($W$4=1,ROUND((I31+I$14)/I$12*100,2),ROUND(I31/I$12*100,2)))))","v":"  "},null,{"$f":"IF(ISBLANK(K$12),\"  \",IF(ISBLANK(K$13),\" \",IF(ISBLANK(K31),\" \",IF($W$4=1,ROUND((K31+K$14)/K$12*100,2),ROUND(K31/K$12*100,2)))))","v":"  "},null,{"$f":"IF(ISBLANK(M$12),\"  \",IF(ISBLANK(M$13),\" \",IF(ISBLANK(M31),\" \",IF($W$4=1,ROUND((M31+M$14)/M$12*100,2),ROUND(M31/M$12*100,2)))))","v":"  "}]
["2.30-3.15","FM",{"$f":"IF(ISBLANK(C12),\" \",IF(ISBLANK(C23),\" \",(600-SUM(D24:D30))/100))","v":" "},null,{"$f":"IF(ISBLANK(E12),\" \",IF(ISBLANK(E23),\" \",(600-SUM(F24:F30))/100))","v":" "},null,{"$f":"IF(ISBLANK(G12),\" \",IF(ISBLANK(G23),\" \",(600-SUM(H24:H30))/100))","v":" "},null,{"$f":"IF(ISBLANK(I12),\" \",IF(ISBLANK(I23),\" \",(600-SUM(J24:J30))/100))","v":" "},null,{"$f":"IF(ISBLANK(K12),\" \",IF(ISBLANK(K23),\" \",(600-SUM(L24:L30))/100))","v":" "},null,{"$f":"IF(ISBLANK(M12),\" \",IF(ISBLANK(M23),\" \",(600-SUM(N24:N30))/100))","v":" "}]
["St. Wt. Before Wash",null,null,"% Passing",null,"% Passing",null,"% Passing",null,"% Passing",null,"% Passing",null,"% Passing"]
["End Wt. After Wash",null,null,{"$f":"IF(ISBLANK(C33),\"\",IF(ISBLANK(C34),\"\",((C33-C34)/C33)*100))","v":""},null,{"$f":"IF(ISBLANK(E33),\"\",IF(ISBLANK(E34),\"\",((E33-E34)/E33)*100))","v":""},null,{"$f":"IF(ISBLANK(G33),\"\",IF(ISBLANK(G34),\"\",((G33-G34)/G33)*100))","v":""},null,{"$f":"IF(ISBLANK(I33),\"\",IF(ISBLANK(I34),\"\",((I33-I34)/I33)*100))","v":""},null,{"$f":"IF(ISBLANK(K33),\"\",IF(ISBLANK(K34),\"\",((K33-K34)/K33)*100))","v":""},null,{"$f":"IF(ISBLANK(M33),\"\",IF(ISBLANK(M34),\"\",((M33-M34)/M33)*100))","v":""}]
["Tested By"]
["Remarks"]
[]
[]
[]
[]
[null,null,{"$f":"MAX(C16:C31)","v":0},null,{"$f":"MAX(E16:E31)","v":0},null,{"$f":"MAX(G16:G31)","v":0},null,{"$f":"MAX(I16:I31)","v":0},null,{"$f":"MAX(K16:K31)","v":0},null,{"$f":"MAX(M16:M31)","v":0}]
[]
["Sample No.",null,127,null,128,null,129,null,130,null,131,null,132]
["Date"]
[{"$f":"IF(M6=\"Yes\",\"St. Wt. Before Wash\",\"Starting. Wt.\")","v":"Starting. Wt."},null,null,"% Loss",null,"% Loss",null,"% Loss",null,"% Loss",null,"% Loss",null,"% Loss"]
[{"$f":"IF(M6=\"Yes\",\"Dry Wt. After Wash\",\"Ending Wt.\")","v":"Ending Wt."},null,null,{"$f":"IF(ISBLANK(C46),\" \",IF(ISBLANK(C74),\" \",IF($W$4=1,(C46-C74)/C46*100,((C45-C46)/C45)*100)))","v":" "},null,{"$f":"IF(ISBLANK(E46),\" \",IF(ISBLANK(E74),\" \",IF($W$4=1,(E46-E74)/E46*100,((E45-E46)/E45)*100)))","v":" "},null,{"$f":"IF(ISBLANK(G46),\" \",IF(ISBLANK(G74),\" \",IF($W$4=1,(G46-G74)/G46*100,((G45-G46)/G45)*100)))","v":" "},null,{"$f":"IF(ISBLANK(I46),\" \",IF(ISBLANK(I74),\" \",IF($W$4=1,(I46-I74)/I46*100,((I45-I46)/I45)*100)))","v":" "},null,{"$f":"IF(ISBLANK(K46),\" \",IF(ISBLANK(K74),\" \",IF($W$4=1,(K46-K74)/K46*100,((K45-K46)/K45)*100)))","v":" "},null,{"$f":"IF(ISBLANK(M46),\" \",IF(ISBLANK(M74),\" \",IF($W$4=1,(M46-M74)/M46*100,((M45-M46)/M45)*100)))","v":" "}]
["Wt. Loss",null,{"$f":"IF(ISBLANK(C45),\" \",IF(ISBLANK(C46),\" \",C45-C46))","v":" "},null,{"$f":"IF(ISBLANK(E45),\" \",IF(ISBLANK(E46),\" \",E45-E46))","v":" "},null,{"$f":"IF(ISBLANK(G45),\" \",IF(ISBLANK(G46),\" \",G45-G46))","v":" "},null,{"$f":"IF(ISBLANK(I45),\" \",IF(ISBLANK(I46),\" \",I45-I46))","v":" "},null,{"$f":"IF(ISBLANK(K45),\" \",IF(ISBLANK(K46),\" \",K45-K46))","v":" "},null,{"$f":"IF(ISBLANK(M45),\" \",IF(ISBLANK(M46),\" \",M45-M46))","v":" "}]
[null,null,"Wt","% Passing","Wt","% Passing","Wt","% Passing","Wt","% Passing","Wt","% Passing","Wt","% Passing"]
[2.5,null,null,{"$f":"IF(ISBLANK(C$45),\"  \",IF(ISBLANK(C$46),\" \",IF(ISBLANK(C49),\" \",IF(W$4=1,ROUND((C49+C$47)/C$45*100,0),ROUND(C49/C$45*100,0)))))","v":"  "},null,{"$f":"IF(ISBLANK(E$45),\"  \",IF(ISBLANK(E$46),\" \",IF(ISBLANK(E49),\" \",IF(Y$4=1,ROUND((E49+E$47)/E$45*100,0),ROUND(E49/E$45*100,0)))))","v":"  "},null,{"$f":"IF(ISBLANK(G$45),\"  \",IF(ISBLANK(G$46),\" \",IF(ISBLANK(G49),\" \",IF(AA$4=1,ROUND((G49+G$47)/G$45*100,0),ROUND(G49/G$45*100,0)))))","v":"  "},null,{"$f":"IF(ISBLANK(I$45),\"  \",IF(ISBLANK(I$46),\" \",IF(ISBLANK(I49),\" \",IF(AC$4=1,ROUND((I49+I$47)/I$45*100,0),ROUND(I49/I$45*100,0)))))","v":"  "},null,{"$f":"IF(ISBLANK(K$45),\"  \",IF(ISBLANK(K$46),\" \",IF(ISBLANK(K49),\" \",IF(AE$4=1,ROUND((K49+K$47)/K$45*100,0),ROUND(K49/K$45*100,0)))))","v":"  "},null,{"$f":"IF(ISBLANK(M$45),\"  \",IF(ISBLANK(M$46),\" \",IF(ISBLANK(M49),\" \",IF(AG$4=1,ROUND((M49+M$47)/M$45*100,0),ROUND(M49/M$45*100,0)))))","v":"  "}]
[2,null,null,{"$f":"IF(ISBLANK(C$45),\"  \",IF(ISBLANK(C$46),\" \",IF(ISBLANK(C50),\" \",IF(W$4=1,ROUND((C50+C$47)/C$45*100,0),ROUND(C50/C$45*100,0)))))","v":"  "},null,"  ",null,"  ",null,"  ",null,"  ",null,{"$f":"IF(ISBLANK(M$45),\"  \",IF(ISBLANK(M$46),\" \",IF(ISBLANK(M50),\" \",IF(AG$4=1,ROUND((M50+M$47)/M$45*100,0),ROUND(M50/M$45*100,0)))))","v":"  "}]
[1.5,null,null,"  ",null,"  ",null,"  ",null,"  ",null,"  ",null,"  "]
[1,null,null,"  ",null,"  ",null,"  ",null,"  ",null,"  ",null,"  "]
[0.75,null,null,"  ",null,"  ",null,"  ",null,"  ",null,"  ",null,"  "]
[0.625,null,null,"  ",null,"  ",null,"  ",null,"  ",null,"  ",null,"  "]
[0.5,null,null,"  ",null,"  ",null,"  ",null,"  ",null,"  ",null,"  "]
[0.375,null,null,"  ",null,"  ",null,"  ",null,"  ",null,"  ",null,"  "]
[0.25,null,null,"  ",null,"  ",null,"  ",null,"  ",null,"  ",null,"  "]
[4,null,null,"  ",null,"  ",null,"  ",null,"  ",null,"  ",null,"  "]
[8,null,null,"  ",null,"  ",null,"  ",null,"  ",null,"  ",null,"  "]
[16,null,null,"  ",null,"  ",null,"  ",null,"  ",null,"  ",null,"  "]
[30,null,null,"  ",null,"  ",null,"  ",null,"  ",null,"  ",null,"  "]
[50,null,null,"  ",null,"  ",null,"  ",null,"  ",null,"  ",null,"  "]
[100,null,null,"  ",null,"  ",null,"  ",null,"  ",null,"  ",null,{"$f":"IF(ISBLANK(M$45),\"  \",IF(ISBLANK(M$46),\" \",IF(ISBLANK(M63),\" \",IF(AG$4=1,ROUND((M63+M$47)/M$45*100,0),ROUND(M63/M$45*100,0)))))","v":"  "}]
[200,null,null,{"$f":"IF(ISBLANK(C$45),\"  \",IF(ISBLANK(C$46),\" \",IF(ISBLANK(C64),\" \",IF(W$4=1,ROUND((C64+C$47)/C$45*100,2),ROUND(C64/C$45*100,2)))))","v":"  "},null,{"$f":"IF(ISBLANK(E$45),\"  \",IF(ISBLANK(E$46),\" \",IF(ISBLANK(E64),\" \",IF(Y$4=1,ROUND((E64+E$47)/E$45*100,2),ROUND(E64/E$45*100,2)))))","v":"  "},null,{"$f":"IF(ISBLANK(G$45),\"  \",IF(ISBLANK(G$46),\" \",IF(ISBLANK(G64),\" \",IF(AA$4=1,ROUND((G64+G$47)/G$45*100,2),ROUND(G64/G$45*100,2)))))","v":"  "},null,{"$f":"IF(ISBLANK(I$45),\"  \",IF(ISBLANK(I$46),\" \",IF(ISBLANK(I64),\" \",IF(AC$4=1,ROUND((I64+I$47)/I$45*100,2),ROUND(I64/I$45*100,2)))))","v":"  "},null,{"$f":"IF(ISBLANK(K$45),\"  \",IF(ISBLANK(K$46),\" \",IF(ISBLANK(K64),\" \",IF(AE$4=1,ROUND((K64+K$47)/K$45*100,2),ROUND(K64/K$45*100,2)))))","v":"  "},null,{"$f":"IF(ISBLANK(M$45),\"  \",IF(ISBLANK(M$46),\" \",IF(ISBLANK(M64),\" \",IF(AG$4=1,ROUND((M64+M$47)/M$45*100,2),ROUND(M64/M$45*100,2)))))","v":"  "}]
["2.30-3.15","FM",{"$f":"IF(ISBLANK(C45),\" \",IF(ISBLANK(C56),\" \",(600-SUM(D57:D63))/100))","v":" "},null,{"$f":"IF(ISBLANK(E45),\" \",IF(ISBLANK(E56),\" \",(600-SUM(F57:F63))/100))","v":" "},null,{"$f":"IF(ISBLANK(G45),\" \",IF(ISBLANK(G56),\" \",(600-SUM(H57:H63))/100))","v":" "},null,{"$f":"IF(ISBLANK(I45),\" \",IF(ISBLANK(I56),\" \",(600-SUM(J57:J63))/100))","v":" "},null,{"$f":"IF(ISBLANK(K45),\" \",IF(ISBLANK(K56),\" \",(600-SUM(L57:L63))/100))","v":" "},null,{"$f":"IF(ISBLANK(M45),\" \",IF(ISBLANK(M56),\" \",(600-SUM(N57:N63))/100))","v":" "}]
["St. Wt. Before Wash",null,null,"% Passing",null,"% Passing",null,"% Passing",null,"% Passing",null,"% Passing",null,"% Passing"]
["End Wt. After Wash",null,null,{"$f":"IF(ISBLANK(C66),\"\",IF(ISBLANK(C67),\"\",((C66-C67)/C66)*100))","v":""},null,{"$f":"IF(ISBLANK(E66),\"\",IF(ISBLANK(E67),\"\",((E66-E67)/E66)*100))","v":""},null,{"$f":"IF(ISBLANK(G66),\"\",IF(ISBLANK(G67),\"\",((G66-G67)/G66)*100))","v":""},null,{"$f":"IF(ISBLANK(I66),\"\",IF(ISBLANK(I67),\"\",((I66-I67)/I66)*100))","v":""},null,{"$f":"IF(ISBLANK(K66),\"\",IF(ISBLANK(K67),\"\",((K66-K67)/K66)*100))","v":""},null,{"$f":"IF(ISBLANK(M66),\"\",IF(ISBLANK(M67),\"\",((M66-M67)/M66)*100))","v":""}]
["Tested By"]
["Remarks"]
[]
[]
[]
[]
[null,null,{"$f":"MAX(C49:C64)","v":0},null,{"$f":"MAX(E49:E64)","v":0},null,{"$f":"MAX(G49:G64)","v":0},null,{"$f":"MAX(I49:I64)","v":0},null,{"$f":"MAX(K49:K64)","v":0},null,{"$f":"MAX(M49:M64)","v":0}]

{"sheet":"S12","index":11,"n_rows":74,"n_cols":23,"rows_kept":74,"cut":false,"hidden":true,"merged":[[27,0,27,1],[11,0,11,1],[31,4,31,5],[31,6,31,7],[32,0,32,1],[28,0,28,1],[31,12,31,13],[31,8,31,9],[31,2,31,3],[30,0,30,1],[29,0,29,1],[14,0,14,1],[19,0,19,1],[20,0,20,1],[21,0,21,1],[23,0,23,1],[24,0,24,1],[25,0,25,1],[26,0,26,1],[22,0,22,1],[42,10,42,11],[42,12,42,13],[31,10,31,11],[34,12,34,13],[42,6,42,7],[42,8,42,9],[42,0,42,1],[42,2,42,3],[42,4,42,5],[33,0,33,1],[34,0,34,1],[34,2,34,3],[34,4,34,5],[34,6,34,7],[34,8,34,9],[34,10,34,11],[35,0,37,1],[35,2,37,3],[35,4,37,5],[35,6,37,7],[35,8,37,9],[35,10,37,11],[35,12,37,13],[0,0,3,1],[0,8,3,9],[1,2,1,7],[2,2,2,7],[1,10,1,11],[1,12,1,13],[2,10,2,11],[2,12,2,13],[3,10,3,11],[3,12,3,13],[3,2,3,7],[10,12,10,13],[4,8,4,9],[7,0,7,13],[13,0,13,1],[13,2,13,3],[13,4,13,5],[13,6,13,7],[13,8,13,9],[13,10,13,11],[13,12,13,13],[5,10,5,11],[5,12,5,13],[4,10,4,11],[4,12,4,13],[9,2,9,3],[9,4,9,5],[9,6,9,7],[9,8,9,9],[9,10,9,11],[9,12,9,13],[4,0,4,1],[9,0,9,1],[12,0,12,1],[10,2,10,3],[10,4,10,5],[10,6,10,7],[10,8,10,9],[10,10,10,11],[10,0,10,1],[15,0,15,1],[16,0,16,1],[17,0,17,1],[18,0,18,1],[43,0,43,1],[43,2,43,3],[43,4,43,5],[43,6,43,7],[43,8,43,9],[43,10,43,11],[43,12,43,13],[46,0,46,1],[46,2,46,3],[46,4,46,5],[46,6,46,7],[46,8,46,9],[46,10,46,11],[46,12,46,13],[44,0,44,1],[45,0,45,1],[57,0,57,1],[58,0,58,1],[59,0,59,1],[60,0,60,1],[61,0,61,1],[62,0,62,1],[63,0,63,1],[64,2,64,3],[47,0,47,1],[48,0,48,1],[49,0,49,1],[50,0,50,1],[51,0,51,1],[52,0,52,1],[53,0,53,1],[54,0,54,1],[55,0,55,1],[6,10,6,11],[6,12,6,13],[64,4,64,5],[64,6,64,7],[68,0,70,1],[68,2,70,3],[68,4,70,5],[68,6,70,7],[68,8,70,9],[68,10,70,11],[68,12,70,13],[64,8,64,9],[64,10,64,11],[64,12,64,13],[65,0,65,1],[66,0,66,1],[67,0,67,1],[67,2,67,3],[67,4,67,5],[67,6,67,7],[67,8,67,9],[67,10,67,11],[67,12,67,13],[56,0,56,1]]}
[null,null,null,null,null,null,null,null,null,null,null,null,null,null,null,null,null,null,{"$f":"'S1'!T1","v":1},1,null,"FM","Wash"]
[null,null,"COMMONWEALTH OF PENNSYLVANIA",null,null,null,null,null,null,null,"District",null,{"$f":"IF(ISBLANK('S1'!M2),\" \",'S1'!M2)","v":" "}]
[null,null,"DEPARTMENT OF TRANSPORTATION",null,null,null,null,null,null,null,"Plant Code",null,{"$f":"IF(ISBLANK('S1'!M3),\" \",'S1'!M3)","v":" "}]
[null,null,null,null,null,null,null,null,null,null,"Agg Size",null,{"$f":"IF(ISBLANK('S1'!M4),\" \",'S1'!M4)","v":" "},null,null,null,null,null,null,null,null,{"$f":"IF(M5=\"Yes\",1,2)","v":2},{"$f":"IF(M6=\"Yes\",1,2)","v":2}]
[{"$f":"'S1'!A6","v":"Aggregate 2023"},null,null,null,null,null,null,null,{"$f":"IF(T1=1,\"Pounds\",\"Grams\")","v":"Pounds"},null,"Calculate FM?",null,{"$f":"IF(ISBLANK('S1'!M5),\" \",'S1'!M5)","v":"No"}]
[null,null,null,null,null,null,null,null,null,null,"Washed Gradation?",null,{"$f":"IF(ISBLANK('S1'!M6),\" \",'S1'!M6)","v":"No"}]
[null,null,null,null,null,null,null,null,null,null,"Aggregate Identifier",null,{"$f":"IF(ISBLANK('S1'!M7),\" \",'S1'!M7)","v":" "}]
["Material Test Results "]
[]
["Sample No.",null,133,null,134,null,135,null,136,null,137,null,138]
["Date"]
[{"$f":"IF(M6=\"Yes\",\"St. Wt. Before Wash\",\"Starting. Wt.\")","v":"Starting. Wt."},null,null,"% Loss",null,"% Loss",null,"% Loss",null,"% Loss",null,"% Loss",null,"% Loss"]
[{"$f":"IF(M6=\"Yes\",\"Dry Wt. After Wash\",\"Ending Wt.\")","v":"Ending Wt."},null,null,{"$f":"IF(ISBLANK(C13),\" \",IF(ISBLANK(C41),\" \",IF($W$4=1,(C13-C41)/C13*100,((C12-C13)/C12)*100)))","v":" "},null,{"$f":"IF(ISBLANK(E13),\" \",IF(ISBLANK(E41),\" \",IF($W$4=1,(E13-E41)/E13*100,((E12-E13)/E12)*100)))","v":" "},null,{"$f":"IF(ISBLANK(G13),\" \",IF(ISBLANK(G41),\" \",IF($W$4=1,(G13-G41)/G13*100,((G12-G13)/G12)*100)))","v":" "},null,{"$f":"IF(ISBLANK(I13),\" \",IF(ISBLANK(I41),\" \",IF($W$4=1,(I13-I41)/I13*100,((I12-I13)/I12)*100)))","v":" "},null,{"$f":"IF(ISBLANK(K13),\" \",IF(ISBLANK(K41),\" \",IF($W$4=1,(K13-K41)/K13*100,((K12-K13)/K12)*100)))","v":" "},null,{"$f":"IF(ISBLANK(M13),\" \",IF(ISBLANK(M41),\" \",IF($W$4=1,(M13-M41)/M13*100,((M12-M13)/M12)*100)))","v":" "}]
["Wt. Loss",null,{"$f":"IF(ISBLANK(C12),\" \",IF(ISBLANK(C13),\" \",C12-C13))","v":" "},null,{"$f":"IF(ISBLANK(E12),\" \",IF(ISBLANK(E13),\" \",E12-E13))","v":" "},null,{"$f":"IF(ISBLANK(G12),\" \",IF(ISBLANK(G13),\" \",G12-G13))","v":" "},null,{"$f":"IF(ISBLANK(I12),\" \",IF(ISBLANK(I13),\" \",I12-I13))","v":" "},null,{"$f":"IF(ISBLANK(K12),\" \",IF(ISBLANK(K13),\" \",K12-K13))","v":" "},null,{"$f":"IF(ISBLANK(M12),\" \",IF(ISBLANK(M13),\" \",M12-M13))","v":" "}]
[null,null,"Wt","% Passing","Wt","% Passing","Wt","% Passing","Wt","% Passing","Wt","% Passing","Wt","% Passing"]
[2.5,null,null,{"$f":"IF(ISBLANK(C$12),\"  \",IF(ISBLANK(C$13),\" \",IF(ISBLANK(C16),\" \",IF($W$4=1,ROUND((C16+C$14)/C$12*100,0),ROUND(C16/C$12*100,0)))))","v":"  "},null,{"$f":"IF(ISBLANK(E$12),\"  \",IF(ISBLANK(E$13),\" \",IF(ISBLANK(E16),\" \",IF($W$4=1,ROUND((E16+E$14)/E$12*100,0),ROUND(E16/E$12*100,0)))))","v":"  "},null,{"$f":"IF(ISBLANK(G$12),\"  \",IF(ISBLANK(G$13),\" \",IF(ISBLANK(G16),\" \",IF($W$4=1,ROUND((G16+G$14)/G$12*100,0),ROUND(G16/G$12*100,0)))))","v":"  "},null,{"$f":"IF(ISBLANK(I$12),\"  \",IF(ISBLANK(I$13),\" \",IF(ISBLANK(I16),\" \",IF($W$4=1,ROUND((I16+I$14)/I$12*100,0),ROUND(I16/I$12*100,0)))))","v":"  "},null,{"$f":"IF(ISBLANK(K$12),\"  \",IF(ISBLANK(K$13),\" \",IF(ISBLANK(K16),\" \",IF($W$4=1,ROUND((K16+K$14)/K$12*100,0),ROUND(K16/K$12*100,0)))))","v":"  "},null,{"$f":"IF(ISBLANK(M$12),\"  \",IF(ISBLANK(M$13),\" \",IF(ISBLANK(M16),\" \",IF($W$4=1,ROUND((M16+M$14)/M$12*100,0),ROUND(M16/M$12*100,0)))))","v":"  "}]
[2,null,null,{"$f":"IF(ISBLANK(C$12),\"  \",IF(ISBLANK(C$13),\" \",IF(ISBLANK(C17),\" \",IF(W$4=1,ROUND((C17+C$14)/C$12*100,0),ROUND(C17/C$12*100,0)))))","v":"  "},null,{"$f":"IF(ISBLANK(E$12),\"  \",IF(ISBLANK(E$13),\" \",IF(ISBLANK(E17),\" \",IF($W$4=1,ROUND((E17+E$14)/E$12*100,0),ROUND(E17/E$12*100,0)))))","v":"  "},null,{"$f":"IF(ISBLANK(G$12),\"  \",IF(ISBLANK(G$13),\" \",IF(ISBLANK(G17),\" \",IF($W$4=1,ROUND((G17+G$14)/G$12*100,0),ROUND(G17/G$12*100,0)))))","v":"  "},null,{"$f":"IF(ISBLANK(I$12),\"  \",IF(ISBLANK(I$13),\" \",IF(ISBLANK(I17),\" \",IF($W$4=1,ROUND((I17+I$14)/I$12*100,0),ROUND(I17/I$12*100,0)))))","v":"  "},null,{"$f":"IF(ISBLANK(K$12),\"  \",IF(ISBLANK(K$13),\" \",IF(ISBLANK(K17),\" \",IF($W$4=1,ROUND((K17+K$14)/K$12*100,0),ROUND(K17/K$12*100,0)))))","v":"  "},null,{"$f":"IF(ISBLANK(M$12),\"  \",IF(ISBLANK(M$13),\" \",IF(ISBLANK(M17),\" \",IF($W$4=1,ROUND((M17+M$14)/M$12*100,0),ROUND(M17/M$12*100,0)))))","v":"  "}]
[1.5,null,null,"  ",null,"  ",null,"  ",null,"  ",null,"  ",null,"  "]
[1,null,null,"  ",null,"  ",null,"  ",null,"  ",null,"  ",null,"  "]
[0.75,null,null,"  ",null,"  ",null,"  ",null,"  ",null,"  ",null,"  "]
[0.625,null,null,"  ",null,"  ",null,"  ",null,"  ",null,"  ",null,"  "]
[0.5,null,null,"  ",null,"  ",null,"  ",null,"  ",null,"  ",null,"  "]
[0.375,null,null,{"$f":"IF(ISBLANK(C$12),\"  \",IF(ISBLANK(C$13),\" \",IF(ISBLANK(C23),\" \",IF(W$4=1,ROUND((C23+C$14)/C$12*100,0),ROUND(C23/C$12*100,0)))))","v":"  "},null,"  ",null,"  ",null,"  ",null,"  ",null,"  "]
[0.25,null,null,"  ",null,"  ",null,"  ",null,"  ",null,"  ",null,"  "]
[4,null,null,"  ",null,"  ",null,"  ",null,"  ",null,"  ",null,"  "]
[8,null,null,"  ",null,"  ",null,"  ",null,"  ",null,"  ",null,"  "]
[16,null,null,"  ",null,"  ",null,"  ",null,"  ",null,"  ",null,"  "]
[30,null,null,"  ",null,"  ",null,"  ",null,"  ",null,"  ",null,"  "]
[50,null,null,"  ",null,"  ",null,"  ",null,"  ",null,"  ",null,"  "]
[100,null,null,{"$f":"IF(ISBLANK(C$12),\"  \",IF(ISBLANK(C$13),\" \",IF(ISBLANK(C30),\" \",IF(W$4=1,ROUND((C30+C$14)/C$12*100,0),ROUND(C30/C$12*100,0)))))","v":"  "},null,"  ",null,"  ",null,"  ",null,"  ",null,"  "]
[200,null,null,{"$f":"IF(ISBLANK(C$12),\"  \",IF(ISBLANK(C$13),\" \",IF(ISBLANK(C31),\" \",IF(W$4=1,ROUND((C31+C$14)/C$12*100,2),ROUND(C31/C$12*100,1)))))","v":"  "},null,{"$f":"IF(ISBLANK(E$12),\"  \",IF(ISBLANK(E$13),\" \",IF(ISBLANK(E31),\" \",IF($W$4=1,ROUND((E31+E$14)/E$12*100,2),ROUND(E31/E$12*100,2)))))","v":"  "},null,{"$f":"IF(ISBLANK(G$12),\"  \",IF(ISBLANK(G$13),\" \",IF(ISBLANK(G31),\" \",IF($W$4=1,ROUND((G31+G$14)/G$12*100,2),ROUND(G31/G$12*100,2)))))","v":"  "},null,{"$f":"IF(ISBLANK(I$12),\"  \",IF(ISBLANK(I$13),\" \",IF(ISBLANK(I31),\" \",IF($W$4=1,ROUND((I31+I$14)/I$12*100,2),ROUND(I31/I$12*100,2)))))","v":"  "},null,{"$f":"IF(ISBLANK(K$12),\"  \",IF(ISBLANK(K$13),\" \",IF(ISBLANK(K31),\" \",IF($W$4=1,ROUND((K31+K$14)/K$12*100,2),ROUND(K31/K$12*100,2)))))","v":"  "},null,{"$f":"IF(ISBLANK(M$12),\"  \",IF(ISBLANK(M$13),\" \",IF(ISBLANK(M31),\" \",IF($W$4=1,ROUND((M31+M$14)/M$12*100,2),ROUND(M31/M$12*100,2)))))","v":"  "}]
["2.30-3.15","FM",{"$f":"IF(ISBLANK(C12),\" \",IF(ISBLANK(C23),\" \",(600-SUM(D24:D30))/100))","v":" "},null,{"$f":"IF(ISBLANK(E12),\" \",IF(ISBLANK(E23),\" \",(600-SUM(F24:F30))/100))","v":" "},null,{"$f":"IF(ISBLANK(G12),\" \",IF(ISBLANK(G23),\" \",(600-SUM(H24:H30))/100))","v":" "},null,{"$f":"IF(ISBLANK(I12),\" \",IF(ISBLANK(I23),\" \",(600-SUM(J24:J30))/100))","v":" "},null,{"$f":"IF(ISBLANK(K12),\" \",IF(ISBLANK(K23),\" \",(600-SUM(L24:L30))/100))","v":" "},null,{"$f":"IF(ISBLANK(M12),\" \",IF(ISBLANK(M23),\" \",(600-SUM(N24:N30))/100))","v":" "}]
["St. Wt. Before Wash",null,null,"% Passing",null,"% Passing",null,"% Passing",null,"% Passing",null,"% Passing",null,"% Passing"]
["End Wt. After Wash",null,null,{"$f":"IF(ISBLANK(C33),\"\",IF(ISBLANK(C34),\"\",((C33-C34)/C33)*100))","v":""},null,{"$f":"IF(ISBLANK(E33),\"\",IF(ISBLANK(E34),\"\",((E33-E34)/E33)*100))","v":""},null,{"$f":"IF(ISBLANK(G33),\"\",IF(ISBLANK(G34),\"\",((G33-G34)/G33)*100))","v":""},null,{"$f":"IF(ISBLANK(I33),\"\",IF(ISBLANK(I34),\"\",((I33-I34)/I33)*100))","v":""},null,{"$f":"IF(ISBLANK(K33),\"\",IF(ISBLANK(K34),\"\",((K33-K34)/K33)*100))","v":""},null,{"$f":"IF(ISBLANK(M33),\"\",IF(ISBLANK(M34),\"\",((M33-M34)/M33)*100))","v":""}]
["Tested By"]
["Remarks"]
[]
[]
[]
[]
[null,null,{"$f":"MAX(C16:C31)","v":0},null,{"$f":"MAX(E16:E31)","v":0},null,{"$f":"MAX(G16:G31)","v":0},null,{"$f":"MAX(I16:I31)","v":0},null,{"$f":"MAX(K16:K31)","v":0},null,{"$f":"MAX(M16:M31)","v":0}]
[]
["Sample No.",null,139,null,140,null,141,null,142,null,143,null,144]
["Date"]
[{"$f":"IF(M6=\"Yes\",\"St. Wt. Before Wash\",\"Starting. Wt.\")","v":"Starting. Wt."},null,null,"% Loss",null,"% Loss",null,"% Loss",null,"% Loss",null,"% Loss",null,"% Loss"]
[{"$f":"IF(M6=\"Yes\",\"Dry Wt. After Wash\",\"Ending Wt.\")","v":"Ending Wt."},null,null,{"$f":"IF(ISBLANK(C46),\" \",IF(ISBLANK(C74),\" \",IF($W$4=1,(C46-C74)/C46*100,((C45-C46)/C45)*100)))","v":" "},null,{"$f":"IF(ISBLANK(E46),\" \",IF(ISBLANK(E74),\" \",IF($W$4=1,(E46-E74)/E46*100,((E45-E46)/E45)*100)))","v":" "},null,{"$f":"IF(ISBLANK(G46),\" \",IF(ISBLANK(G74),\" \",IF($W$4=1,(G46-G74)/G46*100,((G45-G46)/G45)*100)))","v":" "},null,{"$f":"IF(ISBLANK(I46),\" \",IF(ISBLANK(I74),\" \",IF($W$4=1,(I46-I74)/I46*100,((I45-I46)/I45)*100)))","v":" "},null,{"$f":"IF(ISBLANK(K46),\" \",IF(ISBLANK(K74),\" \",IF($W$4=1,(K46-K74)/K46*100,((K45-K46)/K45)*100)))","v":" "},null,{"$f":"IF(ISBLANK(M46),\" \",IF(ISBLANK(M74),\" \",IF($W$4=1,(M46-M74)/M46*100,((M45-M46)/M45)*100)))","v":" "}]
["Wt. Loss",null,{"$f":"IF(ISBLANK(C45),\" \",IF(ISBLANK(C46),\" \",C45-C46))","v":" "},null,{"$f":"IF(ISBLANK(E45),\" \",IF(ISBLANK(E46),\" \",E45-E46))","v":" "},null,{"$f":"IF(ISBLANK(G45),\" \",IF(ISBLANK(G46),\" \",G45-G46))","v":" "},null,{"$f":"IF(ISBLANK(I45),\" \",IF(ISBLANK(I46),\" \",I45-I46))","v":" "},null,{"$f":"IF(ISBLANK(K45),\" \",IF(ISBLANK(K46),\" \",K45-K46))","v":" "},null,{"$f":"IF(ISBLANK(M45),\" \",IF(ISBLANK(M46),\" \",M45-M46))","v":" "}]
[null,null,"Wt","% Passing","Wt","% Passing","Wt","% Passing","Wt","% Passing","Wt","% Passing","Wt","% Passing"]
[2.5,null,null,{"$f":"IF(ISBLANK(C$45),\"  \",IF(ISBLANK(C$46),\" \",IF(ISBLANK(C49),\" \",IF(W$4=1,ROUND((C49+C$47)/C$45*100,0),ROUND(C49/C$45*100,0)))))","v":"  "},null,{"$f":"IF(ISBLANK(E$45),\"  \",IF(ISBLANK(E$46),\" \",IF(ISBLANK(E49),\" \",IF(Y$4=1,ROUND((E49+E$47)/E$45*100,0),ROUND(E49/E$45*100,0)))))","v":"  "},null,{"$f":"IF(ISBLANK(G$45),\"  \",IF(ISBLANK(G$46),\" \",IF(ISBLANK(G49),\" \",IF(AA$4=1,ROUND((G49+G$47)/G$45*100,0),ROUND(G49/G$45*100,0)))))","v":"  "},null,{"$f":"IF(ISBLANK(I$45),\"  \",IF(ISBLANK(I$46),\" \",IF(ISBLANK(I49),\" \",IF(AC$4=1,ROUND((I49+I$47)/I$45*100,0),ROUND(I49/I$45*100,0)))))","v":"  "},null,{"$f":"IF(ISBLANK(K$45),\"  \",IF(ISBLANK(K$46),\" \",IF(ISBLANK(K49),\" \",IF(AE$4=1,ROUND((K49+K$47)/K$45*100,0),ROUND(K49/K$45*100,0)))))","v":"  "},null,{"$f":"IF(ISBLANK(M$45),\"  \",IF(ISBLANK(M$46),\" \",IF(ISBLANK(M49),\" \",IF(AG$4=1,ROUND((M49+M$47)/M$45*100,0),ROUND(M49/M$45*100,0)))))","v":"  "}]
[2,null,null,{"$f":"IF(ISBLANK(C$45),\"  \",IF(ISBLANK(C$46),\" \",IF(ISBLANK(C50),\" \",IF(W$4=1,ROUND((C50+C$47)/C$45*100,0),ROUND(C50/C$45*100,0)))))","v":"  "},null,"  ",null,"  ",null,"  ",null,"  ",null,{"$f":"IF(ISBLANK(M$45),\"  \",IF(ISBLANK(M$46),\" \",IF(ISBLANK(M50),\" \",IF(AG$4=1,ROUND((M50+M$47)/M$45*100,0),ROUND(M50/M$45*100,0)))))","v":"  "}]
[1.5,null,null,"  ",null,"  ",null,"  ",null,"  ",null,"  ",null,"  "]
[1,null,null,"  ",null,"  ",null,"  ",null,"  ",null,"  ",null,"  "]
[0.75,null,null,"  ",null,"  ",null,"  ",null,"  ",null,"  ",null,"  "]
[0.625,null,null,"  ",null,"  ",null,"  ",null,"  ",null,"  ",null,"  "]
[0.5,null,null,"  ",null,"  ",null,"  ",null,"  ",null,"  ",null,"  "]
[0.375,null,null,"  ",null,"  ",null,"  ",null,"  ",null,"  ",null,"  "]
[0.25,null,null,"  ",null,"  ",null,"  ",null,"  ",null,"  ",null,"  "]
[4,null,null,"  ",null,"  ",null,"  ",null,"  ",null,"  ",null,"  "]
[8,null,null,"  ",null,"  ",null,"  ",null,"  ",null,"  ",null,"  "]
[16,null,null,"  ",null,"  ",null,"  ",null,"  ",null,"  ",null,"  "]
[30,null,null,"  ",null,"  ",null,"  ",null,"  ",null,"  ",null,"  "]
[50,null,null,"  ",null,"  ",null,"  ",null,"  ",null,"  ",null,"  "]
[100,null,null,"  ",null,"  ",null,"  ",null,"  ",null,"  ",null,{"$f":"IF(ISBLANK(M$45),\"  \",IF(ISBLANK(M$46),\" \",IF(ISBLANK(M63),\" \",IF(AG$4=1,ROUND((M63+M$47)/M$45*100,0),ROUND(M63/M$45*100,0)))))","v":"  "}]
[200,null,null,{"$f":"IF(ISBLANK(C$45),\"  \",IF(ISBLANK(C$46),\" \",IF(ISBLANK(C64),\" \",IF(W$4=1,ROUND((C64+C$47)/C$45*100,2),ROUND(C64/C$45*100,2)))))","v":"  "},null,{"$f":"IF(ISBLANK(E$45),\"  \",IF(ISBLANK(E$46),\" \",IF(ISBLANK(E64),\" \",IF(Y$4=1,ROUND((E64+E$47)/E$45*100,2),ROUND(E64/E$45*100,2)))))","v":"  "},null,{"$f":"IF(ISBLANK(G$45),\"  \",IF(ISBLANK(G$46),\" \",IF(ISBLANK(G64),\" \",IF(AA$4=1,ROUND((G64+G$47)/G$45*100,2),ROUND(G64/G$45*100,2)))))","v":"  "},null,{"$f":"IF(ISBLANK(I$45),\"  \",IF(ISBLANK(I$46),\" \",IF(ISBLANK(I64),\" \",IF(AC$4=1,ROUND((I64+I$47)/I$45*100,2),ROUND(I64/I$45*100,2)))))","v":"  "},null,{"$f":"IF(ISBLANK(K$45),\"  \",IF(ISBLANK(K$46),\" \",IF(ISBLANK(K64),\" \",IF(AE$4=1,ROUND((K64+K$47)/K$45*100,2),ROUND(K64/K$45*100,2)))))","v":"  "},null,{"$f":"IF(ISBLANK(M$45),\"  \",IF(ISBLANK(M$46),\" \",IF(ISBLANK(M64),\" \",IF(AG$4=1,ROUND((M64+M$47)/M$45*100,2),ROUND(M64/M$45*100,2)))))","v":"  "}]
["2.30-3.15","FM",{"$f":"IF(ISBLANK(C45),\" \",IF(ISBLANK(C56),\" \",(600-SUM(D57:D63))/100))","v":" "},null,{"$f":"IF(ISBLANK(E45),\" \",IF(ISBLANK(E56),\" \",(600-SUM(F57:F63))/100))","v":" "},null,{"$f":"IF(ISBLANK(G45),\" \",IF(ISBLANK(G56),\" \",(600-SUM(H57:H63))/100))","v":" "},null,{"$f":"IF(ISBLANK(I45),\" \",IF(ISBLANK(I56),\" \",(600-SUM(J57:J63))/100))","v":" "},null,{"$f":"IF(ISBLANK(K45),\" \",IF(ISBLANK(K56),\" \",(600-SUM(L57:L63))/100))","v":" "},null,{"$f":"IF(ISBLANK(M45),\" \",IF(ISBLANK(M56),\" \",(600-SUM(N57:N63))/100))","v":" "}]
["St. Wt. Before Wash",null,null,"% Passing",null,"% Passing",null,"% Passing",null,"% Passing",null,"% Passing",null,"% Passing"]
["End Wt. After Wash",null,null,{"$f":"IF(ISBLANK(C66),\"\",IF(ISBLANK(C67),\"\",((C66-C67)/C66)*100))","v":""},null,{"$f":"IF(ISBLANK(E66),\"\",IF(ISBLANK(E67),\"\",((E66-E67)/E66)*100))","v":""},null,{"$f":"IF(ISBLANK(G66),\"\",IF(ISBLANK(G67),\"\",((G66-G67)/G66)*100))","v":""},null,{"$f":"IF(ISBLANK(I66),\"\",IF(ISBLANK(I67),\"\",((I66-I67)/I66)*100))","v":""},null,{"$f":"IF(ISBLANK(K66),\"\",IF(ISBLANK(K67),\"\",((K66-K67)/K66)*100))","v":""},null,{"$f":"IF(ISBLANK(M66),\"\",IF(ISBLANK(M67),\"\",((M66-M67)/M66)*100))","v":""}]
["Tested By"]
["Remarks"]
[]
[]
[]
[]
[null,null,{"$f":"MAX(C49:C64)","v":0},null,{"$f":"MAX(E49:E64)","v":0},null,{"$f":"MAX(G49:G64)","v":0},null,{"$f":"MAX(I49:I64)","v":0},null,{"$f":"MAX(K49:K64)","v":0},null,{"$f":"MAX(M49:M64)","v":0}]

{"sheet":"QA Samples","index":12,"n_rows":44,"n_cols":15,"rows_kept":44,"cut":false,"hidden":true,"merged":[[31,0,31,1],[31,8,31,9],[34,19,34,21],[41,12,41,13],[29,0,29,1],[29,6,30,6],[21,10,21,11],[21,12,21,13],[31,2,31,3],[31,4,31,5],[31,10,31,11],[31,12,31,13],[41,2,41,3],[41,4,41,5],[41,10,41,11],[21,4,21,5],[21,2,21,3],[29,8,29,9],[29,14,30,14],[30,0,30,1],[30,8,30,9],[27,19,27,21],[28,0,28,1],[28,2,28,3],[42,19,42,21],[43,0,45,1],[43,2,45,3],[43,4,45,5],[43,6,45,6],[43,8,45,9],[43,10,45,11],[43,12,45,13],[43,14,45,14],[42,0,42,1],[42,2,42,3],[42,4,42,5],[42,8,42,9],[42,10,42,11],[42,12,42,13],[28,4,28,5],[28,8,28,9],[28,10,28,11],[28,12,28,13],[23,14,25,14],[27,0,27,1],[27,2,27,3],[27,4,27,5],[27,8,27,9],[27,10,27,11],[27,12,27,13],[22,10,22,11],[22,12,22,13],[23,0,25,1],[23,2,25,3],[23,4,25,5],[23,6,25,6],[23,8,25,9],[23,10,25,11],[23,12,25,13],[22,0,22,1],[22,2,22,3],[22,4,22,5],[22,8,22,9],[13,19,13,21],[20,19,20,21],[9,0,9,1],[9,6,10,6],[9,8,9,9],[9,14,10,14],[10,0,10,1],[10,8,10,9],[8,0,8,1],[8,2,8,3],[8,4,8,5],[8,8,8,9],[8,10,8,11],[8,12,8,13],[11,0,11,1],[11,10,11,11],[11,12,11,13],[11,2,11,3],[11,4,11,5],[11,8,11,9],[5,19,5,21],[7,0,7,1],[7,2,7,3],[7,4,7,5],[7,8,7,9],[7,10,7,11],[7,12,7,13],[3,13,3,14],[4,0,4,1],[4,11,4,12],[4,13,4,14],[5,2,5,10],[5,11,5,12],[5,13,5,14],[0,0,3,1],[0,9,3,10],[1,2,1,8],[1,11,1,12],[1,13,1,14],[2,2,2,8],[2,11,2,12],[2,13,2,14],[3,2,3,8],[3,11,3,12]]}
[]
[null,null,"COMMONWEALTH OF PENNSYLVANIA",null,null,null,null,null,null,null,null,"DISTRICT",null,{"$f":"'S1'!M2","v":0}]
[null,null,"DEPARTMENT OF TRANSPORTATION",null,null,null,null,null,null,null,null,"PLANT CODE",null,{"$f":"'S1'!M3","v":0}]
[null,null,"PENNSYLVANIA TURNPIKE COMMISSION",null,null,null,null,null,null,null,null,"AGG SIZE",null,{"$f":"'S1'!M4","v":0}]
[{"$f":"'S1'!A6:B6","v":"Aggregate 2023"},null,null,null,null,null,null,null,null,null,null,"#50 Target Value",null,{"$f":"'S1'!M6","v":"No"}]
[null,null,"INDEPENDENT ASSURANCE SAMPLES AND CHARTS",null,null,null,null,null,null,null,null,"FM Target Value",null,{"$f":"'S1'!M7","v":0}]
[]
["Tested By:",null,"Producer",null,"Inspector",null,"MTD",null,"Tested By:",null,"Producer",null,"Inspector",null,"MTD"]
["Date",null,null,null,null,null,null,null,"Date"]
["St Wt Before Wash",null,null,"% Loss",null,"% Loss","Enter MTD results",null,"St Wt Before Wash",null,null,"% Loss",null,"% Loss","Enter MTD results"]
["Dry Wt After Wash",null,null,{"$f":"IF(ISBLANK(C10),\" \",IF(ISBLANK(C11),\" \",((C10-C11)/C10)*100))","v":" "},null,{"$f":"IF(ISBLANK(E10),\" \",IF(ISBLANK(E11),\" \",((E10-E11)/E10)*100))","v":" "},null,null,"Dry Wt After Wash",null,null,{"$f":"IF(ISBLANK(K10),\" \",IF(ISBLANK(K11),\" \",((K10-K11)/K10)*100))","v":" "},null,{"$f":"IF(ISBLANK(M10),\" \",IF(ISBLANK(M11),\" \",((M10-M11)/M10)*100))","v":" "}]
["Wt. Loss",null,{"$f":"IF(ISBLANK(C10),\" \",IF(ISBLANK(C11),\" \",C10-C11))","v":" "},null,{"$f":"IF(ISBLANK(E10),\" \",IF(ISBLANK(E11),\" \",E10-E11))","v":" "},null,null,null,"Wt. Loss",null,{"$f":"IF(ISBLANK(K10),\" \",IF(ISBLANK(K11),\" \",K10-K11))","v":" "},null,{"$f":"IF(ISBLANK(M10),\" \",IF(ISBLANK(M11),\" \",M10-M11))","v":" "}]
["Spec","Sieve","Wt.","% Passing","Wt.","% Passing","% Passing",null,"Spec","Sieve","Wt.","% Passing","Wt.","% Passing","% Passing"]
[{"$f":"'S1'!#REF!","v":{"$error":"#REF!"}},{"$f":"'S1'!A23","v":0.375},null,{"$f":"IF(ISBLANK(C$10),\"  \",IF(ISBLANK(C$11),\" \",IF(ISBLANK(C14),\" \",ROUND((C14+C$12)/C$10*100,1))))","v":"  "},null,{"$f":"IF(ISBLANK(E$10),\"  \",IF(ISBLANK(E$11),\" \",IF(ISBLANK(E14),\" \",ROUND((E14+E$12)/E$10*100,1))))","v":"  "},null,null,{"$f":"'S1'!#REF!","v":{"$error":"#REF!"}},{"$f":"'S1'!A23","v":0.375},null,{"$f":"IF(ISBLANK(K$10),\"  \",IF(ISBLANK(K$11),\" \",IF(ISBLANK(K14),\" \",ROUND((K14+K$12)/K$10*100,1))))","v":"  "},null,{"$f":"IF(ISBLANK(M$10),\"  \",IF(ISBLANK(M$11),\" \",IF(ISBLANK(M14),\" \",ROUND((M14+M$12)/M$10*100,1))))","v":"  "}]
[{"$f":"'S1'!#REF!","v":{"$error":"#REF!"}},{"$f":"'S1'!A25","v":4},null,{"$f":"IF(ISBLANK(C$10),\"  \",IF(ISBLANK(C$11),\" \",IF(ISBLANK(C15),\" \",ROUND((C15+C$12)/C$10*100,0))))","v":"  "},null,"  ",null,null,{"$f":"'S1'!#REF!","v":{"$error":"#REF!"}},{"$f":"'S1'!A25","v":4},null,{"$f":"IF(ISBLANK(K$10),\"  \",IF(ISBLANK(K$11),\" \",IF(ISBLANK(K15),\" \",ROUND((K15+K$12)/K$10*100,0))))","v":"  "},null,{"$f":"IF(ISBLANK(M$10),\"  \",IF(ISBLANK(M$11),\" \",IF(ISBLANK(M15),\" \",ROUND((M15+M$12)/M$10*100,0))))","v":"  "}]
[{"$f":"'S1'!#REF!","v":{"$error":"#REF!"}},{"$f":"'S1'!A26","v":8},null,"  ",null,"  ",null,null,{"$f":"'S1'!#REF!","v":{"$error":"#REF!"}},{"$f":"'S1'!A26","v":8},null,"  ",null,"  "]
[{"$f":"'S1'!#REF!","v":{"$error":"#REF!"}},{"$f":"'S1'!A27","v":16},null,"  ",null,"  ",null,null,{"$f":"'S1'!#REF!","v":{"$error":"#REF!"}},{"$f":"'S1'!A27","v":16},null,"  ",null,"  "]
[{"$f":"'S1'!#REF!","v":{"$error":"#REF!"}},{"$f":"'S1'!A28","v":30},null,"  ",null,"  ",null,null,{"$f":"'S1'!#REF!","v":{"$error":"#REF!"}},{"$f":"'S1'!A28","v":30},null,"  ",null,"  "]
[{"$f":"'S1'!#REF!","v":{"$error":"#REF!"}},{"$f":"'S1'!A29","v":50},null,"  ",null,"  ",null,null,{"$f":"'S1'!#REF!","v":{"$error":"#REF!"}},{"$f":"'S1'!A29","v":50},null,"  ",null,"  "]
[{"$f":"'S1'!#REF!","v":{"$error":"#REF!"}},{"$f":"'S1'!A30","v":100},null,"  ",null,"  ",null,null,{"$f":"'S1'!#REF!","v":{"$error":"#REF!"}},{"$f":"'S1'!A30","v":100},null,"  ",null,"  "]
[{"$f":"'S1'!#REF!","v":{"$error":"#REF!"}},{"$f":"'S1'!A31","v":200},null,{"$f":"IF(ISBLANK(C$10),\"  \",IF(ISBLANK(C$11),\" \",IF(ISBLANK(C21),\" \",ROUND((C21+C$12)/C$10*100,2))))","v":"  "},null,{"$f":"IF(ISBLANK(E$10),\"  \",IF(ISBLANK(E$11),\" \",IF(ISBLANK(E21),\" \",ROUND((E21+E$12)/E$10*100,2))))","v":"  "},null,null,{"$f":"'S1'!#REF!","v":{"$error":"#REF!"}},{"$f":"'S1'!A31","v":200},null,{"$f":"IF(ISBLANK(K$10),\"  \",IF(ISBLANK(K$11),\" \",IF(ISBLANK(K21),\" \",ROUND((K21+K$12)/K$10*100,2))))","v":"  "},null,{"$f":"IF(ISBLANK(M$10),\"  \",IF(ISBLANK(M$11),\" \",IF(ISBLANK(M21),\" \",ROUND((M21+M$12)/M$10*100,2))))","v":"  "}]
[{"$f":"'S1'!A32","v":"2.30-3.15"},{"$f":"'S1'!B32","v":"FM"},{"$f":"IF(ISBLANK(C10),\" \",IF(ISBLANK(C14),\" \",(600-SUM(D15:D20))/100))","v":" "},null,{"$f":"IF(ISBLANK(E10),\" \",IF(ISBLANK(E14),\" \",(600-SUM(F15:F20))/100))","v":" "},null,null,null,{"$f":"'S1'!A32","v":"2.30-3.15"},{"$f":"'S1'!B32","v":"FM"},{"$f":"IF(ISBLANK(K10),\" \",IF(ISBLANK(K14),\" \",(600-SUM(L15:L20))/100))","v":" "},null,{"$f":"IF(ISBLANK(M10),\" \",IF(ISBLANK(M14),\" \",(600-SUM(N15:N20))/100))","v":" "}]
["Tested By",null,null,null,null,null,"MTD",null,"Tested By",null,null,null,null,null,"MTD"]
["Remarks",null,null,null,null,null,null,null,"Remarks"]
[]
[]
[]
["Tested By:",null,"Producer",null,"Inspector",null,"MTD",null,"Tested By:",null,"Producer",null,"Inspector",null,"MTD"]
["Date",null,null,null,null,null,null,null,"Date"]
["St Wt Before Wash",null,null,"% Loss",null,"% Loss","Enter MTD results",null,"St Wt Before Wash",null,null,"% Loss",null,"% Loss","Enter MTD results"]
["Dry Wt After Wash",null,null,{"$f":"IF(ISBLANK(C30),\" \",IF(ISBLANK(C31),\" \",((C30-C31)/C30)*100))","v":" "},null,{"$f":"IF(ISBLANK(E30),\" \",IF(ISBLANK(E31),\" \",((E30-E31)/E30)*100))","v":" "},null,null,"Dry Wt After Wash",null,null,{"$f":"IF(ISBLANK(K30),\" \",IF(ISBLANK(K31),\" \",((K30-K31)/K30)*100))","v":" "},null,{"$f":"IF(ISBLANK(M30),\" \",IF(ISBLANK(M31),\" \",((M30-M31)/M30)*100))","v":" "}]
["Wt. Loss",null,{"$f":"IF(ISBLANK(C30),\" \",IF(ISBLANK(C31),\" \",C30-C31))","v":" "},null,{"$f":"IF(ISBLANK(E30),\" \",IF(ISBLANK(E31),\" \",E30-E31))","v":" "},null,null,null,"Wt. Loss",null,{"$f":"IF(ISBLANK(K30),\" \",IF(ISBLANK(K31),\" \",K30-K31))","v":" "},null,{"$f":"IF(ISBLANK(M30),\" \",IF(ISBLANK(M31),\" \",M30-M31))","v":" "}]
["Spec","Sieve","Wt.","% Passing","Wt.","% Passing","% Passing",null,"Spec","Sieve","Wt.","% Passing","Wt.","% Passing","% Passing"]
[{"$f":"'S1'!A46","v":"Ending Wt."},{"$f":"'S1'!B46","v":0},null,{"$f":"IF(ISBLANK(C$10),\"  \",IF(ISBLANK(C$11),\" \",IF(ISBLANK(C34),\" \",ROUND((C34+C$12)/C$10*100,1))))","v":"  "},null,{"$f":"IF(ISBLANK(E$10),\"  \",IF(ISBLANK(E$11),\" \",IF(ISBLANK(E34),\" \",ROUND((E34+E$12)/E$10*100,1))))","v":"  "},null,null,{"$f":"'S1'!A46","v":"Ending Wt."},{"$f":"'S1'!B46","v":0},null,{"$f":"IF(ISBLANK(K$10),\"  \",IF(ISBLANK(K$11),\" \",IF(ISBLANK(K34),\" \",ROUND((K34+K$12)/K$10*100,1))))","v":"  "},null,{"$f":"IF(ISBLANK(M$10),\"  \",IF(ISBLANK(M$11),\" \",IF(ISBLANK(M34),\" \",ROUND((M34+M$12)/M$10*100,1))))","v":"  "}]
[{"$f":"'S1'!A47","v":"Wt. Loss"},{"$f":"'S1'!B47","v":0},null,{"$f":"IF(ISBLANK(C$10),\"  \",IF(ISBLANK(C$11),\" \",IF(ISBLANK(C35),\" \",ROUND((C35+C$12)/C$10*100,0))))","v":"  "},null,{"$f":"IF(ISBLANK(E$10),\"  \",IF(ISBLANK(E$11),\" \",IF(ISBLANK(E35),\" \",ROUND((E35+E$12)/E$10*100,0))))","v":"  "},null,null,{"$f":"'S1'!A47","v":"Wt. Loss"},{"$f":"'S1'!B47","v":0},null,{"$f":"IF(ISBLANK(K$10),\"  \",IF(ISBLANK(K$11),\" \",IF(ISBLANK(K35),\" \",ROUND((K35+K$12)/K$10*100,0))))","v":"  "},null,{"$f":"IF(ISBLANK(M$10),\"  \",IF(ISBLANK(M$11),\" \",IF(ISBLANK(M35),\" \",ROUND((M35+M$12)/M$10*100,0))))","v":"  "}]
[{"$f":"'S1'!A48","v":0},{"$f":"'S1'!B48","v":0},null,"  ",null,"  ",null,null,{"$f":"'S1'!A48","v":0},{"$f":"'S1'!B48","v":0},null,"  ",null,"  "]
[{"$f":"'S1'!A49","v":2.5},{"$f":"'S1'!B49","v":0},null,"  ",null,"  ",null,null,{"$f":"'S1'!A49","v":2.5},{"$f":"'S1'!B49","v":0},null,"  ",null,"  "]
[{"$f":"'S1'!A50","v":2},{"$f":"'S1'!B50","v":0},null,"  ",null,"  ",null,null,{"$f":"'S1'!A50","v":2},{"$f":"'S1'!B50","v":0},null,"  ",null,"  "]
[{"$f":"'S1'!A51","v":1.5},{"$f":"'S1'!B51","v":0},null,"  ",null,"  ",null,null,{"$f":"'S1'!A51","v":1.5},{"$f":"'S1'!B51","v":0},null,"  ",null,"  "]
[{"$f":"'S1'!A52","v":1},{"$f":"'S1'!B52","v":0},null,"  ",null,"  ",null,null,{"$f":"'S1'!A52","v":1},{"$f":"'S1'!B52","v":0},null,"  ",null,"  "]
[{"$f":"'S1'!A53","v":0.75},{"$f":"'S1'!B53","v":0},null,{"$f":"IF(ISBLANK(C$10),\"  \",IF(ISBLANK(C$11),\" \",IF(ISBLANK(C41),\" \",ROUND((C41+C$12)/C$10*100,2))))","v":"  "},null,{"$f":"IF(ISBLANK(E$10),\"  \",IF(ISBLANK(E$11),\" \",IF(ISBLANK(E41),\" \",ROUND((E41+E$12)/E$10*100,2))))","v":"  "},null,null,{"$f":"'S1'!A53","v":0.75},{"$f":"'S1'!B53","v":0},null,{"$f":"IF(ISBLANK(K$10),\"  \",IF(ISBLANK(K$11),\" \",IF(ISBLANK(K41),\" \",ROUND((K41+K$12)/K$10*100,2))))","v":"  "},null,{"$f":"IF(ISBLANK(M$10),\"  \",IF(ISBLANK(M$11),\" \",IF(ISBLANK(M41),\" \",ROUND((M41+M$12)/M$10*100,2))))","v":"  "}]
[{"$f":"'S1'!A54","v":0.625},{"$f":"'S1'!B54","v":0},{"$f":"IF(ISBLANK(C30),\" \",IF(ISBLANK(C34),\" \",(600-SUM(D35:D40))/100))","v":" "},null,{"$f":"IF(ISBLANK(E30),\" \",IF(ISBLANK(E34),\" \",(600-SUM(F35:F40))/100))","v":" "},null,null,null,{"$f":"'S1'!A54","v":0.625},{"$f":"'S1'!B54","v":0},{"$f":"IF(ISBLANK(K30),\" \",IF(ISBLANK(K34),\" \",(600-SUM(L35:L40))/100))","v":" "},null,{"$f":"IF(ISBLANK(M30),\" \",IF(ISBLANK(M34),\" \",(600-SUM(N35:N40))/100))","v":" "}]
["Tested By",null,null,null,null,null,"MTD",null,"Tested By",null,null,null,null,null,"MTD"]
["Remarks",null,null,null,null,null,null,null,"Remarks"]

{"sheet":"Chart 1-24","index":13,"n_rows":5,"n_cols":35,"rows_kept":5,"cut":false,"hidden":false,"merged":[[4,0,4,1],[0,0,2,0],[1,1,1,5],[2,1,2,5],[3,1,3,5],[3,7,3,8],[3,9,3,10],[1,7,1,8],[1,9,1,10],[2,7,2,8],[2,9,2,10]]}
[null,null,null,null,null,null,null,null,null,null,null,null,null,null,null,null,null,{"$f":"IF(J4=\"Type A\",1,IF(J4=\"B1\",2,IF(J4=\"B3\",3,IF(J4=\"Anti-Skid\",4,IF(J4=3,5,IF(J4=467,6,IF(J4=5,7,IF(J4=57,8,IF(J4=67,9,IF(J4=7,10,IF(J4=8,11,IF(J4=9,12,IF(J4=10,13,IF(J4=\"2A\",14,IF(J4=\"OGS\",15,IF(J4=78,16,IF(J4=\"2RC\",17,IF(J4=\"DSA\",18))))))))))))))))))","v":false}]
[null,"COMMONWEALTH OF PENNSYLVANIA",null,null,null,null,null,"DISTRICT",null,{"$f":"'S1'!M2","v":0},null,null,null,null,null,null,null,{"$f":"IF($R1=1,1,0)","v":0},{"$f":"IF($R1=2,1,0)","v":0},{"$f":"IF($R1=3,1,0)","v":0},{"$f":"IF($R1=4,1,0)","v":0},{"$f":"IF($R1=5,1,0)","v":0},{"$f":"IF($R1=6,1,0)","v":0},{"$f":"IF($R1=7,1,0)","v":0},{"$f":"IF($R1=8,1,0)","v":0},{"$f":"IF($R1=9,1,0)","v":0},{"$f":"IF($R1=10,1,0)","v":0},{"$f":"IF($R1=11,1,0)","v":0},{"$f":"IF($R1=12,1,0)","v":0},{"$f":"IF($R1=13,1,0)","v":0},{"$f":"IF($R1=14,1,0)","v":0},{"$f":"IF($R1=15,1,0)","v":0},{"$f":"IF($R1=16,1,0)","v":0},{"$f":"IF($R1=17,1,0)","v":0},{"$f":"IF($R1=18,1,0)","v":0}]
[null,"DEPARTMENT OF TRANSPORTATION",null,null,null,null,null,"PLANT CODE",null,{"$f":"'S1'!M3","v":0},null,null,null,null,null,null,null,"Type A","B1","B3","Anti-Skid",3,467,5,57,67,7,8,9,10,"2A","OGS",78,"2RC","DSA"]
[null,"PENNSYLVANIA TURNPIKE COMMISSION",null,null,null,null,null,"AGG SIZE",null,{"$f":"'S1'!M4","v":0}]
[{"$f":"'S1'!$A$6:$B$6","v":"Aggregate 2023"}]

{"sheet":"Chart 25-48","index":14,"n_rows":5,"n_cols":35,"rows_kept":5,"cut":false,"hidden":true,"merged":[[0,0,2,0],[1,1,1,5],[1,7,1,8],[1,9,1,10],[2,1,2,5],[2,7,2,8],[2,9,2,10],[5,7,5,8],[5,9,5,10],[3,1,3,5],[3,7,3,8],[3,9,3,10],[4,0,4,1],[4,7,4,8],[4,9,4,10]]}
[null,null,null,null,null,null,null,null,null,null,null,null,null,null,null,null,null,{"$f":"IF(J4=\"Type A\",1,IF(J4=\"B1\",2,IF(J4=\"B3\",3,IF(J4=\"Anti-Skid\",4,IF(J4=3,5,IF(J4=467,6,IF(J4=5,7,IF(J4=57,8,IF(J4=67,9,IF(J4=7,10,IF(J4=8,11,IF(J4=9,12,IF(J4=10,13,IF(J4=\"2A\",14,IF(J4=\"OGS\",15,IF(J4=78,16,IF(J4=\"2RC\",17,IF(J4=\"DSA\",18))))))))))))))))))","v":false}]
[null,"COMMONWEALTH OF PENNSYLVANIA",null,null,null,null,null,"DISTRICT",null,{"$f":"'S1'!M2","v":0},null,null,null,null,null,null,null,{"$f":"IF($R1=1,1,0)","v":0},{"$f":"IF($R1=2,1,0)","v":0},{"$f":"IF($R1=3,1,0)","v":0},{"$f":"IF($R1=4,1,0)","v":0},{"$f":"IF($R1=5,1,0)","v":0},{"$f":"IF($R1=6,1,0)","v":0},{"$f":"IF($R1=7,1,0)","v":0},{"$f":"IF($R1=8,1,0)","v":0},{"$f":"IF($R1=9,1,0)","v":0},{"$f":"IF($R1=10,1,0)","v":0},{"$f":"IF($R1=11,1,0)","v":0},{"$f":"IF($R1=12,1,0)","v":0},{"$f":"IF($R1=13,1,0)","v":0},{"$f":"IF($R1=14,1,0)","v":0},{"$f":"IF($R1=15,1,0)","v":0},{"$f":"IF($R1=16,1,0)","v":0},{"$f":"IF($R1=17,1,0)","v":0},{"$f":"IF($R1=18,1,0)","v":0}]
[null,"DEPARTMENT OF TRANSPORTATION",null,null,null,null,null,"PLANT CODE",null,{"$f":"'S1'!M3","v":0},null,null,null,null,null,null,null,"Type A","B1","B3","Anti-Skid",3,467,5,57,67,7,8,9,10,"2A","OGS",78,"2RC","DSA"]
[null,"PENNSYLVANIA TURNPIKE COMMISSION",null,null,null,null,null,"AGG SIZE",null,{"$f":"'S1'!M4","v":0}]
[{"$f":"'S1'!$A$6:$B$6","v":"Aggregate 2023"}]

{"sheet":"Chart 49-72","index":15,"n_rows":5,"n_cols":35,"rows_kept":5,"cut":false,"hidden":true,"merged":[[0,0,2,0],[1,1,1,5],[1,7,1,8],[1,9,1,10],[2,1,2,5],[2,7,2,8],[2,9,2,10],[5,7,5,8],[5,9,5,10],[3,1,3,5],[3,7,3,8],[3,9,3,10],[4,0,4,1],[4,7,4,8],[4,9,4,10]]}
[null,null,null,null,null,null,null,null,null,null,null,null,null,null,null,null,null,{"$f":"IF(J4=\"Type A\",1,IF(J4=\"B1\",2,IF(J4=\"B3\",3,IF(J4=\"Anti-Skid\",4,IF(J4=3,5,IF(J4=467,6,IF(J4=5,7,IF(J4=57,8,IF(J4=67,9,IF(J4=7,10,IF(J4=8,11,IF(J4=9,12,IF(J4=10,13,IF(J4=\"2A\",14,IF(J4=\"OGS\",15,IF(J4=78,16,IF(J4=\"2RC\",17,IF(J4=\"DSA\",18))))))))))))))))))","v":false}]
[null,"COMMONWEALTH OF PENNSYLVANIA",null,null,null,null,null,"DISTRICT",null,{"$f":"'S1'!M2","v":0},null,null,null,null,null,null,null,{"$f":"IF($R1=1,1,0)","v":0},{"$f":"IF($R1=2,1,0)","v":0},{"$f":"IF($R1=3,1,0)","v":0},{"$f":"IF($R1=4,1,0)","v":0},{"$f":"IF($R1=5,1,0)","v":0},{"$f":"IF($R1=6,1,0)","v":0},{"$f":"IF($R1=7,1,0)","v":0},{"$f":"IF($R1=8,1,0)","v":0},{"$f":"IF($R1=9,1,0)","v":0},{"$f":"IF($R1=10,1,0)","v":0},{"$f":"IF($R1=11,1,0)","v":0},{"$f":"IF($R1=12,1,0)","v":0},{"$f":"IF($R1=13,1,0)","v":0},{"$f":"IF($R1=14,1,0)","v":0},{"$f":"IF($R1=15,1,0)","v":0},{"$f":"IF($R1=16,1,0)","v":0},{"$f":"IF($R1=17,1,0)","v":0},{"$f":"IF($R1=18,1,0)","v":0}]
[null,"DEPARTMENT OF TRANSPORTATION",null,null,null,null,null,"PLANT CODE",null,{"$f":"'S1'!M3","v":0},null,null,null,null,null,null,null,"Type A","B1","B3","Anti-Skid",3,467,5,57,67,7,8,9,10,"2A","OGS",78,"2RC","DSA"]
[null,"PENNSYLVANIA TURNPIKE COMMISSION",null,null,null,null,null,"AGG SIZE",null,{"$f":"'S1'!M4","v":0}]
[{"$f":"'S1'!$A$6:$B$6","v":"Aggregate 2023"}]

{"sheet":"Chart 73-96","index":16,"n_rows":5,"n_cols":35,"rows_kept":5,"cut":false,"hidden":true,"merged":[[0,0,2,0],[1,1,1,5],[1,7,1,8],[1,9,1,10],[2,1,2,5],[2,7,2,8],[2,9,2,10],[5,7,5,8],[5,9,5,10],[3,1,3,5],[3,7,3,8],[3,9,3,10],[4,0,4,1],[4,7,4,8],[4,9,4,10]]}
[null,null,null,null,null,null,null,null,null,null,null,null,null,null,null,null,null,{"$f":"IF(J4=\"Type A\",1,IF(J4=\"B1\",2,IF(J4=\"B3\",3,IF(J4=\"Anti-Skid\",4,IF(J4=3,5,IF(J4=467,6,IF(J4=5,7,IF(J4=57,8,IF(J4=67,9,IF(J4=7,10,IF(J4=8,11,IF(J4=9,12,IF(J4=10,13,IF(J4=\"2A\",14,IF(J4=\"OGS\",15,IF(J4=78,16,IF(J4=\"2RC\",17,IF(J4=\"DSA\",18))))))))))))))))))","v":false}]
[null,"COMMONWEALTH OF PENNSYLVANIA",null,null,null,null,null,"DISTRICT",null,{"$f":"'S1'!M2","v":0},null,null,null,null,null,null,null,{"$f":"IF($R1=1,1,0)","v":0},{"$f":"IF($R1=2,1,0)","v":0},{"$f":"IF($R1=3,1,0)","v":0},{"$f":"IF($R1=4,1,0)","v":0},{"$f":"IF($R1=5,1,0)","v":0},{"$f":"IF($R1=6,1,0)","v":0},{"$f":"IF($R1=7,1,0)","v":0},{"$f":"IF($R1=8,1,0)","v":0},{"$f":"IF($R1=9,1,0)","v":0},{"$f":"IF($R1=10,1,0)","v":0},{"$f":"IF($R1=11,1,0)","v":0},{"$f":"IF($R1=12,1,0)","v":0},{"$f":"IF($R1=13,1,0)","v":0},{"$f":"IF($R1=14,1,0)","v":0},{"$f":"IF($R1=15,1,0)","v":0},{"$f":"IF($R1=16,1,0)","v":0},{"$f":"IF($R1=17,1,0)","v":0},{"$f":"IF($R1=18,1,0)","v":0}]
[null,"DEPARTMENT OF TRANSPORTATION",null,null,null,null,null,"PLANT CODE",null,{"$f":"'S1'!M3","v":0},null,null,null,null,null,null,null,"Type A","B1","B3","Anti-Skid",3,467,5,57,67,7,8,9,10,"2A","OGS",78,"2RC","DSA"]
[null,"PENNSYLVANIA TURNPIKE COMMISSION",null,null,null,null,null,"AGG SIZE",null,{"$f":"'S1'!M4","v":0}]
[{"$f":"'S1'!$A$6:$B$6","v":"Aggregate 2023"}]

{"sheet":"Chart 97-120","index":17,"n_rows":5,"n_cols":35,"rows_kept":5,"cut":false,"hidden":true,"merged":[[0,0,2,0],[1,1,1,5],[1,7,1,8],[1,9,1,10],[2,1,2,5],[2,7,2,8],[2,9,2,10],[5,7,5,8],[5,9,5,10],[3,1,3,5],[3,7,3,8],[3,9,3,10],[4,0,4,1],[4,7,4,8],[4,9,4,10]]}
[null,null,null,null,null,null,null,null,null,null,null,null,null,null,null,null,null,{"$f":"IF(J4=\"Type A\",1,IF(J4=\"B1\",2,IF(J4=\"B3\",3,IF(J4=\"Anti-Skid\",4,IF(J4=3,5,IF(J4=467,6,IF(J4=5,7,IF(J4=57,8,IF(J4=67,9,IF(J4=7,10,IF(J4=8,11,IF(J4=9,12,IF(J4=10,13,IF(J4=\"2A\",14,IF(J4=\"OGS\",15,IF(J4=78,16,IF(J4=\"2RC\",17,IF(J4=\"DSA\",18))))))))))))))))))","v":false}]
[null,"COMMONWEALTH OF PENNSYLVANIA",null,null,null,null,null,"DISTRICT",null,{"$f":"'S1'!M2","v":0},null,null,null,null,null,null,null,{"$f":"IF($R1=1,1,0)","v":0},{"$f":"IF($R1=2,1,0)","v":0},{"$f":"IF($R1=3,1,0)","v":0},{"$f":"IF($R1=4,1,0)","v":0},{"$f":"IF($R1=5,1,0)","v":0},{"$f":"IF($R1=6,1,0)","v":0},{"$f":"IF($R1=7,1,0)","v":0},{"$f":"IF($R1=8,1,0)","v":0},{"$f":"IF($R1=9,1,0)","v":0},{"$f":"IF($R1=10,1,0)","v":0},{"$f":"IF($R1=11,1,0)","v":0},{"$f":"IF($R1=12,1,0)","v":0},{"$f":"IF($R1=13,1,0)","v":0},{"$f":"IF($R1=14,1,0)","v":0},{"$f":"IF($R1=15,1,0)","v":0},{"$f":"IF($R1=16,1,0)","v":0},{"$f":"IF($R1=17,1,0)","v":0},{"$f":"IF($R1=18,1,0)","v":0}]
[null,"DEPARTMENT OF TRANSPORTATION",null,null,null,null,null,"PLANT CODE",null,{"$f":"'S1'!M3","v":0},null,null,null,null,null,null,null,"Type A","B1","B3","Anti-Skid",3,467,5,57,67,7,8,9,10,"2A","OGS",78,"2RC","DSA"]
[null,"PENNSYLVANIA TURNPIKE COMMISSION",null,null,null,null,null,"AGG SIZE",null,{"$f":"'S1'!M4","v":0}]
[{"$f":"'S1'!$A$6:$B$6","v":"Aggregate 2023"}]

{"sheet":"Chart 121-144","index":18,"n_rows":5,"n_cols":35,"rows_kept":5,"cut":false,"hidden":true,"merged":[[0,0,2,0],[1,1,1,5],[1,7,1,8],[1,9,1,10],[2,1,2,5],[2,7,2,8],[2,9,2,10],[5,7,5,8],[5,9,5,10],[3,1,3,5],[3,7,3,8],[3,9,3,10],[4,0,4,1],[4,7,4,8],[4,9,4,10]]}
[null,null,null,null,null,null,null,null,null,null,null,null,null,null,null,null,null,{"$f":"IF(J4=\"Type A\",1,IF(J4=\"B1\",2,IF(J4=\"B3\",3,IF(J4=\"Anti-Skid\",4,IF(J4=3,5,IF(J4=467,6,IF(J4=5,7,IF(J4=57,8,IF(J4=67,9,IF(J4=7,10,IF(J4=8,11,IF(J4=9,12,IF(J4=10,13,IF(J4=\"2A\",14,IF(J4=\"OGS\",15,IF(J4=78,16,IF(J4=\"2RC\",17,IF(J4=\"DSA\",18))))))))))))))))))","v":false}]
[null,"COMMONWEALTH OF PENNSYLVANIA",null,null,null,null,null,"DISTRICT",null,{"$f":"'S1'!M2","v":0},null,null,null,null,null,null,null,{"$f":"IF($R1=1,1,0)","v":0},{"$f":"IF($R1=2,1,0)","v":0},{"$f":"IF($R1=3,1,0)","v":0},{"$f":"IF($R1=4,1,0)","v":0},{"$f":"IF($R1=5,1,0)","v":0},{"$f":"IF($R1=6,1,0)","v":0},{"$f":"IF($R1=7,1,0)","v":0},{"$f":"IF($R1=8,1,0)","v":0},{"$f":"IF($R1=9,1,0)","v":0},{"$f":"IF($R1=10,1,0)","v":0},{"$f":"IF($R1=11,1,0)","v":0},{"$f":"IF($R1=12,1,0)","v":0},{"$f":"IF($R1=13,1,0)","v":0},{"$f":"IF($R1=14,1,0)","v":0},{"$f":"IF($R1=15,1,0)","v":0},{"$f":"IF($R1=16,1,0)","v":0},{"$f":"IF($R1=17,1,0)","v":0},{"$f":"IF($R1=18,1,0)","v":0}]
[null,"DEPARTMENT OF TRANSPORTATION",null,null,null,null,null,"PLANT CODE",null,{"$f":"'S1'!M3","v":0},null,null,null,null,null,null,null,"Type A","B1","B3","Anti-Skid",3,467,5,57,67,7,8,9,10,"2A","OGS",78,"2RC","DSA"]
[null,"PENNSYLVANIA TURNPIKE COMMISSION",null,null,null,null,null,"AGG SIZE",null,{"$f":"'S1'!M4","v":0}]
[{"$f":"'S1'!$A$6:$B$6","v":"Aggregate 2023"}]

{"sheet":"S13","index":19,"n_rows":145,"n_cols":35,"rows_kept":145,"cut":false,"hidden":true,"merged":[[0,27,0,28],[0,25,0,26],[0,19,0,20],[0,31,0,32],[0,33,0,34],[0,1,0,2],[0,7,0,8],[0,5,0,6],[0,3,0,4],[0,29,0,30],[0,17,0,18],[0,15,0,16],[0,13,0,14],[0,11,0,12],[0,9,0,10],[0,21,0,22],[0,23,0,24]]}
["Sam. No.",2,null,1.5,null,1,null,0.75,null,0.5,null,0.375,null,4,null,8,null,16,null,30,null,"#50",null,"#100",null,200,null,"FM",null,"Wash",null,0.625,null,0.25]
[{"$f":"IF(ISBLANK('S1'!C$10),\" \",'S1'!C$10)","v":1},{"$f":"IF(ISTEXT('S1'!$D$17),NA(),'S1'!$D$17)","v":{"$error":"#N/A"}},{"$f":"B2","v":{"$error":"#N/A"}},{"$f":"IF(ISTEXT('S1'!$D$18),NA(),'S1'!$D$18)","v":{"$error":"#N/A"}},{"$f":"D2","v":{"$error":"#N/A"}},{"$f":"IF(ISTEXT('S1'!$D$19),NA(),'S1'!$D$19)","v":{"$error":"#N/A"}},{"$f":"F2","v":{"$error":"#N/A"}},{"$f":"IF(ISTEXT('S1'!$D$20),NA(),'S1'!$D$20)","v":{"$error":"#N/A"}},{"$f":"H2","v":{"$error":"#N/A"}},{"$f":"IF(ISTEXT('S1'!$D$22),NA(),'S1'!$D$22)","v":{"$error":"#N/A"}},{"$f":"J2","v":{"$error":"#N/A"}},{"$f":"IF(ISTEXT('S1'!$D$23),NA(),'S1'!$D$23)","v":{"$error":"#N/A"}},{"$f":"L2","v":{"$error":"#N/A"}},{"$f":"IF(ISTEXT('S1'!$D$25),NA(),'S1'!$D$25)","v":{"$error":"#N/A"}},{"$f":"N2","v":{"$error":"#N/A"}},{"$f":"IF(ISTEXT('S1'!$D$26),NA(),'S1'!$D$26)","v":{"$error":"#N/A"}},{"$f":"P2","v":{"$error":"#N/A"}},{"$f":"IF(ISTEXT('S1'!$D$27),NA(),'S1'!$D$27)","v":{"$error":"#N/A"}},{"$f":"R2","v":{"$error":"#N/A"}},{"$f":"IF(ISTEXT('S1'!$D$28),NA(),'S1'!$D$28)","v":{"$error":"#N/A"}},{"$f":"T2","v":{"$error":"#N/A"}},{"$f":"IF(ISTEXT('S1'!$D$29),NA(),'S1'!$D$29)","v":{"$error":"#N/A"}},{"$f":"V2","v":{"$error":"#N/A"}},{"$f":"IF(ISTEXT('S1'!$D$30),NA(),'S1'!$D$30)","v":{"$error":"#N/A"}},{"$f":"X2","v":{"$error":"#N/A"}},{"$f":"IF(ISTEXT('S1'!$D$31),NA(),'S1'!$D$31)","v":{"$error":"#N/A"}},{"$f":"Z2","v":{"$error":"#N/A"}},{"$f":"IF(ISTEXT('S1'!$C$32),NA(),'S1'!$C$32)","v":{"$error":"#N/A"}},{"$f":"AB2","v":{"$error":"#N/A"}},{"$f":"IF(ISTEXT('S1'!$D$34),NA(),'S1'!$D$34)","v":{"$error":"#N/A"}},{"$f":"AD2","v":{"$error":"#N/A"}},{"$f":"IF(ISTEXT('S1'!$D$21),NA(),'S1'!$D$21)","v":{"$error":"#N/A"}},{"$f":"AF2","v":{"$error":"#N/A"}},{"$f":"IF(ISTEXT('S1'!$D$24),NA(),'S1'!$D$24)","v":{"$error":"#N/A"}},{"$f":"AH2","v":{"$error":"#N/A"}}]
[{"$f":"IF(ISBLANK('S1'!E$10),\" \",'S1'!E$10)","v":2},{"$f":"IF(ISTEXT('S1'!$F$17),NA(),'S1'!$F$17)","v":{"$error":"#N/A"}},{"$f":"(B2+B3)/2","v":{"$error":"#N/A"}},{"$f":"IF(ISTEXT('S1'!$F$18),NA(),'S1'!$F$18)","v":{"$error":"#N/A"}},{"$f":"(D2+D3)/2","v":{"$error":"#N/A"}},{"$f":"IF(ISTEXT('S1'!$F$19),NA(),'S1'!$F$19)","v":{"$error":"#N/A"}},{"$f":"(F2+F3)/2","v":{"$error":"#N/A"}},{"$f":"IF(ISTEXT('S1'!$F$20),NA(),'S1'!$F$20)","v":{"$error":"#N/A"}},{"$f":"(H2+H3)/2","v":{"$error":"#N/A"}},{"$f":"IF(ISTEXT('S1'!$F$22),NA(),'S1'!$F$22)","v":{"$error":"#N/A"}},{"$f":"(J2+J3)/2","v":{"$error":"#N/A"}},{"$f":"IF(ISTEXT('S1'!$F$23),NA(),'S1'!$F$23)","v":{"$error":"#N/A"}},{"$f":"(L2+L3)/2","v":{"$error":"#N/A"}},{"$f":"IF(ISTEXT('S1'!$F$25),NA(),'S1'!$F$25)","v":{"$error":"#N/A"}},{"$f":"(N2+N3)/2","v":{"$error":"#N/A"}},{"$f":"IF(ISTEXT('S1'!$F$26),NA(),'S1'!$F$26)","v":{"$error":"#N/A"}},{"$f":"(P2+P3)/2","v":{"$error":"#N/A"}},{"$f":"IF(ISTEXT('S1'!$F$27),NA(),'S1'!$F$27)","v":{"$error":"#N/A"}},{"$f":"(R2+R3)/2","v":{"$error":"#N/A"}},{"$f":"IF(ISTEXT('S1'!$F$28),NA(),'S1'!$F$28)","v":{"$error":"#N/A"}},{"$f":"(T2+T3)/2","v":{"$error":"#N/A"}},{"$f":"IF(ISTEXT('S1'!$F$29),NA(),'S1'!$F$29)","v":{"$error":"#N/A"}},{"$f":"ROUND(AVERAGE(V2:V3),0)","v":{"$error":"#N/A"}},{"$f":"IF(ISTEXT('S1'!$F$30),NA(),'S1'!$F$30)","v":{"$error":"#N/A"}},{"$f":"ROUND(AVERAGE(X2:X3),0)","v":{"$error":"#N/A"}},{"$f":"IF(ISTEXT('S1'!$F$31),NA(),'S1'!$F$31)","v":{"$error":"#N/A"}},{"$f":"ROUND(AVERAGE(Z2:Z3),2)","v":{"$error":"#N/A"}},{"$f":"IF(ISTEXT('S1'!$E$32),NA(),'S1'!$E$32)","v":{"$error":"#N/A"}},{"$f":"ROUND(AVERAGE(AB2:AB3),2)","v":{"$error":"#N/A"}},{"$f":"IF(ISTEXT('S1'!$F$34),NA(),'S1'!$F$34)","v":{"$error":"#N/A"}},{"$f":"ROUND(AVERAGE(AD2:AD3),2)","v":{"$error":"#N/A"}},{"$f":"IF(ISTEXT('S1'!$F$21),NA(),'S1'!$F$21)","v":{"$error":"#N/A"}},{"$f":"(AF2+AF3)/2","v":{"$error":"#N/A"}},{"$f":"IF(ISTEXT('S1'!$F$24),NA(),'S1'!$F$24)","v":{"$error":"#N/A"}},{"$f":"(AH2+AH3)/2","v":{"$error":"#N/A"}}]
[{"$f":"IF(ISBLANK('S1'!G$10),\" \",'S1'!G$10)","v":3},{"$f":"IF(ISTEXT('S1'!$H$17),NA(),'S1'!$H$17)","v":{"$error":"#N/A"}},{"$f":"SUM(B2:B4)/3","v":{"$error":"#N/A"}},{"$f":"IF(ISTEXT('S1'!$H$18),NA(),'S1'!$H$18)","v":{"$error":"#N/A"}},{"$f":"SUM(D2:D4)/3","v":{"$error":"#N/A"}},{"$f":"IF(ISTEXT('S1'!$H$19),NA(),'S1'!$H$19)","v":{"$error":"#N/A"}},{"$f":"SUM(F2:F4)/3","v":{"$error":"#N/A"}},{"$f":"IF(ISTEXT('S1'!$H$20),NA(),'S1'!$H$20)","v":{"$error":"#N/A"}},{"$f":"SUM(H2:H4)/3","v":{"$error":"#N/A"}},{"$f":"IF(ISTEXT('S1'!$H$22),NA(),'S1'!$H$22)","v":{"$error":"#N/A"}},{"$f":"SUM(J2:J4)/3","v":{"$error":"#N/A"}},{"$f":"IF(ISTEXT('S1'!$H$23),NA(),'S1'!$H$23)","v":{"$error":"#N/A"}},{"$f":"SUM(L2:L4)/3","v":{"$error":"#N/A"}},{"$f":"IF(ISTEXT('S1'!$H$25),NA(),'S1'!$H$25)","v":{"$error":"#N/A"}},{"$f":"SUM(N2:N4)/3","v":{"$error":"#N/A"}},{"$f":"IF(ISTEXT('S1'!$H$26),NA(),'S1'!$H$26)","v":{"$error":"#N/A"}},{"$f":"SUM(P2:P4)/3","v":{"$error":"#N/A"}},{"$f":"IF(ISTEXT('S1'!$H$27),NA(),'S1'!$H$27)","v":{"$error":"#N/A"}},{"$f":"SUM(R2:R4)/3","v":{"$error":"#N/A"}},{"$f":"IF(ISTEXT('S1'!$H$28),NA(),'S1'!$H$28)","v":{"$error":"#N/A"}},{"$f":"SUM(T2:T4)/3","v":{"$error":"#N/A"}},{"$f":"IF(ISTEXT('S1'!$H$29),NA(),'S1'!$H$29)","v":{"$error":"#N/A"}},{"$f":"ROUND(AVERAGE(V2:V4),0)","v":{"$error":"#N/A"}},{"$f":"IF(ISTEXT('S1'!$H$30),NA(),'S1'!$H$30)","v":{"$error":"#N/A"}},{"$f":"ROUND(AVERAGE(X2:X4),0)","v":{"$error":"#N/A"}},{"$f":"IF(ISTEXT('S1'!$H$31),NA(),'S1'!$H$31)","v":{"$error":"#N/A"}},{"$f":"ROUND(AVERAGE(Z2:Z4),2)","v":{"$error":"#N/A"}},{"$f":"IF(ISTEXT('S1'!$G$32),NA(),'S1'!$G$32)","v":{"$error":"#N/A"}},{"$f":"ROUND(AVERAGE(AB2:AB4),2)","v":{"$error":"#N/A"}},{"$f":"IF(ISTEXT('S1'!$H$34),NA(),'S1'!$H$34)","v":{"$error":"#N/A"}},{"$f":"ROUND(AVERAGE(AD2:AD4),2)","v":{"$error":"#N/A"}},{"$f":"IF(ISTEXT('S1'!$H$21),NA(),'S1'!$H$21)","v":{"$error":"#N/A"}},{"$f":"SUM(AF2:AF4)/3","v":{"$error":"#N/A"}},{"$f":"IF(ISTEXT('S1'!$H$24),NA(),'S1'!$H$24)","v":{"$error":"#N/A"}},{"$f":"SUM(AH2:AH4)/3","v":{"$error":"#N/A"}}]
[{"$f":"IF(ISBLANK('S1'!I$10),\" \",'S1'!I$10)","v":4},{"$f":"IF(ISTEXT('S1'!$J$17),NA(),'S1'!$J$17)","v":{"$error":"#N/A"}},{"$f":"SUM(B3:B5)/3","v":{"$error":"#N/A"}},{"$f":"IF(ISTEXT('S1'!$J$18),NA(),'S1'!$J$18)","v":{"$error":"#N/A"}},{"$f":"SUM(D3:D5)/3","v":{"$error":"#N/A"}},{"$f":"IF(ISTEXT('S1'!$J$19),NA(),'S1'!$J$19)","v":{"$error":"#N/A"}},{"$f":"SUM(F3:F5)/3","v":{"$error":"#N/A"}},{"$f":"IF(ISTEXT('S1'!$J$20),NA(),'S1'!$J$20)","v":{"$error":"#N/A"}},{"$f":"SUM(H3:H5)/3","v":{"$error":"#N/A"}},{"$f":"IF(ISTEXT('S1'!$J$22),NA(),'S1'!$J$22)","v":{"$error":"#N/A"}},{"$f":"SUM(J3:J5)/3","v":{"$error":"#N/A"}},{"$f":"IF(ISTEXT('S1'!$J$23),NA(),'S1'!$J$23)","v":{"$error":"#N/A"}},{"$f":"SUM(L3:L5)/3","v":{"$error":"#N/A"}},{"$f":"IF(ISTEXT('S1'!$J$25),NA(),'S1'!$J$25)","v":{"$error":"#N/A"}},{"$f":"SUM(N3:N5)/3","v":{"$error":"#N/A"}},{"$f":"IF(ISTEXT('S1'!$J$26),NA(),'S1'!$J$26)","v":{"$error":"#N/A"}},{"$f":"SUM(P3:P5)/3","v":{"$error":"#N/A"}},{"$f":"IF(ISTEXT('S1'!$J$27),NA(),'S1'!$J$27)","v":{"$error":"#N/A"}},{"$f":"SUM(R3:R5)/3","v":{"$error":"#N/A"}},{"$f":"IF(ISTEXT('S1'!$J$28),NA(),'S1'!$J$28)","v":{"$error":"#N/A"}},{"$f":"SUM(T3:T5)/3","v":{"$error":"#N/A"}},{"$f":"IF(ISTEXT('S1'!$J$29),NA(),'S1'!$J$29)","v":{"$error":"#N/A"}},{"$error":"#N/A"},{"$f":"IF(ISTEXT('S1'!$J$30),NA(),'S1'!$J$30)","v":{"$error":"#N/A"}},{"$error":"#N/A"},{"$f":"IF(ISTEXT('S1'!$J$31),NA(),'S1'!$J$31)","v":{"$error":"#N/A"}},{"$error":"#N/A"},{"$f":"IF(ISTEXT('S1'!$I$32),NA(),'S1'!$I$32)","v":{"$error":"#N/A"}},{"$error":"#N/A"},{"$f":"IF(ISTEXT('S1'!$J$34),NA(),'S1'!$J$34)","v":{"$error":"#N/A"}},{"$error":"#N/A"},{"$f":"IF(ISTEXT('S1'!$J$21),NA(),'S1'!$J$21)","v":{"$error":"#N/A"}},{"$f":"SUM(AF3:AF5)/3","v":{"$error":"#N/A"}},{"$f":"IF(ISTEXT('S1'!$J$24),NA(),'S1'!$J$24)","v":{"$error":"#N/A"}},{"$f":"SUM(AH3:AH5)/3","v":{"$error":"#N/A"}}]
[{"$f":"IF(ISBLANK('S1'!K$10),\" \",'S1'!K$10)","v":5},{"$f":"IF(ISTEXT('S1'!$L$17),NA(),'S1'!$L$17)","v":{"$error":"#N/A"}},{"$f":"SUM(B4:B6)/3","v":{"$error":"#N/A"}},{"$f":"IF(ISTEXT('S1'!$L$18),NA(),'S1'!$L$18)","v":{"$error":"#N/A"}},{"$f":"SUM(D4:D6)/3","v":{"$error":"#N/A"}},{"$f":"IF(ISTEXT('S1'!$L$19),NA(),'S1'!$L$19)","v":{"$error":"#N/A"}},{"$f":"SUM(F4:F6)/3","v":{"$error":"#N/A"}},{"$f":"IF(ISTEXT('S1'!$L$20),NA(),'S1'!$L$20)","v":{"$error":"#N/A"}},{"$error":"#N/A"},{"$f":"IF(ISTEXT('S1'!$L$22),NA(),'S1'!$L$22)","v":{"$error":"#N/A"}},{"$error":"#N/A"},{"$f":"IF(ISTEXT('S1'!$L$23),NA(),'S1'!$L$23)","v":{"$error":"#N/A"}},{"$error":"#N/A"},{"$f":"IF(ISTEXT('S1'!$L$25),NA(),'S1'!$L$25)","v":{"$error":"#N/A"}},{"$error":"#N/A"},{"$f":"IF(ISTEXT('S1'!$L$26),NA(),'S1'!$L$26)","v":{"$error":"#N/A"}},{"$error":"#N/A"},{"$f":"IF(ISTEXT('S1'!$L$27),NA(),'S1'!$L$27)","v":{"$error":"#N/A"}},{"$error":"#N/A"},{"$f":"IF(ISTEXT('S1'!$L$28),NA(),'S1'!$L$28)","v":{"$error":"#N/A"}},{"$error":"#N/A"},{"$f":"IF(ISTEXT('S1'!$L$29),NA(),'S1'!$L$29)","v":{"$error":"#N/A"}},{"$error":"#N/A"},{"$f":"IF(ISTEXT('S1'!$L$30),NA(),'S1'!$L$30)","v":{"$error":"#N/A"}},{"$error":"#N/A"},{"$f":"IF(ISTEXT('S1'!$L$31),NA(),'S1'!$L$31)","v":{"$error":"#N/A"}},{"$error":"#N/A"},{"$f":"IF(ISTEXT('S1'!$K$32),NA(),'S1'!$K$32)","v":{"$error":"#N/A"}},{"$error":"#N/A"},{"$f":"IF(ISTEXT('S1'!$L$34),NA(),'S1'!$L$34)","v":{"$error":"#N/A"}},{"$error":"#N/A"},{"$f":"IF(ISTEXT('S1'!$L$21),NA(),'S1'!$L$21)","v":{"$error":"#N/A"}},{"$error":"#N/A"},{"$f":"IF(ISTEXT('S1'!$L$24),NA(),'S1'!$L$24)","v":{"$error":"#N/A"}},{"$error":"#N/A"}]
[{"$f":"IF(ISBLANK('S1'!M$10),\" \",'S1'!M$10)","v":6},{"$f":"IF(ISTEXT('S1'!$N$17),NA(),'S1'!$N$17)","v":{"$error":"#N/A"}},{"$error":"#N/A"},{"$f":"IF(ISTEXT('S1'!$N$18),NA(),'S1'!$N$18)","v":{"$error":"#N/A"}},{"$error":"#N/A"},{"$f":"IF(ISTEXT('S1'!$N$19),NA(),'S1'!$N$19)","v":{"$error":"#N/A"}},{"$error":"#N/A"},{"$f":"IF(ISTEXT('S1'!$N$20),NA(),'S1'!$N$20)","v":{"$error":"#N/A"}},{"$error":"#N/A"},{"$f":"IF(ISTEXT('S1'!$N$22),NA(),'S1'!$N$22)","v":{"$error":"#N/A"}},{"$error":"#N/A"},{"$f":"IF(ISTEXT('S1'!$N$23),NA(),'S1'!$N$23)","v":{"$error":"#N/A"}},{"$error":"#N/A"},{"$f":"IF(ISTEXT('S1'!$N$25),NA(),'S1'!$N$25)","v":{"$error":"#N/A"}},{"$error":"#N/A"},{"$f":"IF(ISTEXT('S1'!$N$26),NA(),'S1'!$N$26)","v":{"$error":"#N/A"}},{"$error":"#N/A"},{"$f":"IF(ISTEXT('S1'!$N$27),NA(),'S1'!$N$27)","v":{"$error":"#N/A"}},{"$error":"#N/A"},{"$f":"IF(ISTEXT('S1'!$N$28),NA(),'S1'!$N$28)","v":{"$error":"#N/A"}},{"$error":"#N/A"},{"$f":"IF(ISTEXT('S1'!$N$29),NA(),'S1'!$N$29)","v":{"$error":"#N/A"}},{"$error":"#N/A"},{"$f":"IF(ISTEXT('S1'!$N$30),NA(),'S1'!$N$30)","v":{"$error":"#N/A"}},{"$error":"#N/A"},{"$f":"IF(ISTEXT('S1'!$N$31),NA(),'S1'!$N$31)","v":{"$error":"#N/A"}},{"$error":"#N/A"},{"$f":"IF(ISTEXT('S1'!$M$32),NA(),'S1'!$M$32)","v":{"$error":"#N/A"}},{"$error":"#N/A"},{"$f":"IF(ISTEXT('S1'!$N$34),NA(),'S1'!$N$34)","v":{"$error":"#N/A"}},{"$error":"#N/A"},{"$f":"IF(ISTEXT('S1'!$N$21),NA(),'S1'!$N$21)","v":{"$error":"#N/A"}},{"$error":"#N/A"},{"$f":"IF(ISTEXT('S1'!$N$24),NA(),'S1'!$N$24)","v":{"$error":"#N/A"}},{"$error":"#N/A"}]
[{"$f":"IF(ISBLANK('S1'!C$43),\" \",'S1'!C$43)","v":7},{"$f":"IF(ISTEXT('S1'!$D$50),NA(),'S1'!$D$50)","v":{"$error":"#N/A"}},{"$error":"#N/A"},{"$f":"IF(ISTEXT('S1'!$D$51),NA(),'S1'!$D$51)","v":{"$error":"#N/A"}},{"$error":"#N/A"},{"$f":"IF(ISTEXT('S1'!$D$52),NA(),'S1'!$D$52)","v":{"$error":"#N/A"}},{"$error":"#N/A"},{"$f":"IF(ISTEXT('S1'!$D$53),NA(),'S1'!$D$53)","v":{"$error":"#N/A"}},{"$error":"#N/A"},{"$f":"IF(ISTEXT('S1'!$D$55),NA(),'S1'!$D$55)","v":{"$error":"#N/A"}},{"$error":"#N/A"},{"$f":"IF(ISTEXT('S1'!$D$56),NA(),'S1'!$D$56)","v":{"$error":"#N/A"}},{"$error":"#N/A"},{"$f":"IF(ISTEXT('S1'!$D$58),NA(),'S1'!$D$58)","v":{"$error":"#N/A"}},{"$error":"#N/A"},{"$f":"IF(ISTEXT('S1'!$D$59),NA(),'S1'!$D$59)","v":{"$error":"#N/A"}},{"$error":"#N/A"},{"$f":"IF(ISTEXT('S1'!$D$60),NA(),'S1'!$D$60)","v":{"$error":"#N/A"}},{"$error":"#N/A"},{"$f":"IF(ISTEXT('S1'!$D$61),NA(),'S1'!$D$61)","v":{"$error":"#N/A"}},{"$error":"#N/A"},{"$f":"IF(ISTEXT('S1'!$D$62),NA(),'S1'!$D$62)","v":{"$error":"#N/A"}},{"$error":"#N/A"},{"$f":"IF(ISTEXT('S1'!$D$63),NA(),'S1'!$D$63)","v":{"$error":"#N/A"}},{"$error":"#N/A"},{"$f":"IF(ISTEXT('S1'!$D$64),NA(),'S1'!$D$64)","v":{"$error":"#N/A"}},{"$error":"#N/A"},{"$f":"IF(ISTEXT('S1'!$C$65),NA(),'S1'!$C$65)","v":{"$error":"#N/A"}},{"$error":"#N/A"},{"$f":"IF(ISTEXT('S1'!$D$67),NA(),'S1'!$D$67)","v":{"$error":"#N/A"}},{"$error":"#N/A"},{"$f":"IF(ISTEXT('S1'!$D$54),NA(),'S1'!$D$54)","v":{"$error":"#N/A"}},{"$error":"#N/A"},{"$f":"IF(ISTEXT('S1'!$D$57),NA(),'S1'!$D$57)","v":{"$error":"#N/A"}},{"$error":"#N/A"}]
[{"$f":"IF(ISBLANK('S1'!E$43),\" \",'S1'!E$43)","v":8},{"$f":"IF(ISTEXT('S1'!$F$50),NA(),'S1'!$F$50)","v":{"$error":"#N/A"}},{"$error":"#N/A"},{"$f":"IF(ISTEXT('S1'!$F$51),NA(),'S1'!$F$51)","v":{"$error":"#N/A"}},{"$error":"#N/A"},{"$f":"IF(ISTEXT('S1'!$F$52),NA(),'S1'!$F$52)","v":{"$error":"#N/A"}},{"$error":"#N/A"},{"$f":"IF(ISTEXT('S1'!$F$53),NA(),'S1'!$F$53)","v":{"$error":"#N/A"}},{"$error":"#N/A"},{"$f":"IF(ISTEXT('S1'!$F$55),NA(),'S1'!$F$55)","v":{"$error":"#N/A"}},{"$error":"#N/A"},{"$f":"IF(ISTEXT('S1'!$F$56),NA(),'S1'!$F$56)","v":{"$error":"#N/A"}},{"$error":"#N/A"},{"$f":"IF(ISTEXT('S1'!$F$58),NA(),'S1'!$F$58)","v":{"$error":"#N/A"}},{"$error":"#N/A"},{"$f":"IF(ISTEXT('S1'!$F$59),NA(),'S1'!$F$59)","v":{"$error":"#N/A"}},{"$error":"#N/A"},{"$f":"IF(ISTEXT('S1'!$F$60),NA(),'S1'!$F$60)","v":{"$error":"#N/A"}},{"$error":"#N/A"},{"$f":"IF(ISTEXT('S1'!$F$61),NA(),'S1'!$F$61)","v":{"$error":"#N/A"}},{"$error":"#N/A"},{"$f":"IF(ISTEXT('S1'!$F$62),NA(),'S1'!$F$62)","v":{"$error":"#N/A"}},{"$error":"#N/A"},{"$f":"IF(ISTEXT('S1'!$F$63),NA(),'S1'!$F$63)","v":{"$error":"#N/A"}},{"$error":"#N/A"},{"$f":"IF(ISTEXT('S1'!$F$64),NA(),'S1'!$F$64)","v":{"$error":"#N/A"}},{"$error":"#N/A"},{"$f":"IF(ISTEXT('S1'!$E$65),NA(),'S1'!$E$65)","v":{"$error":"#N/A"}},{"$error":"#N/A"},{"$f":"IF(ISTEXT('S1'!$F$67),NA(),'S1'!$F$67)","v":{"$error":"#N/A"}},{"$error":"#N/A"},{"$f":"IF(ISTEXT('S1'!$F$54),NA(),'S1'!$F$54)","v":{"$error":"#N/A"}},{"$error":"#N/A"},{"$f":"IF(ISTEXT('S1'!$F$57),NA(),'S1'!$F$57)","v":{"$error":"#N/A"}},{"$error":"#N/A"}]
[{"$f":"IF(ISBLANK('S1'!G$43),\" \",'S1'!G$43)","v":9},{"$f":"IF(ISTEXT('S1'!$H$50),NA(),'S1'!$H$50)","v":{"$error":"#N/A"}},{"$error":"#N/A"},{"$f":"IF(ISTEXT('S1'!$H$51),NA(),'S1'!$H$51)","v":{"$error":"#N/A"}},{"$error":"#N/A"},{"$f":"IF(ISTEXT('S1'!$H$52),NA(),'S1'!$H$52)","v":{"$error":"#N/A"}},{"$error":"#N/A"},{"$f":"IF(ISTEXT('S1'!$H$53),NA(),'S1'!$H$53)","v":{"$error":"#N/A"}},{"$error":"#N/A"},{"$f":"IF(ISTEXT('S1'!$H$55),NA(),'S1'!$H$55)","v":{"$error":"#N/A"}},{"$error":"#N/A"},{"$f":"IF(ISTEXT('S1'!$H$56),NA(),'S1'!$H$56)","v":{"$error":"#N/A"}},{"$error":"#N/A"},{"$f":"IF(ISTEXT('S1'!$H$58),NA(),'S1'!$H$58)","v":{"$error":"#N/A"}},{"$error":"#N/A"},{"$f":"IF(ISTEXT('S1'!$H$59),NA(),'S1'!$H$59)","v":{"$error":"#N/A"}},{"$error":"#N/A"},{"$f":"IF(ISTEXT('S1'!$H$60),NA(),'S1'!$H$60)","v":{"$error":"#N/A"}},{"$error":"#N/A"},{"$f":"IF(ISTEXT('S1'!$H$61),NA(),'S1'!$H$61)","v":{"$error":"#N/A"}},{"$error":"#N/A"},{"$f":"IF(ISTEXT('S1'!$H$62),NA(),'S1'!$H$62)","v":{"$error":"#N/A"}},{"$error":"#N/A"},{"$f":"IF(ISTEXT('S1'!$H$63),NA(),'S1'!$H$63)","v":{"$error":"#N/A"}},{"$error":"#N/A"},{"$f":"IF(ISTEXT('S1'!$H$64),NA(),'S1'!$H$64)","v":{"$error":"#N/A"}},{"$error":"#N/A"},{"$f":"IF(ISTEXT('S1'!$G$65),NA(),'S1'!$G$65)","v":{"$error":"#N/A"}},{"$error":"#N/A"},{"$f":"IF(ISTEXT('S1'!$H$67),NA(),'S1'!$H$67)","v":{"$error":"#N/A"}},{"$error":"#N/A"},{"$f":"IF(ISTEXT('S1'!$H$54),NA(),'S1'!$H$54)","v":{"$error":"#N/A"}},{"$error":"#N/A"},{"$f":"IF(ISTEXT('S1'!$H$57),NA(),'S1'!$H$57)","v":{"$error":"#N/A"}},{"$error":"#N/A"}]
[{"$f":"IF(ISBLANK('S1'!I$43),\" \",'S1'!I$43)","v":10},{"$f":"IF(ISTEXT('S1'!$J$50),NA(),'S1'!$J$50)","v":{"$error":"#N/A"}},{"$error":"#N/A"},{"$f":"IF(ISTEXT('S1'!$J$51),NA(),'S1'!$J$51)","v":{"$error":"#N/A"}},{"$error":"#N/A"},{"$f":"IF(ISTEXT('S1'!$J$52),NA(),'S1'!$J$52)","v":{"$error":"#N/A"}},{"$error":"#N/A"},{"$f":"IF(ISTEXT('S1'!$J$53),NA(),'S1'!$J$53)","v":{"$error":"#N/A"}},{"$error":"#N/A"},{"$f":"IF(ISTEXT('S1'!$J$55),NA(),'S1'!$J$55)","v":{"$error":"#N/A"}},{"$error":"#N/A"},{"$f":"IF(ISTEXT('S1'!$J$56),NA(),'S1'!$J$56)","v":{"$error":"#N/A"}},{"$error":"#N/A"},{"$f":"IF(ISTEXT('S1'!$J$58),NA(),'S1'!$J$58)","v":{"$error":"#N/A"}},{"$error":"#N/A"},{"$f":"IF(ISTEXT('S1'!$J$59),NA(),'S1'!$J$59)","v":{"$error":"#N/A"}},{"$error":"#N/A"},{"$f":"IF(ISTEXT('S1'!$J$60),NA(),'S1'!$J$60)","v":{"$error":"#N/A"}},{"$error":"#N/A"},{"$f":"IF(ISTEXT('S1'!$J$61),NA(),'S1'!$J$61)","v":{"$error":"#N/A"}},{"$error":"#N/A"},{"$f":"IF(ISTEXT('S1'!$J$62),NA(),'S1'!$J$62)","v":{"$error":"#N/A"}},{"$error":"#N/A"},{"$f":"IF(ISTEXT('S1'!$J$63),NA(),'S1'!$J$63)","v":{"$error":"#N/A"}},{"$error":"#N/A"},{"$f":"IF(ISTEXT('S1'!$J$64),NA(),'S1'!$J$64)","v":{"$error":"#N/A"}},{"$error":"#N/A"},{"$f":"IF(ISTEXT('S1'!$I$65),NA(),'S1'!$I$65)","v":{"$error":"#N/A"}},{"$error":"#N/A"},{"$f":"IF(ISTEXT('S1'!$J$67),NA(),'S1'!$J$67)","v":{"$error":"#N/A"}},{"$error":"#N/A"},{"$f":"IF(ISTEXT('S1'!$J$54),NA(),'S1'!$J$54)","v":{"$error":"#N/A"}},{"$error":"#N/A"},{"$f":"IF(ISTEXT('S1'!$J$57),NA(),'S1'!$J$57)","v":{"$error":"#N/A"}},{"$error":"#N/A"}]
[{"$f":"IF(ISBLANK('S1'!K$43),\" \",'S1'!K$43)","v":11},{"$f":"IF(ISTEXT('S1'!$L$50),NA(),'S1'!$L$50)","v":{"$error":"#N/A"}},{"$error":"#N/A"},{"$f":"IF(ISTEXT('S1'!$L$51),NA(),'S1'!$L$51)","v":{"$error":"#N/A"}},{"$error":"#N/A"},{"$f":"IF(ISTEXT('S1'!$L$52),NA(),'S1'!$L$52)","v":{"$error":"#N/A"}},{"$error":"#N/A"},{"$f":"IF(ISTEXT('S1'!$L$53),NA(),'S1'!$L$53)","v":{"$error":"#N/A"}},{"$error":"#N/A"},{"$f":"IF(ISTEXT('S1'!$L$55),NA(),'S1'!$L$55)","v":{"$error":"#N/A"}},{"$error":"#N/A"},{"$f":"IF(ISTEXT('S1'!$L$56),NA(),'S1'!$L$56)","v":{"$error":"#N/A"}},{"$error":"#N/A"},{"$f":"IF(ISTEXT('S1'!$L$58),NA(),'S1'!$L$58)","v":{"$error":"#N/A"}},{"$error":"#N/A"},{"$f":"IF(ISTEXT('S1'!$L$59),NA(),'S1'!$L$59)","v":{"$error":"#N/A"}},{"$error":"#N/A"},{"$f":"IF(ISTEXT('S1'!$L$60),NA(),'S1'!$L$60)","v":{"$error":"#N/A"}},{"$error":"#N/A"},{"$f":"IF(ISTEXT('S1'!$L$61),NA(),'S1'!$L$61)","v":{"$error":"#N/A"}},{"$error":"#N/A"},{"$f":"IF(ISTEXT('S1'!$L$62),NA(),'S1'!$L$62)","v":{"$error":"#N/A"}},{"$f":"ROUND(AVERAGE(V10:V12),0)","v":{"$error":"#N/A"}},{"$f":"IF(ISTEXT('S1'!$L$63),NA(),'S1'!$L$63)","v":{"$error":"#N/A"}},{"$error":"#N/A"},{"$f":"IF(ISTEXT('S1'!$L$64),NA(),'S1'!$L$64)","v":{"$error":"#N/A"}},{"$error":"#N/A"},{"$f":"IF(ISTEXT('S1'!$K$65),NA(),'S1'!$K$65)","v":{"$error":"#N/A"}},{"$error":"#N/A"},{"$f":"IF(ISTEXT('S1'!$L$67),NA(),'S1'!$L$67)","v":{"$error":"#N/A"}},{"$error":"#N/A"},{"$f":"IF(ISTEXT('S1'!$L$54),NA(),'S1'!$L$54)","v":{"$error":"#N/A"}},{"$error":"#N/A"},{"$f":"IF(ISTEXT('S1'!$L$57),NA(),'S1'!$L$57)","v":{"$error":"#N/A"}},{"$error":"#N/A"}]
[{"$f":"IF(ISBLANK('S1'!M$43),\" \",'S1'!M$43)","v":12},{"$f":"IF(ISTEXT('S1'!$N$50),NA(),'S1'!$N$50)","v":{"$error":"#N/A"}},{"$error":"#N/A"},{"$f":"IF(ISTEXT('S1'!$N$51),NA(),'S1'!$N$51)","v":{"$error":"#N/A"}},{"$error":"#N/A"},{"$f":"IF(ISTEXT('S1'!$N$52),NA(),'S1'!$N$52)","v":{"$error":"#N/A"}},{"$error":"#N/A"},{"$f":"IF(ISTEXT('S1'!$N$53),NA(),'S1'!$N$53)","v":{"$error":"#N/A"}},{"$error":"#N/A"},{"$f":"IF(ISTEXT('S1'!$N$55),NA(),'S1'!$N$55)","v":{"$error":"#N/A"}},{"$error":"#N/A"},{"$f":"IF(ISTEXT('S1'!$N$56),NA(),'S1'!$N$56)","v":{"$error":"#N/A"}},{"$error":"#N/A"},{"$f":"IF(ISTEXT('S1'!$N$58),NA(),'S1'!$N$58)","v":{"$error":"#N/A"}},{"$error":"#N/A"},{"$f":"IF(ISTEXT('S1'!$N$59),NA(),'S1'!$N$59)","v":{"$error":"#N/A"}},{"$error":"#N/A"},{"$f":"IF(ISTEXT('S1'!$N$60),NA(),'S1'!$N$60)","v":{"$error":"#N/A"}},{"$error":"#N/A"},{"$f":"IF(ISTEXT('S1'!$N$61),NA(),'S1'!$N$61)","v":{"$error":"#N/A"}},{"$error":"#N/A"},{"$f":"IF(ISTEXT('S1'!$N$62),NA(),'S1'!$N$62)","v":{"$error":"#N/A"}},{"$error":"#N/A"},{"$f":"IF(ISTEXT('S1'!$N$63),NA(),'S1'!$N$63)","v":{"$error":"#N/A"}},{"$error":"#N/A"},{"$f":"IF(ISTEXT('S1'!$N$64),NA(),'S1'!$N$64)","v":{"$error":"#N/A"}},{"$error":"#N/A"},{"$f":"IF(ISTEXT('S1'!$M$65),NA(),'S1'!$M$65)","v":{"$error":"#N/A"}},{"$error":"#N/A"},{"$f":"IF(ISTEXT('S1'!$N$67),NA(),'S1'!$N$67)","v":{"$error":"#N/A"}},{"$error":"#N/A"},{"$f":"IF(ISTEXT('S1'!$N$54),NA(),'S1'!$N$54)","v":{"$error":"#N/A"}},{"$error":"#N/A"},{"$f":"IF(ISTEXT('S1'!$N$57),NA(),'S1'!$N$57)","v":{"$error":"#N/A"}},{"$error":"#N/A"}]
[{"$f":"IF(ISBLANK('S2'!C$10),\" \",'S2'!C$10)","v":13},{"$f":"IF(ISTEXT('S2'!$D$17),NA(),'S2'!$D$17)","v":{"$error":"#N/A"}},{"$error":"#N/A"},{"$f":"IF(ISTEXT('S2'!$D$18),NA(),'S2'!$D$18)","v":{"$error":"#N/A"}},{"$error":"#N/A"},{"$f":"IF(ISTEXT('S2'!$D$19),NA(),'S2'!$D$19)","v":{"$error":"#N/A"}},{"$error":"#N/A"},{"$f":"IF(ISTEXT('S2'!$D$20),NA(),'S2'!$D$20)","v":{"$error":"#N/A"}},{"$error":"#N/A"},{"$f":"IF(ISTEXT('S2'!$D$22),NA(),'S2'!$D$22)","v":{"$error":"#N/A"}},{"$error":"#N/A"},{"$f":"IF(ISTEXT('S2'!$D$23),NA(),'S2'!$D$23)","v":{"$error":"#N/A"}},{"$error":"#N/A"},{"$f":"IF(ISTEXT('S2'!$D$25),NA(),'S2'!$D$25)","v":{"$error":"#N/A"}},{"$error":"#N/A"},{"$f":"IF(ISTEXT('S2'!$D$26),NA(),'S2'!$D$26)","v":{"$error":"#N/A"}},{"$error":"#N/A"},{"$f":"IF(ISTEXT('S2'!$D$27),NA(),'S2'!$D$27)","v":{"$error":"#N/A"}},{"$error":"#N/A"},{"$f":"IF(ISTEXT('S2'!$D$28),NA(),'S2'!$D$28)","v":{"$error":"#N/A"}},{"$error":"#N/A"},{"$f":"IF(ISTEXT('S2'!$D$29),NA(),'S2'!$D$29)","v":{"$error":"#N/A"}},{"$error":"#N/A"},{"$f":"IF(ISTEXT('S2'!$D$30),NA(),'S2'!$D$30)","v":{"$error":"#N/A"}},{"$error":"#N/A"},{"$f":"IF(ISTEXT('S2'!$D$31),NA(),'S2'!$D$31)","v":{"$error":"#N/A"}},{"$error":"#N/A"},{"$f":"IF(ISTEXT('S2'!$C$32),NA(),'S2'!$C$32)","v":{"$error":"#N/A"}},{"$error":"#N/A"},{"$f":"IF(ISTEXT('S2'!$D$34),NA(),'S2'!$D$34)","v":{"$error":"#N/A"}},{"$error":"#N/A"},{"$f":"IF(ISTEXT('S2'!$D$21),NA(),'S2'!$D$21)","v":{"$error":"#N/A"}},{"$error":"#N/A"},{"$f":"IF(ISTEXT('S2'!$D$24),NA(),'S2'!$D$24)","v":{"$error":"#N/A"}},{"$error":"#N/A"}]
[{"$f":"IF(ISBLANK('S2'!E$10),\" \",'S2'!E$10)","v":14},{"$f":"IF(ISTEXT('S2'!$F$17),NA(),'S2'!$F$17)","v":{"$error":"#N/A"}},{"$error":"#N/A"},{"$f":"IF(ISTEXT('S2'!$F$18),NA(),'S2'!$F$18)","v":{"$error":"#N/A"}},{"$error":"#N/A"},{"$f":"IF(ISTEXT('S2'!$F$19),NA(),'S2'!$F$19)","v":{"$error":"#N/A"}},{"$error":"#N/A"},{"$f":"IF(ISTEXT('S2'!$F$20),NA(),'S2'!$F$20)","v":{"$error":"#N/A"}},{"$error":"#N/A"},{"$f":"IF(ISTEXT('S2'!$F$22),NA(),'S2'!$F$22)","v":{"$error":"#N/A"}},{"$error":"#N/A"},{"$f":"IF(ISTEXT('S2'!$F$23),NA(),'S2'!$F$23)","v":{"$error":"#N/A"}},{"$error":"#N/A"},{"$f":"IF(ISTEXT('S2'!$F$25),NA(),'S2'!$F$25)","v":{"$error":"#N/A"}},{"$error":"#N/A"},{"$f":"IF(ISTEXT('S2'!$F$26),NA(),'S2'!$F$26)","v":{"$error":"#N/A"}},{"$error":"#N/A"},{"$f":"IF(ISTEXT('S2'!$F$27),NA(),'S2'!$F$27)","v":{"$error":"#N/A"}},{"$error":"#N/A"},{"$f":"IF(ISTEXT('S2'!$F$28),NA(),'S2'!$F$28)","v":{"$error":"#N/A"}},{"$error":"#N/A"},{"$f":"IF(ISTEXT('S2'!$F$29),NA(),'S2'!$F$29)","v":{"$error":"#N/A"}},{"$error":"#N/A"},{"$f":"IF(ISTEXT('S2'!$F$30),NA(),'S2'!$F$30)","v":{"$error":"#N/A"}},{"$error":"#N/A"},{"$f":"IF(ISTEXT('S2'!$F$31),NA(),'S2'!$F$31)","v":{"$error":"#N/A"}},{"$error":"#N/A"},{"$f":"IF(ISTEXT('S2'!$E$32),NA(),'S2'!$E$32)","v":{"$error":"#N/A"}},{"$error":"#N/A"},{"$f":"IF(ISTEXT('S2'!$F$34),NA(),'S2'!$F$34)","v":{"$error":"#N/A"}},{"$error":"#N/A"},{"$f":"IF(ISTEXT('S2'!$F$21),NA(),'S2'!$F$21)","v":{"$error":"#N/A"}},{"$error":"#N/A"},{"$f":"IF(ISTEXT('S2'!$F$24),NA(),'S2'!$F$24)","v":{"$error":"#N/A"}},{"$error":"#N/A"}]
[{"$f":"IF(ISBLANK('S2'!G$10),\" \",'S2'!G$10)","v":15},{"$f":"IF(ISTEXT('S2'!$H$17),NA(),'S2'!$H$17)","v":{"$error":"#N/A"}},{"$error":"#N/A"},{"$f":"IF(ISTEXT('S2'!$H$18),NA(),'S2'!$H$18)","v":{"$error":"#N/A"}},{"$error":"#N/A"},{"$f":"IF(ISTEXT('S2'!$H$19),NA(),'S2'!$H$19)","v":{"$error":"#N/A"}},{"$error":"#N/A"},{"$f":"IF(ISTEXT('S2'!$H$20),NA(),'S2'!$H$20)","v":{"$error":"#N/A"}},{"$error":"#N/A"},{"$f":"IF(ISTEXT('S2'!$H$22),NA(),'S2'!$H$22)","v":{"$error":"#N/A"}},{"$error":"#N/A"},{"$f":"IF(ISTEXT('S2'!$H$23),NA(),'S2'!$H$23)","v":{"$error":"#N/A"}},{"$error":"#N/A"},{"$f":"IF(ISTEXT('S2'!$H$25),NA(),'S2'!$H$25)","v":{"$error":"#N/A"}},{"$error":"#N/A"},{"$f":"IF(ISTEXT('S2'!$H$26),NA(),'S2'!$H$26)","v":{"$error":"#N/A"}},{"$error":"#N/A"},{"$f":"IF(ISTEXT('S2'!$H$27),NA(),'S2'!$H$27)","v":{"$error":"#N/A"}},{"$error":"#N/A"},{"$f":"IF(ISTEXT('S2'!$H$28),NA(),'S2'!$H$28)","v":{"$error":"#N/A"}},{"$error":"#N/A"},{"$f":"IF(ISTEXT('S2'!$H$29),NA(),'S2'!$H$29)","v":{"$error":"#N/A"}},{"$error":"#N/A"},{"$f":"IF(ISTEXT('S2'!$H$30),NA(),'S2'!$H$30)","v":{"$error":"#N/A"}},{"$error":"#N/A"},{"$f":"IF(ISTEXT('S2'!$H$31),NA(),'S2'!$H$31)","v":{"$error":"#N/A"}},{"$error":"#N/A"},{"$f":"IF(ISTEXT('S2'!$G$32),NA(),'S2'!$G$32)","v":{"$error":"#N/A"}},{"$error":"#N/A"},{"$f":"IF(ISTEXT('S2'!$H$34),NA(),'S2'!$H$34)","v":{"$error":"#N/A"}},{"$error":"#N/A"},{"$f":"IF(ISTEXT('S2'!$H$21),NA(),'S2'!$H$21)","v":{"$error":"#N/A"}},{"$error":"#N/A"},{"$f":"IF(ISTEXT('S2'!$H$24),NA(),'S2'!$H$24)","v":{"$error":"#N/A"}},{"$error":"#N/A"}]
[{"$f":"IF(ISBLANK('S2'!I$10),\" \",'S2'!I$10)","v":16},{"$f":"IF(ISTEXT('S2'!$J$17),NA(),'S2'!$J$17)","v":{"$error":"#N/A"}},{"$error":"#N/A"},{"$f":"IF(ISTEXT('S2'!$J$18),NA(),'S2'!$J$18)","v":{"$error":"#N/A"}},{"$error":"#N/A"},{"$f":"IF(ISTEXT('S2'!$J$19),NA(),'S2'!$J$19)","v":{"$error":"#N/A"}},{"$error":"#N/A"},{"$f":"IF(ISTEXT('S2'!$J$20),NA(),'S2'!$J$20)","v":{"$error":"#N/A"}},{"$error":"#N/A"},{"$f":"IF(ISTEXT('S2'!$J$22),NA(),'S2'!$J$22)","v":{"$error":"#N/A"}},{"$error":"#N/A"},{"$f":"IF(ISTEXT('S2'!$J$23),NA(),'S2'!$J$23)","v":{"$error":"#N/A"}},{"$error":"#N/A"},{"$f":"IF(ISTEXT('S2'!$J$25),NA(),'S2'!$J$25)","v":{"$error":"#N/A"}},{"$error":"#N/A"},{"$f":"IF(ISTEXT('S2'!$J$26),NA(),'S2'!$J$26)","v":{"$error":"#N/A"}},{"$error":"#N/A"},{"$f":"IF(ISTEXT('S2'!$J$27),NA(),'S2'!$J$27)","v":{"$error":"#N/A"}},{"$error":"#N/A"},{"$f":"IF(ISTEXT('S2'!$J$28),NA(),'S2'!$J$28)","v":{"$error":"#N/A"}},{"$error":"#N/A"},{"$f":"IF(ISTEXT('S2'!$J$29),NA(),'S2'!$J$29)","v":{"$error":"#N/A"}},{"$error":"#N/A"},{"$f":"IF(ISTEXT('S2'!$J$30),NA(),'S2'!$J$30)","v":{"$error":"#N/A"}},{"$error":"#N/A"},{"$f":"IF(ISTEXT('S2'!$J$31),NA(),'S2'!$J$31)","v":{"$error":"#N/A"}},{"$error":"#N/A"},{"$f":"IF(ISTEXT('S2'!$I$32),NA(),'S2'!$I$32)","v":{"$error":"#N/A"}},{"$error":"#N/A"},{"$f":"IF(ISTEXT('S2'!$J$34),NA(),'S2'!$J$34)","v":{"$error":"#N/A"}},{"$error":"#N/A"},{"$f":"IF(ISTEXT('S2'!$J$21),NA(),'S2'!$J$21)","v":{"$error":"#N/A"}},{"$error":"#N/A"},{"$f":"IF(ISTEXT('S2'!$J$24),NA(),'S2'!$J$24)","v":{"$error":"#N/A"}},{"$error":"#N/A"}]
[{"$f":"IF(ISBLANK('S2'!K$10),\" \",'S2'!K$10)","v":17},{"$f":"IF(ISTEXT('S2'!$L$17),NA(),'S2'!$L$17)","v":{"$error":"#N/A"}},{"$error":"#N/A"},{"$f":"IF(ISTEXT('S2'!$L$18),NA(),'S2'!$L$18)","v":{"$error":"#N/A"}},{"$error":"#N/A"},{"$f":"IF(ISTEXT('S2'!$L$19),NA(),'S2'!$L$19)","v":{"$error":"#N/A"}},{"$error":"#N/A"},{"$f":"IF(ISTEXT('S2'!$L$20),NA(),'S2'!$L$20)","v":{"$error":"#N/A"}},{"$error":"#N/A"},{"$f":"IF(ISTEXT('S2'!$L$22),NA(),'S2'!$L$22)","v":{"$error":"#N/A"}},{"$error":"#N/A"},{"$f":"IF(ISTEXT('S2'!$L$23),NA(),'S2'!$L$23)","v":{"$error":"#N/A"}},{"$error":"#N/A"},{"$f":"IF(ISTEXT('S2'!$L$25),NA(),'S2'!$L$25)","v":{"$error":"#N/A"}},{"$error":"#N/A"},{"$f":"IF(ISTEXT('S2'!$L$26),NA(),'S2'!$L$26)","v":{"$error":"#N/A"}},{"$error":"#N/A"},{"$f":"IF(ISTEXT('S2'!$L$27),NA(),'S2'!$L$27)","v":{"$error":"#N/A"}},{"$error":"#N/A"},{"$f":"IF(ISTEXT('S2'!$L$28),NA(),'S2'!$L$28)","v":{"$error":"#N/A"}},{"$error":"#N/A"},{"$f":"IF(ISTEXT('S2'!$L$29),NA(),'S2'!$L$29)","v":{"$error":"#N/A"}},{"$error":"#N/A"},{"$f":"IF(ISTEXT('S2'!$L$30),NA(),'S2'!$L$30)","v":{"$error":"#N/A"}},{"$error":"#N/A"},{"$f":"IF(ISTEXT('S2'!$L$31),NA(),'S2'!$L$31)","v":{"$error":"#N/A"}},{"$error":"#N/A"},{"$f":"IF(ISTEXT('S2'!$K$32),NA(),'S2'!$K$32)","v":{"$error":"#N/A"}},{"$error":"#N/A"},{"$f":"IF(ISTEXT('S2'!$L$34),NA(),'S2'!$L$34)","v":{"$error":"#N/A"}},{"$error":"#N/A"},{"$f":"IF(ISTEXT('S2'!$L$21),NA(),'S2'!$L$21)","v":{"$error":"#N/A"}},{"$error":"#N/A"},{"$f":"IF(ISTEXT('S2'!$L$24),NA(),'S2'!$L$24)","v":{"$error":"#N/A"}},{"$error":"#N/A"}]
[{"$f":"IF(ISBLANK('S2'!M$10),\" \",'S2'!M$10)","v":18},{"$f":"IF(ISTEXT('S2'!$N$17),NA(),'S2'!$N$17)","v":{"$error":"#N/A"}},{"$error":"#N/A"},{"$f":"IF(ISTEXT('S2'!$N$18),NA(),'S2'!$N$18)","v":{"$error":"#N/A"}},{"$error":"#N/A"},{"$f":"IF(ISTEXT('S2'!$N$19),NA(),'S2'!$N$19)","v":{"$error":"#N/A"}},{"$error":"#N/A"},{"$f":"IF(ISTEXT('S2'!$N$20),NA(),'S2'!$N$20)","v":{"$error":"#N/A"}},{"$error":"#N/A"},{"$f":"IF(ISTEXT('S2'!$N$22),NA(),'S2'!$N$22)","v":{"$error":"#N/A"}},{"$error":"#N/A"},{"$f":"IF(ISTEXT('S2'!$N$23),NA(),'S2'!$N$23)","v":{"$error":"#N/A"}},{"$error":"#N/A"},{"$f":"IF(ISTEXT('S2'!$N$25),NA(),'S2'!$N$25)","v":{"$error":"#N/A"}},{"$error":"#N/A"},{"$f":"IF(ISTEXT('S2'!$N$26),NA(),'S2'!$N$26)","v":{"$error":"#N/A"}},{"$error":"#N/A"},{"$f":"IF(ISTEXT('S2'!$N$27),NA(),'S2'!$N$27)","v":{"$error":"#N/A"}},{"$error":"#N/A"},{"$f":"IF(ISTEXT('S2'!$N$28),NA(),'S2'!$N$28)","v":{"$error":"#N/A"}},{"$error":"#N/A"},{"$f":"IF(ISTEXT('S2'!$N$29),NA(),'S2'!$N$29)","v":{"$error":"#N/A"}},{"$error":"#N/A"},{"$f":"IF(ISTEXT('S2'!$N$30),NA(),'S2'!$N$30)","v":{"$error":"#N/A"}},{"$error":"#N/A"},{"$f":"IF(ISTEXT('S2'!$N$31),NA(),'S2'!$N$31)","v":{"$error":"#N/A"}},{"$error":"#N/A"},{"$f":"IF(ISTEXT('S2'!$M$32),NA(),'S2'!$M$32)","v":{"$error":"#N/A"}},{"$error":"#N/A"},{"$f":"IF(ISTEXT('S2'!$N$34),NA(),'S2'!$N$34)","v":{"$error":"#N/A"}},{"$error":"#N/A"},{"$f":"IF(ISTEXT('S2'!$N$21),NA(),'S2'!$N$21)","v":{"$error":"#N/A"}},{"$error":"#N/A"},{"$f":"IF(ISTEXT('S2'!$N$24),NA(),'S2'!$N$24)","v":{"$error":"#N/A"}},{"$error":"#N/A"}]
[{"$f":"IF(ISBLANK('S2'!C$43),\" \",'S2'!C$43)","v":19},{"$f":"IF(ISTEXT('S2'!$D$50),NA(),'S2'!$D$50)","v":{"$error":"#N/A"}},{"$error":"#N/A"},{"$f":"IF(ISTEXT('S2'!$D$51),NA(),'S2'!$D$51)","v":{"$error":"#N/A"}},{"$error":"#N/A"},{"$f":"IF(ISTEXT('S2'!$D$52),NA(),'S2'!$D$52)","v":{"$error":"#N/A"}},{"$error":"#N/A"},{"$f":"IF(ISTEXT('S2'!$D$53),NA(),'S2'!$D$53)","v":{"$error":"#N/A"}},{"$error":"#N/A"},{"$f":"IF(ISTEXT('S2'!$D$55),NA(),'S2'!$D$55)","v":{"$error":"#N/A"}},{"$error":"#N/A"},{"$f":"IF(ISTEXT('S2'!$D$56),NA(),'S2'!$D$56)","v":{"$error":"#N/A"}},{"$error":"#N/A"},{"$f":"IF(ISTEXT('S2'!$D$58),NA(),'S2'!$D$58)","v":{"$error":"#N/A"}},{"$error":"#N/A"},{"$f":"IF(ISTEXT('S2'!$D$59),NA(),'S2'!$D$59)","v":{"$error":"#N/A"}},{"$error":"#N/A"},{"$f":"IF(ISTEXT('S2'!$D$60),NA(),'S2'!$D$60)","v":{"$error":"#N/A"}},{"$error":"#N/A"},{"$f":"IF(ISTEXT('S2'!$D$61),NA(),'S2'!$D$61)","v":{"$error":"#N/A"}},{"$error":"#N/A"},{"$f":"IF(ISTEXT('S2'!$D$62),NA(),'S2'!$D$62)","v":{"$error":"#N/A"}},{"$error":"#N/A"},{"$f":"IF(ISTEXT('S2'!$D$63),NA(),'S2'!$D$63)","v":{"$error":"#N/A"}},{"$error":"#N/A"},{"$f":"IF(ISTEXT('S2'!$D$64),NA(),'S2'!$D$64)","v":{"$error":"#N/A"}},{"$error":"#N/A"},{"$f":"IF(ISTEXT('S2'!$C$65),NA(),'S2'!$C$65)","v":{"$error":"#N/A"}},{"$error":"#N/A"},{"$f":"IF(ISTEXT('S2'!$D$67),NA(),'S2'!$D$67)","v":{"$error":"#N/A"}},{"$error":"#N/A"},{"$f":"IF(ISTEXT('S2'!$D$54),NA(),'S2'!$D$54)","v":{"$error":"#N/A"}},{"$error":"#N/A"},{"$f":"IF(ISTEXT('S2'!$D$57),NA(),'S2'!$D$57)","v":{"$error":"#N/A"}},{"$error":"#N/A"}]
[{"$f":"IF(ISBLANK('S2'!E$43),\" \",'S2'!E$43)","v":20},{"$f":"IF(ISTEXT('S2'!$F$50),NA(),'S2'!$F$50)","v":{"$error":"#N/A"}},{"$error":"#N/A"},{"$f":"IF(ISTEXT('S2'!$F$51),NA(),'S2'!$F$51)","v":{"$error":"#N/A"}},{"$error":"#N/A"},{"$f":"IF(ISTEXT('S2'!$F$52),NA(),'S2'!$F$52)","v":{"$error":"#N/A"}},{"$error":"#N/A"},{"$f":"IF(ISTEXT('S2'!$F$53),NA(),'S2'!$F$53)","v":{"$error":"#N/A"}},{"$error":"#N/A"},{"$f":"IF(ISTEXT('S2'!$F$55),NA(),'S2'!$F$55)","v":{"$error":"#N/A"}},{"$error":"#N/A"},{"$f":"IF(ISTEXT('S2'!$F$56),NA(),'S2'!$F$56)","v":{"$error":"#N/A"}},{"$error":"#N/A"},{"$f":"IF(ISTEXT('S2'!$F$58),NA(),'S2'!$F$58)","v":{"$error":"#N/A"}},{"$error":"#N/A"},{"$f":"IF(ISTEXT('S2'!$F$59),NA(),'S2'!$F$59)","v":{"$error":"#N/A"}},{"$error":"#N/A"},{"$f":"IF(ISTEXT('S2'!$F$60),NA(),'S2'!$F$60)","v":{"$error":"#N/A"}},{"$error":"#N/A"},{"$f":"IF(ISTEXT('S2'!$F$61),NA(),'S2'!$F$61)","v":{"$error":"#N/A"}},{"$error":"#N/A"},{"$f":"IF(ISTEXT('S2'!$F$62),NA(),'S2'!$F$62)","v":{"$error":"#N/A"}},{"$error":"#N/A"},{"$f":"IF(ISTEXT('S2'!$F$63),NA(),'S2'!$F$63)","v":{"$error":"#N/A"}},{"$error":"#N/A"},{"$f":"IF(ISTEXT('S2'!$F$64),NA(),'S2'!$F$64)","v":{"$error":"#N/A"}},{"$error":"#N/A"},{"$f":"IF(ISTEXT('S2'!$E$65),NA(),'S2'!$E$65)","v":{"$error":"#N/A"}},{"$error":"#N/A"},{"$f":"IF(ISTEXT('S2'!$F$67),NA(),'S2'!$F$67)","v":{"$error":"#N/A"}},{"$error":"#N/A"},{"$f":"IF(ISTEXT('S2'!$F$54),NA(),'S2'!$F$54)","v":{"$error":"#N/A"}},{"$error":"#N/A"},{"$f":"IF(ISTEXT('S2'!$F$57),NA(),'S2'!$F$57)","v":{"$error":"#N/A"}},{"$error":"#N/A"}]
[{"$f":"IF(ISBLANK('S2'!G$43),\" \",'S2'!G$43)","v":21},{"$f":"IF(ISTEXT('S2'!$H$50),NA(),'S2'!$H$50)","v":{"$error":"#N/A"}},{"$error":"#N/A"},{"$f":"IF(ISTEXT('S2'!$H$51),NA(),'S2'!$H$51)","v":{"$error":"#N/A"}},{"$error":"#N/A"},{"$f":"IF(ISTEXT('S2'!$H$52),NA(),'S2'!$H$52)","v":{"$error":"#N/A"}},{"$error":"#N/A"},{"$f":"IF(ISTEXT('S2'!$H$53),NA(),'S2'!$H$53)","v":{"$error":"#N/A"}},{"$error":"#N/A"},{"$f":"IF(ISTEXT('S2'!$H$55),NA(),'S2'!$H$55)","v":{"$error":"#N/A"}},{"$error":"#N/A"},{"$f":"IF(ISTEXT('S2'!$H$56),NA(),'S2'!$H$56)","v":{"$error":"#N/A"}},{"$error":"#N/A"},{"$f":"IF(ISTEXT('S2'!$H$58),NA(),'S2'!$H$58)","v":{"$error":"#N/A"}},{"$error":"#N/A"},{"$f":"IF(ISTEXT('S2'!$H$59),NA(),'S2'!$H$59)","v":{"$error":"#N/A"}},{"$error":"#N/A"},{"$f":"IF(ISTEXT('S2'!$H$60),NA(),'S2'!$H$60)","v":{"$error":"#N/A"}},{"$error":"#N/A"},{"$f":"IF(ISTEXT('S2'!$H$61),NA(),'S2'!$H$61)","v":{"$error":"#N/A"}},{"$error":"#N/A"},{"$f":"IF(ISTEXT('S2'!$H$62),NA(),'S2'!$H$62)","v":{"$error":"#N/A"}},{"$error":"#N/A"},{"$f":"IF(ISTEXT('S2'!$H$63),NA(),'S2'!$H$63)","v":{"$error":"#N/A"}},{"$error":"#N/A"},{"$f":"IF(ISTEXT('S2'!$H$64),NA(),'S2'!$H$64)","v":{"$error":"#N/A"}},{"$error":"#N/A"},{"$f":"IF(ISTEXT('S2'!$G$65),NA(),'S2'!$G$65)","v":{"$error":"#N/A"}},{"$error":"#N/A"},{"$f":"IF(ISTEXT('S2'!$H$67),NA(),'S2'!$H$67)","v":{"$error":"#N/A"}},{"$error":"#N/A"},{"$f":"IF(ISTEXT('S2'!$H$54),NA(),'S2'!$H$54)","v":{"$error":"#N/A"}},{"$error":"#N/A"},{"$f":"IF(ISTEXT('S2'!$H$57),NA(),'S2'!$H$57)","v":{"$error":"#N/A"}},{"$error":"#N/A"}]
[{"$f":"IF(ISBLANK('S2'!I$43),\" \",'S2'!I$43)","v":22},{"$f":"IF(ISTEXT('S2'!$J$50),NA(),'S2'!$J$50)","v":{"$error":"#N/A"}},{"$error":"#N/A"},{"$f":"IF(ISTEXT('S2'!$J$51),NA(),'S2'!$J$51)","v":{"$error":"#N/A"}},{"$error":"#N/A"},{"$f":"IF(ISTEXT('S2'!$J$52),NA(),'S2'!$J$52)","v":{"$error":"#N/A"}},{"$error":"#N/A"},{"$f":"IF(ISTEXT('S2'!$J$53),NA(),'S2'!$J$53)","v":{"$error":"#N/A"}},{"$error":"#N/A"},{"$f":"IF(ISTEXT('S2'!$J$55),NA(),'S2'!$J$55)","v":{"$error":"#N/A"}},{"$error":"#N/A"},{"$f":"IF(ISTEXT('S2'!$J$56),NA(),'S2'!$J$56)","v":{"$error":"#N/A"}},{"$error":"#N/A"},{"$f":"IF(ISTEXT('S2'!$J$58),NA(),'S2'!$J$58)","v":{"$error":"#N/A"}},{"$error":"#N/A"},{"$f":"IF(ISTEXT('S2'!$J$59),NA(),'S2'!$J$59)","v":{"$error":"#N/A"}},{"$error":"#N/A"},{"$f":"IF(ISTEXT('S2'!$J$60),NA(),'S2'!$J$60)","v":{"$error":"#N/A"}},{"$error":"#N/A"},{"$f":"IF(ISTEXT('S2'!$J$61),NA(),'S2'!$J$61)","v":{"$error":"#N/A"}},{"$error":"#N/A"},{"$f":"IF(ISTEXT('S2'!$J$62),NA(),'S2'!$J$62)","v":{"$error":"#N/A"}},{"$error":"#N/A"},{"$f":"IF(ISTEXT('S2'!$J$63),NA(),'S2'!$J$63)","v":{"$error":"#N/A"}},{"$error":"#N/A"},{"$f":"IF(ISTEXT('S2'!$J$64),NA(),'S2'!$J$64)","v":{"$error":"#N/A"}},{"$error":"#N/A"},{"$f":"IF(ISTEXT('S2'!$I$65),NA(),'S2'!$I$65)","v":{"$error":"#N/A"}},{"$error":"#N/A"},{"$f":"IF(ISTEXT('S2'!$J$67),NA(),'S2'!$J$67)","v":{"$error":"#N/A"}},{"$error":"#N/A"},{"$f":"IF(ISTEXT('S2'!$J$54),NA(),'S2'!$J$54)","v":{"$error":"#N/A"}},{"$error":"#N/A"},{"$f":"IF(ISTEXT('S2'!$J$57),NA(),'S2'!$J$57)","v":{"$error":"#N/A"}},{"$error":"#N/A"}]
[{"$f":"IF(ISBLANK('S2'!K$43),\" \",'S2'!K$43)","v":23},{"$f":"IF(ISTEXT('S2'!$L$50),NA(),'S2'!$L$50)","v":{"$error":"#N/A"}},{"$error":"#N/A"},{"$f":"IF(ISTEXT('S2'!$L$51),NA(),'S2'!$L$51)","v":{"$error":"#N/A"}},{"$error":"#N/A"},{"$f":"IF(ISTEXT('S2'!$L$52),NA(),'S2'!$L$52)","v":{"$error":"#N/A"}},{"$error":"#N/A"},{"$f":"IF(ISTEXT('S2'!$L$53),NA(),'S2'!$L$53)","v":{"$error":"#N/A"}},{"$error":"#N/A"},{"$f":"IF(ISTEXT('S2'!$L$55),NA(),'S2'!$L$55)","v":{"$error":"#N/A"}},{"$error":"#N/A"},{"$f":"IF(ISTEXT('S2'!$L$56),NA(),'S2'!$L$56)","v":{"$error":"#N/A"}},{"$error":"#N/A"},{"$f":"IF(ISTEXT('S2'!$L$58),NA(),'S2'!$L$58)","v":{"$error":"#N/A"}},{"$error":"#N/A"},{"$f":"IF(ISTEXT('S2'!$L$59),NA(),'S2'!$L$59)","v":{"$error":"#N/A"}},{"$error":"#N/A"},{"$f":"IF(ISTEXT('S2'!$L$60),NA(),'S2'!$L$60)","v":{"$error":"#N/A"}},{"$error":"#N/A"},{"$f":"IF(ISTEXT('S2'!$L$61),NA(),'S2'!$L$61)","v":{"$error":"#N/A"}},{"$error":"#N/A"},{"$f":"IF(ISTEXT('S2'!$L$62),NA(),'S2'!$L$62)","v":{"$error":"#N/A"}},{"$error":"#N/A"},{"$f":"IF(ISTEXT('S2'!$L$63),NA(),'S2'!$L$63)","v":{"$error":"#N/A"}},{"$error":"#N/A"},{"$f":"IF(ISTEXT('S2'!$L$64),NA(),'S2'!$L$64)","v":{"$error":"#N/A"}},{"$error":"#N/A"},{"$f":"IF(ISTEXT('S2'!$K$65),NA(),'S2'!$K$65)","v":{"$error":"#N/A"}},{"$error":"#N/A"},{"$f":"IF(ISTEXT('S2'!$L$67),NA(),'S2'!$L$67)","v":{"$error":"#N/A"}},{"$error":"#N/A"},{"$f":"IF(ISTEXT('S2'!$L$54),NA(),'S2'!$L$54)","v":{"$error":"#N/A"}},{"$error":"#N/A"},{"$f":"IF(ISTEXT('S2'!$L$57),NA(),'S2'!$L$57)","v":{"$error":"#N/A"}},{"$error":"#N/A"}]
[{"$f":"IF(ISBLANK('S2'!M$43),\" \",'S2'!M$43)","v":24},{"$f":"IF(ISTEXT('S2'!$N$50),NA(),'S2'!$N$50)","v":{"$error":"#N/A"}},{"$error":"#N/A"},{"$f":"IF(ISTEXT('S2'!$N$51),NA(),'S2'!$N$51)","v":{"$error":"#N/A"}},{"$error":"#N/A"},{"$f":"IF(ISTEXT('S2'!$N$52),NA(),'S2'!$N$52)","v":{"$error":"#N/A"}},{"$error":"#N/A"},{"$f":"IF(ISTEXT('S2'!$N$53),NA(),'S2'!$N$53)","v":{"$error":"#N/A"}},{"$error":"#N/A"},{"$f":"IF(ISTEXT('S2'!$N$55),NA(),'S2'!$N$55)","v":{"$error":"#N/A"}},{"$error":"#N/A"},{"$f":"IF(ISTEXT('S2'!$N$56),NA(),'S2'!$N$56)","v":{"$error":"#N/A"}},{"$error":"#N/A"},{"$f":"IF(ISTEXT('S2'!$N$58),NA(),'S2'!$N$58)","v":{"$error":"#N/A"}},{"$error":"#N/A"},{"$f":"IF(ISTEXT('S2'!$N$59),NA(),'S2'!$N$59)","v":{"$error":"#N/A"}},{"$error":"#N/A"},{"$f":"IF(ISTEXT('S2'!$N$60),NA(),'S2'!$N$60)","v":{"$error":"#N/A"}},{"$error":"#N/A"},{"$f":"IF(ISTEXT('S2'!$N$61),NA(),'S2'!$N$61)","v":{"$error":"#N/A"}},{"$error":"#N/A"},{"$f":"IF(ISTEXT('S2'!$N$62),NA(),'S2'!$N$62)","v":{"$error":"#N/A"}},{"$error":"#N/A"},{"$f":"IF(ISTEXT('S2'!$N$63),NA(),'S2'!$N$63)","v":{"$error":"#N/A"}},{"$error":"#N/A"},{"$f":"IF(ISTEXT('S2'!$N$64),NA(),'S2'!$N$64)","v":{"$error":"#N/A"}},{"$error":"#N/A"},{"$f":"IF(ISTEXT('S2'!$M$65),NA(),'S2'!$M$65)","v":{"$error":"#N/A"}},{"$error":"#N/A"},{"$f":"IF(ISTEXT('S2'!$N$67),NA(),'S2'!$N$67)","v":{"$error":"#N/A"}},{"$error":"#N/A"},{"$f":"IF(ISTEXT('S2'!$N$54),NA(),'S2'!$N$54)","v":{"$error":"#N/A"}},{"$error":"#N/A"},{"$f":"IF(ISTEXT('S2'!$N$57),NA(),'S2'!$N$57)","v":{"$error":"#N/A"}},{"$error":"#N/A"}]
[{"$f":"IF(ISBLANK('S3'!C$10),\" \",'S3'!C$10)","v":25},{"$f":"IF(ISTEXT('S3'!$D$17),NA(),'S3'!$D$17)","v":{"$error":"#N/A"}},{"$error":"#N/A"},{"$f":"IF(ISTEXT('S3'!$D$18),NA(),'S3'!$D$18)","v":{"$error":"#N/A"}},{"$error":"#N/A"},{"$f":"IF(ISTEXT('S3'!$D$19),NA(),'S3'!$D$19)","v":{"$error":"#N/A"}},{"$error":"#N/A"},{"$f":"IF(ISTEXT('S3'!$D$20),NA(),'S3'!$D$20)","v":{"$error":"#N/A"}},{"$error":"#N/A"},{"$f":"IF(ISTEXT('S3'!$D$22),NA(),'S3'!$D$22)","v":{"$error":"#N/A"}},{"$error":"#N/A"},{"$f":"IF(ISTEXT('S3'!$D$23),NA(),'S3'!$D$23)","v":{"$error":"#N/A"}},{"$error":"#N/A"},{"$f":"IF(ISTEXT('S3'!$D$25),NA(),'S3'!$D$25)","v":{"$error":"#N/A"}},{"$error":"#N/A"},{"$f":"IF(ISTEXT('S3'!$D$26),NA(),'S3'!$D$26)","v":{"$error":"#N/A"}},{"$error":"#N/A"},{"$f":"IF(ISTEXT('S3'!$D$27),NA(),'S3'!$D$27)","v":{"$error":"#N/A"}},{"$error":"#N/A"},{"$f":"IF(ISTEXT('S3'!$D$28),NA(),'S3'!$D$28)","v":{"$error":"#N/A"}},{"$error":"#N/A"},{"$f":"IF(ISTEXT('S3'!$D$29),NA(),'S3'!$D$29)","v":{"$error":"#N/A"}},{"$f":"ROUND(AVERAGE(V24:V26),0)","v":{"$error":"#N/A"}},{"$f":"IF(ISTEXT('S3'!$D$30),NA(),'S3'!$D$30)","v":{"$error":"#N/A"}},{"$f":"ROUND(AVERAGE(X24:X26),0)","v":{"$error":"#N/A"}},{"$f":"IF(ISTEXT('S3'!$D$31),NA(),'S3'!$D$31)","v":{"$error":"#N/A"}},{"$f":"ROUND(AVERAGE(Z24:Z26),2)","v":{"$error":"#N/A"}},{"$f":"IF(ISTEXT('S3'!$C$32),NA(),'S3'!$C$32)","v":{"$error":"#N/A"}},{"$f":"ROUND(AVERAGE(AB24:AB26),2)","v":{"$error":"#N/A"}},{"$f":"IF(ISTEXT('S3'!$D$34),NA(),'S3'!$D$34)","v":{"$error":"#N/A"}},{"$f":"ROUND(AVERAGE(AD24:AD26),2)","v":{"$error":"#N/A"}},{"$f":"IF(ISTEXT('S3'!$D$21),NA(),'S3'!$D$21)","v":{"$error":"#N/A"}},{"$error":"#N/A"},{"$f":"IF(ISTEXT('S3'!$D$24),NA(),'S3'!$D$24)","v":{"$error":"#N/A"}},{"$error":"#N/A"}]
[{"$f":"IF(ISBLANK('S3'!E$10),\" \",'S3'!E$10)","v":26},{"$f":"IF(ISTEXT('S3'!$F$17),NA(),'S3'!$F$17)","v":{"$error":"#N/A"}},{"$error":"#N/A"},{"$f":"IF(ISTEXT('S3'!$F$18),NA(),'S3'!$F$18)","v":{"$error":"#N/A"}},{"$error":"#N/A"},{"$f":"IF(ISTEXT('S3'!$F$19),NA(),'S3'!$F$19)","v":{"$error":"#N/A"}},{"$error":"#N/A"},{"$f":"IF(ISTEXT('S3'!$F$20),NA(),'S3'!$F$20)","v":{"$error":"#N/A"}},{"$error":"#N/A"},{"$f":"IF(ISTEXT('S3'!$F$22),NA(),'S3'!$F$22)","v":{"$error":"#N/A"}},{"$error":"#N/A"},{"$f":"IF(ISTEXT('S3'!$F$23),NA(),'S3'!$F$23)","v":{"$error":"#N/A"}},{"$error":"#N/A"},{"$f":"IF(ISTEXT('S3'!$F$25),NA(),'S3'!$F$25)","v":{"$error":"#N/A"}},{"$error":"#N/A"},{"$f":"IF(ISTEXT('S3'!$F$26),NA(),'S3'!$F$26)","v":{"$error":"#N/A"}},{"$error":"#N/A"},{"$f":"IF(ISTEXT('S3'!$F$27),NA(),'S3'!$F$27)","v":{"$error":"#N/A"}},{"$error":"#N/A"},{"$f":"IF(ISTEXT('S3'!$F$28),NA(),'S3'!$F$28)","v":{"$error":"#N/A"}},{"$error":"#N/A"},{"$f":"IF(ISTEXT('S3'!$F$29),NA(),'S3'!$F$29)","v":{"$error":"#N/A"}},{"$f":"ROUND(AVERAGE(V25:V27),0)","v":{"$error":"#N/A"}},{"$f":"IF(ISTEXT('S3'!$F$30),NA(),'S3'!$F$30)","v":{"$error":"#N/A"}},{"$f":"ROUND(AVERAGE(X25:X27),0)","v":{"$error":"#N/A"}},{"$f":"IF(ISTEXT('S3'!$F$31),NA(),'S3'!$F$31)","v":{"$error":"#N/A"}},{"$f":"ROUND(AVERAGE(Z25:Z27),2)","v":{"$error":"#N/A"}},{"$f":"IF(ISTEXT('S3'!$E$32),NA(),'S3'!$E$32)","v":{"$error":"#N/A"}},{"$f":"ROUND(AVERAGE(AB25:AB27),2)","v":{"$error":"#N/A"}},{"$f":"IF(ISTEXT('S3'!$F$34),NA(),'S3'!$F$34)","v":{"$error":"#N/A"}},{"$f":"ROUND(AVERAGE(AD25:AD27),2)","v":{"$error":"#N/A"}},{"$f":"IF(ISTEXT('S3'!$F$21),NA(),'S3'!$F$21)","v":{"$error":"#N/A"}},{"$error":"#N/A"},{"$f":"IF(ISTEXT('S3'!$F$24),NA(),'S3'!$F$24)","v":{"$error":"#N/A"}},{"$error":"#N/A"}]
[{"$f":"IF(ISBLANK('S3'!G$10),\" \",'S3'!G$10)","v":27},{"$f":"IF(ISTEXT('S3'!$H$17),NA(),'S3'!$H$17)","v":{"$error":"#N/A"}},{"$error":"#N/A"},{"$f":"IF(ISTEXT('S3'!$H$18),NA(),'S3'!$H$18)","v":{"$error":"#N/A"}},{"$error":"#N/A"},{"$f":"IF(ISTEXT('S3'!$H$19),NA(),'S3'!$H$19)","v":{"$error":"#N/A"}},{"$error":"#N/A"},{"$f":"IF(ISTEXT('S3'!$H$20),NA(),'S3'!$H$20)","v":{"$error":"#N/A"}},{"$error":"#N/A"},{"$f":"IF(ISTEXT('S3'!$H$22),NA(),'S3'!$H$22)","v":{"$error":"#N/A"}},{"$error":"#N/A"},{"$f":"IF(ISTEXT('S3'!$H$23),NA(),'S3'!$H$23)","v":{"$error":"#N/A"}},{"$error":"#N/A"},{"$f":"IF(ISTEXT('S3'!$H$25),NA(),'S3'!$H$25)","v":{"$error":"#N/A"}},{"$error":"#N/A"},{"$f":"IF(ISTEXT('S3'!$H$26),NA(),'S3'!$H$26)","v":{"$error":"#N/A"}},{"$error":"#N/A"},{"$f":"IF(ISTEXT('S3'!$H$27),NA(),'S3'!$H$27)","v":{"$error":"#N/A"}},{"$error":"#N/A"},{"$f":"IF(ISTEXT('S3'!$H$28),NA(),'S3'!$H$28)","v":{"$error":"#N/A"}},{"$error":"#N/A"},{"$f":"IF(ISTEXT('S3'!$H$29),NA(),'S3'!$H$29)","v":{"$error":"#N/A"}},{"$f":"ROUND(AVERAGE(V26:V28),0)","v":{"$error":"#N/A"}},{"$f":"IF(ISTEXT('S3'!$H$30),NA(),'S3'!$H$30)","v":{"$error":"#N/A"}},{"$f":"ROUND(AVERAGE(X26:X28),0)","v":{"$error":"#N/A"}},{"$f":"IF(ISTEXT('S3'!$H$31),NA(),'S3'!$H$31)","v":{"$error":"#N/A"}},{"$f":"ROUND(AVERAGE(Z26:Z28),2)","v":{"$error":"#N/A"}},{"$f":"IF(ISTEXT('S3'!$G$32),NA(),'S3'!$G$32)","v":{"$error":"#N/A"}},{"$f":"ROUND(AVERAGE(AB26:AB28),2)","v":{"$error":"#N/A"}},{"$f":"IF(ISTEXT('S3'!$H$34),NA(),'S3'!$H$34)","v":{"$error":"#N/A"}},{"$f":"ROUND(AVERAGE(AD26:AD28),2)","v":{"$error":"#N/A"}},{"$f":"IF(ISTEXT('S3'!$H$21),NA(),'S3'!$H$21)","v":{"$error":"#N/A"}},{"$error":"#N/A"},{"$f":"IF(ISTEXT('S3'!$H$24),NA(),'S3'!$H$24)","v":{"$error":"#N/A"}},{"$error":"#N/A"}]
[{"$f":"IF(ISBLANK('S3'!I$10),\" \",'S3'!I$10)","v":28},{"$f":"IF(ISTEXT('S3'!$J$17),NA(),'S3'!$J$17)","v":{"$error":"#N/A"}},{"$error":"#N/A"},{"$f":"IF(ISTEXT('S3'!$J$18),NA(),'S3'!$J$18)","v":{"$error":"#N/A"}},{"$error":"#N/A"},{"$f":"IF(ISTEXT('S3'!$J$19),NA(),'S3'!$J$19)","v":{"$error":"#N/A"}},{"$error":"#N/A"},{"$f":"IF(ISTEXT('S3'!$J$20),NA(),'S3'!$J$20)","v":{"$error":"#N/A"}},{"$error":"#N/A"},{"$f":"IF(ISTEXT('S3'!$J$22),NA(),'S3'!$J$22)","v":{"$error":"#N/A"}},{"$error":"#N/A"},{"$f":"IF(ISTEXT('S3'!$J$23),NA(),'S3'!$J$23)","v":{"$error":"#N/A"}},{"$error":"#N/A"},{"$f":"IF(ISTEXT('S3'!$J$25),NA(),'S3'!$J$25)","v":{"$error":"#N/A"}},{"$error":"#N/A"},{"$f":"IF(ISTEXT('S3'!$J$26),NA(),'S3'!$J$26)","v":{"$error":"#N/A"}},{"$error":"#N/A"},{"$f":"IF(ISTEXT('S3'!$J$27),NA(),'S3'!$J$27)","v":{"$error":"#N/A"}},{"$error":"#N/A"},{"$f":"IF(ISTEXT('S3'!$J$28),NA(),'S3'!$J$28)","v":{"$error":"#N/A"}},{"$error":"#N/A"},{"$f":"IF(ISTEXT('S3'!$J$29),NA(),'S3'!$J$29)","v":{"$error":"#N/A"}},{"$f":"ROUND(AVERAGE(V27:V29),0)","v":{"$error":"#N/A"}},{"$f":"IF(ISTEXT('S3'!$J$30),NA(),'S3'!$J$30)","v":{"$error":"#N/A"}},{"$error":"#N/A"},{"$f":"IF(ISTEXT('S3'!$J$31),NA(),'S3'!$J$31)","v":{"$error":"#N/A"}},{"$error":"#N/A"},{"$f":"IF(ISTEXT('S3'!$I$32),NA(),'S3'!$I$32)","v":{"$error":"#N/A"}},{"$error":"#N/A"},{"$f":"IF(ISTEXT('S3'!$J$34),NA(),'S3'!$J$34)","v":{"$error":"#N/A"}},{"$error":"#N/A"},{"$f":"IF(ISTEXT('S3'!$J$21),NA(),'S3'!$J$21)","v":{"$error":"#N/A"}},{"$error":"#N/A"},{"$f":"IF(ISTEXT('S3'!$J$24),NA(),'S3'!$J$24)","v":{"$error":"#N/A"}},{"$error":"#N/A"}]
[{"$f":"IF(ISBLANK('S3'!K$10),\" \",'S3'!K$10)","v":29},{"$f":"IF(ISTEXT('S3'!$L$17),NA(),'S3'!$L$17)","v":{"$error":"#N/A"}},{"$error":"#N/A"},{"$f":"IF(ISTEXT('S3'!$L$18),NA(),'S3'!$L$18)","v":{"$error":"#N/A"}},{"$error":"#N/A"},{"$f":"IF(ISTEXT('S3'!$L$19),NA(),'S3'!$L$19)","v":{"$error":"#N/A"}},{"$error":"#N/A"},{"$f":"IF(ISTEXT('S3'!$L$20),NA(),'S3'!$L$20)","v":{"$error":"#N/A"}},{"$error":"#N/A"},{"$f":"IF(ISTEXT('S3'!$L$22),NA(),'S3'!$L$22)","v":{"$error":"#N/A"}},{"$error":"#N/A"},{"$f":"IF(ISTEXT('S3'!$L$23),NA(),'S3'!$L$23)","v":{"$error":"#N/A"}},{"$error":"#N/A"},{"$f":"IF(ISTEXT('S3'!$L$25),NA(),'S3'!$L$25)","v":{"$error":"#N/A"}},{"$error":"#N/A"},{"$f":"IF(ISTEXT('S3'!$L$26),NA(),'S3'!$L$26)","v":{"$error":"#N/A"}},{"$error":"#N/A"},{"$f":"IF(ISTEXT('S3'!$L$27),NA(),'S3'!$L$27)","v":{"$error":"#N/A"}},{"$error":"#N/A"},{"$f":"IF(ISTEXT('S3'!$L$28),NA(),'S3'!$L$28)","v":{"$error":"#N/A"}},{"$error":"#N/A"},{"$f":"IF(ISTEXT('S3'!$L$29),NA(),'S3'!$L$29)","v":{"$error":"#N/A"}},{"$error":"#N/A"},{"$f":"IF(ISTEXT('S3'!$L$30),NA(),'S3'!$L$30)","v":{"$error":"#N/A"}},{"$error":"#N/A"},{"$f":"IF(ISTEXT('S3'!$L$31),NA(),'S3'!$L$31)","v":{"$error":"#N/A"}},{"$error":"#N/A"},{"$f":"IF(ISTEXT('S3'!$K$32),NA(),'S3'!$K$32)","v":{"$error":"#N/A"}},{"$error":"#N/A"},{"$f":"IF(ISTEXT('S3'!$L$34),NA(),'S3'!$L$34)","v":{"$error":"#N/A"}},{"$error":"#N/A"},{"$f":"IF(ISTEXT('S3'!$L$21),NA(),'S3'!$L$21)","v":{"$error":"#N/A"}},{"$error":"#N/A"},{"$f":"IF(ISTEXT('S3'!$L$24),NA(),'S3'!$L$24)","v":{"$error":"#N/A"}},{"$error":"#N/A"}]
[{"$f":"IF(ISBLANK('S3'!M$10),\" \",'S3'!M$10)","v":30},{"$f":"IF(ISTEXT('S3'!$N$17),NA(),'S3'!$N$17)","v":{"$error":"#N/A"}},{"$error":"#N/A"},{"$f":"IF(ISTEXT('S3'!$N$18),NA(),'S3'!$N$18)","v":{"$error":"#N/A"}},{"$error":"#N/A"},{"$f":"IF(ISTEXT('S3'!$N$19),NA(),'S3'!$N$19)","v":{"$error":"#N/A"}},{"$error":"#N/A"},{"$f":"IF(ISTEXT('S3'!$N$20),NA(),'S3'!$N$20)","v":{"$error":"#N/A"}},{"$error":"#N/A"},{"$f":"IF(ISTEXT('S3'!$N$22),NA(),'S3'!$N$22)","v":{"$error":"#N/A"}},{"$error":"#N/A"},{"$f":"IF(ISTEXT('S3'!$N$23),NA(),'S3'!$N$23)","v":{"$error":"#N/A"}},{"$error":"#N/A"},{"$f":"IF(ISTEXT('S3'!$N$25),NA(),'S3'!$N$25)","v":{"$error":"#N/A"}},{"$error":"#N/A"},{"$f":"IF(ISTEXT('S3'!$N$26),NA(),'S3'!$N$26)","v":{"$error":"#N/A"}},{"$error":"#N/A"},{"$f":"IF(ISTEXT('S3'!$N$27),NA(),'S3'!$N$27)","v":{"$error":"#N/A"}},{"$error":"#N/A"},{"$f":"IF(ISTEXT('S3'!$N$28),NA(),'S3'!$N$28)","v":{"$error":"#N/A"}},{"$error":"#N/A"},{"$f":"IF(ISTEXT('S3'!$N$29),NA(),'S3'!$N$29)","v":{"$error":"#N/A"}},{"$error":"#N/A"},{"$f":"IF(ISTEXT('S3'!$N$30),NA(),'S3'!$N$30)","v":{"$error":"#N/A"}},{"$error":"#N/A"},{"$f":"IF(ISTEXT('S3'!$N$31),NA(),'S3'!$N$31)","v":{"$error":"#N/A"}},{"$error":"#N/A"},{"$f":"IF(ISTEXT('S3'!$M$32),NA(),'S3'!$M$32)","v":{"$error":"#N/A"}},{"$error":"#N/A"},{"$f":"IF(ISTEXT('S3'!$N$34),NA(),'S3'!$N$34)","v":{"$error":"#N/A"}},{"$error":"#N/A"},{"$f":"IF(ISTEXT('S3'!$N$21),NA(),'S3'!$N$21)","v":{"$error":"#N/A"}},{"$error":"#N/A"},{"$f":"IF(ISTEXT('S3'!$N$24),NA(),'S3'!$N$24)","v":{"$error":"#N/A"}},{"$error":"#N/A"}]
[{"$f":"IF(ISBLANK('S3'!C$43),\" \",'S3'!C$43)","v":31},{"$f":"IF(ISTEXT('S3'!$D$50),NA(),'S3'!$D$50)","v":{"$error":"#N/A"}},{"$error":"#N/A"},{"$f":"IF(ISTEXT('S3'!$D$51),NA(),'S3'!$D$51)","v":{"$error":"#N/A"}},{"$error":"#N/A"},{"$f":"IF(ISTEXT('S3'!$D$52),NA(),'S3'!$D$52)","v":{"$error":"#N/A"}},{"$error":"#N/A"},{"$f":"IF(ISTEXT('S3'!$D$53),NA(),'S3'!$D$53)","v":{"$error":"#N/A"}},{"$error":"#N/A"},{"$f":"IF(ISTEXT('S3'!$D$55),NA(),'S3'!$D$55)","v":{"$error":"#N/A"}},{"$error":"#N/A"},{"$f":"IF(ISTEXT('S3'!$D$56),NA(),'S3'!$D$56)","v":{"$error":"#N/A"}},{"$error":"#N/A"},{"$f":"IF(ISTEXT('S3'!$D$58),NA(),'S3'!$D$58)","v":{"$error":"#N/A"}},{"$error":"#N/A"},{"$f":"IF(ISTEXT('S3'!$D$59),NA(),'S3'!$D$59)","v":{"$error":"#N/A"}},{"$f":"SUM(P30:P32)/3","v":{"$error":"#N/A"}},{"$f":"IF(ISTEXT('S3'!$D$60),NA(),'S3'!$D$60)","v":{"$error":"#N/A"}},{"$error":"#N/A"},{"$f":"IF(ISTEXT('S3'!$D$61),NA(),'S3'!$D$61)","v":{"$error":"#N/A"}},{"$error":"#N/A"},{"$f":"IF(ISTEXT('S3'!$D$62),NA(),'S3'!$D$62)","v":{"$error":"#N/A"}},{"$error":"#N/A"},{"$f":"IF(ISTEXT('S3'!$D$63),NA(),'S3'!$D$63)","v":{"$error":"#N/A"}},{"$error":"#N/A"},{"$f":"IF(ISTEXT('S3'!$D$64),NA(),'S3'!$D$64)","v":{"$error":"#N/A"}},{"$error":"#N/A"},{"$f":"IF(ISTEXT('S3'!$C$65),NA(),'S3'!$C$65)","v":{"$error":"#N/A"}},{"$error":"#N/A"},{"$f":"IF(ISTEXT('S3'!$D$67),NA(),'S3'!$D$67)","v":{"$error":"#N/A"}},{"$error":"#N/A"},{"$f":"IF(ISTEXT('S3'!$D$54),NA(),'S3'!$D$54)","v":{"$error":"#N/A"}},{"$error":"#N/A"},{"$f":"IF(ISTEXT('S3'!$D$57),NA(),'S3'!$D$57)","v":{"$error":"#N/A"}},{"$error":"#N/A"}]
[{"$f":"IF(ISBLANK('S3'!E$43),\" \",'S3'!E$43)","v":32},{"$f":"IF(ISTEXT('S3'!$F$50),NA(),'S3'!$F$50)","v":{"$error":"#N/A"}},{"$error":"#N/A"},{"$f":"IF(ISTEXT('S3'!$F$51),NA(),'S3'!$F$51)","v":{"$error":"#N/A"}},{"$error":"#N/A"},{"$f":"IF(ISTEXT('S3'!$F$52),NA(),'S3'!$F$52)","v":{"$error":"#N/A"}},{"$error":"#N/A"},{"$f":"IF(ISTEXT('S3'!$F$53),NA(),'S3'!$F$53)","v":{"$error":"#N/A"}},{"$error":"#N/A"},{"$f":"IF(ISTEXT('S3'!$F$55),NA(),'S3'!$F$55)","v":{"$error":"#N/A"}},{"$error":"#N/A"},{"$f":"IF(ISTEXT('S3'!$F$56),NA(),'S3'!$F$56)","v":{"$error":"#N/A"}},{"$error":"#N/A"},{"$f":"IF(ISTEXT('S3'!$F$58),NA(),'S3'!$F$58)","v":{"$error":"#N/A"}},{"$error":"#N/A"},{"$f":"IF(ISTEXT('S3'!$F$59),NA(),'S3'!$F$59)","v":{"$error":"#N/A"}},{"$error":"#N/A"},{"$f":"IF(ISTEXT('S3'!$F$60),NA(),'S3'!$F$60)","v":{"$error":"#N/A"}},{"$error":"#N/A"},{"$f":"IF(ISTEXT('S3'!$F$61),NA(),'S3'!$F$61)","v":{"$error":"#N/A"}},{"$error":"#N/A"},{"$f":"IF(ISTEXT('S3'!$F$62),NA(),'S3'!$F$62)","v":{"$error":"#N/A"}},{"$error":"#N/A"},{"$f":"IF(ISTEXT('S3'!$F$63),NA(),'S3'!$F$63)","v":{"$error":"#N/A"}},{"$error":"#N/A"},{"$f":"IF(ISTEXT('S3'!$F$64),NA(),'S3'!$F$64)","v":{"$error":"#N/A"}},{"$error":"#N/A"},{"$f":"IF(ISTEXT('S3'!$E$65),NA(),'S3'!$E$65)","v":{"$error":"#N/A"}},{"$error":"#N/A"},{"$f":"IF(ISTEXT('S3'!$F$67),NA(),'S3'!$F$67)","v":{"$error":"#N/A"}},{"$error":"#N/A"},{"$f":"IF(ISTEXT('S3'!$F$54),NA(),'S3'!$F$54)","v":{"$error":"#N/A"}},{"$error":"#N/A"},{"$f":"IF(ISTEXT('S3'!$F$57),NA(),'S3'!$F$57)","v":{"$error":"#N/A"}},{"$error":"#N/A"}]
[{"$f":"IF(ISBLANK('S3'!G$43),\" \",'S3'!G$43)","v":33},{"$f":"IF(ISTEXT('S3'!$H$50),NA(),'S3'!$H$50)","v":{"$error":"#N/A"}},{"$error":"#N/A"},{"$f":"IF(ISTEXT('S3'!$H$51),NA(),'S3'!$H$51)","v":{"$error":"#N/A"}},{"$error":"#N/A"},{"$f":"IF(ISTEXT('S3'!$H$52),NA(),'S3'!$H$52)","v":{"$error":"#N/A"}},{"$error":"#N/A"},{"$f":"IF(ISTEXT('S3'!$H$53),NA(),'S3'!$H$53)","v":{"$error":"#N/A"}},{"$error":"#N/A"},{"$f":"IF(ISTEXT('S3'!$H$55),NA(),'S3'!$H$55)","v":{"$error":"#N/A"}},{"$error":"#N/A"},{"$f":"IF(ISTEXT('S3'!$H$56),NA(),'S3'!$H$56)","v":{"$error":"#N/A"}},{"$error":"#N/A"},{"$f":"IF(ISTEXT('S3'!$H$58),NA(),'S3'!$H$58)","v":{"$error":"#N/A"}},{"$error":"#N/A"},{"$f":"IF(ISTEXT('S3'!$H$59),NA(),'S3'!$H$59)","v":{"$error":"#N/A"}},{"$error":"#N/A"},{"$f":"IF(ISTEXT('S3'!$H$60),NA(),'S3'!$H$60)","v":{"$error":"#N/A"}},{"$error":"#N/A"},{"$f":"IF(ISTEXT('S3'!$H$61),NA(),'S3'!$H$61)","v":{"$error":"#N/A"}},{"$error":"#N/A"},{"$f":"IF(ISTEXT('S3'!$H$62),NA(),'S3'!$H$62)","v":{"$error":"#N/A"}},{"$error":"#N/A"},{"$f":"IF(ISTEXT('S3'!$H$63),NA(),'S3'!$H$63)","v":{"$error":"#N/A"}},{"$error":"#N/A"},{"$f":"IF(ISTEXT('S3'!$H$64),NA(),'S3'!$H$64)","v":{"$error":"#N/A"}},{"$error":"#N/A"},{"$f":"IF(ISTEXT('S3'!$G$65),NA(),'S3'!$G$65)","v":{"$error":"#N/A"}},{"$error":"#N/A"},{"$f":"IF(ISTEXT('S3'!$H$67),NA(),'S3'!$H$67)","v":{"$error":"#N/A"}},{"$error":"#N/A"},{"$f":"IF(ISTEXT('S3'!$H$54),NA(),'S3'!$H$54)","v":{"$error":"#N/A"}},{"$error":"#N/A"},{"$f":"IF(ISTEXT('S3'!$H$57),NA(),'S3'!$H$57)","v":{"$error":"#N/A"}},{"$error":"#N/A"}]
[{"$f":"IF(ISBLANK('S3'!I$43),\" \",'S3'!I$43)","v":34},{"$f":"IF(ISTEXT('S3'!$J$50),NA(),'S3'!$J$50)","v":{"$error":"#N/A"}},{"$error":"#N/A"},{"$f":"IF(ISTEXT('S3'!$J$51),NA(),'S3'!$J$51)","v":{"$error":"#N/A"}},{"$error":"#N/A"},{"$f":"IF(ISTEXT('S3'!$J$52),NA(),'S3'!$J$52)","v":{"$error":"#N/A"}},{"$error":"#N/A"},{"$f":"IF(ISTEXT('S3'!$J$53),NA(),'S3'!$J$53)","v":{"$error":"#N/A"}},{"$error":"#N/A"},{"$f":"IF(ISTEXT('S3'!$J$55),NA(),'S3'!$J$55)","v":{"$error":"#N/A"}},{"$error":"#N/A"},{"$f":"IF(ISTEXT('S3'!$J$56),NA(),'S3'!$J$56)","v":{"$error":"#N/A"}},{"$error":"#N/A"},{"$f":"IF(ISTEXT('S3'!$J$58),NA(),'S3'!$J$58)","v":{"$error":"#N/A"}},{"$error":"#N/A"},{"$f":"IF(ISTEXT('S3'!$J$59),NA(),'S3'!$J$59)","v":{"$error":"#N/A"}},{"$error":"#N/A"},{"$f":"IF(ISTEXT('S3'!$J$60),NA(),'S3'!$J$60)","v":{"$error":"#N/A"}},{"$error":"#N/A"},{"$f":"IF(ISTEXT('S3'!$J$61),NA(),'S3'!$J$61)","v":{"$error":"#N/A"}},{"$error":"#N/A"},{"$f":"IF(ISTEXT('S3'!$J$62),NA(),'S3'!$J$62)","v":{"$error":"#N/A"}},{"$error":"#N/A"},{"$f":"IF(ISTEXT('S3'!$J$63),NA(),'S3'!$J$63)","v":{"$error":"#N/A"}},{"$error":"#N/A"},{"$f":"IF(ISTEXT('S3'!$J$64),NA(),'S3'!$J$64)","v":{"$error":"#N/A"}},{"$error":"#N/A"},{"$f":"IF(ISTEXT('S3'!$I$65),NA(),'S3'!$I$65)","v":{"$error":"#N/A"}},{"$error":"#N/A"},{"$f":"IF(ISTEXT('S3'!$J$67),NA(),'S3'!$J$67)","v":{"$error":"#N/A"}},{"$error":"#N/A"},{"$f":"IF(ISTEXT('S3'!$J$54),NA(),'S3'!$J$54)","v":{"$error":"#N/A"}},{"$error":"#N/A"},{"$f":"IF(ISTEXT('S3'!$J$57),NA(),'S3'!$J$57)","v":{"$error":"#N/A"}},{"$error":"#N/A"}]
[{"$f":"IF(ISBLANK('S3'!K$43),\" \",'S3'!K$43)","v":35},{"$f":"IF(ISTEXT('S3'!$L$50),NA(),'S3'!$L$50)","v":{"$error":"#N/A"}},{"$error":"#N/A"},{"$f":"IF(ISTEXT('S3'!$L$51),NA(),'S3'!$L$51)","v":{"$error":"#N/A"}},{"$error":"#N/A"},{"$f":"IF(ISTEXT('S3'!$L$52),NA(),'S3'!$L$52)","v":{"$error":"#N/A"}},{"$error":"#N/A"},{"$f":"IF(ISTEXT('S3'!$L$53),NA(),'S3'!$L$53)","v":{"$error":"#N/A"}},{"$error":"#N/A"},{"$f":"IF(ISTEXT('S3'!$L$55),NA(),'S3'!$L$55)","v":{"$error":"#N/A"}},{"$error":"#N/A"},{"$f":"IF(ISTEXT('S3'!$L$56),NA(),'S3'!$L$56)","v":{"$error":"#N/A"}},{"$error":"#N/A"},{"$f":"IF(ISTEXT('S3'!$L$58),NA(),'S3'!$L$58)","v":{"$error":"#N/A"}},{"$error":"#N/A"},{"$f":"IF(ISTEXT('S3'!$L$59),NA(),'S3'!$L$59)","v":{"$error":"#N/A"}},{"$error":"#N/A"},{"$f":"IF(ISTEXT('S3'!$L$60),NA(),'S3'!$L$60)","v":{"$error":"#N/A"}},{"$error":"#N/A"},{"$f":"IF(ISTEXT('S3'!$L$61),NA(),'S3'!$L$61)","v":{"$error":"#N/A"}},{"$error":"#N/A"},{"$f":"IF(ISTEXT('S3'!$L$62),NA(),'S3'!$L$62)","v":{"$error":"#N/A"}},{"$error":"#N/A"},{"$f":"IF(ISTEXT('S3'!$L$63),NA(),'S3'!$L$63)","v":{"$error":"#N/A"}},{"$error":"#N/A"},{"$f":"IF(ISTEXT('S3'!$L$64),NA(),'S3'!$L$64)","v":{"$error":"#N/A"}},{"$error":"#N/A"},{"$f":"IF(ISTEXT('S3'!$K$65),NA(),'S3'!$K$65)","v":{"$error":"#N/A"}},{"$error":"#N/A"},{"$f":"IF(ISTEXT('S3'!$L$67),NA(),'S3'!$L$67)","v":{"$error":"#N/A"}},{"$error":"#N/A"},{"$f":"IF(ISTEXT('S3'!$L$54),NA(),'S3'!$L$54)","v":{"$error":"#N/A"}},{"$error":"#N/A"},{"$f":"IF(ISTEXT('S3'!$L$57),NA(),'S3'!$L$57)","v":{"$error":"#N/A"}},{"$error":"#N/A"}]
[{"$f":"IF(ISBLANK('S3'!M$43),\" \",'S3'!M$43)","v":36},{"$f":"IF(ISTEXT('S3'!$N$50),NA(),'S3'!$N$50)","v":{"$error":"#N/A"}},{"$error":"#N/A"},{"$f":"IF(ISTEXT('S3'!$N$51),NA(),'S3'!$N$51)","v":{"$error":"#N/A"}},{"$error":"#N/A"},{"$f":"IF(ISTEXT('S3'!$N$52),NA(),'S3'!$N$52)","v":{"$error":"#N/A"}},{"$error":"#N/A"},{"$f":"IF(ISTEXT('S3'!$N$53),NA(),'S3'!$N$53)","v":{"$error":"#N/A"}},{"$error":"#N/A"},{"$f":"IF(ISTEXT('S3'!$N$55),NA(),'S3'!$N$55)","v":{"$error":"#N/A"}},{"$error":"#N/A"},{"$f":"IF(ISTEXT('S3'!$N$56),NA(),'S3'!$N$56)","v":{"$error":"#N/A"}},{"$error":"#N/A"},{"$f":"IF(ISTEXT('S3'!$N$58),NA(),'S3'!$N$58)","v":{"$error":"#N/A"}},{"$error":"#N/A"},{"$f":"IF(ISTEXT('S3'!$N$59),NA(),'S3'!$N$59)","v":{"$error":"#N/A"}},{"$error":"#N/A"},{"$f":"IF(ISTEXT('S3'!$N$60),NA(),'S3'!$N$60)","v":{"$error":"#N/A"}},{"$error":"#N/A"},{"$f":"IF(ISTEXT('S3'!$N$61),NA(),'S3'!$N$61)","v":{"$error":"#N/A"}},{"$error":"#N/A"},{"$f":"IF(ISTEXT('S3'!$N$62),NA(),'S3'!$N$62)","v":{"$error":"#N/A"}},{"$error":"#N/A"},{"$f":"IF(ISTEXT('S3'!$N$63),NA(),'S3'!$N$63)","v":{"$error":"#N/A"}},{"$error":"#N/A"},{"$f":"IF(ISTEXT('S3'!$N$64),NA(),'S3'!$N$64)","v":{"$error":"#N/A"}},{"$error":"#N/A"},{"$f":"IF(ISTEXT('S3'!$M$65),NA(),'S3'!$M$65)","v":{"$error":"#N/A"}},{"$error":"#N/A"},{"$f":"IF(ISTEXT('S3'!$N$67),NA(),'S3'!$N$67)","v":{"$error":"#N/A"}},{"$error":"#N/A"},{"$f":"IF(ISTEXT('S3'!$N$54),NA(),'S3'!$N$54)","v":{"$error":"#N/A"}},{"$error":"#N/A"},{"$f":"IF(ISTEXT('S3'!$N$57),NA(),'S3'!$N$57)","v":{"$error":"#N/A"}},{"$error":"#N/A"}]
[{"$f":"IF(ISBLANK('S4'!C$10),\" \",'S4'!C$10)","v":37},{"$f":"IF(ISTEXT('S4'!$D$17),NA(),'S4'!$D$17)","v":{"$error":"#N/A"}},{"$error":"#N/A"},{"$f":"IF(ISTEXT('S4'!$D$18),NA(),'S4'!$D$18)","v":{"$error":"#N/A"}},{"$error":"#N/A"},{"$f":"IF(ISTEXT('S4'!$D$19),NA(),'S4'!$D$19)","v":{"$error":"#N/A"}},{"$error":"#N/A"},{"$f":"IF(ISTEXT('S4'!$D$20),NA(),'S4'!$D$20)","v":{"$error":"#N/A"}},{"$error":"#N/A"},{"$f":"IF(ISTEXT('S4'!$D$22),NA(),'S4'!$D$22)","v":{"$error":"#N/A"}},{"$error":"#N/A"},{"$f":"IF(ISTEXT('S4'!$D$23),NA(),'S4'!$D$23)","v":{"$error":"#N/A"}},{"$error":"#N/A"},{"$f":"IF(ISTEXT('S4'!$D$25),NA(),'S4'!$D$25)","v":{"$error":"#N/A"}},{"$error":"#N/A"},{"$f":"IF(ISTEXT('S4'!$D$26),NA(),'S4'!$D$26)","v":{"$error":"#N/A"}},{"$error":"#N/A"},{"$f":"IF(ISTEXT('S4'!$D$27),NA(),'S4'!$D$27)","v":{"$error":"#N/A"}},{"$error":"#N/A"},{"$f":"IF(ISTEXT('S4'!$D$28),NA(),'S4'!$D$28)","v":{"$error":"#N/A"}},{"$error":"#N/A"},{"$f":"IF(ISTEXT('S4'!$D$29),NA(),'S4'!$D$29)","v":{"$error":"#N/A"}},{"$error":"#N/A"},{"$f":"IF(ISTEXT('S4'!$D$30),NA(),'S4'!$D$30)","v":{"$error":"#N/A"}},{"$error":"#N/A"},{"$f":"IF(ISTEXT('S4'!$D$31),NA(),'S4'!$D$31)","v":{"$error":"#N/A"}},{"$error":"#N/A"},{"$f":"IF(ISTEXT('S4'!$C$32),NA(),'S4'!$C$32)","v":{"$error":"#N/A"}},{"$error":"#N/A"},{"$f":"IF(ISTEXT('S4'!$D$34),NA(),'S4'!$D$34)","v":{"$error":"#N/A"}},{"$error":"#N/A"},{"$f":"IF(ISTEXT('S4'!$D$21),NA(),'S4'!$D$21)","v":{"$error":"#N/A"}},{"$error":"#N/A"},{"$f":"IF(ISTEXT('S4'!$D$24),NA(),'S4'!$D$24)","v":{"$error":"#N/A"}},{"$error":"#N/A"}]
[{"$f":"IF(ISBLANK('S4'!E$10),\" \",'S4'!E$10)","v":38},{"$f":"IF(ISTEXT('S4'!$F$17),NA(),'S4'!$F$17)","v":{"$error":"#N/A"}},{"$error":"#N/A"},{"$f":"IF(ISTEXT('S4'!$F$18),NA(),'S4'!$F$18)","v":{"$error":"#N/A"}},{"$error":"#N/A"},{"$f":"IF(ISTEXT('S4'!$F$19),NA(),'S4'!$F$19)","v":{"$error":"#N/A"}},{"$error":"#N/A"},{"$f":"IF(ISTEXT('S4'!$F$20),NA(),'S4'!$F$20)","v":{"$error":"#N/A"}},{"$error":"#N/A"},{"$f":"IF(ISTEXT('S4'!$F$22),NA(),'S4'!$F$22)","v":{"$error":"#N/A"}},{"$error":"#N/A"},{"$f":"IF(ISTEXT('S4'!$F$23),NA(),'S4'!$F$23)","v":{"$error":"#N/A"}},{"$error":"#N/A"},{"$f":"IF(ISTEXT('S4'!$F$25),NA(),'S4'!$F$25)","v":{"$error":"#N/A"}},{"$error":"#N/A"},{"$f":"IF(ISTEXT('S4'!$F$26),NA(),'S4'!$F$26)","v":{"$error":"#N/A"}},{"$error":"#N/A"},{"$f":"IF(ISTEXT('S4'!$F$27),NA(),'S4'!$F$27)","v":{"$error":"#N/A"}},{"$error":"#N/A"},{"$f":"IF(ISTEXT('S4'!$F$28),NA(),'S4'!$F$28)","v":{"$error":"#N/A"}},{"$error":"#N/A"},{"$f":"IF(ISTEXT('S4'!$F$29),NA(),'S4'!$F$29)","v":{"$error":"#N/A"}},{"$error":"#N/A"},{"$f":"IF(ISTEXT('S4'!$F$30),NA(),'S4'!$F$30)","v":{"$error":"#N/A"}},{"$error":"#N/A"},{"$f":"IF(ISTEXT('S4'!$F$31),NA(),'S4'!$F$31)","v":{"$error":"#N/A"}},{"$error":"#N/A"},{"$f":"IF(ISTEXT('S4'!$E$32),NA(),'S4'!$E$32)","v":{"$error":"#N/A"}},{"$error":"#N/A"},{"$f":"IF(ISTEXT('S4'!$F$34),NA(),'S4'!$F$34)","v":{"$error":"#N/A"}},{"$error":"#N/A"},{"$f":"IF(ISTEXT('S4'!$F$21),NA(),'S4'!$F$21)","v":{"$error":"#N/A"}},{"$error":"#N/A"},{"$f":"IF(ISTEXT('S4'!$F$24),NA(),'S4'!$F$24)","v":{"$error":"#N/A"}},{"$error":"#N/A"}]
[{"$f":"IF(ISBLANK('S4'!G$10),\" \",'S4'!G$10)","v":39},{"$f":"IF(ISTEXT('S4'!$H$17),NA(),'S4'!$H$17)","v":{"$error":"#N/A"}},{"$error":"#N/A"},{"$f":"IF(ISTEXT('S4'!$H$18),NA(),'S4'!$H$18)","v":{"$error":"#N/A"}},{"$error":"#N/A"},{"$f":"IF(ISTEXT('S4'!$H$19),NA(),'S4'!$H$19)","v":{"$error":"#N/A"}},{"$error":"#N/A"},{"$f":"IF(ISTEXT('S4'!$H$20),NA(),'S4'!$H$20)","v":{"$error":"#N/A"}},{"$error":"#N/A"},{"$f":"IF(ISTEXT('S4'!$H$22),NA(),'S4'!$H$22)","v":{"$error":"#N/A"}},{"$error":"#N/A"},{"$f":"IF(ISTEXT('S4'!$H$23),NA(),'S4'!$H$23)","v":{"$error":"#N/A"}},{"$error":"#N/A"},{"$f":"IF(ISTEXT('S4'!$H$25),NA(),'S4'!$H$25)","v":{"$error":"#N/A"}},{"$error":"#N/A"},{"$f":"IF(ISTEXT('S4'!$H$26),NA(),'S4'!$H$26)","v":{"$error":"#N/A"}},{"$error":"#N/A"},{"$f":"IF(ISTEXT('S4'!$H$27),NA(),'S4'!$H$27)","v":{"$error":"#N/A"}},{"$error":"#N/A"},{"$f":"IF(ISTEXT('S4'!$H$28),NA(),'S4'!$H$28)","v":{"$error":"#N/A"}},{"$error":"#N/A"},{"$f":"IF(ISTEXT('S4'!$H$29),NA(),'S4'!$H$29)","v":{"$error":"#N/A"}},{"$error":"#N/A"},{"$f":"IF(ISTEXT('S4'!$H$30),NA(),'S4'!$H$30)","v":{"$error":"#N/A"}},{"$error":"#N/A"},{"$f":"IF(ISTEXT('S4'!$H$31),NA(),'S4'!$H$31)","v":{"$error":"#N/A"}},{"$error":"#N/A"},{"$f":"IF(ISTEXT('S4'!$G$32),NA(),'S4'!$G$32)","v":{"$error":"#N/A"}},{"$error":"#N/A"},{"$f":"IF(ISTEXT('S4'!$H$34),NA(),'S4'!$H$34)","v":{"$error":"#N/A"}},{"$error":"#N/A"},{"$f":"IF(ISTEXT('S4'!$H$21),NA(),'S4'!$H$21)","v":{"$error":"#N/A"}},{"$error":"#N/A"},{"$f":"IF(ISTEXT('S4'!$H$24),NA(),'S4'!$H$24)","v":{"$error":"#N/A"}},{"$error":"#N/A"}]
[{"$f":"IF(ISBLANK('S4'!I$10),\" \",'S4'!I$10)","v":40},{"$f":"IF(ISTEXT('S4'!$J$17),NA(),'S4'!$J$17)","v":{"$error":"#N/A"}},{"$error":"#N/A"},{"$f":"IF(ISTEXT('S4'!$J$18),NA(),'S4'!$J$18)","v":{"$error":"#N/A"}},{"$error":"#N/A"},{"$f":"IF(ISTEXT('S4'!$J$19),NA(),'S4'!$J$19)","v":{"$error":"#N/A"}},{"$error":"#N/A"},{"$f":"IF(ISTEXT('S4'!$J$20),NA(),'S4'!$J$20)","v":{"$error":"#N/A"}},{"$error":"#N/A"},{"$f":"IF(ISTEXT('S4'!$J$22),NA(),'S4'!$J$22)","v":{"$error":"#N/A"}},{"$error":"#N/A"},{"$f":"IF(ISTEXT('S4'!$J$23),NA(),'S4'!$J$23)","v":{"$error":"#N/A"}},{"$error":"#N/A"},{"$f":"IF(ISTEXT('S4'!$J$25),NA(),'S4'!$J$25)","v":{"$error":"#N/A"}},{"$error":"#N/A"},{"$f":"IF(ISTEXT('S4'!$J$26),NA(),'S4'!$J$26)","v":{"$error":"#N/A"}},{"$error":"#N/A"},{"$f":"IF(ISTEXT('S4'!$J$27),NA(),'S4'!$J$27)","v":{"$error":"#N/A"}},{"$error":"#N/A"},{"$f":"IF(ISTEXT('S4'!$J$28),NA(),'S4'!$J$28)","v":{"$error":"#N/A"}},{"$error":"#N/A"},{"$f":"IF(ISTEXT('S4'!$J$29),NA(),'S4'!$J$29)","v":{"$error":"#N/A"}},{"$error":"#N/A"},{"$f":"IF(ISTEXT('S4'!$J$30),NA(),'S4'!$J$30)","v":{"$error":"#N/A"}},{"$error":"#N/A"},{"$f":"IF(ISTEXT('S4'!$J$31),NA(),'S4'!$J$31)","v":{"$error":"#N/A"}},{"$error":"#N/A"},{"$f":"IF(ISTEXT('S4'!$I$32),NA(),'S4'!$I$32)","v":{"$error":"#N/A"}},{"$error":"#N/A"},{"$f":"IF(ISTEXT('S4'!$J$34),NA(),'S4'!$J$34)","v":{"$error":"#N/A"}},{"$error":"#N/A"},{"$f":"IF(ISTEXT('S4'!$J$21),NA(),'S4'!$J$21)","v":{"$error":"#N/A"}},{"$error":"#N/A"},{"$f":"IF(ISTEXT('S4'!$J$24),NA(),'S4'!$J$24)","v":{"$error":"#N/A"}},{"$error":"#N/A"}]
[{"$f":"IF(ISBLANK('S4'!K$10),\" \",'S4'!K$10)","v":41},{"$f":"IF(ISTEXT('S4'!$L$17),NA(),'S4'!$L$17)","v":{"$error":"#N/A"}},{"$error":"#N/A"},{"$f":"IF(ISTEXT('S4'!$L$18),NA(),'S4'!$L$18)","v":{"$error":"#N/A"}},{"$error":"#N/A"},{"$f":"IF(ISTEXT('S4'!$L$19),NA(),'S4'!$L$19)","v":{"$error":"#N/A"}},{"$error":"#N/A"},{"$f":"IF(ISTEXT('S4'!$L$20),NA(),'S4'!$L$20)","v":{"$error":"#N/A"}},{"$error":"#N/A"},{"$f":"IF(ISTEXT('S4'!$L$22),NA(),'S4'!$L$22)","v":{"$error":"#N/A"}},{"$error":"#N/A"},{"$f":"IF(ISTEXT('S4'!$L$23),NA(),'S4'!$L$23)","v":{"$error":"#N/A"}},{"$error":"#N/A"},{"$f":"IF(ISTEXT('S4'!$L$25),NA(),'S4'!$L$25)","v":{"$error":"#N/A"}},{"$error":"#N/A"},{"$f":"IF(ISTEXT('S4'!$L$26),NA(),'S4'!$L$26)","v":{"$error":"#N/A"}},{"$error":"#N/A"},{"$f":"IF(ISTEXT('S4'!$L$27),NA(),'S4'!$L$27)","v":{"$error":"#N/A"}},{"$error":"#N/A"},{"$f":"IF(ISTEXT('S4'!$L$28),NA(),'S4'!$L$28)","v":{"$error":"#N/A"}},{"$error":"#N/A"},{"$f":"IF(ISTEXT('S4'!$L$29),NA(),'S4'!$L$29)","v":{"$error":"#N/A"}},{"$error":"#N/A"},{"$f":"IF(ISTEXT('S4'!$L$30),NA(),'S4'!$L$30)","v":{"$error":"#N/A"}},{"$error":"#N/A"},{"$f":"IF(ISTEXT('S4'!$L$31),NA(),'S4'!$L$31)","v":{"$error":"#N/A"}},{"$error":"#N/A"},{"$f":"IF(ISTEXT('S4'!$K$32),NA(),'S4'!$K$32)","v":{"$error":"#N/A"}},{"$error":"#N/A"},{"$f":"IF(ISTEXT('S4'!$L$34),NA(),'S4'!$L$34)","v":{"$error":"#N/A"}},{"$error":"#N/A"},{"$f":"IF(ISTEXT('S4'!$L$21),NA(),'S4'!$L$21)","v":{"$error":"#N/A"}},{"$error":"#N/A"},{"$f":"IF(ISTEXT('S4'!$L$24),NA(),'S4'!$L$24)","v":{"$error":"#N/A"}},{"$error":"#N/A"}]
[{"$f":"IF(ISBLANK('S4'!M$10),\" \",'S4'!M$10)","v":42},{"$f":"IF(ISTEXT('S4'!$N$17),NA(),'S4'!$N$17)","v":{"$error":"#N/A"}},{"$error":"#N/A"},{"$f":"IF(ISTEXT('S4'!$N$18),NA(),'S4'!$N$18)","v":{"$error":"#N/A"}},{"$error":"#N/A"},{"$f":"IF(ISTEXT('S4'!$N$19),NA(),'S4'!$N$19)","v":{"$error":"#N/A"}},{"$error":"#N/A"},{"$f":"IF(ISTEXT('S4'!$N$20),NA(),'S4'!$N$20)","v":{"$error":"#N/A"}},{"$error":"#N/A"},{"$f":"IF(ISTEXT('S4'!$N$22),NA(),'S4'!$N$22)","v":{"$error":"#N/A"}},{"$error":"#N/A"},{"$f":"IF(ISTEXT('S4'!$N$23),NA(),'S4'!$N$23)","v":{"$error":"#N/A"}},{"$error":"#N/A"},{"$f":"IF(ISTEXT('S4'!$N$25),NA(),'S4'!$N$25)","v":{"$error":"#N/A"}},{"$error":"#N/A"},{"$f":"IF(ISTEXT('S4'!$N$26),NA(),'S4'!$N$26)","v":{"$error":"#N/A"}},{"$error":"#N/A"},{"$f":"IF(ISTEXT('S4'!$N$27),NA(),'S4'!$N$27)","v":{"$error":"#N/A"}},{"$error":"#N/A"},{"$f":"IF(ISTEXT('S4'!$N$28),NA(),'S4'!$N$28)","v":{"$error":"#N/A"}},{"$error":"#N/A"},{"$f":"IF(ISTEXT('S4'!$N$29),NA(),'S4'!$N$29)","v":{"$error":"#N/A"}},{"$error":"#N/A"},{"$f":"IF(ISTEXT('S4'!$N$30),NA(),'S4'!$N$30)","v":{"$error":"#N/A"}},{"$error":"#N/A"},{"$f":"IF(ISTEXT('S4'!$N$31),NA(),'S4'!$N$31)","v":{"$error":"#N/A"}},{"$error":"#N/A"},{"$f":"IF(ISTEXT('S4'!$M$32),NA(),'S4'!$M$32)","v":{"$error":"#N/A"}},{"$error":"#N/A"},{"$f":"IF(ISTEXT('S4'!$N$34),NA(),'S4'!$N$34)","v":{"$error":"#N/A"}},{"$error":"#N/A"},{"$f":"IF(ISTEXT('S4'!$N$21),NA(),'S4'!$N$21)","v":{"$error":"#N/A"}},{"$error":"#N/A"},{"$f":"IF(ISTEXT('S4'!$N$24),NA(),'S4'!$N$24)","v":{"$error":"#N/A"}},{"$error":"#N/A"}]
[{"$f":"IF(ISBLANK('S4'!C$43),\" \",'S4'!C$43)","v":43},{"$f":"IF(ISTEXT('S4'!$D$50),NA(),'S4'!$D$50)","v":{"$error":"#N/A"}},{"$error":"#N/A"},{"$f":"IF(ISTEXT('S4'!$D$51),NA(),'S4'!$D$51)","v":{"$error":"#N/A"}},{"$error":"#N/A"},{"$f":"IF(ISTEXT('S4'!$D$52),NA(),'S4'!$D$52)","v":{"$error":"#N/A"}},{"$error":"#N/A"},{"$f":"IF(ISTEXT('S4'!$D$53),NA(),'S4'!$D$53)","v":{"$error":"#N/A"}},{"$error":"#N/A"},{"$f":"IF(ISTEXT('S4'!$D$55),NA(),'S4'!$D$55)","v":{"$error":"#N/A"}},{"$error":"#N/A"},{"$f":"IF(ISTEXT('S4'!$D$56),NA(),'S4'!$D$56)","v":{"$error":"#N/A"}},{"$error":"#N/A"},{"$f":"IF(ISTEXT('S4'!$D$58),NA(),'S4'!$D$58)","v":{"$error":"#N/A"}},{"$error":"#N/A"},{"$f":"IF(ISTEXT('S4'!$D$59),NA(),'S4'!$D$59)","v":{"$error":"#N/A"}},{"$error":"#N/A"},{"$f":"IF(ISTEXT('S4'!$D$60),NA(),'S4'!$D$60)","v":{"$error":"#N/A"}},{"$error":"#N/A"},{"$f":"IF(ISTEXT('S4'!$D$61),NA(),'S4'!$D$61)","v":{"$error":"#N/A"}},{"$error":"#N/A"},{"$f":"IF(ISTEXT('S4'!$D$62),NA(),'S4'!$D$62)","v":{"$error":"#N/A"}},{"$error":"#N/A"},{"$f":"IF(ISTEXT('S4'!$D$63),NA(),'S4'!$D$63)","v":{"$error":"#N/A"}},{"$error":"#N/A"},{"$f":"IF(ISTEXT('S4'!$D$64),NA(),'S4'!$D$64)","v":{"$error":"#N/A"}},{"$error":"#N/A"},{"$f":"IF(ISTEXT('S4'!$C$65),NA(),'S4'!$C$65)","v":{"$error":"#N/A"}},{"$error":"#N/A"},{"$f":"IF(ISTEXT('S4'!$D$67),NA(),'S4'!$D$67)","v":{"$error":"#N/A"}},{"$error":"#N/A"},{"$f":"IF(ISTEXT('S4'!$D$54),NA(),'S4'!$D$54)","v":{"$error":"#N/A"}},{"$error":"#N/A"},{"$f":"IF(ISTEXT('S4'!$D$57),NA(),'S4'!$D$57)","v":{"$error":"#N/A"}},{"$error":"#N/A"}]
[{"$f":"IF(ISBLANK('S4'!E$43),\" \",'S4'!E$43)","v":44},{"$f":"IF(ISTEXT('S4'!$F$50),NA(),'S4'!$F$50)","v":{"$error":"#N/A"}},{"$error":"#N/A"},{"$f":"IF(ISTEXT('S4'!$F$51),NA(),'S4'!$F$51)","v":{"$error":"#N/A"}},{"$error":"#N/A"},{"$f":"IF(ISTEXT('S4'!$F$52),NA(),'S4'!$F$52)","v":{"$error":"#N/A"}},{"$error":"#N/A"},{"$f":"IF(ISTEXT('S4'!$F$53),NA(),'S4'!$F$53)","v":{"$error":"#N/A"}},{"$error":"#N/A"},{"$f":"IF(ISTEXT('S4'!$F$55),NA(),'S4'!$F$55)","v":{"$error":"#N/A"}},{"$error":"#N/A"},{"$f":"IF(ISTEXT('S4'!$F$56),NA(),'S4'!$F$56)","v":{"$error":"#N/A"}},{"$error":"#N/A"},{"$f":"IF(ISTEXT('S4'!$F$58),NA(),'S4'!$F$58)","v":{"$error":"#N/A"}},{"$error":"#N/A"},{"$f":"IF(ISTEXT('S4'!$F$59),NA(),'S4'!$F$59)","v":{"$error":"#N/A"}},{"$error":"#N/A"},{"$f":"IF(ISTEXT('S4'!$F$60),NA(),'S4'!$F$60)","v":{"$error":"#N/A"}},{"$error":"#N/A"},{"$f":"IF(ISTEXT('S4'!$F$61),NA(),'S4'!$F$61)","v":{"$error":"#N/A"}},{"$error":"#N/A"},{"$f":"IF(ISTEXT('S4'!$F$62),NA(),'S4'!$F$62)","v":{"$error":"#N/A"}},{"$error":"#N/A"},{"$f":"IF(ISTEXT('S4'!$F$63),NA(),'S4'!$F$63)","v":{"$error":"#N/A"}},{"$error":"#N/A"},{"$f":"IF(ISTEXT('S4'!$F$64),NA(),'S4'!$F$64)","v":{"$error":"#N/A"}},{"$error":"#N/A"},{"$f":"IF(ISTEXT('S4'!$E$65),NA(),'S4'!$E$65)","v":{"$error":"#N/A"}},{"$error":"#N/A"},{"$f":"IF(ISTEXT('S4'!$F$67),NA(),'S4'!$F$67)","v":{"$error":"#N/A"}},{"$error":"#N/A"},{"$f":"IF(ISTEXT('S4'!$F$54),NA(),'S4'!$F$54)","v":{"$error":"#N/A"}},{"$error":"#N/A"},{"$f":"IF(ISTEXT('S4'!$F$57),NA(),'S4'!$F$57)","v":{"$error":"#N/A"}},{"$error":"#N/A"}]
[{"$f":"IF(ISBLANK('S4'!G$43),\" \",'S4'!G$43)","v":45},{"$f":"IF(ISTEXT('S4'!$H$50),NA(),'S4'!$H$50)","v":{"$error":"#N/A"}},{"$error":"#N/A"},{"$f":"IF(ISTEXT('S4'!$H$51),NA(),'S4'!$H$51)","v":{"$error":"#N/A"}},{"$error":"#N/A"},{"$f":"IF(ISTEXT('S4'!$H$52),NA(),'S4'!$H$52)","v":{"$error":"#N/A"}},{"$error":"#N/A"},{"$f":"IF(ISTEXT('S4'!$H$53),NA(),'S4'!$H$53)","v":{"$error":"#N/A"}},{"$error":"#N/A"},{"$f":"IF(ISTEXT('S4'!$H$55),NA(),'S4'!$H$55)","v":{"$error":"#N/A"}},{"$error":"#N/A"},{"$f":"IF(ISTEXT('S4'!$H$56),NA(),'S4'!$H$56)","v":{"$error":"#N/A"}},{"$error":"#N/A"},{"$f":"IF(ISTEXT('S4'!$H$58),NA(),'S4'!$H$58)","v":{"$error":"#N/A"}},{"$error":"#N/A"},{"$f":"IF(ISTEXT('S4'!$H$59),NA(),'S4'!$H$59)","v":{"$error":"#N/A"}},{"$error":"#N/A"},{"$f":"IF(ISTEXT('S4'!$H$60),NA(),'S4'!$H$60)","v":{"$error":"#N/A"}},{"$error":"#N/A"},{"$f":"IF(ISTEXT('S4'!$H$61),NA(),'S4'!$H$61)","v":{"$error":"#N/A"}},{"$error":"#N/A"},{"$f":"IF(ISTEXT('S4'!$H$62),NA(),'S4'!$H$62)","v":{"$error":"#N/A"}},{"$error":"#N/A"},{"$f":"IF(ISTEXT('S4'!$H$63),NA(),'S4'!$H$63)","v":{"$error":"#N/A"}},{"$error":"#N/A"},{"$f":"IF(ISTEXT('S4'!$H$64),NA(),'S4'!$H$64)","v":{"$error":"#N/A"}},{"$error":"#N/A"},{"$f":"IF(ISTEXT('S4'!$G$65),NA(),'S4'!$G$65)","v":{"$error":"#N/A"}},{"$error":"#N/A"},{"$f":"IF(ISTEXT('S4'!$H$67),NA(),'S4'!$H$67)","v":{"$error":"#N/A"}},{"$error":"#N/A"},{"$f":"IF(ISTEXT('S4'!$H$54),NA(),'S4'!$H$54)","v":{"$error":"#N/A"}},{"$error":"#N/A"},{"$f":"IF(ISTEXT('S4'!$H$57),NA(),'S4'!$H$57)","v":{"$error":"#N/A"}},{"$error":"#N/A"}]
[{"$f":"IF(ISBLANK('S4'!I$43),\" \",'S4'!I$43)","v":46},{"$f":"IF(ISTEXT('S4'!$J$50),NA(),'S4'!$J$50)","v":{"$error":"#N/A"}},{"$error":"#N/A"},{"$f":"IF(ISTEXT('S4'!$J$51),NA(),'S4'!$J$51)","v":{"$error":"#N/A"}},{"$error":"#N/A"},{"$f":"IF(ISTEXT('S4'!$J$52),NA(),'S4'!$J$52)","v":{"$error":"#N/A"}},{"$error":"#N/A"},{"$f":"IF(ISTEXT('S4'!$J$53),NA(),'S4'!$J$53)","v":{"$error":"#N/A"}},{"$error":"#N/A"},{"$f":"IF(ISTEXT('S4'!$J$55),NA(),'S4'!$J$55)","v":{"$error":"#N/A"}},{"$error":"#N/A"},{"$f":"IF(ISTEXT('S4'!$J$56),NA(),'S4'!$J$56)","v":{"$error":"#N/A"}},{"$error":"#N/A"},{"$f":"IF(ISTEXT('S4'!$J$58),NA(),'S4'!$J$58)","v":{"$error":"#N/A"}},{"$error":"#N/A"},{"$f":"IF(ISTEXT('S4'!$J$59),NA(),'S4'!$J$59)","v":{"$error":"#N/A"}},{"$error":"#N/A"},{"$f":"IF(ISTEXT('S4'!$J$60),NA(),'S4'!$J$60)","v":{"$error":"#N/A"}},{"$error":"#N/A"},{"$f":"IF(ISTEXT('S4'!$J$61),NA(),'S4'!$J$61)","v":{"$error":"#N/A"}},{"$error":"#N/A"},{"$f":"IF(ISTEXT('S4'!$J$62),NA(),'S4'!$J$62)","v":{"$error":"#N/A"}},{"$error":"#N/A"},{"$f":"IF(ISTEXT('S4'!$J$63),NA(),'S4'!$J$63)","v":{"$error":"#N/A"}},{"$error":"#N/A"},{"$f":"IF(ISTEXT('S4'!$J$64),NA(),'S4'!$J$64)","v":{"$error":"#N/A"}},{"$error":"#N/A"},{"$f":"IF(ISTEXT('S4'!$I$65),NA(),'S4'!$I$65)","v":{"$error":"#N/A"}},{"$error":"#N/A"},{"$f":"IF(ISTEXT('S4'!$J$67),NA(),'S4'!$J$67)","v":{"$error":"#N/A"}},{"$error":"#N/A"},{"$f":"IF(ISTEXT('S4'!$J$54),NA(),'S4'!$J$54)","v":{"$error":"#N/A"}},{"$error":"#N/A"},{"$f":"IF(ISTEXT('S4'!$J$57),NA(),'S4'!$J$57)","v":{"$error":"#N/A"}},{"$error":"#N/A"}]
[{"$f":"IF(ISBLANK('S4'!K$43),\" \",'S4'!K$43)","v":47},{"$f":"IF(ISTEXT('S4'!$L$50),NA(),'S4'!$L$50)","v":{"$error":"#N/A"}},{"$error":"#N/A"},{"$f":"IF(ISTEXT('S4'!$L$51),NA(),'S4'!$L$51)","v":{"$error":"#N/A"}},{"$error":"#N/A"},{"$f":"IF(ISTEXT('S4'!$L$52),NA(),'S4'!$L$52)","v":{"$error":"#N/A"}},{"$error":"#N/A"},{"$f":"IF(ISTEXT('S4'!$L$53),NA(),'S4'!$L$53)","v":{"$error":"#N/A"}},{"$error":"#N/A"},{"$f":"IF(ISTEXT('S4'!$L$55),NA(),'S4'!$L$55)","v":{"$error":"#N/A"}},{"$error":"#N/A"},{"$f":"IF(ISTEXT('S4'!$L$56),NA(),'S4'!$L$56)","v":{"$error":"#N/A"}},{"$error":"#N/A"},{"$f":"IF(ISTEXT('S4'!$L$58),NA(),'S4'!$L$58)","v":{"$error":"#N/A"}},{"$error":"#N/A"},{"$f":"IF(ISTEXT('S4'!$L$59),NA(),'S4'!$L$59)","v":{"$error":"#N/A"}},{"$error":"#N/A"},{"$f":"IF(ISTEXT('S4'!$L$60),NA(),'S4'!$L$60)","v":{"$error":"#N/A"}},{"$error":"#N/A"},{"$f":"IF(ISTEXT('S4'!$L$61),NA(),'S4'!$L$61)","v":{"$error":"#N/A"}},{"$error":"#N/A"},{"$f":"IF(ISTEXT('S4'!$L$62),NA(),'S4'!$L$62)","v":{"$error":"#N/A"}},{"$error":"#N/A"},{"$f":"IF(ISTEXT('S4'!$L$63),NA(),'S4'!$L$63)","v":{"$error":"#N/A"}},{"$error":"#N/A"},{"$f":"IF(ISTEXT('S4'!$L$64),NA(),'S4'!$L$64)","v":{"$error":"#N/A"}},{"$error":"#N/A"},{"$f":"IF(ISTEXT('S4'!$K$65),NA(),'S4'!$K$65)","v":{"$error":"#N/A"}},{"$error":"#N/A"},{"$f":"IF(ISTEXT('S4'!$L$67),NA(),'S4'!$L$67)","v":{"$error":"#N/A"}},{"$error":"#N/A"},{"$f":"IF(ISTEXT('S4'!$L$54),NA(),'S4'!$L$54)","v":{"$error":"#N/A"}},{"$error":"#N/A"},{"$f":"IF(ISTEXT('S4'!$L$57),NA(),'S4'!$L$57)","v":{"$error":"#N/A"}},{"$error":"#N/A"}]
[{"$f":"IF(ISBLANK('S4'!M$43),\" \",'S4'!M$43)","v":48},{"$f":"IF(ISTEXT('S4'!$N$50),NA(),'S4'!$N$50)","v":{"$error":"#N/A"}},{"$error":"#N/A"},{"$f":"IF(ISTEXT('S4'!$N$51),NA(),'S4'!$N$51)","v":{"$error":"#N/A"}},{"$error":"#N/A"},{"$f":"IF(ISTEXT('S4'!$N$52),NA(),'S4'!$N$52)","v":{"$error":"#N/A"}},{"$error":"#N/A"},{"$f":"IF(ISTEXT('S4'!$N$53),NA(),'S4'!$N$53)","v":{"$error":"#N/A"}},{"$error":"#N/A"},{"$f":"IF(ISTEXT('S4'!$N$55),NA(),'S4'!$N$55)","v":{"$error":"#N/A"}},{"$error":"#N/A"},{"$f":"IF(ISTEXT('S4'!$N$56),NA(),'S4'!$N$56)","v":{"$error":"#N/A"}},{"$error":"#N/A"},{"$f":"IF(ISTEXT('S4'!$N$58),NA(),'S4'!$N$58)","v":{"$error":"#N/A"}},{"$error":"#N/A"},{"$f":"IF(ISTEXT('S4'!$N$59),NA(),'S4'!$N$59)","v":{"$error":"#N/A"}},{"$error":"#N/A"},{"$f":"IF(ISTEXT('S4'!$N$60),NA(),'S4'!$N$60)","v":{"$error":"#N/A"}},{"$error":"#N/A"},{"$f":"IF(ISTEXT('S4'!$N$61),NA(),'S4'!$N$61)","v":{"$error":"#N/A"}},{"$error":"#N/A"},{"$f":"IF(ISTEXT('S4'!$N$62),NA(),'S4'!$N$62)","v":{"$error":"#N/A"}},{"$error":"#N/A"},{"$f":"IF(ISTEXT('S4'!$N$63),NA(),'S4'!$N$63)","v":{"$error":"#N/A"}},{"$error":"#N/A"},{"$f":"IF(ISTEXT('S4'!$N$64),NA(),'S4'!$N$64)","v":{"$error":"#N/A"}},{"$error":"#N/A"},{"$f":"IF(ISTEXT('S4'!$M$65),NA(),'S4'!$M$65)","v":{"$error":"#N/A"}},{"$error":"#N/A"},{"$f":"IF(ISTEXT('S4'!$N$67),NA(),'S4'!$N$67)","v":{"$error":"#N/A"}},{"$error":"#N/A"},{"$f":"IF(ISTEXT('S4'!$N$54),NA(),'S4'!$N$54)","v":{"$error":"#N/A"}},{"$error":"#N/A"},{"$f":"IF(ISTEXT('S4'!$N$57),NA(),'S4'!$N$57)","v":{"$error":"#N/A"}},{"$error":"#N/A"}]
[{"$f":"IF(ISBLANK('S5'!C$10),\" \",'S5'!C$10)","v":49},{"$f":"IF(ISTEXT('S5'!$D$17),NA(),'S5'!$D$17)","v":{"$error":"#N/A"}},{"$error":"#N/A"},{"$f":"IF(ISTEXT('S5'!$D$18),NA(),'S5'!$D$18)","v":{"$error":"#N/A"}},{"$error":"#N/A"},{"$f":"IF(ISTEXT('S5'!$D$19),NA(),'S5'!$D$19)","v":{"$error":"#N/A"}},{"$error":"#N/A"},{"$f":"IF(ISTEXT('S5'!$D$20),NA(),'S5'!$D$20)","v":{"$error":"#N/A"}},{"$error":"#N/A"},{"$f":"IF(ISTEXT('S5'!$D$22),NA(),'S5'!$D$22)","v":{"$error":"#N/A"}},{"$error":"#N/A"},{"$f":"IF(ISTEXT('S5'!$D$23),NA(),'S5'!$D$23)","v":{"$error":"#N/A"}},{"$error":"#N/A"},{"$f":"IF(ISTEXT('S5'!$D$25),NA(),'S5'!$D$25)","v":{"$error":"#N/A"}},{"$error":"#N/A"},{"$f":"IF(ISTEXT('S5'!$D$26),NA(),'S5'!$D$26)","v":{"$error":"#N/A"}},{"$error":"#N/A"},{"$f":"IF(ISTEXT('S5'!$D$27),NA(),'S5'!$D$27)","v":{"$error":"#N/A"}},{"$error":"#N/A"},{"$f":"IF(ISTEXT('S5'!$D$28),NA(),'S5'!$D$28)","v":{"$error":"#N/A"}},{"$error":"#N/A"},{"$f":"IF(ISTEXT('S5'!$D$29),NA(),'S5'!$D$29)","v":{"$error":"#N/A"}},{"$f":"ROUND(AVERAGE(V48:V50),0)","v":{"$error":"#N/A"}},{"$f":"IF(ISTEXT('S5'!$D$30),NA(),'S5'!$D$30)","v":{"$error":"#N/A"}},{"$f":"ROUND(AVERAGE(X48:X50),0)","v":{"$error":"#N/A"}},{"$f":"IF(ISTEXT('S5'!$D$31),NA(),'S5'!$D$31)","v":{"$error":"#N/A"}},{"$f":"ROUND(AVERAGE(Z48:Z50),2)","v":{"$error":"#N/A"}},{"$f":"IF(ISTEXT('S5'!$C$32),NA(),'S5'!$C$32)","v":{"$error":"#N/A"}},{"$f":"ROUND(AVERAGE(AB48:AB50),2)","v":{"$error":"#N/A"}},{"$f":"IF(ISTEXT('S5'!$D$34),NA(),'S5'!$D$34)","v":{"$error":"#N/A"}},{"$f":"ROUND(AVERAGE(AD48:AD50),2)","v":{"$error":"#N/A"}},{"$f":"IF(ISTEXT('S5'!$D$21),NA(),'S5'!$D$21)","v":{"$error":"#N/A"}},{"$error":"#N/A"},{"$f":"IF(ISTEXT('S5'!$D$24),NA(),'S5'!$D$24)","v":{"$error":"#N/A"}},{"$error":"#N/A"}]
[{"$f":"IF(ISBLANK('S5'!E$10),\" \",'S5'!E$10)","v":50},{"$f":"IF(ISTEXT('S5'!$F$17),NA(),'S5'!$F$17)","v":{"$error":"#N/A"}},{"$error":"#N/A"},{"$f":"IF(ISTEXT('S5'!$F$18),NA(),'S5'!$F$18)","v":{"$error":"#N/A"}},{"$error":"#N/A"},{"$f":"IF(ISTEXT('S5'!$F$19),NA(),'S5'!$F$19)","v":{"$error":"#N/A"}},{"$error":"#N/A"},{"$f":"IF(ISTEXT('S5'!$F$20),NA(),'S5'!$F$20)","v":{"$error":"#N/A"}},{"$error":"#N/A"},{"$f":"IF(ISTEXT('S5'!$F$22),NA(),'S5'!$F$22)","v":{"$error":"#N/A"}},{"$error":"#N/A"},{"$f":"IF(ISTEXT('S5'!$F$23),NA(),'S5'!$F$23)","v":{"$error":"#N/A"}},{"$error":"#N/A"},{"$f":"IF(ISTEXT('S5'!$F$25),NA(),'S5'!$F$25)","v":{"$error":"#N/A"}},{"$error":"#N/A"},{"$f":"IF(ISTEXT('S5'!$F$26),NA(),'S5'!$F$26)","v":{"$error":"#N/A"}},{"$error":"#N/A"},{"$f":"IF(ISTEXT('S5'!$F$27),NA(),'S5'!$F$27)","v":{"$error":"#N/A"}},{"$error":"#N/A"},{"$f":"IF(ISTEXT('S5'!$F$28),NA(),'S5'!$F$28)","v":{"$error":"#N/A"}},{"$error":"#N/A"},{"$f":"IF(ISTEXT('S5'!$F$29),NA(),'S5'!$F$29)","v":{"$error":"#N/A"}},{"$f":"ROUND(AVERAGE(V49:V51),0)","v":{"$error":"#N/A"}},{"$f":"IF(ISTEXT('S5'!$F$30),NA(),'S5'!$F$30)","v":{"$error":"#N/A"}},{"$f":"ROUND(AVERAGE(X49:X51),0)","v":{"$error":"#N/A"}},{"$f":"IF(ISTEXT('S5'!$F$31),NA(),'S5'!$F$31)","v":{"$error":"#N/A"}},{"$f":"ROUND(AVERAGE(Z49:Z51),2)","v":{"$error":"#N/A"}},{"$f":"IF(ISTEXT('S5'!$E$32),NA(),'S5'!$E$32)","v":{"$error":"#N/A"}},{"$f":"ROUND(AVERAGE(AB49:AB51),2)","v":{"$error":"#N/A"}},{"$f":"IF(ISTEXT('S5'!$F$34),NA(),'S5'!$F$34)","v":{"$error":"#N/A"}},{"$f":"ROUND(AVERAGE(AD49:AD51),2)","v":{"$error":"#N/A"}},{"$f":"IF(ISTEXT('S5'!$F$21),NA(),'S5'!$F$21)","v":{"$error":"#N/A"}},{"$error":"#N/A"},{"$f":"IF(ISTEXT('S5'!$F$24),NA(),'S5'!$F$24)","v":{"$error":"#N/A"}},{"$error":"#N/A"}]
[{"$f":"IF(ISBLANK('S5'!G$10),\" \",'S5'!G$10)","v":51},{"$f":"IF(ISTEXT('S5'!$H$17),NA(),'S5'!$H$17)","v":{"$error":"#N/A"}},{"$error":"#N/A"},{"$f":"IF(ISTEXT('S5'!$H$18),NA(),'S5'!$H$18)","v":{"$error":"#N/A"}},{"$error":"#N/A"},{"$f":"IF(ISTEXT('S5'!$H$19),NA(),'S5'!$H$19)","v":{"$error":"#N/A"}},{"$error":"#N/A"},{"$f":"IF(ISTEXT('S5'!$H$20),NA(),'S5'!$H$20)","v":{"$error":"#N/A"}},{"$error":"#N/A"},{"$f":"IF(ISTEXT('S5'!$H$22),NA(),'S5'!$H$22)","v":{"$error":"#N/A"}},{"$error":"#N/A"},{"$f":"IF(ISTEXT('S5'!$H$23),NA(),'S5'!$H$23)","v":{"$error":"#N/A"}},{"$error":"#N/A"},{"$f":"IF(ISTEXT('S5'!$H$25),NA(),'S5'!$H$25)","v":{"$error":"#N/A"}},{"$error":"#N/A"},{"$f":"IF(ISTEXT('S5'!$H$26),NA(),'S5'!$H$26)","v":{"$error":"#N/A"}},{"$error":"#N/A"},{"$f":"IF(ISTEXT('S5'!$H$27),NA(),'S5'!$H$27)","v":{"$error":"#N/A"}},{"$error":"#N/A"},{"$f":"IF(ISTEXT('S5'!$H$28),NA(),'S5'!$H$28)","v":{"$error":"#N/A"}},{"$error":"#N/A"},{"$f":"IF(ISTEXT('S5'!$H$29),NA(),'S5'!$H$29)","v":{"$error":"#N/A"}},{"$f":"ROUND(AVERAGE(V50:V52),0)","v":{"$error":"#N/A"}},{"$f":"IF(ISTEXT('S5'!$H$30),NA(),'S5'!$H$30)","v":{"$error":"#N/A"}},{"$f":"ROUND(AVERAGE(X50:X52),0)","v":{"$error":"#N/A"}},{"$f":"IF(ISTEXT('S5'!$H$31),NA(),'S5'!$H$31)","v":{"$error":"#N/A"}},{"$f":"ROUND(AVERAGE(Z50:Z52),2)","v":{"$error":"#N/A"}},{"$f":"IF(ISTEXT('S5'!$G$32),NA(),'S5'!$G$32)","v":{"$error":"#N/A"}},{"$f":"ROUND(AVERAGE(AB50:AB52),2)","v":{"$error":"#N/A"}},{"$f":"IF(ISTEXT('S5'!$H$34),NA(),'S5'!$H$34)","v":{"$error":"#N/A"}},{"$f":"ROUND(AVERAGE(AD50:AD52),2)","v":{"$error":"#N/A"}},{"$f":"IF(ISTEXT('S5'!$H$21),NA(),'S5'!$H$21)","v":{"$error":"#N/A"}},{"$error":"#N/A"},{"$f":"IF(ISTEXT('S5'!$H$24),NA(),'S5'!$H$24)","v":{"$error":"#N/A"}},{"$error":"#N/A"}]
[{"$f":"IF(ISBLANK('S5'!I$10),\" \",'S5'!I$10)","v":52},{"$f":"IF(ISTEXT('S5'!$J$17),NA(),'S5'!$J$17)","v":{"$error":"#N/A"}},{"$error":"#N/A"},{"$f":"IF(ISTEXT('S5'!$J$18),NA(),'S5'!$J$18)","v":{"$error":"#N/A"}},{"$error":"#N/A"},{"$f":"IF(ISTEXT('S5'!$J$19),NA(),'S5'!$J$19)","v":{"$error":"#N/A"}},{"$error":"#N/A"},{"$f":"IF(ISTEXT('S5'!$J$20),NA(),'S5'!$J$20)","v":{"$error":"#N/A"}},{"$error":"#N/A"},{"$f":"IF(ISTEXT('S5'!$J$22),NA(),'S5'!$J$22)","v":{"$error":"#N/A"}},{"$error":"#N/A"},{"$f":"IF(ISTEXT('S5'!$J$23),NA(),'S5'!$J$23)","v":{"$error":"#N/A"}},{"$error":"#N/A"},{"$f":"IF(ISTEXT('S5'!$J$25),NA(),'S5'!$J$25)","v":{"$error":"#N/A"}},{"$error":"#N/A"},{"$f":"IF(ISTEXT('S5'!$J$26),NA(),'S5'!$J$26)","v":{"$error":"#N/A"}},{"$error":"#N/A"},{"$f":"IF(ISTEXT('S5'!$J$27),NA(),'S5'!$J$27)","v":{"$error":"#N/A"}},{"$error":"#N/A"},{"$f":"IF(ISTEXT('S5'!$J$28),NA(),'S5'!$J$28)","v":{"$error":"#N/A"}},{"$error":"#N/A"},{"$f":"IF(ISTEXT('S5'!$J$29),NA(),'S5'!$J$29)","v":{"$error":"#N/A"}},{"$f":"ROUND(AVERAGE(V51:V53),0)","v":{"$error":"#N/A"}},{"$f":"IF(ISTEXT('S5'!$J$30),NA(),'S5'!$J$30)","v":{"$error":"#N/A"}},{"$error":"#N/A"},{"$f":"IF(ISTEXT('S5'!$J$31),NA(),'S5'!$J$31)","v":{"$error":"#N/A"}},{"$error":"#N/A"},{"$f":"IF(ISTEXT('S5'!$I$32),NA(),'S5'!$I$32)","v":{"$error":"#N/A"}},{"$error":"#N/A"},{"$f":"IF(ISTEXT('S5'!$J$34),NA(),'S5'!$J$34)","v":{"$error":"#N/A"}},{"$error":"#N/A"},{"$f":"IF(ISTEXT('S5'!$J$21),NA(),'S5'!$J$21)","v":{"$error":"#N/A"}},{"$error":"#N/A"},{"$f":"IF(ISTEXT('S5'!$J$24),NA(),'S5'!$J$24)","v":{"$error":"#N/A"}},{"$error":"#N/A"}]
[{"$f":"IF(ISBLANK('S5'!K$10),\" \",'S5'!K$10)","v":53},{"$f":"IF(ISTEXT('S5'!$L$17),NA(),'S5'!$L$17)","v":{"$error":"#N/A"}},{"$error":"#N/A"},{"$f":"IF(ISTEXT('S5'!$L$18),NA(),'S5'!$L$18)","v":{"$error":"#N/A"}},{"$error":"#N/A"},{"$f":"IF(ISTEXT('S5'!$L$19),NA(),'S5'!$L$19)","v":{"$error":"#N/A"}},{"$error":"#N/A"},{"$f":"IF(ISTEXT('S5'!$L$20),NA(),'S5'!$L$20)","v":{"$error":"#N/A"}},{"$error":"#N/A"},{"$f":"IF(ISTEXT('S5'!$L$22),NA(),'S5'!$L$22)","v":{"$error":"#N/A"}},{"$error":"#N/A"},{"$f":"IF(ISTEXT('S5'!$L$23),NA(),'S5'!$L$23)","v":{"$error":"#N/A"}},{"$error":"#N/A"},{"$f":"IF(ISTEXT('S5'!$L$25),NA(),'S5'!$L$25)","v":{"$error":"#N/A"}},{"$error":"#N/A"},{"$f":"IF(ISTEXT('S5'!$L$26),NA(),'S5'!$L$26)","v":{"$error":"#N/A"}},{"$error":"#N/A"},{"$f":"IF(ISTEXT('S5'!$L$27),NA(),'S5'!$L$27)","v":{"$error":"#N/A"}},{"$error":"#N/A"},{"$f":"IF(ISTEXT('S5'!$L$28),NA(),'S5'!$L$28)","v":{"$error":"#N/A"}},{"$error":"#N/A"},{"$f":"IF(ISTEXT('S5'!$L$29),NA(),'S5'!$L$29)","v":{"$error":"#N/A"}},{"$error":"#N/A"},{"$f":"IF(ISTEXT('S5'!$L$30),NA(),'S5'!$L$30)","v":{"$error":"#N/A"}},{"$error":"#N/A"},{"$f":"IF(ISTEXT('S5'!$L$31),NA(),'S5'!$L$31)","v":{"$error":"#N/A"}},{"$error":"#N/A"},{"$f":"IF(ISTEXT('S5'!$K$32),NA(),'S5'!$K$32)","v":{"$error":"#N/A"}},{"$error":"#N/A"},{"$f":"IF(ISTEXT('S5'!$L$34),NA(),'S5'!$L$34)","v":{"$error":"#N/A"}},{"$error":"#N/A"},{"$f":"IF(ISTEXT('S5'!$L$21),NA(),'S5'!$L$21)","v":{"$error":"#N/A"}},{"$error":"#N/A"},{"$f":"IF(ISTEXT('S5'!$L$24),NA(),'S5'!$L$24)","v":{"$error":"#N/A"}},{"$error":"#N/A"}]
[{"$f":"IF(ISBLANK('S5'!M$10),\" \",'S5'!M$10)","v":54},{"$f":"IF(ISTEXT('S5'!$N$17),NA(),'S5'!$N$17)","v":{"$error":"#N/A"}},{"$error":"#N/A"},{"$f":"IF(ISTEXT('S5'!$N$18),NA(),'S5'!$N$18)","v":{"$error":"#N/A"}},{"$error":"#N/A"},{"$f":"IF(ISTEXT('S5'!$N$19),NA(),'S5'!$N$19)","v":{"$error":"#N/A"}},{"$error":"#N/A"},{"$f":"IF(ISTEXT('S5'!$N$20),NA(),'S5'!$N$20)","v":{"$error":"#N/A"}},{"$error":"#N/A"},{"$f":"IF(ISTEXT('S5'!$N$22),NA(),'S5'!$N$22)","v":{"$error":"#N/A"}},{"$error":"#N/A"},{"$f":"IF(ISTEXT('S5'!$N$23),NA(),'S5'!$N$23)","v":{"$error":"#N/A"}},{"$error":"#N/A"},{"$f":"IF(ISTEXT('S5'!$N$25),NA(),'S5'!$N$25)","v":{"$error":"#N/A"}},{"$error":"#N/A"},{"$f":"IF(ISTEXT('S5'!$N$26),NA(),'S5'!$N$26)","v":{"$error":"#N/A"}},{"$error":"#N/A"},{"$f":"IF(ISTEXT('S5'!$N$27),NA(),'S5'!$N$27)","v":{"$error":"#N/A"}},{"$error":"#N/A"},{"$f":"IF(ISTEXT('S5'!$N$28),NA(),'S5'!$N$28)","v":{"$error":"#N/A"}},{"$error":"#N/A"},{"$f":"IF(ISTEXT('S5'!$N$29),NA(),'S5'!$N$29)","v":{"$error":"#N/A"}},{"$error":"#N/A"},{"$f":"IF(ISTEXT('S5'!$N$30),NA(),'S5'!$N$30)","v":{"$error":"#N/A"}},{"$error":"#N/A"},{"$f":"IF(ISTEXT('S5'!$N$31),NA(),'S5'!$N$31)","v":{"$error":"#N/A"}},{"$error":"#N/A"},{"$f":"IF(ISTEXT('S5'!$M$32),NA(),'S5'!$M$32)","v":{"$error":"#N/A"}},{"$error":"#N/A"},{"$f":"IF(ISTEXT('S5'!$N$34),NA(),'S5'!$N$34)","v":{"$error":"#N/A"}},{"$error":"#N/A"},{"$f":"IF(ISTEXT('S5'!$N$21),NA(),'S5'!$N$21)","v":{"$error":"#N/A"}},{"$error":"#N/A"},{"$f":"IF(ISTEXT('S5'!$N$24),NA(),'S5'!$N$24)","v":{"$error":"#N/A"}},{"$error":"#N/A"}]
[{"$f":"IF(ISBLANK('S5'!C$43),\" \",'S5'!C$43)","v":55},{"$f":"IF(ISTEXT('S5'!$D$50),NA(),'S5'!$D$50)","v":{"$error":"#N/A"}},{"$error":"#N/A"},{"$f":"IF(ISTEXT('S5'!$D$51),NA(),'S5'!$D$51)","v":{"$error":"#N/A"}},{"$error":"#N/A"},{"$f":"IF(ISTEXT('S5'!$D$52),NA(),'S5'!$D$52)","v":{"$error":"#N/A"}},{"$error":"#N/A"},{"$f":"IF(ISTEXT('S5'!$D$53),NA(),'S5'!$D$53)","v":{"$error":"#N/A"}},{"$error":"#N/A"},{"$f":"IF(ISTEXT('S5'!$D$55),NA(),'S5'!$D$55)","v":{"$error":"#N/A"}},{"$error":"#N/A"},{"$f":"IF(ISTEXT('S5'!$D$56),NA(),'S5'!$D$56)","v":{"$error":"#N/A"}},{"$error":"#N/A"},{"$f":"IF(ISTEXT('S5'!$D$58),NA(),'S5'!$D$58)","v":{"$error":"#N/A"}},{"$error":"#N/A"},{"$f":"IF(ISTEXT('S5'!$D$59),NA(),'S5'!$D$59)","v":{"$error":"#N/A"}},{"$error":"#N/A"},{"$f":"IF(ISTEXT('S5'!$D$60),NA(),'S5'!$D$60)","v":{"$error":"#N/A"}},{"$error":"#N/A"},{"$f":"IF(ISTEXT('S5'!$D$61),NA(),'S5'!$D$61)","v":{"$error":"#N/A"}},{"$error":"#N/A"},{"$f":"IF(ISTEXT('S5'!$D$62),NA(),'S5'!$D$62)","v":{"$error":"#N/A"}},{"$error":"#N/A"},{"$f":"IF(ISTEXT('S5'!$D$63),NA(),'S5'!$D$63)","v":{"$error":"#N/A"}},{"$error":"#N/A"},{"$f":"IF(ISTEXT('S5'!$D$64),NA(),'S5'!$D$64)","v":{"$error":"#N/A"}},{"$error":"#N/A"},{"$f":"IF(ISTEXT('S5'!$C$65),NA(),'S5'!$C$65)","v":{"$error":"#N/A"}},{"$error":"#N/A"},{"$f":"IF(ISTEXT('S5'!$D$67),NA(),'S5'!$D$67)","v":{"$error":"#N/A"}},{"$error":"#N/A"},{"$f":"IF(ISTEXT('S5'!$D$54),NA(),'S5'!$D$54)","v":{"$error":"#N/A"}},{"$error":"#N/A"},{"$f":"IF(ISTEXT('S5'!$D$57),NA(),'S5'!$D$57)","v":{"$error":"#N/A"}},{"$error":"#N/A"}]
[{"$f":"IF(ISBLANK('S5'!E$43),\" \",'S5'!E$43)","v":56},{"$f":"IF(ISTEXT('S5'!$F$50),NA(),'S5'!$F$50)","v":{"$error":"#N/A"}},{"$error":"#N/A"},{"$f":"IF(ISTEXT('S5'!$F$51),NA(),'S5'!$F$51)","v":{"$error":"#N/A"}},{"$error":"#N/A"},{"$f":"IF(ISTEXT('S5'!$F$52),NA(),'S5'!$F$52)","v":{"$error":"#N/A"}},{"$error":"#N/A"},{"$f":"IF(ISTEXT('S5'!$F$53),NA(),'S5'!$F$53)","v":{"$error":"#N/A"}},{"$error":"#N/A"},{"$f":"IF(ISTEXT('S5'!$F$55),NA(),'S5'!$F$55)","v":{"$error":"#N/A"}},{"$error":"#N/A"},{"$f":"IF(ISTEXT('S5'!$F$56),NA(),'S5'!$F$56)","v":{"$error":"#N/A"}},{"$error":"#N/A"},{"$f":"IF(ISTEXT('S5'!$F$58),NA(),'S5'!$F$58)","v":{"$error":"#N/A"}},{"$error":"#N/A"},{"$f":"IF(ISTEXT('S5'!$F$59),NA(),'S5'!$F$59)","v":{"$error":"#N/A"}},{"$error":"#N/A"},{"$f":"IF(ISTEXT('S5'!$F$60),NA(),'S5'!$F$60)","v":{"$error":"#N/A"}},{"$error":"#N/A"},{"$f":"IF(ISTEXT('S5'!$F$61),NA(),'S5'!$F$61)","v":{"$error":"#N/A"}},{"$error":"#N/A"},{"$f":"IF(ISTEXT('S5'!$F$62),NA(),'S5'!$F$62)","v":{"$error":"#N/A"}},{"$error":"#N/A"},{"$f":"IF(ISTEXT('S5'!$F$63),NA(),'S5'!$F$63)","v":{"$error":"#N/A"}},{"$error":"#N/A"},{"$f":"IF(ISTEXT('S5'!$F$64),NA(),'S5'!$F$64)","v":{"$error":"#N/A"}},{"$error":"#N/A"},{"$f":"IF(ISTEXT('S5'!$E$65),NA(),'S5'!$E$65)","v":{"$error":"#N/A"}},{"$error":"#N/A"},{"$f":"IF(ISTEXT('S5'!$F$67),NA(),'S5'!$F$67)","v":{"$error":"#N/A"}},{"$error":"#N/A"},{"$f":"IF(ISTEXT('S5'!$F$54),NA(),'S5'!$F$54)","v":{"$error":"#N/A"}},{"$error":"#N/A"},{"$f":"IF(ISTEXT('S5'!$F$57),NA(),'S5'!$F$57)","v":{"$error":"#N/A"}},{"$error":"#N/A"}]
[{"$f":"IF(ISBLANK('S5'!G$43),\" \",'S5'!G$43)","v":57},{"$f":"IF(ISTEXT('S5'!$H$50),NA(),'S5'!$H$50)","v":{"$error":"#N/A"}},{"$error":"#N/A"},{"$f":"IF(ISTEXT('S5'!$H$51),NA(),'S5'!$H$51)","v":{"$error":"#N/A"}},{"$error":"#N/A"},{"$f":"IF(ISTEXT('S5'!$H$52),NA(),'S5'!$H$52)","v":{"$error":"#N/A"}},{"$error":"#N/A"},{"$f":"IF(ISTEXT('S5'!$H$53),NA(),'S5'!$H$53)","v":{"$error":"#N/A"}},{"$error":"#N/A"},{"$f":"IF(ISTEXT('S5'!$H$55),NA(),'S5'!$H$55)","v":{"$error":"#N/A"}},{"$error":"#N/A"},{"$f":"IF(ISTEXT('S5'!$H$56),NA(),'S5'!$H$56)","v":{"$error":"#N/A"}},{"$error":"#N/A"},{"$f":"IF(ISTEXT('S5'!$H$58),NA(),'S5'!$H$58)","v":{"$error":"#N/A"}},{"$error":"#N/A"},{"$f":"IF(ISTEXT('S5'!$H$59),NA(),'S5'!$H$59)","v":{"$error":"#N/A"}},{"$error":"#N/A"},{"$f":"IF(ISTEXT('S5'!$H$60),NA(),'S5'!$H$60)","v":{"$error":"#N/A"}},{"$error":"#N/A"},{"$f":"IF(ISTEXT('S5'!$H$61),NA(),'S5'!$H$61)","v":{"$error":"#N/A"}},{"$error":"#N/A"},{"$f":"IF(ISTEXT('S5'!$H$62),NA(),'S5'!$H$62)","v":{"$error":"#N/A"}},{"$error":"#N/A"},{"$f":"IF(ISTEXT('S5'!$H$63),NA(),'S5'!$H$63)","v":{"$error":"#N/A"}},{"$error":"#N/A"},{"$f":"IF(ISTEXT('S5'!$H$64),NA(),'S5'!$H$64)","v":{"$error":"#N/A"}},{"$error":"#N/A"},{"$f":"IF(ISTEXT('S5'!$G$65),NA(),'S5'!$G$65)","v":{"$error":"#N/A"}},{"$error":"#N/A"},{"$f":"IF(ISTEXT('S5'!$H$67),NA(),'S5'!$H$67)","v":{"$error":"#N/A"}},{"$error":"#N/A"},{"$f":"IF(ISTEXT('S5'!$H$54),NA(),'S5'!$H$54)","v":{"$error":"#N/A"}},{"$error":"#N/A"},{"$f":"IF(ISTEXT('S5'!$H$57),NA(),'S5'!$H$57)","v":{"$error":"#N/A"}},{"$error":"#N/A"}]
[{"$f":"IF(ISBLANK('S5'!I$43),\" \",'S5'!I$43)","v":58},{"$f":"IF(ISTEXT('S5'!$J$50),NA(),'S5'!$J$50)","v":{"$error":"#N/A"}},{"$error":"#N/A"},{"$f":"IF(ISTEXT('S5'!$J$51),NA(),'S5'!$J$51)","v":{"$error":"#N/A"}},{"$error":"#N/A"},{"$f":"IF(ISTEXT('S5'!$J$52),NA(),'S5'!$J$52)","v":{"$error":"#N/A"}},{"$error":"#N/A"},{"$f":"IF(ISTEXT('S5'!$J$53),NA(),'S5'!$J$53)","v":{"$error":"#N/A"}},{"$error":"#N/A"},{"$f":"IF(ISTEXT('S5'!$J$55),NA(),'S5'!$J$55)","v":{"$error":"#N/A"}},{"$error":"#N/A"},{"$f":"IF(ISTEXT('S5'!$J$56),NA(),'S5'!$J$56)","v":{"$error":"#N/A"}},{"$error":"#N/A"},{"$f":"IF(ISTEXT('S5'!$J$58),NA(),'S5'!$J$58)","v":{"$error":"#N/A"}},{"$error":"#N/A"},{"$f":"IF(ISTEXT('S5'!$J$59),NA(),'S5'!$J$59)","v":{"$error":"#N/A"}},{"$error":"#N/A"},{"$f":"IF(ISTEXT('S5'!$J$60),NA(),'S5'!$J$60)","v":{"$error":"#N/A"}},{"$error":"#N/A"},{"$f":"IF(ISTEXT('S5'!$J$61),NA(),'S5'!$J$61)","v":{"$error":"#N/A"}},{"$error":"#N/A"},{"$f":"IF(ISTEXT('S5'!$J$62),NA(),'S5'!$J$62)","v":{"$error":"#N/A"}},{"$error":"#N/A"},{"$f":"IF(ISTEXT('S5'!$J$63),NA(),'S5'!$J$63)","v":{"$error":"#N/A"}},{"$error":"#N/A"},{"$f":"IF(ISTEXT('S5'!$J$64),NA(),'S5'!$J$64)","v":{"$error":"#N/A"}},{"$error":"#N/A"},{"$f":"IF(ISTEXT('S5'!$I$65),NA(),'S5'!$I$65)","v":{"$error":"#N/A"}},{"$error":"#N/A"},{"$f":"IF(ISTEXT('S5'!$J$67),NA(),'S5'!$J$67)","v":{"$error":"#N/A"}},{"$error":"#N/A"},{"$f":"IF(ISTEXT('S5'!$J$54),NA(),'S5'!$J$54)","v":{"$error":"#N/A"}},{"$error":"#N/A"},{"$f":"IF(ISTEXT('S5'!$J$57),NA(),'S5'!$J$57)","v":{"$error":"#N/A"}},{"$error":"#N/A"}]
[{"$f":"IF(ISBLANK('S5'!K$43),\" \",'S5'!K$43)","v":59},{"$f":"IF(ISTEXT('S5'!$L$50),NA(),'S5'!$L$50)","v":{"$error":"#N/A"}},{"$error":"#N/A"},{"$f":"IF(ISTEXT('S5'!$L$51),NA(),'S5'!$L$51)","v":{"$error":"#N/A"}},{"$error":"#N/A"},{"$f":"IF(ISTEXT('S5'!$L$52),NA(),'S5'!$L$52)","v":{"$error":"#N/A"}},{"$error":"#N/A"},{"$f":"IF(ISTEXT('S5'!$L$53),NA(),'S5'!$L$53)","v":{"$error":"#N/A"}},{"$error":"#N/A"},{"$f":"IF(ISTEXT('S5'!$L$55),NA(),'S5'!$L$55)","v":{"$error":"#N/A"}},{"$error":"#N/A"},{"$f":"IF(ISTEXT('S5'!$L$56),NA(),'S5'!$L$56)","v":{"$error":"#N/A"}},{"$error":"#N/A"},{"$f":"IF(ISTEXT('S5'!$L$58),NA(),'S5'!$L$58)","v":{"$error":"#N/A"}},{"$error":"#N/A"},{"$f":"IF(ISTEXT('S5'!$L$59),NA(),'S5'!$L$59)","v":{"$error":"#N/A"}},{"$error":"#N/A"},{"$f":"IF(ISTEXT('S5'!$L$60),NA(),'S5'!$L$60)","v":{"$error":"#N/A"}},{"$error":"#N/A"},{"$f":"IF(ISTEXT('S5'!$L$61),NA(),'S5'!$L$61)","v":{"$error":"#N/A"}},{"$error":"#N/A"},{"$f":"IF(ISTEXT('S5'!$L$62),NA(),'S5'!$L$62)","v":{"$error":"#N/A"}},{"$error":"#N/A"},{"$f":"IF(ISTEXT('S5'!$L$63),NA(),'S5'!$L$63)","v":{"$error":"#N/A"}},{"$error":"#N/A"},{"$f":"IF(ISTEXT('S5'!$L$64),NA(),'S5'!$L$64)","v":{"$error":"#N/A"}},{"$error":"#N/A"},{"$f":"IF(ISTEXT('S5'!$K$65),NA(),'S5'!$K$65)","v":{"$error":"#N/A"}},{"$error":"#N/A"},{"$f":"IF(ISTEXT('S5'!$L$67),NA(),'S5'!$L$67)","v":{"$error":"#N/A"}},{"$error":"#N/A"},{"$f":"IF(ISTEXT('S5'!$L$54),NA(),'S5'!$L$54)","v":{"$error":"#N/A"}},{"$error":"#N/A"},{"$f":"IF(ISTEXT('S5'!$L$57),NA(),'S5'!$L$57)","v":{"$error":"#N/A"}},{"$error":"#N/A"}]
[{"$f":"IF(ISBLANK('S5'!M$43),\" \",'S5'!M$43)","v":60},{"$f":"IF(ISTEXT('S5'!$N$50),NA(),'S5'!$N$50)","v":{"$error":"#N/A"}},{"$error":"#N/A"},{"$f":"IF(ISTEXT('S5'!$N$51),NA(),'S5'!$N$51)","v":{"$error":"#N/A"}},{"$error":"#N/A"},{"$f":"IF(ISTEXT('S5'!$N$52),NA(),'S5'!$N$52)","v":{"$error":"#N/A"}},{"$error":"#N/A"},{"$f":"IF(ISTEXT('S5'!$N$53),NA(),'S5'!$N$53)","v":{"$error":"#N/A"}},{"$error":"#N/A"},{"$f":"IF(ISTEXT('S5'!$N$55),NA(),'S5'!$N$55)","v":{"$error":"#N/A"}},{"$error":"#N/A"},{"$f":"IF(ISTEXT('S5'!$N$56),NA(),'S5'!$N$56)","v":{"$error":"#N/A"}},{"$error":"#N/A"},{"$f":"IF(ISTEXT('S5'!$N$58),NA(),'S5'!$N$58)","v":{"$error":"#N/A"}},{"$error":"#N/A"},{"$f":"IF(ISTEXT('S5'!$N$59),NA(),'S5'!$N$59)","v":{"$error":"#N/A"}},{"$error":"#N/A"},{"$f":"IF(ISTEXT('S5'!$N$60),NA(),'S5'!$N$60)","v":{"$error":"#N/A"}},{"$error":"#N/A"},{"$f":"IF(ISTEXT('S5'!$N$61),NA(),'S5'!$N$61)","v":{"$error":"#N/A"}},{"$error":"#N/A"},{"$f":"IF(ISTEXT('S5'!$N$62),NA(),'S5'!$N$62)","v":{"$error":"#N/A"}},{"$error":"#N/A"},{"$f":"IF(ISTEXT('S5'!$N$63),NA(),'S5'!$N$63)","v":{"$error":"#N/A"}},{"$error":"#N/A"},{"$f":"IF(ISTEXT('S5'!$N$64),NA(),'S5'!$N$64)","v":{"$error":"#N/A"}},{"$error":"#N/A"},{"$f":"IF(ISTEXT('S5'!$M$65),NA(),'S5'!$M$65)","v":{"$error":"#N/A"}},{"$error":"#N/A"},{"$f":"IF(ISTEXT('S5'!$N$67),NA(),'S5'!$N$67)","v":{"$error":"#N/A"}},{"$error":"#N/A"},{"$f":"IF(ISTEXT('S5'!$N$54),NA(),'S5'!$N$54)","v":{"$error":"#N/A"}},{"$error":"#N/A"},{"$f":"IF(ISTEXT('S5'!$N$57),NA(),'S5'!$N$57)","v":{"$error":"#N/A"}},{"$error":"#N/A"}]
[{"$f":"IF(ISBLANK('S6'!C$10),\" \",'S6'!C$10)","v":61},{"$f":"IF(ISTEXT('S6'!$D$17),NA(),'S6'!$D$17)","v":{"$error":"#N/A"}},{"$error":"#N/A"},{"$f":"IF(ISTEXT('S6'!$D$18),NA(),'S6'!$D$18)","v":{"$error":"#N/A"}},{"$error":"#N/A"},{"$f":"IF(ISTEXT('S6'!$D$19),NA(),'S6'!$D$19)","v":{"$error":"#N/A"}},{"$error":"#N/A"},{"$f":"IF(ISTEXT('S6'!$D$20),NA(),'S6'!$D$20)","v":{"$error":"#N/A"}},{"$error":"#N/A"},{"$f":"IF(ISTEXT('S6'!$D$22),NA(),'S6'!$D$22)","v":{"$error":"#N/A"}},{"$error":"#N/A"},{"$f":"IF(ISTEXT('S6'!$D$23),NA(),'S6'!$D$23)","v":{"$error":"#N/A"}},{"$error":"#N/A"},{"$f":"IF(ISTEXT('S6'!$D$25),NA(),'S6'!$D$25)","v":{"$error":"#N/A"}},{"$error":"#N/A"},{"$f":"IF(ISTEXT('S6'!$D$26),NA(),'S6'!$D$26)","v":{"$error":"#N/A"}},{"$error":"#N/A"},{"$f":"IF(ISTEXT('S6'!$D$27),NA(),'S6'!$D$27)","v":{"$error":"#N/A"}},{"$error":"#N/A"},{"$f":"IF(ISTEXT('S6'!$D$28),NA(),'S6'!$D$28)","v":{"$error":"#N/A"}},{"$error":"#N/A"},{"$f":"IF(ISTEXT('S6'!$D$29),NA(),'S6'!$D$29)","v":{"$error":"#N/A"}},{"$error":"#N/A"},{"$f":"IF(ISTEXT('S6'!$D$30),NA(),'S6'!$D$30)","v":{"$error":"#N/A"}},{"$error":"#N/A"},{"$f":"IF(ISTEXT('S6'!$D$31),NA(),'S6'!$D$31)","v":{"$error":"#N/A"}},{"$error":"#N/A"},{"$f":"IF(ISTEXT('S6'!$C$32),NA(),'S6'!$C$32)","v":{"$error":"#N/A"}},{"$error":"#N/A"},{"$f":"IF(ISTEXT('S6'!$D$34),NA(),'S6'!$D$34)","v":{"$error":"#N/A"}},{"$error":"#N/A"},{"$f":"IF(ISTEXT('S6'!$D$21),NA(),'S6'!$D$21)","v":{"$error":"#N/A"}},{"$error":"#N/A"},{"$f":"IF(ISTEXT('S6'!$D$24),NA(),'S6'!$D$24)","v":{"$error":"#N/A"}},{"$error":"#N/A"}]
[{"$f":"IF(ISBLANK('S6'!E$10),\" \",'S6'!E$10)","v":62},{"$f":"IF(ISTEXT('S6'!$F$17),NA(),'S6'!$F$17)","v":{"$error":"#N/A"}},{"$error":"#N/A"},{"$f":"IF(ISTEXT('S6'!$F$18),NA(),'S6'!$F$18)","v":{"$error":"#N/A"}},{"$error":"#N/A"},{"$f":"IF(ISTEXT('S6'!$F$19),NA(),'S6'!$F$19)","v":{"$error":"#N/A"}},{"$error":"#N/A"},{"$f":"IF(ISTEXT('S6'!$F$20),NA(),'S6'!$F$20)","v":{"$error":"#N/A"}},{"$error":"#N/A"},{"$f":"IF(ISTEXT('S6'!$F$22),NA(),'S6'!$F$22)","v":{"$error":"#N/A"}},{"$error":"#N/A"},{"$f":"IF(ISTEXT('S6'!$F$23),NA(),'S6'!$F$23)","v":{"$error":"#N/A"}},{"$error":"#N/A"},{"$f":"IF(ISTEXT('S6'!$F$25),NA(),'S6'!$F$25)","v":{"$error":"#N/A"}},{"$error":"#N/A"},{"$f":"IF(ISTEXT('S6'!$F$26),NA(),'S6'!$F$26)","v":{"$error":"#N/A"}},{"$error":"#N/A"},{"$f":"IF(ISTEXT('S6'!$F$27),NA(),'S6'!$F$27)","v":{"$error":"#N/A"}},{"$error":"#N/A"},{"$f":"IF(ISTEXT('S6'!$F$28),NA(),'S6'!$F$28)","v":{"$error":"#N/A"}},{"$error":"#N/A"},{"$f":"IF(ISTEXT('S6'!$F$29),NA(),'S6'!$F$29)","v":{"$error":"#N/A"}},{"$error":"#N/A"},{"$f":"IF(ISTEXT('S6'!$F$30),NA(),'S6'!$F$30)","v":{"$error":"#N/A"}},{"$error":"#N/A"},{"$f":"IF(ISTEXT('S6'!$F$31),NA(),'S6'!$F$31)","v":{"$error":"#N/A"}},{"$error":"#N/A"},{"$f":"IF(ISTEXT('S6'!$E$32),NA(),'S6'!$E$32)","v":{"$error":"#N/A"}},{"$error":"#N/A"},{"$f":"IF(ISTEXT('S6'!$F$34),NA(),'S6'!$F$34)","v":{"$error":"#N/A"}},{"$error":"#N/A"},{"$f":"IF(ISTEXT('S6'!$F$21),NA(),'S6'!$F$21)","v":{"$error":"#N/A"}},{"$error":"#N/A"},{"$f":"IF(ISTEXT('S6'!$F$24),NA(),'S6'!$F$24)","v":{"$error":"#N/A"}},{"$error":"#N/A"}]
[{"$f":"IF(ISBLANK('S6'!G$10),\" \",'S6'!G$10)","v":63},{"$f":"IF(ISTEXT('S6'!$H$17),NA(),'S6'!$H$17)","v":{"$error":"#N/A"}},{"$error":"#N/A"},{"$f":"IF(ISTEXT('S6'!$H$18),NA(),'S6'!$H$18)","v":{"$error":"#N/A"}},{"$error":"#N/A"},{"$f":"IF(ISTEXT('S6'!$H$19),NA(),'S6'!$H$19)","v":{"$error":"#N/A"}},{"$error":"#N/A"},{"$f":"IF(ISTEXT('S6'!$H$20),NA(),'S6'!$H$20)","v":{"$error":"#N/A"}},{"$error":"#N/A"},{"$f":"IF(ISTEXT('S6'!$H$22),NA(),'S6'!$H$22)","v":{"$error":"#N/A"}},{"$error":"#N/A"},{"$f":"IF(ISTEXT('S6'!$H$23),NA(),'S6'!$H$23)","v":{"$error":"#N/A"}},{"$error":"#N/A"},{"$f":"IF(ISTEXT('S6'!$H$25),NA(),'S6'!$H$25)","v":{"$error":"#N/A"}},{"$error":"#N/A"},{"$f":"IF(ISTEXT('S6'!$H$26),NA(),'S6'!$H$26)","v":{"$error":"#N/A"}},{"$error":"#N/A"},{"$f":"IF(ISTEXT('S6'!$H$27),NA(),'S6'!$H$27)","v":{"$error":"#N/A"}},{"$error":"#N/A"},{"$f":"IF(ISTEXT('S6'!$H$28),NA(),'S6'!$H$28)","v":{"$error":"#N/A"}},{"$error":"#N/A"},{"$f":"IF(ISTEXT('S6'!$H$29),NA(),'S6'!$H$29)","v":{"$error":"#N/A"}},{"$error":"#N/A"},{"$f":"IF(ISTEXT('S6'!$H$30),NA(),'S6'!$H$30)","v":{"$error":"#N/A"}},{"$error":"#N/A"},{"$f":"IF(ISTEXT('S6'!$H$31),NA(),'S6'!$H$31)","v":{"$error":"#N/A"}},{"$error":"#N/A"},{"$f":"IF(ISTEXT('S6'!$G$32),NA(),'S6'!$G$32)","v":{"$error":"#N/A"}},{"$error":"#N/A"},{"$f":"IF(ISTEXT('S6'!$H$34),NA(),'S6'!$H$34)","v":{"$error":"#N/A"}},{"$error":"#N/A"},{"$f":"IF(ISTEXT('S6'!$H$21),NA(),'S6'!$H$21)","v":{"$error":"#N/A"}},{"$error":"#N/A"},{"$f":"IF(ISTEXT('S6'!$H$24),NA(),'S6'!$H$24)","v":{"$error":"#N/A"}},{"$error":"#N/A"}]
[{"$f":"IF(ISBLANK('S6'!I$10),\" \",'S6'!I$10)","v":64},{"$f":"IF(ISTEXT('S6'!$J$17),NA(),'S6'!$J$17)","v":{"$error":"#N/A"}},{"$error":"#N/A"},{"$f":"IF(ISTEXT('S6'!$J$18),NA(),'S6'!$J$18)","v":{"$error":"#N/A"}},{"$error":"#N/A"},{"$f":"IF(ISTEXT('S6'!$J$19),NA(),'S6'!$J$19)","v":{"$error":"#N/A"}},{"$error":"#N/A"},{"$f":"IF(ISTEXT('S6'!$J$20),NA(),'S6'!$J$20)","v":{"$error":"#N/A"}},{"$error":"#N/A"},{"$f":"IF(ISTEXT('S6'!$J$22),NA(),'S6'!$J$22)","v":{"$error":"#N/A"}},{"$error":"#N/A"},{"$f":"IF(ISTEXT('S6'!$J$23),NA(),'S6'!$J$23)","v":{"$error":"#N/A"}},{"$error":"#N/A"},{"$f":"IF(ISTEXT('S6'!$J$25),NA(),'S6'!$J$25)","v":{"$error":"#N/A"}},{"$error":"#N/A"},{"$f":"IF(ISTEXT('S6'!$J$26),NA(),'S6'!$J$26)","v":{"$error":"#N/A"}},{"$error":"#N/A"},{"$f":"IF(ISTEXT('S6'!$J$27),NA(),'S6'!$J$27)","v":{"$error":"#N/A"}},{"$error":"#N/A"},{"$f":"IF(ISTEXT('S6'!$J$28),NA(),'S6'!$J$28)","v":{"$error":"#N/A"}},{"$error":"#N/A"},{"$f":"IF(ISTEXT('S6'!$J$29),NA(),'S6'!$J$29)","v":{"$error":"#N/A"}},{"$error":"#N/A"},{"$f":"IF(ISTEXT('S6'!$J$30),NA(),'S6'!$J$30)","v":{"$error":"#N/A"}},{"$error":"#N/A"},{"$f":"IF(ISTEXT('S6'!$J$31),NA(),'S6'!$J$31)","v":{"$error":"#N/A"}},{"$error":"#N/A"},{"$f":"IF(ISTEXT('S6'!$I$32),NA(),'S6'!$I$32)","v":{"$error":"#N/A"}},{"$error":"#N/A"},{"$f":"IF(ISTEXT('S6'!$J$34),NA(),'S6'!$J$34)","v":{"$error":"#N/A"}},{"$error":"#N/A"},{"$f":"IF(ISTEXT('S6'!$J$21),NA(),'S6'!$J$21)","v":{"$error":"#N/A"}},{"$error":"#N/A"},{"$f":"IF(ISTEXT('S6'!$J$24),NA(),'S6'!$J$24)","v":{"$error":"#N/A"}},{"$error":"#N/A"}]
[{"$f":"IF(ISBLANK('S6'!K$10),\" \",'S6'!K$10)","v":65},{"$f":"IF(ISTEXT('S6'!$L$17),NA(),'S6'!$L$17)","v":{"$error":"#N/A"}},{"$error":"#N/A"},{"$f":"IF(ISTEXT('S6'!$L$18),NA(),'S6'!$L$18)","v":{"$error":"#N/A"}},{"$error":"#N/A"},{"$f":"IF(ISTEXT('S6'!$L$19),NA(),'S6'!$L$19)","v":{"$error":"#N/A"}},{"$error":"#N/A"},{"$f":"IF(ISTEXT('S6'!$L$20),NA(),'S6'!$L$20)","v":{"$error":"#N/A"}},{"$error":"#N/A"},{"$f":"IF(ISTEXT('S6'!$L$22),NA(),'S6'!$L$22)","v":{"$error":"#N/A"}},{"$error":"#N/A"},{"$f":"IF(ISTEXT('S6'!$L$23),NA(),'S6'!$L$23)","v":{"$error":"#N/A"}},{"$error":"#N/A"},{"$f":"IF(ISTEXT('S6'!$L$25),NA(),'S6'!$L$25)","v":{"$error":"#N/A"}},{"$error":"#N/A"},{"$f":"IF(ISTEXT('S6'!$L$26),NA(),'S6'!$L$26)","v":{"$error":"#N/A"}},{"$error":"#N/A"},{"$f":"IF(ISTEXT('S6'!$L$27),NA(),'S6'!$L$27)","v":{"$error":"#N/A"}},{"$error":"#N/A"},{"$f":"IF(ISTEXT('S6'!$L$28),NA(),'S6'!$L$28)","v":{"$error":"#N/A"}},{"$error":"#N/A"},{"$f":"IF(ISTEXT('S6'!$L$29),NA(),'S6'!$L$29)","v":{"$error":"#N/A"}},{"$error":"#N/A"},{"$f":"IF(ISTEXT('S6'!$L$30),NA(),'S6'!$L$30)","v":{"$error":"#N/A"}},{"$error":"#N/A"},{"$f":"IF(ISTEXT('S6'!$L$31),NA(),'S6'!$L$31)","v":{"$error":"#N/A"}},{"$error":"#N/A"},{"$f":"IF(ISTEXT('S6'!$K$32),NA(),'S6'!$K$32)","v":{"$error":"#N/A"}},{"$error":"#N/A"},{"$f":"IF(ISTEXT('S6'!$L$34),NA(),'S6'!$L$34)","v":{"$error":"#N/A"}},{"$error":"#N/A"},{"$f":"IF(ISTEXT('S6'!$L$21),NA(),'S6'!$L$21)","v":{"$error":"#N/A"}},{"$error":"#N/A"},{"$f":"IF(ISTEXT('S6'!$L$24),NA(),'S6'!$L$24)","v":{"$error":"#N/A"}},{"$error":"#N/A"}]
[{"$f":"IF(ISBLANK('S6'!M$10),\" \",'S6'!M$10)","v":66},{"$f":"IF(ISTEXT('S6'!$N$17),NA(),'S6'!$N$17)","v":{"$error":"#N/A"}},{"$error":"#N/A"},{"$f":"IF(ISTEXT('S6'!$N$18),NA(),'S6'!$N$18)","v":{"$error":"#N/A"}},{"$error":"#N/A"},{"$f":"IF(ISTEXT('S6'!$N$19),NA(),'S6'!$N$19)","v":{"$error":"#N/A"}},{"$error":"#N/A"},{"$f":"IF(ISTEXT('S6'!$N$20),NA(),'S6'!$N$20)","v":{"$error":"#N/A"}},{"$error":"#N/A"},{"$f":"IF(ISTEXT('S6'!$N$22),NA(),'S6'!$N$22)","v":{"$error":"#N/A"}},{"$error":"#N/A"},{"$f":"IF(ISTEXT('S6'!$N$23),NA(),'S6'!$N$23)","v":{"$error":"#N/A"}},{"$error":"#N/A"},{"$f":"IF(ISTEXT('S6'!$N$25),NA(),'S6'!$N$25)","v":{"$error":"#N/A"}},{"$error":"#N/A"},{"$f":"IF(ISTEXT('S6'!$N$26),NA(),'S6'!$N$26)","v":{"$error":"#N/A"}},{"$error":"#N/A"},{"$f":"IF(ISTEXT('S6'!$N$27),NA(),'S6'!$N$27)","v":{"$error":"#N/A"}},{"$error":"#N/A"},{"$f":"IF(ISTEXT('S6'!$N$28),NA(),'S6'!$N$28)","v":{"$error":"#N/A"}},{"$error":"#N/A"},{"$f":"IF(ISTEXT('S6'!$N$29),NA(),'S6'!$N$29)","v":{"$error":"#N/A"}},{"$error":"#N/A"},{"$f":"IF(ISTEXT('S6'!$N$30),NA(),'S6'!$N$30)","v":{"$error":"#N/A"}},{"$error":"#N/A"},{"$f":"IF(ISTEXT('S6'!$N$31),NA(),'S6'!$N$31)","v":{"$error":"#N/A"}},{"$error":"#N/A"},{"$f":"IF(ISTEXT('S6'!$M$32),NA(),'S6'!$M$32)","v":{"$error":"#N/A"}},{"$error":"#N/A"},{"$f":"IF(ISTEXT('S6'!$N$34),NA(),'S6'!$N$34)","v":{"$error":"#N/A"}},{"$error":"#N/A"},{"$f":"IF(ISTEXT('S6'!$N$21),NA(),'S6'!$N$21)","v":{"$error":"#N/A"}},{"$error":"#N/A"},{"$f":"IF(ISTEXT('S6'!$N$24),NA(),'S6'!$N$24)","v":{"$error":"#N/A"}},{"$error":"#N/A"}]
[{"$f":"IF(ISBLANK('S6'!C$43),\" \",'S6'!C$43)","v":67},{"$f":"IF(ISTEXT('S6'!$D$50),NA(),'S6'!$D$50)","v":{"$error":"#N/A"}},{"$error":"#N/A"},{"$f":"IF(ISTEXT('S6'!$D$51),NA(),'S6'!$D$51)","v":{"$error":"#N/A"}},{"$error":"#N/A"},{"$f":"IF(ISTEXT('S6'!$D$52),NA(),'S6'!$D$52)","v":{"$error":"#N/A"}},{"$error":"#N/A"},{"$f":"IF(ISTEXT('S6'!$D$53),NA(),'S6'!$D$53)","v":{"$error":"#N/A"}},{"$error":"#N/A"},{"$f":"IF(ISTEXT('S6'!$D$55),NA(),'S6'!$D$55)","v":{"$error":"#N/A"}},{"$error":"#N/A"},{"$f":"IF(ISTEXT('S6'!$D$56),NA(),'S6'!$D$56)","v":{"$error":"#N/A"}},{"$error":"#N/A"},{"$f":"IF(ISTEXT('S6'!$D$58),NA(),'S6'!$D$58)","v":{"$error":"#N/A"}},{"$error":"#N/A"},{"$f":"IF(ISTEXT('S6'!$D$59),NA(),'S6'!$D$59)","v":{"$error":"#N/A"}},{"$error":"#N/A"},{"$f":"IF(ISTEXT('S6'!$D$60),NA(),'S6'!$D$60)","v":{"$error":"#N/A"}},{"$error":"#N/A"},{"$f":"IF(ISTEXT('S6'!$D$61),NA(),'S6'!$D$61)","v":{"$error":"#N/A"}},{"$error":"#N/A"},{"$f":"IF(ISTEXT('S6'!$D$62),NA(),'S6'!$D$62)","v":{"$error":"#N/A"}},{"$error":"#N/A"},{"$f":"IF(ISTEXT('S6'!$D$63),NA(),'S6'!$D$63)","v":{"$error":"#N/A"}},{"$error":"#N/A"},{"$f":"IF(ISTEXT('S6'!$D$64),NA(),'S6'!$D$64)","v":{"$error":"#N/A"}},{"$error":"#N/A"},{"$f":"IF(ISTEXT('S6'!$C$65),NA(),'S6'!$C$65)","v":{"$error":"#N/A"}},{"$error":"#N/A"},{"$f":"IF(ISTEXT('S6'!$D$67),NA(),'S6'!$D$67)","v":{"$error":"#N/A"}},{"$error":"#N/A"},{"$f":"IF(ISTEXT('S6'!$D$54),NA(),'S6'!$D$54)","v":{"$error":"#N/A"}},{"$error":"#N/A"},{"$f":"IF(ISTEXT('S6'!$D$57),NA(),'S6'!$D$57)","v":{"$error":"#N/A"}},{"$error":"#N/A"}]
[{"$f":"IF(ISBLANK('S6'!E$43),\" \",'S6'!E$43)","v":68},{"$f":"IF(ISTEXT('S6'!$F$50),NA(),'S6'!$F$50)","v":{"$error":"#N/A"}},{"$error":"#N/A"},{"$f":"IF(ISTEXT('S6'!$F$51),NA(),'S6'!$F$51)","v":{"$error":"#N/A"}},{"$error":"#N/A"},{"$f":"IF(ISTEXT('S6'!$F$52),NA(),'S6'!$F$52)","v":{"$error":"#N/A"}},{"$f":"SUM(F67:F69)/3","v":{"$error":"#N/A"}},{"$f":"IF(ISTEXT('S6'!$F$53),NA(),'S6'!$F$53)","v":{"$error":"#N/A"}},{"$f":"SUM(H67:H69)/3","v":{"$error":"#N/A"}},{"$f":"IF(ISTEXT('S6'!$F$55),NA(),'S6'!$F$55)","v":{"$error":"#N/A"}},{"$f":"SUM(J67:J69)/3","v":{"$error":"#N/A"}},{"$f":"IF(ISTEXT('S6'!$F$56),NA(),'S6'!$F$56)","v":{"$error":"#N/A"}},{"$f":"SUM(L67:L69)/3","v":{"$error":"#N/A"}},{"$f":"IF(ISTEXT('S6'!$F$58),NA(),'S6'!$F$58)","v":{"$error":"#N/A"}},{"$f":"SUM(N67:N69)/3","v":{"$error":"#N/A"}},{"$f":"IF(ISTEXT('S6'!$F$59),NA(),'S6'!$F$59)","v":{"$error":"#N/A"}},{"$f":"SUM(P67:P69)/3","v":{"$error":"#N/A"}},{"$f":"IF(ISTEXT('S6'!$F$60),NA(),'S6'!$F$60)","v":{"$error":"#N/A"}},{"$f":"SUM(R67:R69)/3","v":{"$error":"#N/A"}},{"$f":"IF(ISTEXT('S6'!$F$61),NA(),'S6'!$F$61)","v":{"$error":"#N/A"}},{"$f":"SUM(T67:T69)/3","v":{"$error":"#N/A"}},{"$f":"IF(ISTEXT('S6'!$F$62),NA(),'S6'!$F$62)","v":{"$error":"#N/A"}},{"$error":"#N/A"},{"$f":"IF(ISTEXT('S6'!$F$63),NA(),'S6'!$F$63)","v":{"$error":"#N/A"}},{"$error":"#N/A"},{"$f":"IF(ISTEXT('S6'!$F$64),NA(),'S6'!$F$64)","v":{"$error":"#N/A"}},{"$error":"#N/A"},{"$f":"IF(ISTEXT('S6'!$E$65),NA(),'S6'!$E$65)","v":{"$error":"#N/A"}},{"$error":"#N/A"},{"$f":"IF(ISTEXT('S6'!$F$67),NA(),'S6'!$F$67)","v":{"$error":"#N/A"}},{"$error":"#N/A"},{"$f":"IF(ISTEXT('S6'!$F$54),NA(),'S6'!$F$54)","v":{"$error":"#N/A"}},{"$f":"SUM(AF67:AF69)/3","v":{"$error":"#N/A"}},{"$f":"IF(ISTEXT('S6'!$F$57),NA(),'S6'!$F$57)","v":{"$error":"#N/A"}},{"$f":"SUM(AH67:AH69)/3","v":{"$error":"#N/A"}}]
[{"$f":"IF(ISBLANK('S6'!G$43),\" \",'S6'!G$43)","v":69},{"$f":"IF(ISTEXT('S6'!$H$50),NA(),'S6'!$H$50)","v":{"$error":"#N/A"}},{"$f":"SUM(B68:B70)/3","v":{"$error":"#N/A"}},{"$f":"IF(ISTEXT('S6'!$H$51),NA(),'S6'!$H$51)","v":{"$error":"#N/A"}},{"$f":"SUM(D68:D70)/3","v":{"$error":"#N/A"}},{"$f":"IF(ISTEXT('S6'!$H$52),NA(),'S6'!$H$52)","v":{"$error":"#N/A"}},{"$error":"#N/A"},{"$f":"IF(ISTEXT('S6'!$H$53),NA(),'S6'!$H$53)","v":{"$error":"#N/A"}},{"$error":"#N/A"},{"$f":"IF(ISTEXT('S6'!$H$55),NA(),'S6'!$H$55)","v":{"$error":"#N/A"}},{"$error":"#N/A"},{"$f":"IF(ISTEXT('S6'!$H$56),NA(),'S6'!$H$56)","v":{"$error":"#N/A"}},{"$error":"#N/A"},{"$f":"IF(ISTEXT('S6'!$H$58),NA(),'S6'!$H$58)","v":{"$error":"#N/A"}},{"$error":"#N/A"},{"$f":"IF(ISTEXT('S6'!$H$59),NA(),'S6'!$H$59)","v":{"$error":"#N/A"}},{"$error":"#N/A"},{"$f":"IF(ISTEXT('S6'!$H$60),NA(),'S6'!$H$60)","v":{"$error":"#N/A"}},{"$error":"#N/A"},{"$f":"IF(ISTEXT('S6'!$H$61),NA(),'S6'!$H$61)","v":{"$error":"#N/A"}},{"$error":"#N/A"},{"$f":"IF(ISTEXT('S6'!$H$62),NA(),'S6'!$H$62)","v":{"$error":"#N/A"}},{"$error":"#N/A"},{"$f":"IF(ISTEXT('S6'!$H$63),NA(),'S6'!$H$63)","v":{"$error":"#N/A"}},{"$error":"#N/A"},{"$f":"IF(ISTEXT('S6'!$H$64),NA(),'S6'!$H$64)","v":{"$error":"#N/A"}},{"$error":"#N/A"},{"$f":"IF(ISTEXT('S6'!$G$65),NA(),'S6'!$G$65)","v":{"$error":"#N/A"}},{"$error":"#N/A"},{"$f":"IF(ISTEXT('S6'!$H$67),NA(),'S6'!$H$67)","v":{"$error":"#N/A"}},{"$error":"#N/A"},{"$f":"IF(ISTEXT('S6'!$H$54),NA(),'S6'!$H$54)","v":{"$error":"#N/A"}},{"$error":"#N/A"},{"$f":"IF(ISTEXT('S6'!$H$57),NA(),'S6'!$H$57)","v":{"$error":"#N/A"}},{"$error":"#N/A"}]
[{"$f":"IF(ISBLANK('S6'!I$43),\" \",'S6'!I$43)","v":70},{"$f":"IF(ISTEXT('S6'!$J$50),NA(),'S6'!$J$50)","v":{"$error":"#N/A"}},{"$error":"#N/A"},{"$f":"IF(ISTEXT('S6'!$J$51),NA(),'S6'!$J$51)","v":{"$error":"#N/A"}},{"$error":"#N/A"},{"$f":"IF(ISTEXT('S6'!$J$52),NA(),'S6'!$J$52)","v":{"$error":"#N/A"}},{"$error":"#N/A"},{"$f":"IF(ISTEXT('S6'!$J$53),NA(),'S6'!$J$53)","v":{"$error":"#N/A"}},{"$error":"#N/A"},{"$f":"IF(ISTEXT('S6'!$J$55),NA(),'S6'!$J$55)","v":{"$error":"#N/A"}},{"$error":"#N/A"},{"$f":"IF(ISTEXT('S6'!$J$56),NA(),'S6'!$J$56)","v":{"$error":"#N/A"}},{"$error":"#N/A"},{"$f":"IF(ISTEXT('S6'!$J$58),NA(),'S6'!$J$58)","v":{"$error":"#N/A"}},{"$error":"#N/A"},{"$f":"IF(ISTEXT('S6'!$J$59),NA(),'S6'!$J$59)","v":{"$error":"#N/A"}},{"$error":"#N/A"},{"$f":"IF(ISTEXT('S6'!$J$60),NA(),'S6'!$J$60)","v":{"$error":"#N/A"}},{"$error":"#N/A"},{"$f":"IF(ISTEXT('S6'!$J$61),NA(),'S6'!$J$61)","v":{"$error":"#N/A"}},{"$error":"#N/A"},{"$f":"IF(ISTEXT('S6'!$J$62),NA(),'S6'!$J$62)","v":{"$error":"#N/A"}},{"$error":"#N/A"},{"$f":"IF(ISTEXT('S6'!$J$63),NA(),'S6'!$J$63)","v":{"$error":"#N/A"}},{"$error":"#N/A"},{"$f":"IF(ISTEXT('S6'!$J$64),NA(),'S6'!$J$64)","v":{"$error":"#N/A"}},{"$error":"#N/A"},{"$f":"IF(ISTEXT('S6'!$I$65),NA(),'S6'!$I$65)","v":{"$error":"#N/A"}},{"$error":"#N/A"},{"$f":"IF(ISTEXT('S6'!$J$67),NA(),'S6'!$J$67)","v":{"$error":"#N/A"}},{"$error":"#N/A"},{"$f":"IF(ISTEXT('S6'!$J$54),NA(),'S6'!$J$54)","v":{"$error":"#N/A"}},{"$error":"#N/A"},{"$f":"IF(ISTEXT('S6'!$J$57),NA(),'S6'!$J$57)","v":{"$error":"#N/A"}},{"$error":"#N/A"}]
[{"$f":"IF(ISBLANK('S6'!K$43),\" \",'S6'!K$43)","v":71},{"$f":"IF(ISTEXT('S6'!$L$50),NA(),'S6'!$L$50)","v":{"$error":"#N/A"}},{"$error":"#N/A"},{"$f":"IF(ISTEXT('S6'!$L$51),NA(),'S6'!$L$51)","v":{"$error":"#N/A"}},{"$error":"#N/A"},{"$f":"IF(ISTEXT('S6'!$L$52),NA(),'S6'!$L$52)","v":{"$error":"#N/A"}},{"$error":"#N/A"},{"$f":"IF(ISTEXT('S6'!$L$53),NA(),'S6'!$L$53)","v":{"$error":"#N/A"}},{"$error":"#N/A"},{"$f":"IF(ISTEXT('S6'!$L$55),NA(),'S6'!$L$55)","v":{"$error":"#N/A"}},{"$error":"#N/A"},{"$f":"IF(ISTEXT('S6'!$L$56),NA(),'S6'!$L$56)","v":{"$error":"#N/A"}},{"$error":"#N/A"},{"$f":"IF(ISTEXT('S6'!$L$58),NA(),'S6'!$L$58)","v":{"$error":"#N/A"}},{"$error":"#N/A"},{"$f":"IF(ISTEXT('S6'!$L$59),NA(),'S6'!$L$59)","v":{"$error":"#N/A"}},{"$error":"#N/A"},{"$f":"IF(ISTEXT('S6'!$L$60),NA(),'S6'!$L$60)","v":{"$error":"#N/A"}},{"$error":"#N/A"},{"$f":"IF(ISTEXT('S6'!$L$61),NA(),'S6'!$L$61)","v":{"$error":"#N/A"}},{"$error":"#N/A"},{"$f":"IF(ISTEXT('S6'!$L$62),NA(),'S6'!$L$62)","v":{"$error":"#N/A"}},{"$error":"#N/A"},{"$f":"IF(ISTEXT('S6'!$L$63),NA(),'S6'!$L$63)","v":{"$error":"#N/A"}},{"$error":"#N/A"},{"$f":"IF(ISTEXT('S6'!$L$64),NA(),'S6'!$L$64)","v":{"$error":"#N/A"}},{"$error":"#N/A"},{"$f":"IF(ISTEXT('S6'!$K$65),NA(),'S6'!$K$65)","v":{"$error":"#N/A"}},{"$error":"#N/A"},{"$f":"IF(ISTEXT('S6'!$L$67),NA(),'S6'!$L$67)","v":{"$error":"#N/A"}},{"$error":"#N/A"},{"$f":"IF(ISTEXT('S6'!$L$54),NA(),'S6'!$L$54)","v":{"$error":"#N/A"}},{"$error":"#N/A"},{"$f":"IF(ISTEXT('S6'!$L$57),NA(),'S6'!$L$57)","v":{"$error":"#N/A"}},{"$error":"#N/A"}]
[{"$f":"IF(ISBLANK('S6'!M$43),\" \",'S6'!M$43)","v":72},{"$f":"IF(ISTEXT('S6'!$N$50),NA(),'S6'!$N$50)","v":{"$error":"#N/A"}},{"$error":"#N/A"},{"$f":"IF(ISTEXT('S6'!$N$51),NA(),'S6'!$N$51)","v":{"$error":"#N/A"}},{"$error":"#N/A"},{"$f":"IF(ISTEXT('S6'!$N$52),NA(),'S6'!$N$52)","v":{"$error":"#N/A"}},{"$error":"#N/A"},{"$f":"IF(ISTEXT('S6'!$N$53),NA(),'S6'!$N$53)","v":{"$error":"#N/A"}},{"$error":"#N/A"},{"$f":"IF(ISTEXT('S6'!$N$55),NA(),'S6'!$N$55)","v":{"$error":"#N/A"}},{"$error":"#N/A"},{"$f":"IF(ISTEXT('S6'!$N$56),NA(),'S6'!$N$56)","v":{"$error":"#N/A"}},{"$error":"#N/A"},{"$f":"IF(ISTEXT('S6'!$N$58),NA(),'S6'!$N$58)","v":{"$error":"#N/A"}},{"$error":"#N/A"},{"$f":"IF(ISTEXT('S6'!$N$59),NA(),'S6'!$N$59)","v":{"$error":"#N/A"}},{"$error":"#N/A"},{"$f":"IF(ISTEXT('S6'!$N$60),NA(),'S6'!$N$60)","v":{"$error":"#N/A"}},{"$error":"#N/A"},{"$f":"IF(ISTEXT('S6'!$N$61),NA(),'S6'!$N$61)","v":{"$error":"#N/A"}},{"$error":"#N/A"},{"$f":"IF(ISTEXT('S6'!$N$62),NA(),'S6'!$N$62)","v":{"$error":"#N/A"}},{"$error":"#N/A"},{"$f":"IF(ISTEXT('S6'!$N$63),NA(),'S6'!$N$63)","v":{"$error":"#N/A"}},{"$error":"#N/A"},{"$f":"IF(ISTEXT('S6'!$N$64),NA(),'S6'!$N$64)","v":{"$error":"#N/A"}},{"$error":"#N/A"},{"$f":"IF(ISTEXT('S6'!$M$65),NA(),'S6'!$M$65)","v":{"$error":"#N/A"}},{"$error":"#N/A"},{"$f":"IF(ISTEXT('S6'!$N$67),NA(),'S6'!$N$67)","v":{"$error":"#N/A"}},{"$error":"#N/A"},{"$f":"IF(ISTEXT('S6'!$N$54),NA(),'S6'!$N$54)","v":{"$error":"#N/A"}},{"$error":"#N/A"},{"$f":"IF(ISTEXT('S6'!$N$57),NA(),'S6'!$N$57)","v":{"$error":"#N/A"}},{"$error":"#N/A"}]
[{"$f":"IF(ISBLANK('S7'!C$10),\" \",'S7'!C$10)","v":73},{"$f":"IF(ISTEXT('S7'!$D$17),NA(),'S7'!$D$17)","v":{"$error":"#N/A"}},{"$error":"#N/A"},{"$f":"IF(ISTEXT('S7'!$D$18),NA(),'S7'!$D$18)","v":{"$error":"#N/A"}},{"$error":"#N/A"},{"$f":"IF(ISTEXT('S7'!$D$19),NA(),'S7'!$D$19)","v":{"$error":"#N/A"}},{"$error":"#N/A"},{"$f":"IF(ISTEXT('S7'!$D$20),NA(),'S7'!$D$20)","v":{"$error":"#N/A"}},{"$error":"#N/A"},{"$f":"IF(ISTEXT('S7'!$D$22),NA(),'S7'!$D$22)","v":{"$error":"#N/A"}},{"$error":"#N/A"},{"$f":"IF(ISTEXT('S7'!$D$23),NA(),'S7'!$D$23)","v":{"$error":"#N/A"}},{"$error":"#N/A"},{"$f":"IF(ISTEXT('S7'!$D$25),NA(),'S7'!$D$25)","v":{"$error":"#N/A"}},{"$error":"#N/A"},{"$f":"IF(ISTEXT('S7'!$D$26),NA(),'S7'!$D$26)","v":{"$error":"#N/A"}},{"$error":"#N/A"},{"$f":"IF(ISTEXT('S7'!$D$27),NA(),'S7'!$D$27)","v":{"$error":"#N/A"}},{"$error":"#N/A"},{"$f":"IF(ISTEXT('S7'!$D$28),NA(),'S7'!$D$28)","v":{"$error":"#N/A"}},{"$error":"#N/A"},{"$f":"IF(ISTEXT('S7'!$D$29),NA(),'S7'!$D$29)","v":{"$error":"#N/A"}},{"$f":"ROUND(AVERAGE(V72:V74),0)","v":{"$error":"#N/A"}},{"$f":"IF(ISTEXT('S7'!$D$30),NA(),'S7'!$D$30)","v":{"$error":"#N/A"}},{"$f":"ROUND(AVERAGE(X72:X74),0)","v":{"$error":"#N/A"}},{"$f":"IF(ISTEXT('S7'!$D$31),NA(),'S7'!$D$31)","v":{"$error":"#N/A"}},{"$f":"ROUND(AVERAGE(Z72:Z74),2)","v":{"$error":"#N/A"}},{"$f":"IF(ISTEXT('S7'!$C$32),NA(),'S7'!$C$32)","v":{"$error":"#N/A"}},{"$f":"ROUND(AVERAGE(AB72:AB74),2)","v":{"$error":"#N/A"}},{"$f":"IF(ISTEXT('S7'!$D$34),NA(),'S7'!$D$34)","v":{"$error":"#N/A"}},{"$f":"ROUND(AVERAGE(AD72:AD74),2)","v":{"$error":"#N/A"}},{"$f":"IF(ISTEXT('S7'!$D$21),NA(),'S7'!$D$21)","v":{"$error":"#N/A"}},{"$error":"#N/A"},{"$f":"IF(ISTEXT('S7'!$D$24),NA(),'S7'!$D$24)","v":{"$error":"#N/A"}},{"$error":"#N/A"}]
[{"$f":"IF(ISBLANK('S7'!E$10),\" \",'S7'!E$10)","v":74},{"$f":"IF(ISTEXT('S7'!$F$17),NA(),'S7'!$F$17)","v":{"$error":"#N/A"}},{"$error":"#N/A"},{"$f":"IF(ISTEXT('S7'!$F$18),NA(),'S7'!$F$18)","v":{"$error":"#N/A"}},{"$error":"#N/A"},{"$f":"IF(ISTEXT('S7'!$F$19),NA(),'S7'!$F$19)","v":{"$error":"#N/A"}},{"$error":"#N/A"},{"$f":"IF(ISTEXT('S7'!$F$20),NA(),'S7'!$F$20)","v":{"$error":"#N/A"}},{"$error":"#N/A"},{"$f":"IF(ISTEXT('S7'!$F$22),NA(),'S7'!$F$22)","v":{"$error":"#N/A"}},{"$error":"#N/A"},{"$f":"IF(ISTEXT('S7'!$F$23),NA(),'S7'!$F$23)","v":{"$error":"#N/A"}},{"$error":"#N/A"},{"$f":"IF(ISTEXT('S7'!$F$25),NA(),'S7'!$F$25)","v":{"$error":"#N/A"}},{"$error":"#N/A"},{"$f":"IF(ISTEXT('S7'!$F$26),NA(),'S7'!$F$26)","v":{"$error":"#N/A"}},{"$error":"#N/A"},{"$f":"IF(ISTEXT('S7'!$F$27),NA(),'S7'!$F$27)","v":{"$error":"#N/A"}},{"$error":"#N/A"},{"$f":"IF(ISTEXT('S7'!$F$28),NA(),'S7'!$F$28)","v":{"$error":"#N/A"}},{"$error":"#N/A"},{"$f":"IF(ISTEXT('S7'!$F$29),NA(),'S7'!$F$29)","v":{"$error":"#N/A"}},{"$f":"ROUND(AVERAGE(V73:V75),0)","v":{"$error":"#N/A"}},{"$f":"IF(ISTEXT('S7'!$F$30),NA(),'S7'!$F$30)","v":{"$error":"#N/A"}},{"$f":"ROUND(AVERAGE(X73:X75),0)","v":{"$error":"#N/A"}},{"$f":"IF(ISTEXT('S7'!$F$31),NA(),'S7'!$F$31)","v":{"$error":"#N/A"}},{"$f":"ROUND(AVERAGE(Z73:Z75),2)","v":{"$error":"#N/A"}},{"$f":"IF(ISTEXT('S7'!$E$32),NA(),'S7'!$E$32)","v":{"$error":"#N/A"}},{"$f":"ROUND(AVERAGE(AB73:AB75),2)","v":{"$error":"#N/A"}},{"$f":"IF(ISTEXT('S7'!$F$34),NA(),'S7'!$F$34)","v":{"$error":"#N/A"}},{"$f":"ROUND(AVERAGE(AD73:AD75),2)","v":{"$error":"#N/A"}},{"$f":"IF(ISTEXT('S7'!$F$21),NA(),'S7'!$F$21)","v":{"$error":"#N/A"}},{"$error":"#N/A"},{"$f":"IF(ISTEXT('S7'!$F$24),NA(),'S7'!$F$24)","v":{"$error":"#N/A"}},{"$error":"#N/A"}]
[{"$f":"IF(ISBLANK('S7'!G$10),\" \",'S7'!G$10)","v":75},{"$f":"IF(ISTEXT('S7'!$H$17),NA(),'S7'!$H$17)","v":{"$error":"#N/A"}},{"$error":"#N/A"},{"$f":"IF(ISTEXT('S7'!$H$18),NA(),'S7'!$H$18)","v":{"$error":"#N/A"}},{"$error":"#N/A"},{"$f":"IF(ISTEXT('S7'!$H$19),NA(),'S7'!$H$19)","v":{"$error":"#N/A"}},{"$error":"#N/A"},{"$f":"IF(ISTEXT('S7'!$H$20),NA(),'S7'!$H$20)","v":{"$error":"#N/A"}},{"$error":"#N/A"},{"$f":"IF(ISTEXT('S7'!$H$22),NA(),'S7'!$H$22)","v":{"$error":"#N/A"}},{"$error":"#N/A"},{"$f":"IF(ISTEXT('S7'!$H$23),NA(),'S7'!$H$23)","v":{"$error":"#N/A"}},{"$error":"#N/A"},{"$f":"IF(ISTEXT('S7'!$H$25),NA(),'S7'!$H$25)","v":{"$error":"#N/A"}},{"$error":"#N/A"},{"$f":"IF(ISTEXT('S7'!$H$26),NA(),'S7'!$H$26)","v":{"$error":"#N/A"}},{"$error":"#N/A"},{"$f":"IF(ISTEXT('S7'!$H$27),NA(),'S7'!$H$27)","v":{"$error":"#N/A"}},{"$error":"#N/A"},{"$f":"IF(ISTEXT('S7'!$H$28),NA(),'S7'!$H$28)","v":{"$error":"#N/A"}},{"$error":"#N/A"},{"$f":"IF(ISTEXT('S7'!$H$29),NA(),'S7'!$H$29)","v":{"$error":"#N/A"}},{"$f":"ROUND(AVERAGE(V74:V76),0)","v":{"$error":"#N/A"}},{"$f":"IF(ISTEXT('S7'!$H$30),NA(),'S7'!$H$30)","v":{"$error":"#N/A"}},{"$f":"ROUND(AVERAGE(X74:X76),0)","v":{"$error":"#N/A"}},{"$f":"IF(ISTEXT('S7'!$H$31),NA(),'S7'!$H$31)","v":{"$error":"#N/A"}},{"$f":"ROUND(AVERAGE(Z74:Z76),2)","v":{"$error":"#N/A"}},{"$f":"IF(ISTEXT('S7'!$G$32),NA(),'S7'!$G$32)","v":{"$error":"#N/A"}},{"$f":"ROUND(AVERAGE(AB74:AB76),2)","v":{"$error":"#N/A"}},{"$f":"IF(ISTEXT('S7'!$H$34),NA(),'S7'!$H$34)","v":{"$error":"#N/A"}},{"$f":"ROUND(AVERAGE(AD74:AD76),2)","v":{"$error":"#N/A"}},{"$f":"IF(ISTEXT('S7'!$H$21),NA(),'S7'!$H$21)","v":{"$error":"#N/A"}},{"$error":"#N/A"},{"$f":"IF(ISTEXT('S7'!$H$24),NA(),'S7'!$H$24)","v":{"$error":"#N/A"}},{"$error":"#N/A"}]
[{"$f":"IF(ISBLANK('S7'!I$10),\" \",'S7'!I$10)","v":76},{"$f":"IF(ISTEXT('S7'!$J$17),NA(),'S7'!$J$17)","v":{"$error":"#N/A"}},{"$error":"#N/A"},{"$f":"IF(ISTEXT('S7'!$J$18),NA(),'S7'!$J$18)","v":{"$error":"#N/A"}},{"$error":"#N/A"},{"$f":"IF(ISTEXT('S7'!$J$19),NA(),'S7'!$J$19)","v":{"$error":"#N/A"}},{"$error":"#N/A"},{"$f":"IF(ISTEXT('S7'!$J$20),NA(),'S7'!$J$20)","v":{"$error":"#N/A"}},{"$error":"#N/A"},{"$f":"IF(ISTEXT('S7'!$J$22),NA(),'S7'!$J$22)","v":{"$error":"#N/A"}},{"$error":"#N/A"},{"$f":"IF(ISTEXT('S7'!$J$23),NA(),'S7'!$J$23)","v":{"$error":"#N/A"}},{"$error":"#N/A"},{"$f":"IF(ISTEXT('S7'!$J$25),NA(),'S7'!$J$25)","v":{"$error":"#N/A"}},{"$error":"#N/A"},{"$f":"IF(ISTEXT('S7'!$J$26),NA(),'S7'!$J$26)","v":{"$error":"#N/A"}},{"$error":"#N/A"},{"$f":"IF(ISTEXT('S7'!$J$27),NA(),'S7'!$J$27)","v":{"$error":"#N/A"}},{"$error":"#N/A"},{"$f":"IF(ISTEXT('S7'!$J$28),NA(),'S7'!$J$28)","v":{"$error":"#N/A"}},{"$error":"#N/A"},{"$f":"IF(ISTEXT('S7'!$J$29),NA(),'S7'!$J$29)","v":{"$error":"#N/A"}},{"$f":"ROUND(AVERAGE(V75:V77),0)","v":{"$error":"#N/A"}},{"$f":"IF(ISTEXT('S7'!$J$30),NA(),'S7'!$J$30)","v":{"$error":"#N/A"}},{"$error":"#N/A"},{"$f":"IF(ISTEXT('S7'!$J$31),NA(),'S7'!$J$31)","v":{"$error":"#N/A"}},{"$error":"#N/A"},{"$f":"IF(ISTEXT('S7'!$I$32),NA(),'S7'!$I$32)","v":{"$error":"#N/A"}},{"$error":"#N/A"},{"$f":"IF(ISTEXT('S7'!$J$34),NA(),'S7'!$J$34)","v":{"$error":"#N/A"}},{"$error":"#N/A"},{"$f":"IF(ISTEXT('S7'!$J$21),NA(),'S7'!$J$21)","v":{"$error":"#N/A"}},{"$error":"#N/A"},{"$f":"IF(ISTEXT('S7'!$J$24),NA(),'S7'!$J$24)","v":{"$error":"#N/A"}},{"$error":"#N/A"}]
[{"$f":"IF(ISBLANK('S7'!K$10),\" \",'S7'!K$10)","v":77},{"$f":"IF(ISTEXT('S7'!$L$17),NA(),'S7'!$L$17)","v":{"$error":"#N/A"}},{"$error":"#N/A"},{"$f":"IF(ISTEXT('S7'!$L$18),NA(),'S7'!$L$18)","v":{"$error":"#N/A"}},{"$error":"#N/A"},{"$f":"IF(ISTEXT('S7'!$L$19),NA(),'S7'!$L$19)","v":{"$error":"#N/A"}},{"$error":"#N/A"},{"$f":"IF(ISTEXT('S7'!$L$20),NA(),'S7'!$L$20)","v":{"$error":"#N/A"}},{"$error":"#N/A"},{"$f":"IF(ISTEXT('S7'!$L$22),NA(),'S7'!$L$22)","v":{"$error":"#N/A"}},{"$error":"#N/A"},{"$f":"IF(ISTEXT('S7'!$L$23),NA(),'S7'!$L$23)","v":{"$error":"#N/A"}},{"$error":"#N/A"},{"$f":"IF(ISTEXT('S7'!$L$25),NA(),'S7'!$L$25)","v":{"$error":"#N/A"}},{"$error":"#N/A"},{"$f":"IF(ISTEXT('S7'!$L$26),NA(),'S7'!$L$26)","v":{"$error":"#N/A"}},{"$error":"#N/A"},{"$f":"IF(ISTEXT('S7'!$L$27),NA(),'S7'!$L$27)","v":{"$error":"#N/A"}},{"$error":"#N/A"},{"$f":"IF(ISTEXT('S7'!$L$28),NA(),'S7'!$L$28)","v":{"$error":"#N/A"}},{"$error":"#N/A"},{"$f":"IF(ISTEXT('S7'!$L$29),NA(),'S7'!$L$29)","v":{"$error":"#N/A"}},{"$error":"#N/A"},{"$f":"IF(ISTEXT('S7'!$L$30),NA(),'S7'!$L$30)","v":{"$error":"#N/A"}},{"$error":"#N/A"},{"$f":"IF(ISTEXT('S7'!$L$31),NA(),'S7'!$L$31)","v":{"$error":"#N/A"}},{"$error":"#N/A"},{"$f":"IF(ISTEXT('S7'!$K$32),NA(),'S7'!$K$32)","v":{"$error":"#N/A"}},{"$error":"#N/A"},{"$f":"IF(ISTEXT('S7'!$L$34),NA(),'S7'!$L$34)","v":{"$error":"#N/A"}},{"$error":"#N/A"},{"$f":"IF(ISTEXT('S7'!$L$21),NA(),'S7'!$L$21)","v":{"$error":"#N/A"}},{"$error":"#N/A"},{"$f":"IF(ISTEXT('S7'!$L$24),NA(),'S7'!$L$24)","v":{"$error":"#N/A"}},{"$error":"#N/A"}]
[{"$f":"IF(ISBLANK('S7'!M$10),\" \",'S7'!M$10)","v":78},{"$f":"IF(ISTEXT('S7'!$N$17),NA(),'S7'!$N$17)","v":{"$error":"#N/A"}},{"$error":"#N/A"},{"$f":"IF(ISTEXT('S7'!$N$18),NA(),'S7'!$N$18)","v":{"$error":"#N/A"}},{"$error":"#N/A"},{"$f":"IF(ISTEXT('S7'!$N$19),NA(),'S7'!$N$19)","v":{"$error":"#N/A"}},{"$error":"#N/A"},{"$f":"IF(ISTEXT('S7'!$N$20),NA(),'S7'!$N$20)","v":{"$error":"#N/A"}},{"$error":"#N/A"},{"$f":"IF(ISTEXT('S7'!$N$22),NA(),'S7'!$N$22)","v":{"$error":"#N/A"}},{"$error":"#N/A"},{"$f":"IF(ISTEXT('S7'!$N$23),NA(),'S7'!$N$23)","v":{"$error":"#N/A"}},{"$error":"#N/A"},{"$f":"IF(ISTEXT('S7'!$N$25),NA(),'S7'!$N$25)","v":{"$error":"#N/A"}},{"$error":"#N/A"},{"$f":"IF(ISTEXT('S7'!$N$26),NA(),'S7'!$N$26)","v":{"$error":"#N/A"}},{"$error":"#N/A"},{"$f":"IF(ISTEXT('S7'!$N$27),NA(),'S7'!$N$27)","v":{"$error":"#N/A"}},{"$error":"#N/A"},{"$f":"IF(ISTEXT('S7'!$N$28),NA(),'S7'!$N$28)","v":{"$error":"#N/A"}},{"$error":"#N/A"},{"$f":"IF(ISTEXT('S7'!$N$29),NA(),'S7'!$N$29)","v":{"$error":"#N/A"}},{"$error":"#N/A"},{"$f":"IF(ISTEXT('S7'!$N$30),NA(),'S7'!$N$30)","v":{"$error":"#N/A"}},{"$error":"#N/A"},{"$f":"IF(ISTEXT('S7'!$N$31),NA(),'S7'!$N$31)","v":{"$error":"#N/A"}},{"$error":"#N/A"},{"$f":"IF(ISTEXT('S7'!$M$32),NA(),'S7'!$M$32)","v":{"$error":"#N/A"}},{"$error":"#N/A"},{"$f":"IF(ISTEXT('S7'!$N$34),NA(),'S7'!$N$34)","v":{"$error":"#N/A"}},{"$error":"#N/A"},{"$f":"IF(ISTEXT('S7'!$N$21),NA(),'S7'!$N$21)","v":{"$error":"#N/A"}},{"$error":"#N/A"},{"$f":"IF(ISTEXT('S7'!$N$24),NA(),'S7'!$N$24)","v":{"$error":"#N/A"}},{"$error":"#N/A"}]
[{"$f":"IF(ISBLANK('S7'!C$43),\" \",'S7'!C$43)","v":79},{"$f":"IF(ISTEXT('S7'!$D$50),NA(),'S7'!$D$50)","v":{"$error":"#N/A"}},{"$error":"#N/A"},{"$f":"IF(ISTEXT('S7'!$D$51),NA(),'S7'!$D$51)","v":{"$error":"#N/A"}},{"$error":"#N/A"},{"$f":"IF(ISTEXT('S7'!$D$52),NA(),'S7'!$D$52)","v":{"$error":"#N/A"}},{"$error":"#N/A"},{"$f":"IF(ISTEXT('S7'!$D$53),NA(),'S7'!$D$53)","v":{"$error":"#N/A"}},{"$error":"#N/A"},{"$f":"IF(ISTEXT('S7'!$D$55),NA(),'S7'!$D$55)","v":{"$error":"#N/A"}},{"$error":"#N/A"},{"$f":"IF(ISTEXT('S7'!$D$56),NA(),'S7'!$D$56)","v":{"$error":"#N/A"}},{"$error":"#N/A"},{"$f":"IF(ISTEXT('S7'!$D$58),NA(),'S7'!$D$58)","v":{"$error":"#N/A"}},{"$error":"#N/A"},{"$f":"IF(ISTEXT('S7'!$D$59),NA(),'S7'!$D$59)","v":{"$error":"#N/A"}},{"$error":"#N/A"},{"$f":"IF(ISTEXT('S7'!$D$60),NA(),'S7'!$D$60)","v":{"$error":"#N/A"}},{"$error":"#N/A"},{"$f":"IF(ISTEXT('S7'!$D$61),NA(),'S7'!$D$61)","v":{"$error":"#N/A"}},{"$error":"#N/A"},{"$f":"IF(ISTEXT('S7'!$D$62),NA(),'S7'!$D$62)","v":{"$error":"#N/A"}},{"$error":"#N/A"},{"$f":"IF(ISTEXT('S7'!$D$63),NA(),'S7'!$D$63)","v":{"$error":"#N/A"}},{"$error":"#N/A"},{"$f":"IF(ISTEXT('S7'!$D$64),NA(),'S7'!$D$64)","v":{"$error":"#N/A"}},{"$error":"#N/A"},{"$f":"IF(ISTEXT('S7'!$C$65),NA(),'S7'!$C$65)","v":{"$error":"#N/A"}},{"$error":"#N/A"},{"$f":"IF(ISTEXT('S7'!$D$67),NA(),'S7'!$D$67)","v":{"$error":"#N/A"}},{"$error":"#N/A"},{"$f":"IF(ISTEXT('S7'!$D$54),NA(),'S7'!$D$54)","v":{"$error":"#N/A"}},{"$error":"#N/A"},{"$f":"IF(ISTEXT('S7'!$D$57),NA(),'S7'!$D$57)","v":{"$error":"#N/A"}},{"$error":"#N/A"}]
[{"$f":"IF(ISBLANK('S7'!E$43),\" \",'S7'!E$43)","v":80},{"$f":"IF(ISTEXT('S7'!$F$50),NA(),'S7'!$F$50)","v":{"$error":"#N/A"}},{"$error":"#N/A"},{"$f":"IF(ISTEXT('S7'!$F$51),NA(),'S7'!$F$51)","v":{"$error":"#N/A"}},{"$error":"#N/A"},{"$f":"IF(ISTEXT('S7'!$F$52),NA(),'S7'!$F$52)","v":{"$error":"#N/A"}},{"$error":"#N/A"},{"$f":"IF(ISTEXT('S7'!$F$53),NA(),'S7'!$F$53)","v":{"$error":"#N/A"}},{"$error":"#N/A"},{"$f":"IF(ISTEXT('S7'!$F$55),NA(),'S7'!$F$55)","v":{"$error":"#N/A"}},{"$error":"#N/A"},{"$f":"IF(ISTEXT('S7'!$F$56),NA(),'S7'!$F$56)","v":{"$error":"#N/A"}},{"$error":"#N/A"},{"$f":"IF(ISTEXT('S7'!$F$58),NA(),'S7'!$F$58)","v":{"$error":"#N/A"}},{"$error":"#N/A"},{"$f":"IF(ISTEXT('S7'!$F$59),NA(),'S7'!$F$59)","v":{"$error":"#N/A"}},{"$error":"#N/A"},{"$f":"IF(ISTEXT('S7'!$F$60),NA(),'S7'!$F$60)","v":{"$error":"#N/A"}},{"$error":"#N/A"},{"$f":"IF(ISTEXT('S7'!$F$61),NA(),'S7'!$F$61)","v":{"$error":"#N/A"}},{"$error":"#N/A"},{"$f":"IF(ISTEXT('S7'!$F$62),NA(),'S7'!$F$62)","v":{"$error":"#N/A"}},{"$error":"#N/A"},{"$f":"IF(ISTEXT('S7'!$F$63),NA(),'S7'!$F$63)","v":{"$error":"#N/A"}},{"$error":"#N/A"},{"$f":"IF(ISTEXT('S7'!$F$64),NA(),'S7'!$F$64)","v":{"$error":"#N/A"}},{"$error":"#N/A"},{"$f":"IF(ISTEXT('S7'!$E$65),NA(),'S7'!$E$65)","v":{"$error":"#N/A"}},{"$error":"#N/A"},{"$f":"IF(ISTEXT('S7'!$F$67),NA(),'S7'!$F$67)","v":{"$error":"#N/A"}},{"$error":"#N/A"},{"$f":"IF(ISTEXT('S7'!$F$54),NA(),'S7'!$F$54)","v":{"$error":"#N/A"}},{"$error":"#N/A"},{"$f":"IF(ISTEXT('S7'!$F$57),NA(),'S7'!$F$57)","v":{"$error":"#N/A"}},{"$error":"#N/A"}]
[{"$f":"IF(ISBLANK('S7'!G$43),\" \",'S7'!G$43)","v":81},{"$f":"IF(ISTEXT('S7'!$H$50),NA(),'S7'!$H$50)","v":{"$error":"#N/A"}},{"$error":"#N/A"},{"$f":"IF(ISTEXT('S7'!$H$51),NA(),'S7'!$H$51)","v":{"$error":"#N/A"}},{"$error":"#N/A"},{"$f":"IF(ISTEXT('S7'!$H$52),NA(),'S7'!$H$52)","v":{"$error":"#N/A"}},{"$error":"#N/A"},{"$f":"IF(ISTEXT('S7'!$H$53),NA(),'S7'!$H$53)","v":{"$error":"#N/A"}},{"$error":"#N/A"},{"$f":"IF(ISTEXT('S7'!$H$55),NA(),'S7'!$H$55)","v":{"$error":"#N/A"}},{"$error":"#N/A"},{"$f":"IF(ISTEXT('S7'!$H$56),NA(),'S7'!$H$56)","v":{"$error":"#N/A"}},{"$error":"#N/A"},{"$f":"IF(ISTEXT('S7'!$H$58),NA(),'S7'!$H$58)","v":{"$error":"#N/A"}},{"$error":"#N/A"},{"$f":"IF(ISTEXT('S7'!$H$59),NA(),'S7'!$H$59)","v":{"$error":"#N/A"}},{"$error":"#N/A"},{"$f":"IF(ISTEXT('S7'!$H$60),NA(),'S7'!$H$60)","v":{"$error":"#N/A"}},{"$error":"#N/A"},{"$f":"IF(ISTEXT('S7'!$H$61),NA(),'S7'!$H$61)","v":{"$error":"#N/A"}},{"$error":"#N/A"},{"$f":"IF(ISTEXT('S7'!$H$62),NA(),'S7'!$H$62)","v":{"$error":"#N/A"}},{"$error":"#N/A"},{"$f":"IF(ISTEXT('S7'!$H$63),NA(),'S7'!$H$63)","v":{"$error":"#N/A"}},{"$error":"#N/A"},{"$f":"IF(ISTEXT('S7'!$H$64),NA(),'S7'!$H$64)","v":{"$error":"#N/A"}},{"$error":"#N/A"},{"$f":"IF(ISTEXT('S7'!$G$65),NA(),'S7'!$G$65)","v":{"$error":"#N/A"}},{"$error":"#N/A"},{"$f":"IF(ISTEXT('S7'!$H$67),NA(),'S7'!$H$67)","v":{"$error":"#N/A"}},{"$error":"#N/A"},{"$f":"IF(ISTEXT('S7'!$H$54),NA(),'S7'!$H$54)","v":{"$error":"#N/A"}},{"$error":"#N/A"},{"$f":"IF(ISTEXT('S7'!$H$57),NA(),'S7'!$H$57)","v":{"$error":"#N/A"}},{"$error":"#N/A"}]
[{"$f":"IF(ISBLANK('S7'!I$43),\" \",'S7'!I$43)","v":82},{"$f":"IF(ISTEXT('S7'!$J$50),NA(),'S7'!$J$50)","v":{"$error":"#N/A"}},{"$error":"#N/A"},{"$f":"IF(ISTEXT('S7'!$J$51),NA(),'S7'!$J$51)","v":{"$error":"#N/A"}},{"$error":"#N/A"},{"$f":"IF(ISTEXT('S7'!$J$52),NA(),'S7'!$J$52)","v":{"$error":"#N/A"}},{"$error":"#N/A"},{"$f":"IF(ISTEXT('S7'!$J$53),NA(),'S7'!$J$53)","v":{"$error":"#N/A"}},{"$error":"#N/A"},{"$f":"IF(ISTEXT('S7'!$J$55),NA(),'S7'!$J$55)","v":{"$error":"#N/A"}},{"$error":"#N/A"},{"$f":"IF(ISTEXT('S7'!$J$56),NA(),'S7'!$J$56)","v":{"$error":"#N/A"}},{"$error":"#N/A"},{"$f":"IF(ISTEXT('S7'!$J$58),NA(),'S7'!$J$58)","v":{"$error":"#N/A"}},{"$error":"#N/A"},{"$f":"IF(ISTEXT('S7'!$J$59),NA(),'S7'!$J$59)","v":{"$error":"#N/A"}},{"$error":"#N/A"},{"$f":"IF(ISTEXT('S7'!$J$60),NA(),'S7'!$J$60)","v":{"$error":"#N/A"}},{"$error":"#N/A"},{"$f":"IF(ISTEXT('S7'!$J$61),NA(),'S7'!$J$61)","v":{"$error":"#N/A"}},{"$error":"#N/A"},{"$f":"IF(ISTEXT('S7'!$J$62),NA(),'S7'!$J$62)","v":{"$error":"#N/A"}},{"$error":"#N/A"},{"$f":"IF(ISTEXT('S7'!$J$63),NA(),'S7'!$J$63)","v":{"$error":"#N/A"}},{"$error":"#N/A"},{"$f":"IF(ISTEXT('S7'!$J$64),NA(),'S7'!$J$64)","v":{"$error":"#N/A"}},{"$error":"#N/A"},{"$f":"IF(ISTEXT('S7'!$I$65),NA(),'S7'!$I$65)","v":{"$error":"#N/A"}},{"$error":"#N/A"},{"$f":"IF(ISTEXT('S7'!$J$67),NA(),'S7'!$J$67)","v":{"$error":"#N/A"}},{"$error":"#N/A"},{"$f":"IF(ISTEXT('S7'!$J$54),NA(),'S7'!$J$54)","v":{"$error":"#N/A"}},{"$error":"#N/A"},{"$f":"IF(ISTEXT('S7'!$J$57),NA(),'S7'!$J$57)","v":{"$error":"#N/A"}},{"$error":"#N/A"}]
[{"$f":"IF(ISBLANK('S7'!K$43),\" \",'S7'!K$43)","v":83},{"$f":"IF(ISTEXT('S7'!$L$50),NA(),'S7'!$L$50)","v":{"$error":"#N/A"}},{"$error":"#N/A"},{"$f":"IF(ISTEXT('S7'!$L$51),NA(),'S7'!$L$51)","v":{"$error":"#N/A"}},{"$error":"#N/A"},{"$f":"IF(ISTEXT('S7'!$L$52),NA(),'S7'!$L$52)","v":{"$error":"#N/A"}},{"$error":"#N/A"},{"$f":"IF(ISTEXT('S7'!$L$53),NA(),'S7'!$L$53)","v":{"$error":"#N/A"}},{"$error":"#N/A"},{"$f":"IF(ISTEXT('S7'!$L$55),NA(),'S7'!$L$55)","v":{"$error":"#N/A"}},{"$error":"#N/A"},{"$f":"IF(ISTEXT('S7'!$L$56),NA(),'S7'!$L$56)","v":{"$error":"#N/A"}},{"$error":"#N/A"},{"$f":"IF(ISTEXT('S7'!$L$58),NA(),'S7'!$L$58)","v":{"$error":"#N/A"}},{"$error":"#N/A"},{"$f":"IF(ISTEXT('S7'!$L$59),NA(),'S7'!$L$59)","v":{"$error":"#N/A"}},{"$error":"#N/A"},{"$f":"IF(ISTEXT('S7'!$L$60),NA(),'S7'!$L$60)","v":{"$error":"#N/A"}},{"$error":"#N/A"},{"$f":"IF(ISTEXT('S7'!$L$61),NA(),'S7'!$L$61)","v":{"$error":"#N/A"}},{"$error":"#N/A"},{"$f":"IF(ISTEXT('S7'!$L$62),NA(),'S7'!$L$62)","v":{"$error":"#N/A"}},{"$error":"#N/A"},{"$f":"IF(ISTEXT('S7'!$L$63),NA(),'S7'!$L$63)","v":{"$error":"#N/A"}},{"$error":"#N/A"},{"$f":"IF(ISTEXT('S7'!$L$64),NA(),'S7'!$L$64)","v":{"$error":"#N/A"}},{"$error":"#N/A"},{"$f":"IF(ISTEXT('S7'!$K$65),NA(),'S7'!$K$65)","v":{"$error":"#N/A"}},{"$error":"#N/A"},{"$f":"IF(ISTEXT('S7'!$L$67),NA(),'S7'!$L$67)","v":{"$error":"#N/A"}},{"$error":"#N/A"},{"$f":"IF(ISTEXT('S7'!$L$54),NA(),'S7'!$L$54)","v":{"$error":"#N/A"}},{"$error":"#N/A"},{"$f":"IF(ISTEXT('S7'!$L$57),NA(),'S7'!$L$57)","v":{"$error":"#N/A"}},{"$error":"#N/A"}]
[{"$f":"IF(ISBLANK('S7'!M$43),\" \",'S7'!M$43)","v":84},{"$f":"IF(ISTEXT('S7'!$N$50),NA(),'S7'!$N$50)","v":{"$error":"#N/A"}},{"$error":"#N/A"},{"$f":"IF(ISTEXT('S7'!$N$51),NA(),'S7'!$N$51)","v":{"$error":"#N/A"}},{"$error":"#N/A"},{"$f":"IF(ISTEXT('S7'!$N$52),NA(),'S7'!$N$52)","v":{"$error":"#N/A"}},{"$error":"#N/A"},{"$f":"IF(ISTEXT('S7'!$N$53),NA(),'S7'!$N$53)","v":{"$error":"#N/A"}},{"$error":"#N/A"},{"$f":"IF(ISTEXT('S7'!$N$55),NA(),'S7'!$N$55)","v":{"$error":"#N/A"}},{"$error":"#N/A"},{"$f":"IF(ISTEXT('S7'!$N$56),NA(),'S7'!$N$56)","v":{"$error":"#N/A"}},{"$error":"#N/A"},{"$f":"IF(ISTEXT('S7'!$N$58),NA(),'S7'!$N$58)","v":{"$error":"#N/A"}},{"$f":"SUM(N83:N85)/3","v":{"$error":"#N/A"}},{"$f":"IF(ISTEXT('S7'!$N$59),NA(),'S7'!$N$59)","v":{"$error":"#N/A"}},{"$f":"SUM(P83:P85)/3","v":{"$error":"#N/A"}},{"$f":"IF(ISTEXT('S7'!$N$60),NA(),'S7'!$N$60)","v":{"$error":"#N/A"}},{"$error":"#N/A"},{"$f":"IF(ISTEXT('S7'!$N$61),NA(),'S7'!$N$61)","v":{"$error":"#N/A"}},{"$error":"#N/A"},{"$f":"IF(ISTEXT('S7'!$N$62),NA(),'S7'!$N$62)","v":{"$error":"#N/A"}},{"$error":"#N/A"},{"$f":"IF(ISTEXT('S7'!$N$63),NA(),'S7'!$N$63)","v":{"$error":"#N/A"}},{"$error":"#N/A"},{"$f":"IF(ISTEXT('S7'!$N$64),NA(),'S7'!$N$64)","v":{"$error":"#N/A"}},{"$error":"#N/A"},{"$f":"IF(ISTEXT('S7'!$M$65),NA(),'S7'!$M$65)","v":{"$error":"#N/A"}},{"$error":"#N/A"},{"$f":"IF(ISTEXT('S7'!$N$67),NA(),'S7'!$N$67)","v":{"$error":"#N/A"}},{"$error":"#N/A"},{"$f":"IF(ISTEXT('S7'!$N$54),NA(),'S7'!$N$54)","v":{"$error":"#N/A"}},{"$error":"#N/A"},{"$f":"IF(ISTEXT('S7'!$N$57),NA(),'S7'!$N$57)","v":{"$error":"#N/A"}},{"$error":"#N/A"}]
[{"$f":"IF(ISBLANK('S8'!C$10),\" \",'S8'!C$10)","v":85},{"$f":"IF(ISTEXT('S8'!$D$17),NA(),'S8'!$D$17)","v":{"$error":"#N/A"}},{"$error":"#N/A"},{"$f":"IF(ISTEXT('S8'!$D$18),NA(),'S8'!$D$18)","v":{"$error":"#N/A"}},{"$error":"#N/A"},{"$f":"IF(ISTEXT('S8'!$D$19),NA(),'S8'!$D$19)","v":{"$error":"#N/A"}},{"$error":"#N/A"},{"$f":"IF(ISTEXT('S8'!$D$20),NA(),'S8'!$D$20)","v":{"$error":"#N/A"}},{"$error":"#N/A"},{"$f":"IF(ISTEXT('S8'!$D$22),NA(),'S8'!$D$22)","v":{"$error":"#N/A"}},{"$error":"#N/A"},{"$f":"IF(ISTEXT('S8'!$D$23),NA(),'S8'!$D$23)","v":{"$error":"#N/A"}},{"$error":"#N/A"},{"$f":"IF(ISTEXT('S8'!$D$25),NA(),'S8'!$D$25)","v":{"$error":"#N/A"}},{"$error":"#N/A"},{"$f":"IF(ISTEXT('S8'!$D$26),NA(),'S8'!$D$26)","v":{"$error":"#N/A"}},{"$error":"#N/A"},{"$f":"IF(ISTEXT('S8'!$D$27),NA(),'S8'!$D$27)","v":{"$error":"#N/A"}},{"$error":"#N/A"},{"$f":"IF(ISTEXT('S8'!$D$28),NA(),'S8'!$D$28)","v":{"$error":"#N/A"}},{"$error":"#N/A"},{"$f":"IF(ISTEXT('S8'!$D$29),NA(),'S8'!$D$29)","v":{"$error":"#N/A"}},{"$error":"#N/A"},{"$f":"IF(ISTEXT('S8'!$D$30),NA(),'S8'!$D$30)","v":{"$error":"#N/A"}},{"$error":"#N/A"},{"$f":"IF(ISTEXT('S8'!$D$31),NA(),'S8'!$D$31)","v":{"$error":"#N/A"}},{"$error":"#N/A"},{"$f":"IF(ISTEXT('S8'!$C$32),NA(),'S8'!$C$32)","v":{"$error":"#N/A"}},{"$error":"#N/A"},{"$f":"IF(ISTEXT('S8'!$D$34),NA(),'S8'!$D$34)","v":{"$error":"#N/A"}},{"$error":"#N/A"},{"$f":"IF(ISTEXT('S8'!$D$21),NA(),'S8'!$D$21)","v":{"$error":"#N/A"}},{"$error":"#N/A"},{"$f":"IF(ISTEXT('S8'!$D$24),NA(),'S8'!$D$24)","v":{"$error":"#N/A"}},{"$error":"#N/A"}]
[{"$f":"IF(ISBLANK('S8'!E$10),\" \",'S8'!E$10)","v":86},{"$f":"IF(ISTEXT('S8'!$F$17),NA(),'S8'!$F$17)","v":{"$error":"#N/A"}},{"$error":"#N/A"},{"$f":"IF(ISTEXT('S8'!$F$18),NA(),'S8'!$F$18)","v":{"$error":"#N/A"}},{"$error":"#N/A"},{"$f":"IF(ISTEXT('S8'!$F$19),NA(),'S8'!$F$19)","v":{"$error":"#N/A"}},{"$error":"#N/A"},{"$f":"IF(ISTEXT('S8'!$F$20),NA(),'S8'!$F$20)","v":{"$error":"#N/A"}},{"$error":"#N/A"},{"$f":"IF(ISTEXT('S8'!$F$22),NA(),'S8'!$F$22)","v":{"$error":"#N/A"}},{"$error":"#N/A"},{"$f":"IF(ISTEXT('S8'!$F$23),NA(),'S8'!$F$23)","v":{"$error":"#N/A"}},{"$error":"#N/A"},{"$f":"IF(ISTEXT('S8'!$F$25),NA(),'S8'!$F$25)","v":{"$error":"#N/A"}},{"$error":"#N/A"},{"$f":"IF(ISTEXT('S8'!$F$26),NA(),'S8'!$F$26)","v":{"$error":"#N/A"}},{"$error":"#N/A"},{"$f":"IF(ISTEXT('S8'!$F$27),NA(),'S8'!$F$27)","v":{"$error":"#N/A"}},{"$error":"#N/A"},{"$f":"IF(ISTEXT('S8'!$F$28),NA(),'S8'!$F$28)","v":{"$error":"#N/A"}},{"$error":"#N/A"},{"$f":"IF(ISTEXT('S8'!$F$29),NA(),'S8'!$F$29)","v":{"$error":"#N/A"}},{"$error":"#N/A"},{"$f":"IF(ISTEXT('S8'!$F$30),NA(),'S8'!$F$30)","v":{"$error":"#N/A"}},{"$error":"#N/A"},{"$f":"IF(ISTEXT('S8'!$F$31),NA(),'S8'!$F$31)","v":{"$error":"#N/A"}},{"$error":"#N/A"},{"$f":"IF(ISTEXT('S8'!$E$32),NA(),'S8'!$E$32)","v":{"$error":"#N/A"}},{"$error":"#N/A"},{"$f":"IF(ISTEXT('S8'!$F$34),NA(),'S8'!$F$34)","v":{"$error":"#N/A"}},{"$error":"#N/A"},{"$f":"IF(ISTEXT('S8'!$F$21),NA(),'S8'!$F$21)","v":{"$error":"#N/A"}},{"$error":"#N/A"},{"$f":"IF(ISTEXT('S8'!$F$24),NA(),'S8'!$F$24)","v":{"$error":"#N/A"}},{"$error":"#N/A"}]
[{"$f":"IF(ISBLANK('S8'!G$10),\" \",'S8'!G$10)","v":87},{"$f":"IF(ISTEXT('S8'!$H$17),NA(),'S8'!$H$17)","v":{"$error":"#N/A"}},{"$error":"#N/A"},{"$f":"IF(ISTEXT('S8'!$H$18),NA(),'S8'!$H$18)","v":{"$error":"#N/A"}},{"$error":"#N/A"},{"$f":"IF(ISTEXT('S8'!$H$19),NA(),'S8'!$H$19)","v":{"$error":"#N/A"}},{"$error":"#N/A"},{"$f":"IF(ISTEXT('S8'!$H$20),NA(),'S8'!$H$20)","v":{"$error":"#N/A"}},{"$error":"#N/A"},{"$f":"IF(ISTEXT('S8'!$H$22),NA(),'S8'!$H$22)","v":{"$error":"#N/A"}},{"$error":"#N/A"},{"$f":"IF(ISTEXT('S8'!$H$23),NA(),'S8'!$H$23)","v":{"$error":"#N/A"}},{"$error":"#N/A"},{"$f":"IF(ISTEXT('S8'!$H$25),NA(),'S8'!$H$25)","v":{"$error":"#N/A"}},{"$error":"#N/A"},{"$f":"IF(ISTEXT('S8'!$H$26),NA(),'S8'!$H$26)","v":{"$error":"#N/A"}},{"$error":"#N/A"},{"$f":"IF(ISTEXT('S8'!$H$27),NA(),'S8'!$H$27)","v":{"$error":"#N/A"}},{"$error":"#N/A"},{"$f":"IF(ISTEXT('S8'!$H$28),NA(),'S8'!$H$28)","v":{"$error":"#N/A"}},{"$error":"#N/A"},{"$f":"IF(ISTEXT('S8'!$H$29),NA(),'S8'!$H$29)","v":{"$error":"#N/A"}},{"$error":"#N/A"},{"$f":"IF(ISTEXT('S8'!$H$30),NA(),'S8'!$H$30)","v":{"$error":"#N/A"}},{"$error":"#N/A"},{"$f":"IF(ISTEXT('S8'!$H$31),NA(),'S8'!$H$31)","v":{"$error":"#N/A"}},{"$error":"#N/A"},{"$f":"IF(ISTEXT('S8'!$G$32),NA(),'S8'!$G$32)","v":{"$error":"#N/A"}},{"$error":"#N/A"},{"$f":"IF(ISTEXT('S8'!$H$34),NA(),'S8'!$H$34)","v":{"$error":"#N/A"}},{"$error":"#N/A"},{"$f":"IF(ISTEXT('S8'!$H$21),NA(),'S8'!$H$21)","v":{"$error":"#N/A"}},{"$error":"#N/A"},{"$f":"IF(ISTEXT('S8'!$H$24),NA(),'S8'!$H$24)","v":{"$error":"#N/A"}},{"$error":"#N/A"}]
[{"$f":"IF(ISBLANK('S8'!I$10),\" \",'S8'!I$10)","v":88},{"$f":"IF(ISTEXT('S8'!$J$17),NA(),'S8'!$J$17)","v":{"$error":"#N/A"}},{"$error":"#N/A"},{"$f":"IF(ISTEXT('S8'!$J$18),NA(),'S8'!$J$18)","v":{"$error":"#N/A"}},{"$error":"#N/A"},{"$f":"IF(ISTEXT('S8'!$J$19),NA(),'S8'!$J$19)","v":{"$error":"#N/A"}},{"$error":"#N/A"},{"$f":"IF(ISTEXT('S8'!$J$20),NA(),'S8'!$J$20)","v":{"$error":"#N/A"}},{"$error":"#N/A"},{"$f":"IF(ISTEXT('S8'!$J$22),NA(),'S8'!$J$22)","v":{"$error":"#N/A"}},{"$error":"#N/A"},{"$f":"IF(ISTEXT('S8'!$J$23),NA(),'S8'!$J$23)","v":{"$error":"#N/A"}},{"$error":"#N/A"},{"$f":"IF(ISTEXT('S8'!$J$25),NA(),'S8'!$J$25)","v":{"$error":"#N/A"}},{"$error":"#N/A"},{"$f":"IF(ISTEXT('S8'!$J$26),NA(),'S8'!$J$26)","v":{"$error":"#N/A"}},{"$error":"#N/A"},{"$f":"IF(ISTEXT('S8'!$J$27),NA(),'S8'!$J$27)","v":{"$error":"#N/A"}},{"$error":"#N/A"},{"$f":"IF(ISTEXT('S8'!$J$28),NA(),'S8'!$J$28)","v":{"$error":"#N/A"}},{"$error":"#N/A"},{"$f":"IF(ISTEXT('S8'!$J$29),NA(),'S8'!$J$29)","v":{"$error":"#N/A"}},{"$error":"#N/A"},{"$f":"IF(ISTEXT('S8'!$J$30),NA(),'S8'!$J$30)","v":{"$error":"#N/A"}},{"$error":"#N/A"},{"$f":"IF(ISTEXT('S8'!$J$31),NA(),'S8'!$J$31)","v":{"$error":"#N/A"}},{"$error":"#N/A"},{"$f":"IF(ISTEXT('S8'!$I$32),NA(),'S8'!$I$32)","v":{"$error":"#N/A"}},{"$error":"#N/A"},{"$f":"IF(ISTEXT('S8'!$J$34),NA(),'S8'!$J$34)","v":{"$error":"#N/A"}},{"$error":"#N/A"},{"$f":"IF(ISTEXT('S8'!$J$21),NA(),'S8'!$J$21)","v":{"$error":"#N/A"}},{"$error":"#N/A"},{"$f":"IF(ISTEXT('S8'!$J$24),NA(),'S8'!$J$24)","v":{"$error":"#N/A"}},{"$error":"#N/A"}]
[{"$f":"IF(ISBLANK('S8'!K$10),\" \",'S8'!K$10)","v":89},{"$f":"IF(ISTEXT('S8'!$L$17),NA(),'S8'!$L$17)","v":{"$error":"#N/A"}},{"$error":"#N/A"},{"$f":"IF(ISTEXT('S8'!$L$18),NA(),'S8'!$L$18)","v":{"$error":"#N/A"}},{"$error":"#N/A"},{"$f":"IF(ISTEXT('S8'!$L$19),NA(),'S8'!$L$19)","v":{"$error":"#N/A"}},{"$error":"#N/A"},{"$f":"IF(ISTEXT('S8'!$L$20),NA(),'S8'!$L$20)","v":{"$error":"#N/A"}},{"$error":"#N/A"},{"$f":"IF(ISTEXT('S8'!$L$22),NA(),'S8'!$L$22)","v":{"$error":"#N/A"}},{"$error":"#N/A"},{"$f":"IF(ISTEXT('S8'!$L$23),NA(),'S8'!$L$23)","v":{"$error":"#N/A"}},{"$error":"#N/A"},{"$f":"IF(ISTEXT('S8'!$L$25),NA(),'S8'!$L$25)","v":{"$error":"#N/A"}},{"$error":"#N/A"},{"$f":"IF(ISTEXT('S8'!$L$26),NA(),'S8'!$L$26)","v":{"$error":"#N/A"}},{"$error":"#N/A"},{"$f":"IF(ISTEXT('S8'!$L$27),NA(),'S8'!$L$27)","v":{"$error":"#N/A"}},{"$error":"#N/A"},{"$f":"IF(ISTEXT('S8'!$L$28),NA(),'S8'!$L$28)","v":{"$error":"#N/A"}},{"$error":"#N/A"},{"$f":"IF(ISTEXT('S8'!$L$29),NA(),'S8'!$L$29)","v":{"$error":"#N/A"}},{"$error":"#N/A"},{"$f":"IF(ISTEXT('S8'!$L$30),NA(),'S8'!$L$30)","v":{"$error":"#N/A"}},{"$error":"#N/A"},{"$f":"IF(ISTEXT('S8'!$L$31),NA(),'S8'!$L$31)","v":{"$error":"#N/A"}},{"$error":"#N/A"},{"$f":"IF(ISTEXT('S8'!$K$32),NA(),'S8'!$K$32)","v":{"$error":"#N/A"}},{"$error":"#N/A"},{"$f":"IF(ISTEXT('S8'!$L$34),NA(),'S8'!$L$34)","v":{"$error":"#N/A"}},{"$error":"#N/A"},{"$f":"IF(ISTEXT('S8'!$L$21),NA(),'S8'!$L$21)","v":{"$error":"#N/A"}},{"$error":"#N/A"},{"$f":"IF(ISTEXT('S8'!$L$24),NA(),'S8'!$L$24)","v":{"$error":"#N/A"}},{"$error":"#N/A"}]
[{"$f":"IF(ISBLANK('S8'!M$10),\" \",'S8'!M$10)","v":90},{"$f":"IF(ISTEXT('S8'!$N$17),NA(),'S8'!$N$17)","v":{"$error":"#N/A"}},{"$error":"#N/A"},{"$f":"IF(ISTEXT('S8'!$N$18),NA(),'S8'!$N$18)","v":{"$error":"#N/A"}},{"$error":"#N/A"},{"$f":"IF(ISTEXT('S8'!$N$19),NA(),'S8'!$N$19)","v":{"$error":"#N/A"}},{"$error":"#N/A"},{"$f":"IF(ISTEXT('S8'!$N$20),NA(),'S8'!$N$20)","v":{"$error":"#N/A"}},{"$error":"#N/A"},{"$f":"IF(ISTEXT('S8'!$N$22),NA(),'S8'!$N$22)","v":{"$error":"#N/A"}},{"$error":"#N/A"},{"$f":"IF(ISTEXT('S8'!$N$23),NA(),'S8'!$N$23)","v":{"$error":"#N/A"}},{"$error":"#N/A"},{"$f":"IF(ISTEXT('S8'!$N$25),NA(),'S8'!$N$25)","v":{"$error":"#N/A"}},{"$error":"#N/A"},{"$f":"IF(ISTEXT('S8'!$N$26),NA(),'S8'!$N$26)","v":{"$error":"#N/A"}},{"$error":"#N/A"},{"$f":"IF(ISTEXT('S8'!$N$27),NA(),'S8'!$N$27)","v":{"$error":"#N/A"}},{"$error":"#N/A"},{"$f":"IF(ISTEXT('S8'!$N$28),NA(),'S8'!$N$28)","v":{"$error":"#N/A"}},{"$error":"#N/A"},{"$f":"IF(ISTEXT('S8'!$N$29),NA(),'S8'!$N$29)","v":{"$error":"#N/A"}},{"$error":"#N/A"},{"$f":"IF(ISTEXT('S8'!$N$30),NA(),'S8'!$N$30)","v":{"$error":"#N/A"}},{"$error":"#N/A"},{"$f":"IF(ISTEXT('S8'!$N$31),NA(),'S8'!$N$31)","v":{"$error":"#N/A"}},{"$error":"#N/A"},{"$f":"IF(ISTEXT('S8'!$M$32),NA(),'S8'!$M$32)","v":{"$error":"#N/A"}},{"$error":"#N/A"},{"$f":"IF(ISTEXT('S8'!$N$34),NA(),'S8'!$N$34)","v":{"$error":"#N/A"}},{"$error":"#N/A"},{"$f":"IF(ISTEXT('S8'!$N$21),NA(),'S8'!$N$21)","v":{"$error":"#N/A"}},{"$error":"#N/A"},{"$f":"IF(ISTEXT('S8'!$N$24),NA(),'S8'!$N$24)","v":{"$error":"#N/A"}},{"$error":"#N/A"}]
[{"$f":"IF(ISBLANK('S8'!C$43),\" \",'S8'!C$43)","v":91},{"$f":"IF(ISTEXT('S8'!$D$50),NA(),'S8'!$D$50)","v":{"$error":"#N/A"}},{"$error":"#N/A"},{"$f":"IF(ISTEXT('S8'!$D$51),NA(),'S8'!$D$51)","v":{"$error":"#N/A"}},{"$error":"#N/A"},{"$f":"IF(ISTEXT('S8'!$D$52),NA(),'S8'!$D$52)","v":{"$error":"#N/A"}},{"$error":"#N/A"},{"$f":"IF(ISTEXT('S8'!$D$53),NA(),'S8'!$D$53)","v":{"$error":"#N/A"}},{"$error":"#N/A"},{"$f":"IF(ISTEXT('S8'!$D$55),NA(),'S8'!$D$55)","v":{"$error":"#N/A"}},{"$error":"#N/A"},{"$f":"IF(ISTEXT('S8'!$D$56),NA(),'S8'!$D$56)","v":{"$error":"#N/A"}},{"$error":"#N/A"},{"$f":"IF(ISTEXT('S8'!$D$58),NA(),'S8'!$D$58)","v":{"$error":"#N/A"}},{"$error":"#N/A"},{"$f":"IF(ISTEXT('S8'!$D$59),NA(),'S8'!$D$59)","v":{"$error":"#N/A"}},{"$error":"#N/A"},{"$f":"IF(ISTEXT('S8'!$D$60),NA(),'S8'!$D$60)","v":{"$error":"#N/A"}},{"$error":"#N/A"},{"$f":"IF(ISTEXT('S8'!$D$61),NA(),'S8'!$D$61)","v":{"$error":"#N/A"}},{"$error":"#N/A"},{"$f":"IF(ISTEXT('S8'!$D$62),NA(),'S8'!$D$62)","v":{"$error":"#N/A"}},{"$error":"#N/A"},{"$f":"IF(ISTEXT('S8'!$D$63),NA(),'S8'!$D$63)","v":{"$error":"#N/A"}},{"$error":"#N/A"},{"$f":"IF(ISTEXT('S8'!$D$64),NA(),'S8'!$D$64)","v":{"$error":"#N/A"}},{"$error":"#N/A"},{"$f":"IF(ISTEXT('S8'!$C$65),NA(),'S8'!$C$65)","v":{"$error":"#N/A"}},{"$error":"#N/A"},{"$f":"IF(ISTEXT('S8'!$D$67),NA(),'S8'!$D$67)","v":{"$error":"#N/A"}},{"$error":"#N/A"},{"$f":"IF(ISTEXT('S8'!$D$54),NA(),'S8'!$D$54)","v":{"$error":"#N/A"}},{"$error":"#N/A"},{"$f":"IF(ISTEXT('S8'!$D$57),NA(),'S8'!$D$57)","v":{"$error":"#N/A"}},{"$error":"#N/A"}]
[{"$f":"IF(ISBLANK('S8'!E$43),\" \",'S8'!E$43)","v":92},{"$f":"IF(ISTEXT('S8'!$F$50),NA(),'S8'!$F$50)","v":{"$error":"#N/A"}},{"$error":"#N/A"},{"$f":"IF(ISTEXT('S8'!$F$51),NA(),'S8'!$F$51)","v":{"$error":"#N/A"}},{"$error":"#N/A"},{"$f":"IF(ISTEXT('S8'!$F$52),NA(),'S8'!$F$52)","v":{"$error":"#N/A"}},{"$error":"#N/A"},{"$f":"IF(ISTEXT('S8'!$F$53),NA(),'S8'!$F$53)","v":{"$error":"#N/A"}},{"$error":"#N/A"},{"$f":"IF(ISTEXT('S8'!$F$55),NA(),'S8'!$F$55)","v":{"$error":"#N/A"}},{"$error":"#N/A"},{"$f":"IF(ISTEXT('S8'!$F$56),NA(),'S8'!$F$56)","v":{"$error":"#N/A"}},{"$error":"#N/A"},{"$f":"IF(ISTEXT('S8'!$F$58),NA(),'S8'!$F$58)","v":{"$error":"#N/A"}},{"$error":"#N/A"},{"$f":"IF(ISTEXT('S8'!$F$59),NA(),'S8'!$F$59)","v":{"$error":"#N/A"}},{"$error":"#N/A"},{"$f":"IF(ISTEXT('S8'!$F$60),NA(),'S8'!$F$60)","v":{"$error":"#N/A"}},{"$error":"#N/A"},{"$f":"IF(ISTEXT('S8'!$F$61),NA(),'S8'!$F$61)","v":{"$error":"#N/A"}},{"$error":"#N/A"},{"$f":"IF(ISTEXT('S8'!$F$62),NA(),'S8'!$F$62)","v":{"$error":"#N/A"}},{"$error":"#N/A"},{"$f":"IF(ISTEXT('S8'!$F$63),NA(),'S8'!$F$63)","v":{"$error":"#N/A"}},{"$error":"#N/A"},{"$f":"IF(ISTEXT('S8'!$F$64),NA(),'S8'!$F$64)","v":{"$error":"#N/A"}},{"$error":"#N/A"},{"$f":"IF(ISTEXT('S8'!$E$65),NA(),'S8'!$E$65)","v":{"$error":"#N/A"}},{"$error":"#N/A"},{"$f":"IF(ISTEXT('S8'!$F$67),NA(),'S8'!$F$67)","v":{"$error":"#N/A"}},{"$error":"#N/A"},{"$f":"IF(ISTEXT('S8'!$F$54),NA(),'S8'!$F$54)","v":{"$error":"#N/A"}},{"$error":"#N/A"},{"$f":"IF(ISTEXT('S8'!$F$57),NA(),'S8'!$F$57)","v":{"$error":"#N/A"}},{"$error":"#N/A"}]
[{"$f":"IF(ISBLANK('S8'!G$43),\" \",'S8'!G$43)","v":93},{"$f":"IF(ISTEXT('S8'!$H$50),NA(),'S8'!$H$50)","v":{"$error":"#N/A"}},{"$error":"#N/A"},{"$f":"IF(ISTEXT('S8'!$H$51),NA(),'S8'!$H$51)","v":{"$error":"#N/A"}},{"$error":"#N/A"},{"$f":"IF(ISTEXT('S8'!$H$52),NA(),'S8'!$H$52)","v":{"$error":"#N/A"}},{"$error":"#N/A"},{"$f":"IF(ISTEXT('S8'!$H$53),NA(),'S8'!$H$53)","v":{"$error":"#N/A"}},{"$error":"#N/A"},{"$f":"IF(ISTEXT('S8'!$H$55),NA(),'S8'!$H$55)","v":{"$error":"#N/A"}},{"$error":"#N/A"},{"$f":"IF(ISTEXT('S8'!$H$56),NA(),'S8'!$H$56)","v":{"$error":"#N/A"}},{"$error":"#N/A"},{"$f":"IF(ISTEXT('S8'!$H$58),NA(),'S8'!$H$58)","v":{"$error":"#N/A"}},{"$error":"#N/A"},{"$f":"IF(ISTEXT('S8'!$H$59),NA(),'S8'!$H$59)","v":{"$error":"#N/A"}},{"$error":"#N/A"},{"$f":"IF(ISTEXT('S8'!$H$60),NA(),'S8'!$H$60)","v":{"$error":"#N/A"}},{"$error":"#N/A"},{"$f":"IF(ISTEXT('S8'!$H$61),NA(),'S8'!$H$61)","v":{"$error":"#N/A"}},{"$error":"#N/A"},{"$f":"IF(ISTEXT('S8'!$H$62),NA(),'S8'!$H$62)","v":{"$error":"#N/A"}},{"$error":"#N/A"},{"$f":"IF(ISTEXT('S8'!$H$63),NA(),'S8'!$H$63)","v":{"$error":"#N/A"}},{"$error":"#N/A"},{"$f":"IF(ISTEXT('S8'!$H$64),NA(),'S8'!$H$64)","v":{"$error":"#N/A"}},{"$error":"#N/A"},{"$f":"IF(ISTEXT('S8'!$G$65),NA(),'S8'!$G$65)","v":{"$error":"#N/A"}},{"$error":"#N/A"},{"$f":"IF(ISTEXT('S8'!$H$67),NA(),'S8'!$H$67)","v":{"$error":"#N/A"}},{"$error":"#N/A"},{"$f":"IF(ISTEXT('S8'!$H$54),NA(),'S8'!$H$54)","v":{"$error":"#N/A"}},{"$error":"#N/A"},{"$f":"IF(ISTEXT('S8'!$H$57),NA(),'S8'!$H$57)","v":{"$error":"#N/A"}},{"$error":"#N/A"}]
[{"$f":"IF(ISBLANK('S8'!I$43),\" \",'S8'!I$43)","v":94},{"$f":"IF(ISTEXT('S8'!$J$50),NA(),'S8'!$J$50)","v":{"$error":"#N/A"}},{"$error":"#N/A"},{"$f":"IF(ISTEXT('S8'!$J$51),NA(),'S8'!$J$51)","v":{"$error":"#N/A"}},{"$error":"#N/A"},{"$f":"IF(ISTEXT('S8'!$J$52),NA(),'S8'!$J$52)","v":{"$error":"#N/A"}},{"$error":"#N/A"},{"$f":"IF(ISTEXT('S8'!$J$53),NA(),'S8'!$J$53)","v":{"$error":"#N/A"}},{"$error":"#N/A"},{"$f":"IF(ISTEXT('S8'!$J$55),NA(),'S8'!$J$55)","v":{"$error":"#N/A"}},{"$error":"#N/A"},{"$f":"IF(ISTEXT('S8'!$J$56),NA(),'S8'!$J$56)","v":{"$error":"#N/A"}},{"$error":"#N/A"},{"$f":"IF(ISTEXT('S8'!$J$58),NA(),'S8'!$J$58)","v":{"$error":"#N/A"}},{"$error":"#N/A"},{"$f":"IF(ISTEXT('S8'!$J$59),NA(),'S8'!$J$59)","v":{"$error":"#N/A"}},{"$error":"#N/A"},{"$f":"IF(ISTEXT('S8'!$J$60),NA(),'S8'!$J$60)","v":{"$error":"#N/A"}},{"$error":"#N/A"},{"$f":"IF(ISTEXT('S8'!$J$61),NA(),'S8'!$J$61)","v":{"$error":"#N/A"}},{"$error":"#N/A"},{"$f":"IF(ISTEXT('S8'!$J$62),NA(),'S8'!$J$62)","v":{"$error":"#N/A"}},{"$error":"#N/A"},{"$f":"IF(ISTEXT('S8'!$J$63),NA(),'S8'!$J$63)","v":{"$error":"#N/A"}},{"$error":"#N/A"},{"$f":"IF(ISTEXT('S8'!$J$64),NA(),'S8'!$J$64)","v":{"$error":"#N/A"}},{"$error":"#N/A"},{"$f":"IF(ISTEXT('S8'!$I$65),NA(),'S8'!$I$65)","v":{"$error":"#N/A"}},{"$error":"#N/A"},{"$f":"IF(ISTEXT('S8'!$J$67),NA(),'S8'!$J$67)","v":{"$error":"#N/A"}},{"$error":"#N/A"},{"$f":"IF(ISTEXT('S8'!$J$54),NA(),'S8'!$J$54)","v":{"$error":"#N/A"}},{"$error":"#N/A"},{"$f":"IF(ISTEXT('S8'!$J$57),NA(),'S8'!$J$57)","v":{"$error":"#N/A"}},{"$error":"#N/A"}]
[{"$f":"IF(ISBLANK('S8'!K$43),\" \",'S8'!K$43)","v":95},{"$f":"IF(ISTEXT('S8'!$L$50),NA(),'S8'!$L$50)","v":{"$error":"#N/A"}},{"$error":"#N/A"},{"$f":"IF(ISTEXT('S8'!$L$51),NA(),'S8'!$L$51)","v":{"$error":"#N/A"}},{"$error":"#N/A"},{"$f":"IF(ISTEXT('S8'!$L$52),NA(),'S8'!$L$52)","v":{"$error":"#N/A"}},{"$error":"#N/A"},{"$f":"IF(ISTEXT('S8'!$L$53),NA(),'S8'!$L$53)","v":{"$error":"#N/A"}},{"$error":"#N/A"},{"$f":"IF(ISTEXT('S8'!$L$55),NA(),'S8'!$L$55)","v":{"$error":"#N/A"}},{"$error":"#N/A"},{"$f":"IF(ISTEXT('S8'!$L$56),NA(),'S8'!$L$56)","v":{"$error":"#N/A"}},{"$error":"#N/A"},{"$f":"IF(ISTEXT('S8'!$L$58),NA(),'S8'!$L$58)","v":{"$error":"#N/A"}},{"$error":"#N/A"},{"$f":"IF(ISTEXT('S8'!$L$59),NA(),'S8'!$L$59)","v":{"$error":"#N/A"}},{"$error":"#N/A"},{"$f":"IF(ISTEXT('S8'!$L$60),NA(),'S8'!$L$60)","v":{"$error":"#N/A"}},{"$error":"#N/A"},{"$f":"IF(ISTEXT('S8'!$L$61),NA(),'S8'!$L$61)","v":{"$error":"#N/A"}},{"$error":"#N/A"},{"$f":"IF(ISTEXT('S8'!$L$62),NA(),'S8'!$L$62)","v":{"$error":"#N/A"}},{"$error":"#N/A"},{"$f":"IF(ISTEXT('S8'!$L$63),NA(),'S8'!$L$63)","v":{"$error":"#N/A"}},{"$error":"#N/A"},{"$f":"IF(ISTEXT('S8'!$L$64),NA(),'S8'!$L$64)","v":{"$error":"#N/A"}},{"$error":"#N/A"},{"$f":"IF(ISTEXT('S8'!$K$65),NA(),'S8'!$K$65)","v":{"$error":"#N/A"}},{"$error":"#N/A"},{"$f":"IF(ISTEXT('S8'!$L$67),NA(),'S8'!$L$67)","v":{"$error":"#N/A"}},{"$error":"#N/A"},{"$f":"IF(ISTEXT('S8'!$L$54),NA(),'S8'!$L$54)","v":{"$error":"#N/A"}},{"$error":"#N/A"},{"$f":"IF(ISTEXT('S8'!$L$57),NA(),'S8'!$L$57)","v":{"$error":"#N/A"}},{"$error":"#N/A"}]
[{"$f":"IF(ISBLANK('S8'!M$43),\" \",'S8'!M$43)","v":96},{"$f":"IF(ISTEXT('S8'!$N$50),NA(),'S8'!$N$50)","v":{"$error":"#N/A"}},{"$error":"#N/A"},{"$f":"IF(ISTEXT('S8'!$N$51),NA(),'S8'!$N$51)","v":{"$error":"#N/A"}},{"$error":"#N/A"},{"$f":"IF(ISTEXT('S8'!$N$52),NA(),'S8'!$N$52)","v":{"$error":"#N/A"}},{"$error":"#N/A"},{"$f":"IF(ISTEXT('S8'!$N$53),NA(),'S8'!$N$53)","v":{"$error":"#N/A"}},{"$error":"#N/A"},{"$f":"IF(ISTEXT('S8'!$N$55),NA(),'S8'!$N$55)","v":{"$error":"#N/A"}},{"$error":"#N/A"},{"$f":"IF(ISTEXT('S8'!$N$56),NA(),'S8'!$N$56)","v":{"$error":"#N/A"}},{"$error":"#N/A"},{"$f":"IF(ISTEXT('S8'!$N$58),NA(),'S8'!$N$58)","v":{"$error":"#N/A"}},{"$error":"#N/A"},{"$f":"IF(ISTEXT('S8'!$N$59),NA(),'S8'!$N$59)","v":{"$error":"#N/A"}},{"$error":"#N/A"},{"$f":"IF(ISTEXT('S8'!$N$60),NA(),'S8'!$N$60)","v":{"$error":"#N/A"}},{"$error":"#N/A"},{"$f":"IF(ISTEXT('S8'!$N$61),NA(),'S8'!$N$61)","v":{"$error":"#N/A"}},{"$error":"#N/A"},{"$f":"IF(ISTEXT('S8'!$N$62),NA(),'S8'!$N$62)","v":{"$error":"#N/A"}},{"$error":"#N/A"},{"$f":"IF(ISTEXT('S8'!$N$63),NA(),'S8'!$N$63)","v":{"$error":"#N/A"}},{"$error":"#N/A"},{"$f":"IF(ISTEXT('S8'!$N$64),NA(),'S8'!$N$64)","v":{"$error":"#N/A"}},{"$error":"#N/A"},{"$f":"IF(ISTEXT('S8'!$M$65),NA(),'S8'!$M$65)","v":{"$error":"#N/A"}},{"$error":"#N/A"},{"$f":"IF(ISTEXT('S8'!$N$67),NA(),'S8'!$N$67)","v":{"$error":"#N/A"}},{"$error":"#N/A"},{"$f":"IF(ISTEXT('S8'!$N$54),NA(),'S8'!$N$54)","v":{"$error":"#N/A"}},{"$error":"#N/A"},{"$f":"IF(ISTEXT('S8'!$N$57),NA(),'S8'!$N$57)","v":{"$error":"#N/A"}},{"$error":"#N/A"}]
[{"$f":"IF(ISBLANK('S9'!C$10),\" \",'S9'!C$10)","v":97},{"$f":"IF(ISTEXT('S9'!$D$17),NA(),'S9'!$D$17)","v":{"$error":"#N/A"}},{"$error":"#N/A"},{"$f":"IF(ISTEXT('S9'!$D$18),NA(),'S9'!$D$18)","v":{"$error":"#N/A"}},{"$error":"#N/A"},{"$f":"IF(ISTEXT('S9'!$D$19),NA(),'S9'!$D$19)","v":{"$error":"#N/A"}},{"$error":"#N/A"},{"$f":"IF(ISTEXT('S9'!$D$20),NA(),'S9'!$D$20)","v":{"$error":"#N/A"}},{"$error":"#N/A"},{"$f":"IF(ISTEXT('S9'!$D$22),NA(),'S9'!$D$22)","v":{"$error":"#N/A"}},{"$error":"#N/A"},{"$f":"IF(ISTEXT('S9'!$D$23),NA(),'S9'!$D$23)","v":{"$error":"#N/A"}},{"$error":"#N/A"},{"$f":"IF(ISTEXT('S9'!$D$25),NA(),'S9'!$D$25)","v":{"$error":"#N/A"}},{"$error":"#N/A"},{"$f":"IF(ISTEXT('S9'!$D$26),NA(),'S9'!$D$26)","v":{"$error":"#N/A"}},{"$error":"#N/A"},{"$f":"IF(ISTEXT('S9'!$D$27),NA(),'S9'!$D$27)","v":{"$error":"#N/A"}},{"$error":"#N/A"},{"$f":"IF(ISTEXT('S9'!$D$28),NA(),'S9'!$D$28)","v":{"$error":"#N/A"}},{"$error":"#N/A"},{"$f":"IF(ISTEXT('S9'!$D$29),NA(),'S9'!$D$29)","v":{"$error":"#N/A"}},{"$f":"ROUND(AVERAGE(V96:V98),0)","v":{"$error":"#N/A"}},{"$f":"IF(ISTEXT('S9'!$D$30),NA(),'S9'!$D$30)","v":{"$error":"#N/A"}},{"$f":"ROUND(AVERAGE(X96:X98),0)","v":{"$error":"#N/A"}},{"$f":"IF(ISTEXT('S9'!$D$31),NA(),'S9'!$D$31)","v":{"$error":"#N/A"}},{"$f":"ROUND(AVERAGE(Z96:Z98),2)","v":{"$error":"#N/A"}},{"$f":"IF(ISTEXT('S9'!$C$32),NA(),'S9'!$C$32)","v":{"$error":"#N/A"}},{"$f":"ROUND(AVERAGE(AB96:AB98),2)","v":{"$error":"#N/A"}},{"$f":"IF(ISTEXT('S9'!$D$34),NA(),'S9'!$D$34)","v":{"$error":"#N/A"}},{"$f":"ROUND(AVERAGE(AD96:AD98),2)","v":{"$error":"#N/A"}},{"$f":"IF(ISTEXT('S9'!$D$21),NA(),'S9'!$D$21)","v":{"$error":"#N/A"}},{"$error":"#N/A"},{"$f":"IF(ISTEXT('S9'!$D$24),NA(),'S9'!$D$24)","v":{"$error":"#N/A"}},{"$error":"#N/A"}]
[{"$f":"IF(ISBLANK('S9'!E$10),\" \",'S9'!E$10)","v":98},{"$f":"IF(ISTEXT('S9'!$F$17),NA(),'S9'!$F$17)","v":{"$error":"#N/A"}},{"$error":"#N/A"},{"$f":"IF(ISTEXT('S9'!$F$18),NA(),'S9'!$F$18)","v":{"$error":"#N/A"}},{"$error":"#N/A"},{"$f":"IF(ISTEXT('S9'!$F$19),NA(),'S9'!$F$19)","v":{"$error":"#N/A"}},{"$error":"#N/A"},{"$f":"IF(ISTEXT('S9'!$F$20),NA(),'S9'!$F$20)","v":{"$error":"#N/A"}},{"$error":"#N/A"},{"$f":"IF(ISTEXT('S9'!$F$22),NA(),'S9'!$F$22)","v":{"$error":"#N/A"}},{"$error":"#N/A"},{"$f":"IF(ISTEXT('S9'!$F$23),NA(),'S9'!$F$23)","v":{"$error":"#N/A"}},{"$error":"#N/A"},{"$f":"IF(ISTEXT('S9'!$F$25),NA(),'S9'!$F$25)","v":{"$error":"#N/A"}},{"$error":"#N/A"},{"$f":"IF(ISTEXT('S9'!$F$26),NA(),'S9'!$F$26)","v":{"$error":"#N/A"}},{"$error":"#N/A"},{"$f":"IF(ISTEXT('S9'!$F$27),NA(),'S9'!$F$27)","v":{"$error":"#N/A"}},{"$error":"#N/A"},{"$f":"IF(ISTEXT('S9'!$F$28),NA(),'S9'!$F$28)","v":{"$error":"#N/A"}},{"$error":"#N/A"},{"$f":"IF(ISTEXT('S9'!$F$29),NA(),'S9'!$F$29)","v":{"$error":"#N/A"}},{"$f":"ROUND(AVERAGE(V97:V99),0)","v":{"$error":"#N/A"}},{"$f":"IF(ISTEXT('S9'!$F$30),NA(),'S9'!$F$30)","v":{"$error":"#N/A"}},{"$f":"ROUND(AVERAGE(X97:X99),0)","v":{"$error":"#N/A"}},{"$f":"IF(ISTEXT('S9'!$F$31),NA(),'S9'!$F$31)","v":{"$error":"#N/A"}},{"$f":"ROUND(AVERAGE(Z97:Z99),2)","v":{"$error":"#N/A"}},{"$f":"IF(ISTEXT('S9'!$E$32),NA(),'S9'!$E$32)","v":{"$error":"#N/A"}},{"$f":"ROUND(AVERAGE(AB97:AB99),2)","v":{"$error":"#N/A"}},{"$f":"IF(ISTEXT('S9'!$F$34),NA(),'S9'!$F$34)","v":{"$error":"#N/A"}},{"$f":"ROUND(AVERAGE(AD97:AD99),2)","v":{"$error":"#N/A"}},{"$f":"IF(ISTEXT('S9'!$F$21),NA(),'S9'!$F$21)","v":{"$error":"#N/A"}},{"$error":"#N/A"},{"$f":"IF(ISTEXT('S9'!$F$24),NA(),'S9'!$F$24)","v":{"$error":"#N/A"}},{"$error":"#N/A"}]
[{"$f":"IF(ISBLANK('S9'!G$10),\" \",'S9'!G$10)","v":99},{"$f":"IF(ISTEXT('S9'!$H$17),NA(),'S9'!$H$17)","v":{"$error":"#N/A"}},{"$error":"#N/A"},{"$f":"IF(ISTEXT('S9'!$H$18),NA(),'S9'!$H$18)","v":{"$error":"#N/A"}},{"$error":"#N/A"},{"$f":"IF(ISTEXT('S9'!$H$19),NA(),'S9'!$H$19)","v":{"$error":"#N/A"}},{"$error":"#N/A"},{"$f":"IF(ISTEXT('S9'!$H$20),NA(),'S9'!$H$20)","v":{"$error":"#N/A"}},{"$error":"#N/A"},{"$f":"IF(ISTEXT('S9'!$H$22),NA(),'S9'!$H$22)","v":{"$error":"#N/A"}},{"$error":"#N/A"},{"$f":"IF(ISTEXT('S9'!$H$23),NA(),'S9'!$H$23)","v":{"$error":"#N/A"}},{"$error":"#N/A"},{"$f":"IF(ISTEXT('S9'!$H$25),NA(),'S9'!$H$25)","v":{"$error":"#N/A"}},{"$error":"#N/A"},{"$f":"IF(ISTEXT('S9'!$H$26),NA(),'S9'!$H$26)","v":{"$error":"#N/A"}},{"$error":"#N/A"},{"$f":"IF(ISTEXT('S9'!$H$27),NA(),'S9'!$H$27)","v":{"$error":"#N/A"}},{"$error":"#N/A"},{"$f":"IF(ISTEXT('S9'!$H$28),NA(),'S9'!$H$28)","v":{"$error":"#N/A"}},{"$error":"#N/A"},{"$f":"IF(ISTEXT('S9'!$H$29),NA(),'S9'!$H$29)","v":{"$error":"#N/A"}},{"$f":"ROUND(AVERAGE(V98:V100),0)","v":{"$error":"#N/A"}},{"$f":"IF(ISTEXT('S9'!$H$30),NA(),'S9'!$H$30)","v":{"$error":"#N/A"}},{"$f":"ROUND(AVERAGE(X98:X100),0)","v":{"$error":"#N/A"}},{"$f":"IF(ISTEXT('S9'!$H$31),NA(),'S9'!$H$31)","v":{"$error":"#N/A"}},{"$f":"ROUND(AVERAGE(Z98:Z100),2)","v":{"$error":"#N/A"}},{"$f":"IF(ISTEXT('S9'!$G$32),NA(),'S9'!$G$32)","v":{"$error":"#N/A"}},{"$f":"ROUND(AVERAGE(AB98:AB100),2)","v":{"$error":"#N/A"}},{"$f":"IF(ISTEXT('S9'!$H$34),NA(),'S9'!$H$34)","v":{"$error":"#N/A"}},{"$f":"ROUND(AVERAGE(AD98:AD100),2)","v":{"$error":"#N/A"}},{"$f":"IF(ISTEXT('S9'!$H$21),NA(),'S9'!$H$21)","v":{"$error":"#N/A"}},{"$error":"#N/A"},{"$f":"IF(ISTEXT('S9'!$H$24),NA(),'S9'!$H$24)","v":{"$error":"#N/A"}},{"$error":"#N/A"}]
[{"$f":"IF(ISBLANK('S9'!I$10),\" \",'S9'!I$10)","v":100},{"$f":"IF(ISTEXT('S9'!$J$17),NA(),'S9'!$J$17)","v":{"$error":"#N/A"}},{"$error":"#N/A"},{"$f":"IF(ISTEXT('S9'!$J$18),NA(),'S9'!$J$18)","v":{"$error":"#N/A"}},{"$error":"#N/A"},{"$f":"IF(ISTEXT('S9'!$J$19),NA(),'S9'!$J$19)","v":{"$error":"#N/A"}},{"$error":"#N/A"},{"$f":"IF(ISTEXT('S9'!$J$20),NA(),'S9'!$J$20)","v":{"$error":"#N/A"}},{"$error":"#N/A"},{"$f":"IF(ISTEXT('S9'!$J$22),NA(),'S9'!$J$22)","v":{"$error":"#N/A"}},{"$error":"#N/A"},{"$f":"IF(ISTEXT('S9'!$J$23),NA(),'S9'!$J$23)","v":{"$error":"#N/A"}},{"$error":"#N/A"},{"$f":"IF(ISTEXT('S9'!$J$25),NA(),'S9'!$J$25)","v":{"$error":"#N/A"}},{"$error":"#N/A"},{"$f":"IF(ISTEXT('S9'!$J$26),NA(),'S9'!$J$26)","v":{"$error":"#N/A"}},{"$error":"#N/A"},{"$f":"IF(ISTEXT('S9'!$J$27),NA(),'S9'!$J$27)","v":{"$error":"#N/A"}},{"$error":"#N/A"},{"$f":"IF(ISTEXT('S9'!$J$28),NA(),'S9'!$J$28)","v":{"$error":"#N/A"}},{"$error":"#N/A"},{"$f":"IF(ISTEXT('S9'!$J$29),NA(),'S9'!$J$29)","v":{"$error":"#N/A"}},{"$f":"ROUND(AVERAGE(V99:V101),0)","v":{"$error":"#N/A"}},{"$f":"IF(ISTEXT('S9'!$J$30),NA(),'S9'!$J$30)","v":{"$error":"#N/A"}},{"$error":"#N/A"},{"$f":"IF(ISTEXT('S9'!$J$31),NA(),'S9'!$J$31)","v":{"$error":"#N/A"}},{"$error":"#N/A"},{"$f":"IF(ISTEXT('S9'!$I$32),NA(),'S9'!$I$32)","v":{"$error":"#N/A"}},{"$error":"#N/A"},{"$f":"IF(ISTEXT('S9'!$J$34),NA(),'S9'!$J$34)","v":{"$error":"#N/A"}},{"$error":"#N/A"},{"$f":"IF(ISTEXT('S9'!$J$21),NA(),'S9'!$J$21)","v":{"$error":"#N/A"}},{"$error":"#N/A"},{"$f":"IF(ISTEXT('S9'!$J$24),NA(),'S9'!$J$24)","v":{"$error":"#N/A"}},{"$error":"#N/A"}]
[{"$f":"IF(ISBLANK('S9'!K$10),\" \",'S9'!K$10)","v":101},{"$f":"IF(ISTEXT('S9'!$L$17),NA(),'S9'!$L$17)","v":{"$error":"#N/A"}},{"$error":"#N/A"},{"$f":"IF(ISTEXT('S9'!$L$18),NA(),'S9'!$L$18)","v":{"$error":"#N/A"}},{"$error":"#N/A"},{"$f":"IF(ISTEXT('S9'!$L$19),NA(),'S9'!$L$19)","v":{"$error":"#N/A"}},{"$error":"#N/A"},{"$f":"IF(ISTEXT('S9'!$L$20),NA(),'S9'!$L$20)","v":{"$error":"#N/A"}},{"$error":"#N/A"},{"$f":"IF(ISTEXT('S9'!$L$22),NA(),'S9'!$L$22)","v":{"$error":"#N/A"}},{"$error":"#N/A"},{"$f":"IF(ISTEXT('S9'!$L$23),NA(),'S9'!$L$23)","v":{"$error":"#N/A"}},{"$error":"#N/A"},{"$f":"IF(ISTEXT('S9'!$L$25),NA(),'S9'!$L$25)","v":{"$error":"#N/A"}},{"$error":"#N/A"},{"$f":"IF(ISTEXT('S9'!$L$26),NA(),'S9'!$L$26)","v":{"$error":"#N/A"}},{"$error":"#N/A"},{"$f":"IF(ISTEXT('S9'!$L$27),NA(),'S9'!$L$27)","v":{"$error":"#N/A"}},{"$error":"#N/A"},{"$f":"IF(ISTEXT('S9'!$L$28),NA(),'S9'!$L$28)","v":{"$error":"#N/A"}},{"$error":"#N/A"},{"$f":"IF(ISTEXT('S9'!$L$29),NA(),'S9'!$L$29)","v":{"$error":"#N/A"}},{"$error":"#N/A"},{"$f":"IF(ISTEXT('S9'!$L$30),NA(),'S9'!$L$30)","v":{"$error":"#N/A"}},{"$error":"#N/A"},{"$f":"IF(ISTEXT('S9'!$L$31),NA(),'S9'!$L$31)","v":{"$error":"#N/A"}},{"$error":"#N/A"},{"$f":"IF(ISTEXT('S9'!$K$32),NA(),'S9'!$K$32)","v":{"$error":"#N/A"}},{"$error":"#N/A"},{"$f":"IF(ISTEXT('S9'!$L$34),NA(),'S9'!$L$34)","v":{"$error":"#N/A"}},{"$error":"#N/A"},{"$f":"IF(ISTEXT('S9'!$L$21),NA(),'S9'!$L$21)","v":{"$error":"#N/A"}},{"$error":"#N/A"},{"$f":"IF(ISTEXT('S9'!$L$24),NA(),'S9'!$L$24)","v":{"$error":"#N/A"}},{"$error":"#N/A"}]
[{"$f":"IF(ISBLANK('S9'!M$10),\" \",'S9'!M$10)","v":102},{"$f":"IF(ISTEXT('S9'!$N$17),NA(),'S9'!$N$17)","v":{"$error":"#N/A"}},{"$error":"#N/A"},{"$f":"IF(ISTEXT('S9'!$N$18),NA(),'S9'!$N$18)","v":{"$error":"#N/A"}},{"$error":"#N/A"},{"$f":"IF(ISTEXT('S9'!$N$19),NA(),'S9'!$N$19)","v":{"$error":"#N/A"}},{"$error":"#N/A"},{"$f":"IF(ISTEXT('S9'!$N$20),NA(),'S9'!$N$20)","v":{"$error":"#N/A"}},{"$error":"#N/A"},{"$f":"IF(ISTEXT('S9'!$N$22),NA(),'S9'!$N$22)","v":{"$error":"#N/A"}},{"$error":"#N/A"},{"$f":"IF(ISTEXT('S9'!$N$23),NA(),'S9'!$N$23)","v":{"$error":"#N/A"}},{"$error":"#N/A"},{"$f":"IF(ISTEXT('S9'!$N$25),NA(),'S9'!$N$25)","v":{"$error":"#N/A"}},{"$error":"#N/A"},{"$f":"IF(ISTEXT('S9'!$N$26),NA(),'S9'!$N$26)","v":{"$error":"#N/A"}},{"$error":"#N/A"},{"$f":"IF(ISTEXT('S9'!$N$27),NA(),'S9'!$N$27)","v":{"$error":"#N/A"}},{"$error":"#N/A"},{"$f":"IF(ISTEXT('S9'!$N$28),NA(),'S9'!$N$28)","v":{"$error":"#N/A"}},{"$error":"#N/A"},{"$f":"IF(ISTEXT('S9'!$N$29),NA(),'S9'!$N$29)","v":{"$error":"#N/A"}},{"$error":"#N/A"},{"$f":"IF(ISTEXT('S9'!$N$30),NA(),'S9'!$N$30)","v":{"$error":"#N/A"}},{"$error":"#N/A"},{"$f":"IF(ISTEXT('S9'!$N$31),NA(),'S9'!$N$31)","v":{"$error":"#N/A"}},{"$error":"#N/A"},{"$f":"IF(ISTEXT('S9'!$M$32),NA(),'S9'!$M$32)","v":{"$error":"#N/A"}},{"$error":"#N/A"},{"$f":"IF(ISTEXT('S9'!$N$34),NA(),'S9'!$N$34)","v":{"$error":"#N/A"}},{"$error":"#N/A"},{"$f":"IF(ISTEXT('S9'!$N$21),NA(),'S9'!$N$21)","v":{"$error":"#N/A"}},{"$error":"#N/A"},{"$f":"IF(ISTEXT('S9'!$N$24),NA(),'S9'!$N$24)","v":{"$error":"#N/A"}},{"$error":"#N/A"}]
[{"$f":"IF(ISBLANK('S9'!C$43),\" \",'S9'!C$43)","v":103},{"$f":"IF(ISTEXT('S9'!$D$50),NA(),'S9'!$D$50)","v":{"$error":"#N/A"}},{"$error":"#N/A"},{"$f":"IF(ISTEXT('S9'!$D$51),NA(),'S9'!$D$51)","v":{"$error":"#N/A"}},{"$error":"#N/A"},{"$f":"IF(ISTEXT('S9'!$D$52),NA(),'S9'!$D$52)","v":{"$error":"#N/A"}},{"$error":"#N/A"},{"$f":"IF(ISTEXT('S9'!$D$53),NA(),'S9'!$D$53)","v":{"$error":"#N/A"}},{"$error":"#N/A"},{"$f":"IF(ISTEXT('S9'!$D$55),NA(),'S9'!$D$55)","v":{"$error":"#N/A"}},{"$error":"#N/A"},{"$f":"IF(ISTEXT('S9'!$D$56),NA(),'S9'!$D$56)","v":{"$error":"#N/A"}},{"$error":"#N/A"},{"$f":"IF(ISTEXT('S9'!$D$58),NA(),'S9'!$D$58)","v":{"$error":"#N/A"}},{"$error":"#N/A"},{"$f":"IF(ISTEXT('S9'!$D$59),NA(),'S9'!$D$59)","v":{"$error":"#N/A"}},{"$error":"#N/A"},{"$f":"IF(ISTEXT('S9'!$D$60),NA(),'S9'!$D$60)","v":{"$error":"#N/A"}},{"$error":"#N/A"},{"$f":"IF(ISTEXT('S9'!$D$61),NA(),'S9'!$D$61)","v":{"$error":"#N/A"}},{"$error":"#N/A"},{"$f":"IF(ISTEXT('S9'!$D$62),NA(),'S9'!$D$62)","v":{"$error":"#N/A"}},{"$error":"#N/A"},{"$f":"IF(ISTEXT('S9'!$D$63),NA(),'S9'!$D$63)","v":{"$error":"#N/A"}},{"$error":"#N/A"},{"$f":"IF(ISTEXT('S9'!$D$64),NA(),'S9'!$D$64)","v":{"$error":"#N/A"}},{"$error":"#N/A"},{"$f":"IF(ISTEXT('S9'!$C$65),NA(),'S9'!$C$65)","v":{"$error":"#N/A"}},{"$error":"#N/A"},{"$f":"IF(ISTEXT('S9'!$D$67),NA(),'S9'!$D$67)","v":{"$error":"#N/A"}},{"$error":"#N/A"},{"$f":"IF(ISTEXT('S9'!$D$54),NA(),'S9'!$D$54)","v":{"$error":"#N/A"}},{"$error":"#N/A"},{"$f":"IF(ISTEXT('S9'!$D$57),NA(),'S9'!$D$57)","v":{"$error":"#N/A"}},{"$error":"#N/A"}]
[{"$f":"IF(ISBLANK('S9'!E$43),\" \",'S9'!E$43)","v":104},{"$f":"IF(ISTEXT('S9'!$F$50),NA(),'S9'!$F$50)","v":{"$error":"#N/A"}},{"$error":"#N/A"},{"$f":"IF(ISTEXT('S9'!$F$51),NA(),'S9'!$F$51)","v":{"$error":"#N/A"}},{"$error":"#N/A"},{"$f":"IF(ISTEXT('S9'!$F$52),NA(),'S9'!$F$52)","v":{"$error":"#N/A"}},{"$error":"#N/A"},{"$f":"IF(ISTEXT('S9'!$F$53),NA(),'S9'!$F$53)","v":{"$error":"#N/A"}},{"$error":"#N/A"},{"$f":"IF(ISTEXT('S9'!$F$55),NA(),'S9'!$F$55)","v":{"$error":"#N/A"}},{"$error":"#N/A"},{"$f":"IF(ISTEXT('S9'!$F$56),NA(),'S9'!$F$56)","v":{"$error":"#N/A"}},{"$error":"#N/A"},{"$f":"IF(ISTEXT('S9'!$F$58),NA(),'S9'!$F$58)","v":{"$error":"#N/A"}},{"$error":"#N/A"},{"$f":"IF(ISTEXT('S9'!$F$59),NA(),'S9'!$F$59)","v":{"$error":"#N/A"}},{"$error":"#N/A"},{"$f":"IF(ISTEXT('S9'!$F$60),NA(),'S9'!$F$60)","v":{"$error":"#N/A"}},{"$error":"#N/A"},{"$f":"IF(ISTEXT('S9'!$F$61),NA(),'S9'!$F$61)","v":{"$error":"#N/A"}},{"$error":"#N/A"},{"$f":"IF(ISTEXT('S9'!$F$62),NA(),'S9'!$F$62)","v":{"$error":"#N/A"}},{"$error":"#N/A"},{"$f":"IF(ISTEXT('S9'!$F$63),NA(),'S9'!$F$63)","v":{"$error":"#N/A"}},{"$error":"#N/A"},{"$f":"IF(ISTEXT('S9'!$F$64),NA(),'S9'!$F$64)","v":{"$error":"#N/A"}},{"$error":"#N/A"},{"$f":"IF(ISTEXT('S9'!$E$65),NA(),'S9'!$E$65)","v":{"$error":"#N/A"}},{"$error":"#N/A"},{"$f":"IF(ISTEXT('S9'!$F$67),NA(),'S9'!$F$67)","v":{"$error":"#N/A"}},{"$error":"#N/A"},{"$f":"IF(ISTEXT('S9'!$F$54),NA(),'S9'!$F$54)","v":{"$error":"#N/A"}},{"$error":"#N/A"},{"$f":"IF(ISTEXT('S9'!$F$57),NA(),'S9'!$F$57)","v":{"$error":"#N/A"}},{"$error":"#N/A"}]
[{"$f":"IF(ISBLANK('S9'!G$43),\" \",'S9'!G$43)","v":105},{"$f":"IF(ISTEXT('S9'!$H$50),NA(),'S9'!$H$50)","v":{"$error":"#N/A"}},{"$error":"#N/A"},{"$f":"IF(ISTEXT('S9'!$H$51),NA(),'S9'!$H$51)","v":{"$error":"#N/A"}},{"$error":"#N/A"},{"$f":"IF(ISTEXT('S9'!$H$52),NA(),'S9'!$H$52)","v":{"$error":"#N/A"}},{"$error":"#N/A"},{"$f":"IF(ISTEXT('S9'!$H$53),NA(),'S9'!$H$53)","v":{"$error":"#N/A"}},{"$error":"#N/A"},{"$f":"IF(ISTEXT('S9'!$H$55),NA(),'S9'!$H$55)","v":{"$error":"#N/A"}},{"$error":"#N/A"},{"$f":"IF(ISTEXT('S9'!$H$56),NA(),'S9'!$H$56)","v":{"$error":"#N/A"}},{"$error":"#N/A"},{"$f":"IF(ISTEXT('S9'!$H$58),NA(),'S9'!$H$58)","v":{"$error":"#N/A"}},{"$error":"#N/A"},{"$f":"IF(ISTEXT('S9'!$H$59),NA(),'S9'!$H$59)","v":{"$error":"#N/A"}},{"$error":"#N/A"},{"$f":"IF(ISTEXT('S9'!$H$60),NA(),'S9'!$H$60)","v":{"$error":"#N/A"}},{"$error":"#N/A"},{"$f":"IF(ISTEXT('S9'!$H$61),NA(),'S9'!$H$61)","v":{"$error":"#N/A"}},{"$error":"#N/A"},{"$f":"IF(ISTEXT('S9'!$H$62),NA(),'S9'!$H$62)","v":{"$error":"#N/A"}},{"$error":"#N/A"},{"$f":"IF(ISTEXT('S9'!$H$63),NA(),'S9'!$H$63)","v":{"$error":"#N/A"}},{"$error":"#N/A"},{"$f":"IF(ISTEXT('S9'!$H$64),NA(),'S9'!$H$64)","v":{"$error":"#N/A"}},{"$error":"#N/A"},{"$f":"IF(ISTEXT('S9'!$G$65),NA(),'S9'!$G$65)","v":{"$error":"#N/A"}},{"$error":"#N/A"},{"$f":"IF(ISTEXT('S9'!$H$67),NA(),'S9'!$H$67)","v":{"$error":"#N/A"}},{"$error":"#N/A"},{"$f":"IF(ISTEXT('S9'!$H$54),NA(),'S9'!$H$54)","v":{"$error":"#N/A"}},{"$error":"#N/A"},{"$f":"IF(ISTEXT('S9'!$H$57),NA(),'S9'!$H$57)","v":{"$error":"#N/A"}},{"$error":"#N/A"}]
[{"$f":"IF(ISBLANK('S9'!I$43),\" \",'S9'!I$43)","v":106},{"$f":"IF(ISTEXT('S9'!$J$50),NA(),'S9'!$J$50)","v":{"$error":"#N/A"}},{"$error":"#N/A"},{"$f":"IF(ISTEXT('S9'!$J$51),NA(),'S9'!$J$51)","v":{"$error":"#N/A"}},{"$error":"#N/A"},{"$f":"IF(ISTEXT('S9'!$J$52),NA(),'S9'!$J$52)","v":{"$error":"#N/A"}},{"$error":"#N/A"},{"$f":"IF(ISTEXT('S9'!$J$53),NA(),'S9'!$J$53)","v":{"$error":"#N/A"}},{"$error":"#N/A"},{"$f":"IF(ISTEXT('S9'!$J$55),NA(),'S9'!$J$55)","v":{"$error":"#N/A"}},{"$error":"#N/A"},{"$f":"IF(ISTEXT('S9'!$J$56),NA(),'S9'!$J$56)","v":{"$error":"#N/A"}},{"$error":"#N/A"},{"$f":"IF(ISTEXT('S9'!$J$58),NA(),'S9'!$J$58)","v":{"$error":"#N/A"}},{"$error":"#N/A"},{"$f":"IF(ISTEXT('S9'!$J$59),NA(),'S9'!$J$59)","v":{"$error":"#N/A"}},{"$error":"#N/A"},{"$f":"IF(ISTEXT('S9'!$J$60),NA(),'S9'!$J$60)","v":{"$error":"#N/A"}},{"$error":"#N/A"},{"$f":"IF(ISTEXT('S9'!$J$61),NA(),'S9'!$J$61)","v":{"$error":"#N/A"}},{"$error":"#N/A"},{"$f":"IF(ISTEXT('S9'!$J$62),NA(),'S9'!$J$62)","v":{"$error":"#N/A"}},{"$error":"#N/A"},{"$f":"IF(ISTEXT('S9'!$J$63),NA(),'S9'!$J$63)","v":{"$error":"#N/A"}},{"$error":"#N/A"},{"$f":"IF(ISTEXT('S9'!$J$64),NA(),'S9'!$J$64)","v":{"$error":"#N/A"}},{"$error":"#N/A"},{"$f":"IF(ISTEXT('S9'!$I$65),NA(),'S9'!$I$65)","v":{"$error":"#N/A"}},{"$error":"#N/A"},{"$f":"IF(ISTEXT('S9'!$J$67),NA(),'S9'!$J$67)","v":{"$error":"#N/A"}},{"$error":"#N/A"},{"$f":"IF(ISTEXT('S9'!$J$54),NA(),'S9'!$J$54)","v":{"$error":"#N/A"}},{"$error":"#N/A"},{"$f":"IF(ISTEXT('S9'!$J$57),NA(),'S9'!$J$57)","v":{"$error":"#N/A"}},{"$error":"#N/A"}]
[{"$f":"IF(ISBLANK('S9'!K$43),\" \",'S9'!K$43)","v":107},{"$f":"IF(ISTEXT('S9'!$L$50),NA(),'S9'!$L$50)","v":{"$error":"#N/A"}},{"$error":"#N/A"},{"$f":"IF(ISTEXT('S9'!$L$51),NA(),'S9'!$L$51)","v":{"$error":"#N/A"}},{"$error":"#N/A"},{"$f":"IF(ISTEXT('S9'!$L$52),NA(),'S9'!$L$52)","v":{"$error":"#N/A"}},{"$error":"#N/A"},{"$f":"IF(ISTEXT('S9'!$L$53),NA(),'S9'!$L$53)","v":{"$error":"#N/A"}},{"$error":"#N/A"},{"$f":"IF(ISTEXT('S9'!$L$55),NA(),'S9'!$L$55)","v":{"$error":"#N/A"}},{"$error":"#N/A"},{"$f":"IF(ISTEXT('S9'!$L$56),NA(),'S9'!$L$56)","v":{"$error":"#N/A"}},{"$error":"#N/A"},{"$f":"IF(ISTEXT('S9'!$L$58),NA(),'S9'!$L$58)","v":{"$error":"#N/A"}},{"$error":"#N/A"},{"$f":"IF(ISTEXT('S9'!$L$59),NA(),'S9'!$L$59)","v":{"$error":"#N/A"}},{"$error":"#N/A"},{"$f":"IF(ISTEXT('S9'!$L$60),NA(),'S9'!$L$60)","v":{"$error":"#N/A"}},{"$error":"#N/A"},{"$f":"IF(ISTEXT('S9'!$L$61),NA(),'S9'!$L$61)","v":{"$error":"#N/A"}},{"$error":"#N/A"},{"$f":"IF(ISTEXT('S9'!$L$62),NA(),'S9'!$L$62)","v":{"$error":"#N/A"}},{"$f":"ROUND(AVERAGE(V106:V108),0)","v":{"$error":"#N/A"}},{"$f":"IF(ISTEXT('S9'!$L$63),NA(),'S9'!$L$63)","v":{"$error":"#N/A"}},{"$error":"#N/A"},{"$f":"IF(ISTEXT('S9'!$L$64),NA(),'S9'!$L$64)","v":{"$error":"#N/A"}},{"$error":"#N/A"},{"$f":"IF(ISTEXT('S9'!$K$65),NA(),'S9'!$K$65)","v":{"$error":"#N/A"}},{"$error":"#N/A"},{"$f":"IF(ISTEXT('S9'!$L$67),NA(),'S9'!$L$67)","v":{"$error":"#N/A"}},{"$error":"#N/A"},{"$f":"IF(ISTEXT('S9'!$L$54),NA(),'S9'!$L$54)","v":{"$error":"#N/A"}},{"$error":"#N/A"},{"$f":"IF(ISTEXT('S9'!$L$57),NA(),'S9'!$L$57)","v":{"$error":"#N/A"}},{"$error":"#N/A"}]
[{"$f":"IF(ISBLANK('S9'!M$43),\" \",'S9'!M$43)","v":108},{"$f":"IF(ISTEXT('S9'!$N$50),NA(),'S9'!$N$50)","v":{"$error":"#N/A"}},{"$error":"#N/A"},{"$f":"IF(ISTEXT('S9'!$N$51),NA(),'S9'!$N$51)","v":{"$error":"#N/A"}},{"$error":"#N/A"},{"$f":"IF(ISTEXT('S9'!$N$52),NA(),'S9'!$N$52)","v":{"$error":"#N/A"}},{"$error":"#N/A"},{"$f":"IF(ISTEXT('S9'!$N$53),NA(),'S9'!$N$53)","v":{"$error":"#N/A"}},{"$error":"#N/A"},{"$f":"IF(ISTEXT('S9'!$N$55),NA(),'S9'!$N$55)","v":{"$error":"#N/A"}},{"$error":"#N/A"},{"$f":"IF(ISTEXT('S9'!$N$56),NA(),'S9'!$N$56)","v":{"$error":"#N/A"}},{"$error":"#N/A"},{"$f":"IF(ISTEXT('S9'!$N$58),NA(),'S9'!$N$58)","v":{"$error":"#N/A"}},{"$error":"#N/A"},{"$f":"IF(ISTEXT('S9'!$N$59),NA(),'S9'!$N$59)","v":{"$error":"#N/A"}},{"$error":"#N/A"},{"$f":"IF(ISTEXT('S9'!$N$60),NA(),'S9'!$N$60)","v":{"$error":"#N/A"}},{"$error":"#N/A"},{"$f":"IF(ISTEXT('S9'!$N$61),NA(),'S9'!$N$61)","v":{"$error":"#N/A"}},{"$error":"#N/A"},{"$f":"IF(ISTEXT('S9'!$N$62),NA(),'S9'!$N$62)","v":{"$error":"#N/A"}},{"$error":"#N/A"},{"$f":"IF(ISTEXT('S9'!$N$63),NA(),'S9'!$N$63)","v":{"$error":"#N/A"}},{"$error":"#N/A"},{"$f":"IF(ISTEXT('S9'!$N$64),NA(),'S9'!$N$64)","v":{"$error":"#N/A"}},{"$error":"#N/A"},{"$f":"IF(ISTEXT('S9'!$M$65),NA(),'S9'!$M$65)","v":{"$error":"#N/A"}},{"$error":"#N/A"},{"$f":"IF(ISTEXT('S9'!$N$67),NA(),'S9'!$N$67)","v":{"$error":"#N/A"}},{"$error":"#N/A"},{"$f":"IF(ISTEXT('S9'!$N$54),NA(),'S9'!$N$54)","v":{"$error":"#N/A"}},{"$error":"#N/A"},{"$f":"IF(ISTEXT('S9'!$N$57),NA(),'S9'!$N$57)","v":{"$error":"#N/A"}},{"$error":"#N/A"}]
[{"$f":"IF(ISBLANK('S10'!C$10),\" \",'S10'!C$10)","v":109},{"$f":"IF(ISTEXT('S10'!$D$17),NA(),'S10'!$D$17)","v":{"$error":"#N/A"}},{"$error":"#N/A"},{"$f":"IF(ISTEXT('S10'!$D$18),NA(),'S10'!$D$18)","v":{"$error":"#N/A"}},{"$error":"#N/A"},{"$f":"IF(ISTEXT('S10'!$D$19),NA(),'S10'!$D$19)","v":{"$error":"#N/A"}},{"$error":"#N/A"},{"$f":"IF(ISTEXT('S10'!$D$20),NA(),'S10'!$D$20)","v":{"$error":"#N/A"}},{"$error":"#N/A"},{"$f":"IF(ISTEXT('S10'!$D$22),NA(),'S10'!$D$22)","v":{"$error":"#N/A"}},{"$error":"#N/A"},{"$f":"IF(ISTEXT('S10'!$D$23),NA(),'S10'!$D$23)","v":{"$error":"#N/A"}},{"$error":"#N/A"},{"$f":"IF(ISTEXT('S10'!$D$25),NA(),'S10'!$D$25)","v":{"$error":"#N/A"}},{"$error":"#N/A"},{"$f":"IF(ISTEXT('S10'!$D$26),NA(),'S10'!$D$26)","v":{"$error":"#N/A"}},{"$error":"#N/A"},{"$f":"IF(ISTEXT('S10'!$D$27),NA(),'S10'!$D$27)","v":{"$error":"#N/A"}},{"$error":"#N/A"},{"$f":"IF(ISTEXT('S10'!$D$28),NA(),'S10'!$D$28)","v":{"$error":"#N/A"}},{"$error":"#N/A"},{"$f":"IF(ISTEXT('S10'!$D$29),NA(),'S10'!$D$29)","v":{"$error":"#N/A"}},{"$error":"#N/A"},{"$f":"IF(ISTEXT('S10'!$D$30),NA(),'S10'!$D$30)","v":{"$error":"#N/A"}},{"$error":"#N/A"},{"$f":"IF(ISTEXT('S10'!$D$31),NA(),'S10'!$D$31)","v":{"$error":"#N/A"}},{"$error":"#N/A"},{"$f":"IF(ISTEXT('S10'!$C$32),NA(),'S10'!$C$32)","v":{"$error":"#N/A"}},{"$error":"#N/A"},{"$f":"IF(ISTEXT('S10'!$D$34),NA(),'S10'!$D$34)","v":{"$error":"#N/A"}},{"$error":"#N/A"},{"$f":"IF(ISTEXT('S10'!$D$21),NA(),'S10'!$D$21)","v":{"$error":"#N/A"}},{"$error":"#N/A"},{"$f":"IF(ISTEXT('S10'!$D$24),NA(),'S10'!$D$24)","v":{"$error":"#N/A"}},{"$error":"#N/A"}]
[{"$f":"IF(ISBLANK('S10'!E$10),\" \",'S10'!E$10)","v":110},{"$f":"IF(ISTEXT('S10'!$F$17),NA(),'S10'!$F$17)","v":{"$error":"#N/A"}},{"$error":"#N/A"},{"$f":"IF(ISTEXT('S10'!$F$18),NA(),'S10'!$F$18)","v":{"$error":"#N/A"}},{"$error":"#N/A"},{"$f":"IF(ISTEXT('S10'!$F$19),NA(),'S10'!$F$19)","v":{"$error":"#N/A"}},{"$error":"#N/A"},{"$f":"IF(ISTEXT('S10'!$F$20),NA(),'S10'!$F$20)","v":{"$error":"#N/A"}},{"$error":"#N/A"},{"$f":"IF(ISTEXT('S10'!$F$22),NA(),'S10'!$F$22)","v":{"$error":"#N/A"}},{"$error":"#N/A"},{"$f":"IF(ISTEXT('S10'!$F$23),NA(),'S10'!$F$23)","v":{"$error":"#N/A"}},{"$error":"#N/A"},{"$f":"IF(ISTEXT('S10'!$F$25),NA(),'S10'!$F$25)","v":{"$error":"#N/A"}},{"$error":"#N/A"},{"$f":"IF(ISTEXT('S10'!$F$26),NA(),'S10'!$F$26)","v":{"$error":"#N/A"}},{"$error":"#N/A"},{"$f":"IF(ISTEXT('S10'!$F$27),NA(),'S10'!$F$27)","v":{"$error":"#N/A"}},{"$error":"#N/A"},{"$f":"IF(ISTEXT('S10'!$F$28),NA(),'S10'!$F$28)","v":{"$error":"#N/A"}},{"$error":"#N/A"},{"$f":"IF(ISTEXT('S10'!$F$29),NA(),'S10'!$F$29)","v":{"$error":"#N/A"}},{"$error":"#N/A"},{"$f":"IF(ISTEXT('S10'!$F$30),NA(),'S10'!$F$30)","v":{"$error":"#N/A"}},{"$error":"#N/A"},{"$f":"IF(ISTEXT('S10'!$F$31),NA(),'S10'!$F$31)","v":{"$error":"#N/A"}},{"$error":"#N/A"},{"$f":"IF(ISTEXT('S10'!$E$32),NA(),'S10'!$E$32)","v":{"$error":"#N/A"}},{"$error":"#N/A"},{"$f":"IF(ISTEXT('S10'!$F$34),NA(),'S10'!$F$34)","v":{"$error":"#N/A"}},{"$error":"#N/A"},{"$f":"IF(ISTEXT('S10'!$F$21),NA(),'S10'!$F$21)","v":{"$error":"#N/A"}},{"$error":"#N/A"},{"$f":"IF(ISTEXT('S10'!$F$24),NA(),'S10'!$F$24)","v":{"$error":"#N/A"}},{"$error":"#N/A"}]
[{"$f":"IF(ISBLANK('S10'!G$10),\" \",'S10'!G$10)","v":111},{"$f":"IF(ISTEXT('S10'!$H$17),NA(),'S10'!$H$17)","v":{"$error":"#N/A"}},{"$error":"#N/A"},{"$f":"IF(ISTEXT('S10'!$H$18),NA(),'S10'!$H$18)","v":{"$error":"#N/A"}},{"$error":"#N/A"},{"$f":"IF(ISTEXT('S10'!$H$19),NA(),'S10'!$H$19)","v":{"$error":"#N/A"}},{"$error":"#N/A"},{"$f":"IF(ISTEXT('S10'!$H$20),NA(),'S10'!$H$20)","v":{"$error":"#N/A"}},{"$error":"#N/A"},{"$f":"IF(ISTEXT('S10'!$H$22),NA(),'S10'!$H$22)","v":{"$error":"#N/A"}},{"$error":"#N/A"},{"$f":"IF(ISTEXT('S10'!$H$23),NA(),'S10'!$H$23)","v":{"$error":"#N/A"}},{"$error":"#N/A"},{"$f":"IF(ISTEXT('S10'!$H$25),NA(),'S10'!$H$25)","v":{"$error":"#N/A"}},{"$error":"#N/A"},{"$f":"IF(ISTEXT('S10'!$H$26),NA(),'S10'!$H$26)","v":{"$error":"#N/A"}},{"$error":"#N/A"},{"$f":"IF(ISTEXT('S10'!$H$27),NA(),'S10'!$H$27)","v":{"$error":"#N/A"}},{"$error":"#N/A"},{"$f":"IF(ISTEXT('S10'!$H$28),NA(),'S10'!$H$28)","v":{"$error":"#N/A"}},{"$error":"#N/A"},{"$f":"IF(ISTEXT('S10'!$H$29),NA(),'S10'!$H$29)","v":{"$error":"#N/A"}},{"$error":"#N/A"},{"$f":"IF(ISTEXT('S10'!$H$30),NA(),'S10'!$H$30)","v":{"$error":"#N/A"}},{"$error":"#N/A"},{"$f":"IF(ISTEXT('S10'!$H$31),NA(),'S10'!$H$31)","v":{"$error":"#N/A"}},{"$error":"#N/A"},{"$f":"IF(ISTEXT('S10'!$G$32),NA(),'S10'!$G$32)","v":{"$error":"#N/A"}},{"$error":"#N/A"},{"$f":"IF(ISTEXT('S10'!$H$34),NA(),'S10'!$H$34)","v":{"$error":"#N/A"}},{"$error":"#N/A"},{"$f":"IF(ISTEXT('S10'!$H$21),NA(),'S10'!$H$21)","v":{"$error":"#N/A"}},{"$error":"#N/A"},{"$f":"IF(ISTEXT('S10'!$H$24),NA(),'S10'!$H$24)","v":{"$error":"#N/A"}},{"$error":"#N/A"}]
[{"$f":"IF(ISBLANK('S10'!I$10),\" \",'S10'!I$10)","v":112},{"$f":"IF(ISTEXT('S10'!$J$17),NA(),'S10'!$J$17)","v":{"$error":"#N/A"}},{"$error":"#N/A"},{"$f":"IF(ISTEXT('S10'!$J$18),NA(),'S10'!$J$18)","v":{"$error":"#N/A"}},{"$error":"#N/A"},{"$f":"IF(ISTEXT('S10'!$J$19),NA(),'S10'!$J$19)","v":{"$error":"#N/A"}},{"$error":"#N/A"},{"$f":"IF(ISTEXT('S10'!$J$20),NA(),'S10'!$J$20)","v":{"$error":"#N/A"}},{"$error":"#N/A"},{"$f":"IF(ISTEXT('S10'!$J$22),NA(),'S10'!$J$22)","v":{"$error":"#N/A"}},{"$error":"#N/A"},{"$f":"IF(ISTEXT('S10'!$J$23),NA(),'S10'!$J$23)","v":{"$error":"#N/A"}},{"$error":"#N/A"},{"$f":"IF(ISTEXT('S10'!$J$25),NA(),'S10'!$J$25)","v":{"$error":"#N/A"}},{"$error":"#N/A"},{"$f":"IF(ISTEXT('S10'!$J$26),NA(),'S10'!$J$26)","v":{"$error":"#N/A"}},{"$error":"#N/A"},{"$f":"IF(ISTEXT('S10'!$J$27),NA(),'S10'!$J$27)","v":{"$error":"#N/A"}},{"$error":"#N/A"},{"$f":"IF(ISTEXT('S10'!$J$28),NA(),'S10'!$J$28)","v":{"$error":"#N/A"}},{"$error":"#N/A"},{"$f":"IF(ISTEXT('S10'!$J$29),NA(),'S10'!$J$29)","v":{"$error":"#N/A"}},{"$error":"#N/A"},{"$f":"IF(ISTEXT('S10'!$J$30),NA(),'S10'!$J$30)","v":{"$error":"#N/A"}},{"$error":"#N/A"},{"$f":"IF(ISTEXT('S10'!$J$31),NA(),'S10'!$J$31)","v":{"$error":"#N/A"}},{"$error":"#N/A"},{"$f":"IF(ISTEXT('S10'!$I$32),NA(),'S10'!$I$32)","v":{"$error":"#N/A"}},{"$error":"#N/A"},{"$f":"IF(ISTEXT('S10'!$J$34),NA(),'S10'!$J$34)","v":{"$error":"#N/A"}},{"$error":"#N/A"},{"$f":"IF(ISTEXT('S10'!$J$21),NA(),'S10'!$J$21)","v":{"$error":"#N/A"}},{"$error":"#N/A"},{"$f":"IF(ISTEXT('S10'!$J$24),NA(),'S10'!$J$24)","v":{"$error":"#N/A"}},{"$error":"#N/A"}]
[{"$f":"IF(ISBLANK('S10'!K$10),\" \",'S10'!K$10)","v":113},{"$f":"IF(ISTEXT('S10'!$L$17),NA(),'S10'!$L$17)","v":{"$error":"#N/A"}},{"$error":"#N/A"},{"$f":"IF(ISTEXT('S10'!$L$18),NA(),'S10'!$L$18)","v":{"$error":"#N/A"}},{"$error":"#N/A"},{"$f":"IF(ISTEXT('S10'!$L$19),NA(),'S10'!$L$19)","v":{"$error":"#N/A"}},{"$error":"#N/A"},{"$f":"IF(ISTEXT('S10'!$L$20),NA(),'S10'!$L$20)","v":{"$error":"#N/A"}},{"$error":"#N/A"},{"$f":"IF(ISTEXT('S10'!$L$22),NA(),'S10'!$L$22)","v":{"$error":"#N/A"}},{"$error":"#N/A"},{"$f":"IF(ISTEXT('S10'!$L$23),NA(),'S10'!$L$23)","v":{"$error":"#N/A"}},{"$error":"#N/A"},{"$f":"IF(ISTEXT('S10'!$L$25),NA(),'S10'!$L$25)","v":{"$error":"#N/A"}},{"$error":"#N/A"},{"$f":"IF(ISTEXT('S10'!$L$26),NA(),'S10'!$L$26)","v":{"$error":"#N/A"}},{"$error":"#N/A"},{"$f":"IF(ISTEXT('S10'!$L$27),NA(),'S10'!$L$27)","v":{"$error":"#N/A"}},{"$error":"#N/A"},{"$f":"IF(ISTEXT('S10'!$L$28),NA(),'S10'!$L$28)","v":{"$error":"#N/A"}},{"$error":"#N/A"},{"$f":"IF(ISTEXT('S10'!$L$29),NA(),'S10'!$L$29)","v":{"$error":"#N/A"}},{"$error":"#N/A"},{"$f":"IF(ISTEXT('S10'!$L$30),NA(),'S10'!$L$30)","v":{"$error":"#N/A"}},{"$error":"#N/A"},{"$f":"IF(ISTEXT('S10'!$L$31),NA(),'S10'!$L$31)","v":{"$error":"#N/A"}},{"$error":"#N/A"},{"$f":"IF(ISTEXT('S10'!$K$32),NA(),'S10'!$K$32)","v":{"$error":"#N/A"}},{"$error":"#N/A"},{"$f":"IF(ISTEXT('S10'!$L$34),NA(),'S10'!$L$34)","v":{"$error":"#N/A"}},{"$error":"#N/A"},{"$f":"IF(ISTEXT('S10'!$L$21),NA(),'S10'!$L$21)","v":{"$error":"#N/A"}},{"$error":"#N/A"},{"$f":"IF(ISTEXT('S10'!$L$24),NA(),'S10'!$L$24)","v":{"$error":"#N/A"}},{"$error":"#N/A"}]
[{"$f":"IF(ISBLANK('S10'!M$10),\" \",'S10'!M$10)","v":114},{"$f":"IF(ISTEXT('S10'!$N$17),NA(),'S10'!$N$17)","v":{"$error":"#N/A"}},{"$error":"#N/A"},{"$f":"IF(ISTEXT('S10'!$N$18),NA(),'S10'!$N$18)","v":{"$error":"#N/A"}},{"$error":"#N/A"},{"$f":"IF(ISTEXT('S10'!$N$19),NA(),'S10'!$N$19)","v":{"$error":"#N/A"}},{"$error":"#N/A"},{"$f":"IF(ISTEXT('S10'!$N$20),NA(),'S10'!$N$20)","v":{"$error":"#N/A"}},{"$error":"#N/A"},{"$f":"IF(ISTEXT('S10'!$N$22),NA(),'S10'!$N$22)","v":{"$error":"#N/A"}},{"$error":"#N/A"},{"$f":"IF(ISTEXT('S10'!$N$23),NA(),'S10'!$N$23)","v":{"$error":"#N/A"}},{"$error":"#N/A"},{"$f":"IF(ISTEXT('S10'!$N$25),NA(),'S10'!$N$25)","v":{"$error":"#N/A"}},{"$error":"#N/A"},{"$f":"IF(ISTEXT('S10'!$N$26),NA(),'S10'!$N$26)","v":{"$error":"#N/A"}},{"$error":"#N/A"},{"$f":"IF(ISTEXT('S10'!$N$27),NA(),'S10'!$N$27)","v":{"$error":"#N/A"}},{"$error":"#N/A"},{"$f":"IF(ISTEXT('S10'!$N$28),NA(),'S10'!$N$28)","v":{"$error":"#N/A"}},{"$error":"#N/A"},{"$f":"IF(ISTEXT('S10'!$N$29),NA(),'S10'!$N$29)","v":{"$error":"#N/A"}},{"$error":"#N/A"},{"$f":"IF(ISTEXT('S10'!$N$30),NA(),'S10'!$N$30)","v":{"$error":"#N/A"}},{"$error":"#N/A"},{"$f":"IF(ISTEXT('S10'!$N$31),NA(),'S10'!$N$31)","v":{"$error":"#N/A"}},{"$error":"#N/A"},{"$f":"IF(ISTEXT('S10'!$M$32),NA(),'S10'!$M$32)","v":{"$error":"#N/A"}},{"$error":"#N/A"},{"$f":"IF(ISTEXT('S10'!$N$34),NA(),'S10'!$N$34)","v":{"$error":"#N/A"}},{"$error":"#N/A"},{"$f":"IF(ISTEXT('S10'!$N$21),NA(),'S10'!$N$21)","v":{"$error":"#N/A"}},{"$error":"#N/A"},{"$f":"IF(ISTEXT('S10'!$N$24),NA(),'S10'!$N$24)","v":{"$error":"#N/A"}},{"$error":"#N/A"}]
[{"$f":"IF(ISBLANK('S10'!C$43),\" \",'S10'!C$43)","v":115},{"$f":"IF(ISTEXT('S10'!$D$50),NA(),'S10'!$D$50)","v":{"$error":"#N/A"}},{"$error":"#N/A"},{"$f":"IF(ISTEXT('S10'!$D$51),NA(),'S10'!$D$51)","v":{"$error":"#N/A"}},{"$error":"#N/A"},{"$f":"IF(ISTEXT('S10'!$D$52),NA(),'S10'!$D$52)","v":{"$error":"#N/A"}},{"$error":"#N/A"},{"$f":"IF(ISTEXT('S10'!$D$53),NA(),'S10'!$D$53)","v":{"$error":"#N/A"}},{"$error":"#N/A"},{"$f":"IF(ISTEXT('S10'!$D$55),NA(),'S10'!$D$55)","v":{"$error":"#N/A"}},{"$error":"#N/A"},{"$f":"IF(ISTEXT('S10'!$D$56),NA(),'S10'!$D$56)","v":{"$error":"#N/A"}},{"$error":"#N/A"},{"$f":"IF(ISTEXT('S10'!$D$58),NA(),'S10'!$D$58)","v":{"$error":"#N/A"}},{"$error":"#N/A"},{"$f":"IF(ISTEXT('S10'!$D$59),NA(),'S10'!$D$59)","v":{"$error":"#N/A"}},{"$error":"#N/A"},{"$f":"IF(ISTEXT('S10'!$D$60),NA(),'S10'!$D$60)","v":{"$error":"#N/A"}},{"$error":"#N/A"},{"$f":"IF(ISTEXT('S10'!$D$61),NA(),'S10'!$D$61)","v":{"$error":"#N/A"}},{"$error":"#N/A"},{"$f":"IF(ISTEXT('S10'!$D$62),NA(),'S10'!$D$62)","v":{"$error":"#N/A"}},{"$error":"#N/A"},{"$f":"IF(ISTEXT('S10'!$D$63),NA(),'S10'!$D$63)","v":{"$error":"#N/A"}},{"$error":"#N/A"},{"$f":"IF(ISTEXT('S10'!$D$64),NA(),'S10'!$D$64)","v":{"$error":"#N/A"}},{"$error":"#N/A"},{"$f":"IF(ISTEXT('S10'!$C$65),NA(),'S10'!$C$65)","v":{"$error":"#N/A"}},{"$error":"#N/A"},{"$f":"IF(ISTEXT('S10'!$D$67),NA(),'S10'!$D$67)","v":{"$error":"#N/A"}},{"$error":"#N/A"},{"$f":"IF(ISTEXT('S10'!$D$54),NA(),'S10'!$D$54)","v":{"$error":"#N/A"}},{"$error":"#N/A"},{"$f":"IF(ISTEXT('S10'!$D$57),NA(),'S10'!$D$57)","v":{"$error":"#N/A"}},{"$error":"#N/A"}]
[{"$f":"IF(ISBLANK('S10'!E$43),\" \",'S10'!E$43)","v":116},{"$f":"IF(ISTEXT('S10'!$F$50),NA(),'S10'!$F$50)","v":{"$error":"#N/A"}},{"$error":"#N/A"},{"$f":"IF(ISTEXT('S10'!$F$51),NA(),'S10'!$F$51)","v":{"$error":"#N/A"}},{"$error":"#N/A"},{"$f":"IF(ISTEXT('S10'!$F$52),NA(),'S10'!$F$52)","v":{"$error":"#N/A"}},{"$error":"#N/A"},{"$f":"IF(ISTEXT('S10'!$F$53),NA(),'S10'!$F$53)","v":{"$error":"#N/A"}},{"$error":"#N/A"},{"$f":"IF(ISTEXT('S10'!$F$55),NA(),'S10'!$F$55)","v":{"$error":"#N/A"}},{"$error":"#N/A"},{"$f":"IF(ISTEXT('S10'!$F$56),NA(),'S10'!$F$56)","v":{"$error":"#N/A"}},{"$error":"#N/A"},{"$f":"IF(ISTEXT('S10'!$F$58),NA(),'S10'!$F$58)","v":{"$error":"#N/A"}},{"$error":"#N/A"},{"$f":"IF(ISTEXT('S10'!$F$59),NA(),'S10'!$F$59)","v":{"$error":"#N/A"}},{"$error":"#N/A"},{"$f":"IF(ISTEXT('S10'!$F$60),NA(),'S10'!$F$60)","v":{"$error":"#N/A"}},{"$error":"#N/A"},{"$f":"IF(ISTEXT('S10'!$F$61),NA(),'S10'!$F$61)","v":{"$error":"#N/A"}},{"$error":"#N/A"},{"$f":"IF(ISTEXT('S10'!$F$62),NA(),'S10'!$F$62)","v":{"$error":"#N/A"}},{"$error":"#N/A"},{"$f":"IF(ISTEXT('S10'!$F$63),NA(),'S10'!$F$63)","v":{"$error":"#N/A"}},{"$error":"#N/A"},{"$f":"IF(ISTEXT('S10'!$F$64),NA(),'S10'!$F$64)","v":{"$error":"#N/A"}},{"$error":"#N/A"},{"$f":"IF(ISTEXT('S10'!$E$65),NA(),'S10'!$E$65)","v":{"$error":"#N/A"}},{"$error":"#N/A"},{"$f":"IF(ISTEXT('S10'!$F$67),NA(),'S10'!$F$67)","v":{"$error":"#N/A"}},{"$error":"#N/A"},{"$f":"IF(ISTEXT('S10'!$F$54),NA(),'S10'!$F$54)","v":{"$error":"#N/A"}},{"$error":"#N/A"},{"$f":"IF(ISTEXT('S10'!$F$57),NA(),'S10'!$F$57)","v":{"$error":"#N/A"}},{"$error":"#N/A"}]
[{"$f":"IF(ISBLANK('S10'!G$43),\" \",'S10'!G$43)","v":117},{"$f":"IF(ISTEXT('S10'!$H$50),NA(),'S10'!$H$50)","v":{"$error":"#N/A"}},{"$error":"#N/A"},{"$f":"IF(ISTEXT('S10'!$H$51),NA(),'S10'!$H$51)","v":{"$error":"#N/A"}},{"$error":"#N/A"},{"$f":"IF(ISTEXT('S10'!$H$52),NA(),'S10'!$H$52)","v":{"$error":"#N/A"}},{"$error":"#N/A"},{"$f":"IF(ISTEXT('S10'!$H$53),NA(),'S10'!$H$53)","v":{"$error":"#N/A"}},{"$error":"#N/A"},{"$f":"IF(ISTEXT('S10'!$H$55),NA(),'S10'!$H$55)","v":{"$error":"#N/A"}},{"$error":"#N/A"},{"$f":"IF(ISTEXT('S10'!$H$56),NA(),'S10'!$H$56)","v":{"$error":"#N/A"}},{"$error":"#N/A"},{"$f":"IF(ISTEXT('S10'!$H$58),NA(),'S10'!$H$58)","v":{"$error":"#N/A"}},{"$error":"#N/A"},{"$f":"IF(ISTEXT('S10'!$H$59),NA(),'S10'!$H$59)","v":{"$error":"#N/A"}},{"$error":"#N/A"},{"$f":"IF(ISTEXT('S10'!$H$60),NA(),'S10'!$H$60)","v":{"$error":"#N/A"}},{"$error":"#N/A"},{"$f":"IF(ISTEXT('S10'!$H$61),NA(),'S10'!$H$61)","v":{"$error":"#N/A"}},{"$error":"#N/A"},{"$f":"IF(ISTEXT('S10'!$H$62),NA(),'S10'!$H$62)","v":{"$error":"#N/A"}},{"$error":"#N/A"},{"$f":"IF(ISTEXT('S10'!$H$63),NA(),'S10'!$H$63)","v":{"$error":"#N/A"}},{"$error":"#N/A"},{"$f":"IF(ISTEXT('S10'!$H$64),NA(),'S10'!$H$64)","v":{"$error":"#N/A"}},{"$error":"#N/A"},{"$f":"IF(ISTEXT('S10'!$G$65),NA(),'S10'!$G$65)","v":{"$error":"#N/A"}},{"$error":"#N/A"},{"$f":"IF(ISTEXT('S10'!$H$67),NA(),'S10'!$H$67)","v":{"$error":"#N/A"}},{"$error":"#N/A"},{"$f":"IF(ISTEXT('S10'!$H$54),NA(),'S10'!$H$54)","v":{"$error":"#N/A"}},{"$error":"#N/A"},{"$f":"IF(ISTEXT('S10'!$H$57),NA(),'S10'!$H$57)","v":{"$error":"#N/A"}},{"$error":"#N/A"}]
[{"$f":"IF(ISBLANK('S10'!I$43),\" \",'S10'!I$43)","v":118},{"$f":"IF(ISTEXT('S10'!$J$50),NA(),'S10'!$J$50)","v":{"$error":"#N/A"}},{"$error":"#N/A"},{"$f":"IF(ISTEXT('S10'!$J$51),NA(),'S10'!$J$51)","v":{"$error":"#N/A"}},{"$error":"#N/A"},{"$f":"IF(ISTEXT('S10'!$J$52),NA(),'S10'!$J$52)","v":{"$error":"#N/A"}},{"$error":"#N/A"},{"$f":"IF(ISTEXT('S10'!$J$53),NA(),'S10'!$J$53)","v":{"$error":"#N/A"}},{"$error":"#N/A"},{"$f":"IF(ISTEXT('S10'!$J$55),NA(),'S10'!$J$55)","v":{"$error":"#N/A"}},{"$error":"#N/A"},{"$f":"IF(ISTEXT('S10'!$J$56),NA(),'S10'!$J$56)","v":{"$error":"#N/A"}},{"$error":"#N/A"},{"$f":"IF(ISTEXT('S10'!$J$58),NA(),'S10'!$J$58)","v":{"$error":"#N/A"}},{"$error":"#N/A"},{"$f":"IF(ISTEXT('S10'!$J$59),NA(),'S10'!$J$59)","v":{"$error":"#N/A"}},{"$error":"#N/A"},{"$f":"IF(ISTEXT('S10'!$J$60),NA(),'S10'!$J$60)","v":{"$error":"#N/A"}},{"$error":"#N/A"},{"$f":"IF(ISTEXT('S10'!$J$61),NA(),'S10'!$J$61)","v":{"$error":"#N/A"}},{"$error":"#N/A"},{"$f":"IF(ISTEXT('S10'!$J$62),NA(),'S10'!$J$62)","v":{"$error":"#N/A"}},{"$error":"#N/A"},{"$f":"IF(ISTEXT('S10'!$J$63),NA(),'S10'!$J$63)","v":{"$error":"#N/A"}},{"$error":"#N/A"},{"$f":"IF(ISTEXT('S10'!$J$64),NA(),'S10'!$J$64)","v":{"$error":"#N/A"}},{"$error":"#N/A"},{"$f":"IF(ISTEXT('S10'!$I$65),NA(),'S10'!$I$65)","v":{"$error":"#N/A"}},{"$error":"#N/A"},{"$f":"IF(ISTEXT('S10'!$J$67),NA(),'S10'!$J$67)","v":{"$error":"#N/A"}},{"$error":"#N/A"},{"$f":"IF(ISTEXT('S10'!$J$54),NA(),'S10'!$J$54)","v":{"$error":"#N/A"}},{"$error":"#N/A"},{"$f":"IF(ISTEXT('S10'!$J$57),NA(),'S10'!$J$57)","v":{"$error":"#N/A"}},{"$error":"#N/A"}]
[{"$f":"IF(ISBLANK('S10'!K$43),\" \",'S10'!K$43)","v":119},{"$f":"IF(ISTEXT('S10'!$L$50),NA(),'S10'!$L$50)","v":{"$error":"#N/A"}},{"$error":"#N/A"},{"$f":"IF(ISTEXT('S10'!$L$51),NA(),'S10'!$L$51)","v":{"$error":"#N/A"}},{"$error":"#N/A"},{"$f":"IF(ISTEXT('S10'!$L$52),NA(),'S10'!$L$52)","v":{"$error":"#N/A"}},{"$error":"#N/A"},{"$f":"IF(ISTEXT('S10'!$L$53),NA(),'S10'!$L$53)","v":{"$error":"#N/A"}},{"$error":"#N/A"},{"$f":"IF(ISTEXT('S10'!$L$55),NA(),'S10'!$L$55)","v":{"$error":"#N/A"}},{"$error":"#N/A"},{"$f":"IF(ISTEXT('S10'!$L$56),NA(),'S10'!$L$56)","v":{"$error":"#N/A"}},{"$error":"#N/A"},{"$f":"IF(ISTEXT('S10'!$L$58),NA(),'S10'!$L$58)","v":{"$error":"#N/A"}},{"$error":"#N/A"},{"$f":"IF(ISTEXT('S10'!$L$59),NA(),'S10'!$L$59)","v":{"$error":"#N/A"}},{"$error":"#N/A"},{"$f":"IF(ISTEXT('S10'!$L$60),NA(),'S10'!$L$60)","v":{"$error":"#N/A"}},{"$error":"#N/A"},{"$f":"IF(ISTEXT('S10'!$L$61),NA(),'S10'!$L$61)","v":{"$error":"#N/A"}},{"$error":"#N/A"},{"$f":"IF(ISTEXT('S10'!$L$62),NA(),'S10'!$L$62)","v":{"$error":"#N/A"}},{"$error":"#N/A"},{"$f":"IF(ISTEXT('S10'!$L$63),NA(),'S10'!$L$63)","v":{"$error":"#N/A"}},{"$error":"#N/A"},{"$f":"IF(ISTEXT('S10'!$L$64),NA(),'S10'!$L$64)","v":{"$error":"#N/A"}},{"$error":"#N/A"},{"$f":"IF(ISTEXT('S10'!$K$65),NA(),'S10'!$K$65)","v":{"$error":"#N/A"}},{"$error":"#N/A"},{"$f":"IF(ISTEXT('S10'!$L$67),NA(),'S10'!$L$67)","v":{"$error":"#N/A"}},{"$error":"#N/A"},{"$f":"IF(ISTEXT('S10'!$L$54),NA(),'S10'!$L$54)","v":{"$error":"#N/A"}},{"$error":"#N/A"},{"$f":"IF(ISTEXT('S10'!$L$57),NA(),'S10'!$L$57)","v":{"$error":"#N/A"}},{"$error":"#N/A"}]
[{"$f":"IF(ISBLANK('S10'!M$43),\" \",'S10'!M$43)","v":120},{"$f":"IF(ISTEXT('S10'!$N$50),NA(),'S10'!$N$50)","v":{"$error":"#N/A"}},{"$error":"#N/A"},{"$f":"IF(ISTEXT('S10'!$N$51),NA(),'S10'!$N$51)","v":{"$error":"#N/A"}},{"$error":"#N/A"},{"$f":"IF(ISTEXT('S10'!$N$52),NA(),'S10'!$N$52)","v":{"$error":"#N/A"}},{"$error":"#N/A"},{"$f":"IF(ISTEXT('S10'!$N$53),NA(),'S10'!$N$53)","v":{"$error":"#N/A"}},{"$error":"#N/A"},{"$f":"IF(ISTEXT('S10'!$N$55),NA(),'S10'!$N$55)","v":{"$error":"#N/A"}},{"$error":"#N/A"},{"$f":"IF(ISTEXT('S10'!$N$56),NA(),'S10'!$N$56)","v":{"$error":"#N/A"}},{"$error":"#N/A"},{"$f":"IF(ISTEXT('S10'!$N$58),NA(),'S10'!$N$58)","v":{"$error":"#N/A"}},{"$error":"#N/A"},{"$f":"IF(ISTEXT('S10'!$N$59),NA(),'S10'!$N$59)","v":{"$error":"#N/A"}},{"$error":"#N/A"},{"$f":"IF(ISTEXT('S10'!$N$60),NA(),'S10'!$N$60)","v":{"$error":"#N/A"}},{"$error":"#N/A"},{"$f":"IF(ISTEXT('S10'!$N$61),NA(),'S10'!$N$61)","v":{"$error":"#N/A"}},{"$error":"#N/A"},{"$f":"IF(ISTEXT('S10'!$N$62),NA(),'S10'!$N$62)","v":{"$error":"#N/A"}},{"$error":"#N/A"},{"$f":"IF(ISTEXT('S10'!$N$63),NA(),'S10'!$N$63)","v":{"$error":"#N/A"}},{"$error":"#N/A"},{"$f":"IF(ISTEXT('S10'!$N$64),NA(),'S10'!$N$64)","v":{"$error":"#N/A"}},{"$error":"#N/A"},{"$f":"IF(ISTEXT('S10'!$M$65),NA(),'S10'!$M$65)","v":{"$error":"#N/A"}},{"$error":"#N/A"},{"$f":"IF(ISTEXT('S10'!$N$67),NA(),'S10'!$N$67)","v":{"$error":"#N/A"}},{"$error":"#N/A"},{"$f":"IF(ISTEXT('S10'!$N$54),NA(),'S10'!$N$54)","v":{"$error":"#N/A"}},{"$error":"#N/A"},{"$f":"IF(ISTEXT('S10'!$N$57),NA(),'S10'!$N$57)","v":{"$error":"#N/A"}},{"$error":"#N/A"}]
[{"$f":"IF(ISBLANK('S11'!C$10),\" \",'S11'!C$10)","v":121},{"$f":"IF(ISTEXT('S11'!$D$17),NA(),'S11'!$D$17)","v":{"$error":"#N/A"}},{"$error":"#N/A"},{"$f":"IF(ISTEXT('S11'!$D$18),NA(),'S11'!$D$18)","v":{"$error":"#N/A"}},{"$error":"#N/A"},{"$f":"IF(ISTEXT('S11'!$D$19),NA(),'S11'!$D$19)","v":{"$error":"#N/A"}},{"$error":"#N/A"},{"$f":"IF(ISTEXT('S11'!$D$20),NA(),'S11'!$D$20)","v":{"$error":"#N/A"}},{"$error":"#N/A"},{"$f":"IF(ISTEXT('S11'!$D$22),NA(),'S11'!$D$22)","v":{"$error":"#N/A"}},{"$error":"#N/A"},{"$f":"IF(ISTEXT('S11'!$D$23),NA(),'S11'!$D$23)","v":{"$error":"#N/A"}},{"$error":"#N/A"},{"$f":"IF(ISTEXT('S11'!$D$25),NA(),'S11'!$D$25)","v":{"$error":"#N/A"}},{"$error":"#N/A"},{"$f":"IF(ISTEXT('S11'!$D$26),NA(),'S11'!$D$26)","v":{"$error":"#N/A"}},{"$error":"#N/A"},{"$f":"IF(ISTEXT('S11'!$D$27),NA(),'S11'!$D$27)","v":{"$error":"#N/A"}},{"$error":"#N/A"},{"$f":"IF(ISTEXT('S11'!$D$28),NA(),'S11'!$D$28)","v":{"$error":"#N/A"}},{"$error":"#N/A"},{"$f":"IF(ISTEXT('S11'!$D$29),NA(),'S11'!$D$29)","v":{"$error":"#N/A"}},{"$f":"ROUND(AVERAGE(V120:V122),0)","v":{"$error":"#N/A"}},{"$f":"IF(ISTEXT('S11'!$D$30),NA(),'S11'!$D$30)","v":{"$error":"#N/A"}},{"$f":"ROUND(AVERAGE(X120:X122),0)","v":{"$error":"#N/A"}},{"$f":"IF(ISTEXT('S11'!$D$31),NA(),'S11'!$D$31)","v":{"$error":"#N/A"}},{"$f":"ROUND(AVERAGE(Z120:Z122),2)","v":{"$error":"#N/A"}},{"$f":"IF(ISTEXT('S11'!$C$32),NA(),'S11'!$C$32)","v":{"$error":"#N/A"}},{"$f":"ROUND(AVERAGE(AB120:AB122),2)","v":{"$error":"#N/A"}},{"$f":"IF(ISTEXT('S11'!$D$34),NA(),'S11'!$D$34)","v":{"$error":"#N/A"}},{"$f":"ROUND(AVERAGE(AD120:AD122),2)","v":{"$error":"#N/A"}},{"$f":"IF(ISTEXT('S11'!$D$21),NA(),'S11'!$D$21)","v":{"$error":"#N/A"}},{"$error":"#N/A"},{"$f":"IF(ISTEXT('S11'!$D$24),NA(),'S11'!$D$24)","v":{"$error":"#N/A"}},{"$error":"#N/A"}]
[{"$f":"IF(ISBLANK('S11'!E$10),\" \",'S11'!E$10)","v":122},{"$f":"IF(ISTEXT('S11'!$F$17),NA(),'S11'!$F$17)","v":{"$error":"#N/A"}},{"$error":"#N/A"},{"$f":"IF(ISTEXT('S11'!$F$18),NA(),'S11'!$F$18)","v":{"$error":"#N/A"}},{"$error":"#N/A"},{"$f":"IF(ISTEXT('S11'!$F$19),NA(),'S11'!$F$19)","v":{"$error":"#N/A"}},{"$error":"#N/A"},{"$f":"IF(ISTEXT('S11'!$F$20),NA(),'S11'!$F$20)","v":{"$error":"#N/A"}},{"$error":"#N/A"},{"$f":"IF(ISTEXT('S11'!$F$22),NA(),'S11'!$F$22)","v":{"$error":"#N/A"}},{"$error":"#N/A"},{"$f":"IF(ISTEXT('S11'!$F$23),NA(),'S11'!$F$23)","v":{"$error":"#N/A"}},{"$error":"#N/A"},{"$f":"IF(ISTEXT('S11'!$F$25),NA(),'S11'!$F$25)","v":{"$error":"#N/A"}},{"$error":"#N/A"},{"$f":"IF(ISTEXT('S11'!$F$26),NA(),'S11'!$F$26)","v":{"$error":"#N/A"}},{"$error":"#N/A"},{"$f":"IF(ISTEXT('S11'!$F$27),NA(),'S11'!$F$27)","v":{"$error":"#N/A"}},{"$error":"#N/A"},{"$f":"IF(ISTEXT('S11'!$F$28),NA(),'S11'!$F$28)","v":{"$error":"#N/A"}},{"$error":"#N/A"},{"$f":"IF(ISTEXT('S11'!$F$29),NA(),'S11'!$F$29)","v":{"$error":"#N/A"}},{"$f":"ROUND(AVERAGE(V121:V123),0)","v":{"$error":"#N/A"}},{"$f":"IF(ISTEXT('S11'!$F$30),NA(),'S11'!$F$30)","v":{"$error":"#N/A"}},{"$f":"ROUND(AVERAGE(X121:X123),0)","v":{"$error":"#N/A"}},{"$f":"IF(ISTEXT('S11'!$F$31),NA(),'S11'!$F$31)","v":{"$error":"#N/A"}},{"$f":"ROUND(AVERAGE(Z121:Z123),2)","v":{"$error":"#N/A"}},{"$f":"IF(ISTEXT('S11'!$E$32),NA(),'S11'!$E$32)","v":{"$error":"#N/A"}},{"$f":"ROUND(AVERAGE(AB121:AB123),2)","v":{"$error":"#N/A"}},{"$f":"IF(ISTEXT('S11'!$F$34),NA(),'S11'!$F$34)","v":{"$error":"#N/A"}},{"$f":"ROUND(AVERAGE(AD121:AD123),2)","v":{"$error":"#N/A"}},{"$f":"IF(ISTEXT('S11'!$F$21),NA(),'S11'!$F$21)","v":{"$error":"#N/A"}},{"$error":"#N/A"},{"$f":"IF(ISTEXT('S11'!$F$24),NA(),'S11'!$F$24)","v":{"$error":"#N/A"}},{"$error":"#N/A"}]
[{"$f":"IF(ISBLANK('S11'!G$10),\" \",'S11'!G$10)","v":123},{"$f":"IF(ISTEXT('S11'!$H$17),NA(),'S11'!$H$17)","v":{"$error":"#N/A"}},{"$error":"#N/A"},{"$f":"IF(ISTEXT('S11'!$H$18),NA(),'S11'!$H$18)","v":{"$error":"#N/A"}},{"$error":"#N/A"},{"$f":"IF(ISTEXT('S11'!$H$19),NA(),'S11'!$H$19)","v":{"$error":"#N/A"}},{"$error":"#N/A"},{"$f":"IF(ISTEXT('S11'!$H$20),NA(),'S11'!$H$20)","v":{"$error":"#N/A"}},{"$error":"#N/A"},{"$f":"IF(ISTEXT('S11'!$H$22),NA(),'S11'!$H$22)","v":{"$error":"#N/A"}},{"$error":"#N/A"},{"$f":"IF(ISTEXT('S11'!$H$23),NA(),'S11'!$H$23)","v":{"$error":"#N/A"}},{"$error":"#N/A"},{"$f":"IF(ISTEXT('S11'!$H$25),NA(),'S11'!$H$25)","v":{"$error":"#N/A"}},{"$error":"#N/A"},{"$f":"IF(ISTEXT('S11'!$H$26),NA(),'S11'!$H$26)","v":{"$error":"#N/A"}},{"$error":"#N/A"},{"$f":"IF(ISTEXT('S11'!$H$27),NA(),'S11'!$H$27)","v":{"$error":"#N/A"}},{"$error":"#N/A"},{"$f":"IF(ISTEXT('S11'!$H$28),NA(),'S11'!$H$28)","v":{"$error":"#N/A"}},{"$error":"#N/A"},{"$f":"IF(ISTEXT('S11'!$H$29),NA(),'S11'!$H$29)","v":{"$error":"#N/A"}},{"$f":"ROUND(AVERAGE(V122:V124),0)","v":{"$error":"#N/A"}},{"$f":"IF(ISTEXT('S11'!$H$30),NA(),'S11'!$H$30)","v":{"$error":"#N/A"}},{"$f":"ROUND(AVERAGE(X122:X124),0)","v":{"$error":"#N/A"}},{"$f":"IF(ISTEXT('S11'!$H$31),NA(),'S11'!$H$31)","v":{"$error":"#N/A"}},{"$f":"ROUND(AVERAGE(Z122:Z124),2)","v":{"$error":"#N/A"}},{"$f":"IF(ISTEXT('S11'!$G$32),NA(),'S11'!$G$32)","v":{"$error":"#N/A"}},{"$f":"ROUND(AVERAGE(AB122:AB124),2)","v":{"$error":"#N/A"}},{"$f":"IF(ISTEXT('S11'!$H$34),NA(),'S11'!$H$34)","v":{"$error":"#N/A"}},{"$f":"ROUND(AVERAGE(AD122:AD124),2)","v":{"$error":"#N/A"}},{"$f":"IF(ISTEXT('S11'!$H$21),NA(),'S11'!$H$21)","v":{"$error":"#N/A"}},{"$error":"#N/A"},{"$f":"IF(ISTEXT('S11'!$H$24),NA(),'S11'!$H$24)","v":{"$error":"#N/A"}},{"$error":"#N/A"}]
[{"$f":"IF(ISBLANK('S11'!I$10),\" \",'S11'!I$10)","v":124},{"$f":"IF(ISTEXT('S11'!$J$17),NA(),'S11'!$J$17)","v":{"$error":"#N/A"}},{"$error":"#N/A"},{"$f":"IF(ISTEXT('S11'!$J$18),NA(),'S11'!$J$18)","v":{"$error":"#N/A"}},{"$error":"#N/A"},{"$f":"IF(ISTEXT('S11'!$J$19),NA(),'S11'!$J$19)","v":{"$error":"#N/A"}},{"$error":"#N/A"},{"$f":"IF(ISTEXT('S11'!$J$20),NA(),'S11'!$J$20)","v":{"$error":"#N/A"}},{"$error":"#N/A"},{"$f":"IF(ISTEXT('S11'!$J$22),NA(),'S11'!$J$22)","v":{"$error":"#N/A"}},{"$error":"#N/A"},{"$f":"IF(ISTEXT('S11'!$J$23),NA(),'S11'!$J$23)","v":{"$error":"#N/A"}},{"$error":"#N/A"},{"$f":"IF(ISTEXT('S11'!$J$25),NA(),'S11'!$J$25)","v":{"$error":"#N/A"}},{"$error":"#N/A"},{"$f":"IF(ISTEXT('S11'!$J$26),NA(),'S11'!$J$26)","v":{"$error":"#N/A"}},{"$error":"#N/A"},{"$f":"IF(ISTEXT('S11'!$J$27),NA(),'S11'!$J$27)","v":{"$error":"#N/A"}},{"$error":"#N/A"},{"$f":"IF(ISTEXT('S11'!$J$28),NA(),'S11'!$J$28)","v":{"$error":"#N/A"}},{"$error":"#N/A"},{"$f":"IF(ISTEXT('S11'!$J$29),NA(),'S11'!$J$29)","v":{"$error":"#N/A"}},{"$f":"ROUND(AVERAGE(V123:V125),0)","v":{"$error":"#N/A"}},{"$f":"IF(ISTEXT('S11'!$J$30),NA(),'S11'!$J$30)","v":{"$error":"#N/A"}},{"$error":"#N/A"},{"$f":"IF(ISTEXT('S11'!$J$31),NA(),'S11'!$J$31)","v":{"$error":"#N/A"}},{"$error":"#N/A"},{"$f":"IF(ISTEXT('S11'!$I$32),NA(),'S11'!$I$32)","v":{"$error":"#N/A"}},{"$error":"#N/A"},{"$f":"IF(ISTEXT('S11'!$J$34),NA(),'S11'!$J$34)","v":{"$error":"#N/A"}},{"$error":"#N/A"},{"$f":"IF(ISTEXT('S11'!$J$21),NA(),'S11'!$J$21)","v":{"$error":"#N/A"}},{"$error":"#N/A"},{"$f":"IF(ISTEXT('S11'!$J$24),NA(),'S11'!$J$24)","v":{"$error":"#N/A"}},{"$error":"#N/A"}]
[{"$f":"IF(ISBLANK('S11'!K$10),\" \",'S11'!K$10)","v":125},{"$f":"IF(ISTEXT('S11'!$L$17),NA(),'S11'!$L$17)","v":{"$error":"#N/A"}},{"$error":"#N/A"},{"$f":"IF(ISTEXT('S11'!$L$18),NA(),'S11'!$L$18)","v":{"$error":"#N/A"}},{"$error":"#N/A"},{"$f":"IF(ISTEXT('S11'!$L$19),NA(),'S11'!$L$19)","v":{"$error":"#N/A"}},{"$error":"#N/A"},{"$f":"IF(ISTEXT('S11'!$L$20),NA(),'S11'!$L$20)","v":{"$error":"#N/A"}},{"$error":"#N/A"},{"$f":"IF(ISTEXT('S11'!$L$22),NA(),'S11'!$L$22)","v":{"$error":"#N/A"}},{"$error":"#N/A"},{"$f":"IF(ISTEXT('S11'!$L$23),NA(),'S11'!$L$23)","v":{"$error":"#N/A"}},{"$error":"#N/A"},{"$f":"IF(ISTEXT('S11'!$L$25),NA(),'S11'!$L$25)","v":{"$error":"#N/A"}},{"$error":"#N/A"},{"$f":"IF(ISTEXT('S11'!$L$26),NA(),'S11'!$L$26)","v":{"$error":"#N/A"}},{"$error":"#N/A"},{"$f":"IF(ISTEXT('S11'!$L$27),NA(),'S11'!$L$27)","v":{"$error":"#N/A"}},{"$error":"#N/A"},{"$f":"IF(ISTEXT('S11'!$L$28),NA(),'S11'!$L$28)","v":{"$error":"#N/A"}},{"$error":"#N/A"},{"$f":"IF(ISTEXT('S11'!$L$29),NA(),'S11'!$L$29)","v":{"$error":"#N/A"}},{"$error":"#N/A"},{"$f":"IF(ISTEXT('S11'!$L$30),NA(),'S11'!$L$30)","v":{"$error":"#N/A"}},{"$error":"#N/A"},{"$f":"IF(ISTEXT('S11'!$L$31),NA(),'S11'!$L$31)","v":{"$error":"#N/A"}},{"$error":"#N/A"},{"$f":"IF(ISTEXT('S11'!$K$32),NA(),'S11'!$K$32)","v":{"$error":"#N/A"}},{"$error":"#N/A"},{"$f":"IF(ISTEXT('S11'!$L$34),NA(),'S11'!$L$34)","v":{"$error":"#N/A"}},{"$error":"#N/A"},{"$f":"IF(ISTEXT('S11'!$L$21),NA(),'S11'!$L$21)","v":{"$error":"#N/A"}},{"$error":"#N/A"},{"$f":"IF(ISTEXT('S11'!$L$24),NA(),'S11'!$L$24)","v":{"$error":"#N/A"}},{"$error":"#N/A"}]
[{"$f":"IF(ISBLANK('S11'!M$10),\" \",'S11'!M$10)","v":126},{"$f":"IF(ISTEXT('S11'!$N$17),NA(),'S11'!$N$17)","v":{"$error":"#N/A"}},{"$error":"#N/A"},{"$f":"IF(ISTEXT('S11'!$N$18),NA(),'S11'!$N$18)","v":{"$error":"#N/A"}},{"$error":"#N/A"},{"$f":"IF(ISTEXT('S11'!$N$19),NA(),'S11'!$N$19)","v":{"$error":"#N/A"}},{"$error":"#N/A"},{"$f":"IF(ISTEXT('S11'!$N$20),NA(),'S11'!$N$20)","v":{"$error":"#N/A"}},{"$error":"#N/A"},{"$f":"IF(ISTEXT('S11'!$N$22),NA(),'S11'!$N$22)","v":{"$error":"#N/A"}},{"$error":"#N/A"},{"$f":"IF(ISTEXT('S11'!$N$23),NA(),'S11'!$N$23)","v":{"$error":"#N/A"}},{"$error":"#N/A"},{"$f":"IF(ISTEXT('S11'!$N$25),NA(),'S11'!$N$25)","v":{"$error":"#N/A"}},{"$error":"#N/A"},{"$f":"IF(ISTEXT('S11'!$N$26),NA(),'S11'!$N$26)","v":{"$error":"#N/A"}},{"$error":"#N/A"},{"$f":"IF(ISTEXT('S11'!$N$27),NA(),'S11'!$N$27)","v":{"$error":"#N/A"}},{"$error":"#N/A"},{"$f":"IF(ISTEXT('S11'!$N$28),NA(),'S11'!$N$28)","v":{"$error":"#N/A"}},{"$error":"#N/A"},{"$f":"IF(ISTEXT('S11'!$N$29),NA(),'S11'!$N$29)","v":{"$error":"#N/A"}},{"$error":"#N/A"},{"$f":"IF(ISTEXT('S11'!$N$30),NA(),'S11'!$N$30)","v":{"$error":"#N/A"}},{"$error":"#N/A"},{"$f":"IF(ISTEXT('S11'!$N$31),NA(),'S11'!$N$31)","v":{"$error":"#N/A"}},{"$error":"#N/A"},{"$f":"IF(ISTEXT('S11'!$M$32),NA(),'S11'!$M$32)","v":{"$error":"#N/A"}},{"$error":"#N/A"},{"$f":"IF(ISTEXT('S11'!$N$34),NA(),'S11'!$N$34)","v":{"$error":"#N/A"}},{"$error":"#N/A"},{"$f":"IF(ISTEXT('S11'!$N$21),NA(),'S11'!$N$21)","v":{"$error":"#N/A"}},{"$error":"#N/A"},{"$f":"IF(ISTEXT('S11'!$N$24),NA(),'S11'!$N$24)","v":{"$error":"#N/A"}},{"$error":"#N/A"}]
[{"$f":"IF(ISBLANK('S11'!C$43),\" \",'S11'!C$43)","v":127},{"$f":"IF(ISTEXT('S11'!$D$50),NA(),'S11'!$D$50)","v":{"$error":"#N/A"}},{"$error":"#N/A"},{"$f":"IF(ISTEXT('S11'!$D$51),NA(),'S11'!$D$51)","v":{"$error":"#N/A"}},{"$error":"#N/A"},{"$f":"IF(ISTEXT('S11'!$D$52),NA(),'S11'!$D$52)","v":{"$error":"#N/A"}},{"$error":"#N/A"},{"$f":"IF(ISTEXT('S11'!$D$53),NA(),'S11'!$D$53)","v":{"$error":"#N/A"}},{"$error":"#N/A"},{"$f":"IF(ISTEXT('S11'!$D$55),NA(),'S11'!$D$55)","v":{"$error":"#N/A"}},{"$error":"#N/A"},{"$f":"IF(ISTEXT('S11'!$D$56),NA(),'S11'!$D$56)","v":{"$error":"#N/A"}},{"$error":"#N/A"},{"$f":"IF(ISTEXT('S11'!$D$58),NA(),'S11'!$D$58)","v":{"$error":"#N/A"}},{"$error":"#N/A"},{"$f":"IF(ISTEXT('S11'!$D$59),NA(),'S11'!$D$59)","v":{"$error":"#N/A"}},{"$error":"#N/A"},{"$f":"IF(ISTEXT('S11'!$D$60),NA(),'S11'!$D$60)","v":{"$error":"#N/A"}},{"$error":"#N/A"},{"$f":"IF(ISTEXT('S11'!$D$61),NA(),'S11'!$D$61)","v":{"$error":"#N/A"}},{"$error":"#N/A"},{"$f":"IF(ISTEXT('S11'!$D$62),NA(),'S11'!$D$62)","v":{"$error":"#N/A"}},{"$error":"#N/A"},{"$f":"IF(ISTEXT('S11'!$D$63),NA(),'S11'!$D$63)","v":{"$error":"#N/A"}},{"$error":"#N/A"},{"$f":"IF(ISTEXT('S11'!$D$64),NA(),'S11'!$D$64)","v":{"$error":"#N/A"}},{"$error":"#N/A"},{"$f":"IF(ISTEXT('S11'!$C$65),NA(),'S11'!$C$65)","v":{"$error":"#N/A"}},{"$error":"#N/A"},{"$f":"IF(ISTEXT('S11'!$D$67),NA(),'S11'!$D$67)","v":{"$error":"#N/A"}},{"$f":"ROUND(AVERAGE(AD126:AD128),2)","v":{"$error":"#N/A"}},{"$f":"IF(ISTEXT('S11'!$D$54),NA(),'S11'!$D$54)","v":{"$error":"#N/A"}},{"$error":"#N/A"},{"$f":"IF(ISTEXT('S11'!$D$57),NA(),'S11'!$D$57)","v":{"$error":"#N/A"}},{"$error":"#N/A"}]
[{"$f":"IF(ISBLANK('S11'!E$43),\" \",'S11'!E$43)","v":128},{"$f":"IF(ISTEXT('S11'!$F$50),NA(),'S11'!$F$50)","v":{"$error":"#N/A"}},{"$error":"#N/A"},{"$f":"IF(ISTEXT('S11'!$F$51),NA(),'S11'!$F$51)","v":{"$error":"#N/A"}},{"$error":"#N/A"},{"$f":"IF(ISTEXT('S11'!$F$52),NA(),'S11'!$F$52)","v":{"$error":"#N/A"}},{"$error":"#N/A"},{"$f":"IF(ISTEXT('S11'!$F$53),NA(),'S11'!$F$53)","v":{"$error":"#N/A"}},{"$error":"#N/A"},{"$f":"IF(ISTEXT('S11'!$F$55),NA(),'S11'!$F$55)","v":{"$error":"#N/A"}},{"$error":"#N/A"},{"$f":"IF(ISTEXT('S11'!$F$56),NA(),'S11'!$F$56)","v":{"$error":"#N/A"}},{"$error":"#N/A"},{"$f":"IF(ISTEXT('S11'!$F$58),NA(),'S11'!$F$58)","v":{"$error":"#N/A"}},{"$error":"#N/A"},{"$f":"IF(ISTEXT('S11'!$F$59),NA(),'S11'!$F$59)","v":{"$error":"#N/A"}},{"$error":"#N/A"},{"$f":"IF(ISTEXT('S11'!$F$60),NA(),'S11'!$F$60)","v":{"$error":"#N/A"}},{"$error":"#N/A"},{"$f":"IF(ISTEXT('S11'!$F$61),NA(),'S11'!$F$61)","v":{"$error":"#N/A"}},{"$error":"#N/A"},{"$f":"IF(ISTEXT('S11'!$F$62),NA(),'S11'!$F$62)","v":{"$error":"#N/A"}},{"$error":"#N/A"},{"$f":"IF(ISTEXT('S11'!$F$63),NA(),'S11'!$F$63)","v":{"$error":"#N/A"}},{"$error":"#N/A"},{"$f":"IF(ISTEXT('S11'!$F$64),NA(),'S11'!$F$64)","v":{"$error":"#N/A"}},{"$error":"#N/A"},{"$f":"IF(ISTEXT('S11'!$E$65),NA(),'S11'!$E$65)","v":{"$error":"#N/A"}},{"$error":"#N/A"},{"$f":"IF(ISTEXT('S11'!$F$67),NA(),'S11'!$F$67)","v":{"$error":"#N/A"}},{"$error":"#N/A"},{"$f":"IF(ISTEXT('S11'!$F$54),NA(),'S11'!$F$54)","v":{"$error":"#N/A"}},{"$error":"#N/A"},{"$f":"IF(ISTEXT('S11'!$F$57),NA(),'S11'!$F$57)","v":{"$error":"#N/A"}},{"$error":"#N/A"}]
[{"$f":"IF(ISBLANK('S11'!G$43),\" \",'S11'!G$43)","v":129},{"$f":"IF(ISTEXT('S11'!$H$50),NA(),'S11'!$H$50)","v":{"$error":"#N/A"}},{"$error":"#N/A"},{"$f":"IF(ISTEXT('S11'!$H$51),NA(),'S11'!$H$51)","v":{"$error":"#N/A"}},{"$error":"#N/A"},{"$f":"IF(ISTEXT('S11'!$H$52),NA(),'S11'!$H$52)","v":{"$error":"#N/A"}},{"$error":"#N/A"},{"$f":"IF(ISTEXT('S11'!$H$53),NA(),'S11'!$H$53)","v":{"$error":"#N/A"}},{"$error":"#N/A"},{"$f":"IF(ISTEXT('S11'!$H$55),NA(),'S11'!$H$55)","v":{"$error":"#N/A"}},{"$error":"#N/A"},{"$f":"IF(ISTEXT('S11'!$H$56),NA(),'S11'!$H$56)","v":{"$error":"#N/A"}},{"$error":"#N/A"},{"$f":"IF(ISTEXT('S11'!$H$58),NA(),'S11'!$H$58)","v":{"$error":"#N/A"}},{"$error":"#N/A"},{"$f":"IF(ISTEXT('S11'!$H$59),NA(),'S11'!$H$59)","v":{"$error":"#N/A"}},{"$error":"#N/A"},{"$f":"IF(ISTEXT('S11'!$H$60),NA(),'S11'!$H$60)","v":{"$error":"#N/A"}},{"$error":"#N/A"},{"$f":"IF(ISTEXT('S11'!$H$61),NA(),'S11'!$H$61)","v":{"$error":"#N/A"}},{"$error":"#N/A"},{"$f":"IF(ISTEXT('S11'!$H$62),NA(),'S11'!$H$62)","v":{"$error":"#N/A"}},{"$error":"#N/A"},{"$f":"IF(ISTEXT('S11'!$H$63),NA(),'S11'!$H$63)","v":{"$error":"#N/A"}},{"$error":"#N/A"},{"$f":"IF(ISTEXT('S11'!$H$64),NA(),'S11'!$H$64)","v":{"$error":"#N/A"}},{"$f":"ROUND(AVERAGE(Z128:Z130),2)","v":{"$error":"#N/A"}},{"$f":"IF(ISTEXT('S11'!$G$65),NA(),'S11'!$G$65)","v":{"$error":"#N/A"}},{"$error":"#N/A"},{"$f":"IF(ISTEXT('S11'!$H$67),NA(),'S11'!$H$67)","v":{"$error":"#N/A"}},{"$f":"ROUND(AVERAGE(AD128:AD130),2)","v":{"$error":"#N/A"}},{"$f":"IF(ISTEXT('S11'!$H$54),NA(),'S11'!$H$54)","v":{"$error":"#N/A"}},{"$error":"#N/A"},{"$f":"IF(ISTEXT('S11'!$H$57),NA(),'S11'!$H$57)","v":{"$error":"#N/A"}},{"$error":"#N/A"}]
[{"$f":"IF(ISBLANK('S11'!I$43),\" \",'S11'!I$43)","v":130},{"$f":"IF(ISTEXT('S11'!$J$50),NA(),'S11'!$J$50)","v":{"$error":"#N/A"}},{"$error":"#N/A"},{"$f":"IF(ISTEXT('S11'!$J$51),NA(),'S11'!$J$51)","v":{"$error":"#N/A"}},{"$error":"#N/A"},{"$f":"IF(ISTEXT('S11'!$J$52),NA(),'S11'!$J$52)","v":{"$error":"#N/A"}},{"$error":"#N/A"},{"$f":"IF(ISTEXT('S11'!$J$53),NA(),'S11'!$J$53)","v":{"$error":"#N/A"}},{"$error":"#N/A"},{"$f":"IF(ISTEXT('S11'!$J$55),NA(),'S11'!$J$55)","v":{"$error":"#N/A"}},{"$error":"#N/A"},{"$f":"IF(ISTEXT('S11'!$J$56),NA(),'S11'!$J$56)","v":{"$error":"#N/A"}},{"$error":"#N/A"},{"$f":"IF(ISTEXT('S11'!$J$58),NA(),'S11'!$J$58)","v":{"$error":"#N/A"}},{"$error":"#N/A"},{"$f":"IF(ISTEXT('S11'!$J$59),NA(),'S11'!$J$59)","v":{"$error":"#N/A"}},{"$error":"#N/A"},{"$f":"IF(ISTEXT('S11'!$J$60),NA(),'S11'!$J$60)","v":{"$error":"#N/A"}},{"$error":"#N/A"},{"$f":"IF(ISTEXT('S11'!$J$61),NA(),'S11'!$J$61)","v":{"$error":"#N/A"}},{"$error":"#N/A"},{"$f":"IF(ISTEXT('S11'!$J$62),NA(),'S11'!$J$62)","v":{"$error":"#N/A"}},{"$error":"#N/A"},{"$f":"IF(ISTEXT('S11'!$J$63),NA(),'S11'!$J$63)","v":{"$error":"#N/A"}},{"$error":"#N/A"},{"$f":"IF(ISTEXT('S11'!$J$64),NA(),'S11'!$J$64)","v":{"$error":"#N/A"}},{"$error":"#N/A"},{"$f":"IF(ISTEXT('S11'!$I$65),NA(),'S11'!$I$65)","v":{"$error":"#N/A"}},{"$error":"#N/A"},{"$f":"IF(ISTEXT('S11'!$J$67),NA(),'S11'!$J$67)","v":{"$error":"#N/A"}},{"$f":"ROUND(AVERAGE(AD129:AD131),2)","v":{"$error":"#N/A"}},{"$f":"IF(ISTEXT('S11'!$J$54),NA(),'S11'!$J$54)","v":{"$error":"#N/A"}},{"$error":"#N/A"},{"$f":"IF(ISTEXT('S11'!$J$57),NA(),'S11'!$J$57)","v":{"$error":"#N/A"}},{"$error":"#N/A"}]
[{"$f":"IF(ISBLANK('S11'!K$43),\" \",'S11'!K$43)","v":131},{"$f":"IF(ISTEXT('S11'!$L$50),NA(),'S11'!$L$50)","v":{"$error":"#N/A"}},{"$error":"#N/A"},{"$f":"IF(ISTEXT('S11'!$L$51),NA(),'S11'!$L$51)","v":{"$error":"#N/A"}},{"$error":"#N/A"},{"$f":"IF(ISTEXT('S11'!$L$52),NA(),'S11'!$L$52)","v":{"$error":"#N/A"}},{"$error":"#N/A"},{"$f":"IF(ISTEXT('S11'!$L$53),NA(),'S11'!$L$53)","v":{"$error":"#N/A"}},{"$error":"#N/A"},{"$f":"IF(ISTEXT('S11'!$L$55),NA(),'S11'!$L$55)","v":{"$error":"#N/A"}},{"$error":"#N/A"},{"$f":"IF(ISTEXT('S11'!$L$56),NA(),'S11'!$L$56)","v":{"$error":"#N/A"}},{"$error":"#N/A"},{"$f":"IF(ISTEXT('S11'!$L$58),NA(),'S11'!$L$58)","v":{"$error":"#N/A"}},{"$error":"#N/A"},{"$f":"IF(ISTEXT('S11'!$L$59),NA(),'S11'!$L$59)","v":{"$error":"#N/A"}},{"$error":"#N/A"},{"$f":"IF(ISTEXT('S11'!$L$60),NA(),'S11'!$L$60)","v":{"$error":"#N/A"}},{"$error":"#N/A"},{"$f":"IF(ISTEXT('S11'!$L$61),NA(),'S11'!$L$61)","v":{"$error":"#N/A"}},{"$error":"#N/A"},{"$f":"IF(ISTEXT('S11'!$L$62),NA(),'S11'!$L$62)","v":{"$error":"#N/A"}},{"$error":"#N/A"},{"$f":"IF(ISTEXT('S11'!$L$63),NA(),'S11'!$L$63)","v":{"$error":"#N/A"}},{"$error":"#N/A"},{"$f":"IF(ISTEXT('S11'!$L$64),NA(),'S11'!$L$64)","v":{"$error":"#N/A"}},{"$error":"#N/A"},{"$f":"IF(ISTEXT('S11'!$K$65),NA(),'S11'!$K$65)","v":{"$error":"#N/A"}},{"$error":"#N/A"},{"$f":"IF(ISTEXT('S11'!$L$67),NA(),'S11'!$L$67)","v":{"$error":"#N/A"}},{"$error":"#N/A"},{"$f":"IF(ISTEXT('S11'!$L$54),NA(),'S11'!$L$54)","v":{"$error":"#N/A"}},{"$error":"#N/A"},{"$f":"IF(ISTEXT('S11'!$L$57),NA(),'S11'!$L$57)","v":{"$error":"#N/A"}},{"$error":"#N/A"}]
[{"$f":"IF(ISBLANK('S11'!M$43),\" \",'S11'!M$43)","v":132},{"$f":"IF(ISTEXT('S11'!$N$50),NA(),'S11'!$N$50)","v":{"$error":"#N/A"}},{"$error":"#N/A"},{"$f":"IF(ISTEXT('S11'!$N$51),NA(),'S11'!$N$51)","v":{"$error":"#N/A"}},{"$error":"#N/A"},{"$f":"IF(ISTEXT('S11'!$N$52),NA(),'S11'!$N$52)","v":{"$error":"#N/A"}},{"$f":"SUM(F131:F133)/3","v":{"$error":"#N/A"}},{"$f":"IF(ISTEXT('S11'!$N$53),NA(),'S11'!$N$53)","v":{"$error":"#N/A"}},{"$f":"SUM(H131:H133)/3","v":{"$error":"#N/A"}},{"$f":"IF(ISTEXT('S11'!$N$55),NA(),'S11'!$N$55)","v":{"$error":"#N/A"}},{"$f":"SUM(J131:J133)/3","v":{"$error":"#N/A"}},{"$f":"IF(ISTEXT('S11'!$N$56),NA(),'S11'!$N$56)","v":{"$error":"#N/A"}},{"$f":"SUM(L131:L133)/3","v":{"$error":"#N/A"}},{"$f":"IF(ISTEXT('S11'!$N$58),NA(),'S11'!$N$58)","v":{"$error":"#N/A"}},{"$f":"SUM(N131:N133)/3","v":{"$error":"#N/A"}},{"$f":"IF(ISTEXT('S11'!$N$59),NA(),'S11'!$N$59)","v":{"$error":"#N/A"}},{"$f":"SUM(P131:P133)/3","v":{"$error":"#N/A"}},{"$f":"IF(ISTEXT('S11'!$N$60),NA(),'S11'!$N$60)","v":{"$error":"#N/A"}},{"$f":"SUM(R131:R133)/3","v":{"$error":"#N/A"}},{"$f":"IF(ISTEXT('S11'!$N$61),NA(),'S11'!$N$61)","v":{"$error":"#N/A"}},{"$f":"SUM(T131:T133)/3","v":{"$error":"#N/A"}},{"$f":"IF(ISTEXT('S11'!$N$62),NA(),'S11'!$N$62)","v":{"$error":"#N/A"}},{"$error":"#N/A"},{"$f":"IF(ISTEXT('S11'!$N$63),NA(),'S11'!$N$63)","v":{"$error":"#N/A"}},{"$error":"#N/A"},{"$f":"IF(ISTEXT('S11'!$N$64),NA(),'S11'!$N$64)","v":{"$error":"#N/A"}},{"$error":"#N/A"},{"$f":"IF(ISTEXT('S11'!$M$65),NA(),'S11'!$M$65)","v":{"$error":"#N/A"}},{"$error":"#N/A"},{"$f":"IF(ISTEXT('S11'!$N$67),NA(),'S11'!$N$67)","v":{"$error":"#N/A"}},{"$error":"#N/A"},{"$f":"IF(ISTEXT('S11'!$N$54),NA(),'S11'!$N$54)","v":{"$error":"#N/A"}},{"$f":"SUM(AF131:AF133)/3","v":{"$error":"#N/A"}},{"$f":"IF(ISTEXT('S11'!$N$57),NA(),'S11'!$N$57)","v":{"$error":"#N/A"}},{"$f":"SUM(AH131:AH133)/3","v":{"$error":"#N/A"}}]
[{"$f":"IF(ISBLANK('S12'!C$10),\" \",'S12'!C$10)","v":133},{"$f":"IF(ISTEXT('S12'!$D$17),NA(),'S12'!$D$17)","v":{"$error":"#N/A"}},{"$f":"SUM(B132:B134)/3","v":{"$error":"#N/A"}},{"$f":"IF(ISTEXT('S12'!$D$18),NA(),'S12'!$D$18)","v":{"$error":"#N/A"}},{"$f":"SUM(D132:D134)/3","v":{"$error":"#N/A"}},{"$f":"IF(ISTEXT('S12'!$D$19),NA(),'S12'!$D$19)","v":{"$error":"#N/A"}},{"$error":"#N/A"},{"$f":"IF(ISTEXT('S12'!$D$20),NA(),'S12'!$D$20)","v":{"$error":"#N/A"}},{"$error":"#N/A"},{"$f":"IF(ISTEXT('S12'!$D$22),NA(),'S12'!$D$22)","v":{"$error":"#N/A"}},{"$error":"#N/A"},{"$f":"IF(ISTEXT('S12'!$D$23),NA(),'S12'!$D$23)","v":{"$error":"#N/A"}},{"$error":"#N/A"},{"$f":"IF(ISTEXT('S12'!$D$25),NA(),'S12'!$D$25)","v":{"$error":"#N/A"}},{"$error":"#N/A"},{"$f":"IF(ISTEXT('S12'!$D$26),NA(),'S12'!$D$26)","v":{"$error":"#N/A"}},{"$error":"#N/A"},{"$f":"IF(ISTEXT('S12'!$D$27),NA(),'S12'!$D$27)","v":{"$error":"#N/A"}},{"$error":"#N/A"},{"$f":"IF(ISTEXT('S12'!$D$28),NA(),'S12'!$D$28)","v":{"$error":"#N/A"}},{"$error":"#N/A"},{"$f":"IF(ISTEXT('S12'!$D$29),NA(),'S12'!$D$29)","v":{"$error":"#N/A"}},{"$error":"#N/A"},{"$f":"IF(ISTEXT('S12'!$D$30),NA(),'S12'!$D$30)","v":{"$error":"#N/A"}},{"$error":"#N/A"},{"$f":"IF(ISTEXT('S12'!$D$31),NA(),'S12'!$D$31)","v":{"$error":"#N/A"}},{"$error":"#N/A"},{"$f":"IF(ISTEXT('S12'!$C$32),NA(),'S12'!$C$32)","v":{"$error":"#N/A"}},{"$error":"#N/A"},{"$f":"IF(ISTEXT('S12'!$D$34),NA(),'S12'!$D$34)","v":{"$error":"#N/A"}},{"$error":"#N/A"},{"$f":"IF(ISTEXT('S12'!$D$21),NA(),'S12'!$D$21)","v":{"$error":"#N/A"}},{"$error":"#N/A"},{"$f":"IF(ISTEXT('S12'!$D$24),NA(),'S12'!$D$24)","v":{"$error":"#N/A"}},{"$error":"#N/A"}]
[{"$f":"IF(ISBLANK('S12'!E$10),\" \",'S12'!E$10)","v":134},{"$f":"IF(ISTEXT('S12'!$F$17),NA(),'S12'!$F$17)","v":{"$error":"#N/A"}},{"$error":"#N/A"},{"$f":"IF(ISTEXT('S12'!$F$18),NA(),'S12'!$F$18)","v":{"$error":"#N/A"}},{"$error":"#N/A"},{"$f":"IF(ISTEXT('S12'!$F$19),NA(),'S12'!$F$19)","v":{"$error":"#N/A"}},{"$error":"#N/A"},{"$f":"IF(ISTEXT('S12'!$F$20),NA(),'S12'!$F$20)","v":{"$error":"#N/A"}},{"$error":"#N/A"},{"$f":"IF(ISTEXT('S12'!$F$22),NA(),'S12'!$F$22)","v":{"$error":"#N/A"}},{"$error":"#N/A"},{"$f":"IF(ISTEXT('S12'!$F$23),NA(),'S12'!$F$23)","v":{"$error":"#N/A"}},{"$error":"#N/A"},{"$f":"IF(ISTEXT('S12'!$F$25),NA(),'S12'!$F$25)","v":{"$error":"#N/A"}},{"$error":"#N/A"},{"$f":"IF(ISTEXT('S12'!$F$26),NA(),'S12'!$F$26)","v":{"$error":"#N/A"}},{"$error":"#N/A"},{"$f":"IF(ISTEXT('S12'!$F$27),NA(),'S12'!$F$27)","v":{"$error":"#N/A"}},{"$error":"#N/A"},{"$f":"IF(ISTEXT('S12'!$F$28),NA(),'S12'!$F$28)","v":{"$error":"#N/A"}},{"$error":"#N/A"},{"$f":"IF(ISTEXT('S12'!$F$29),NA(),'S12'!$F$29)","v":{"$error":"#N/A"}},{"$error":"#N/A"},{"$f":"IF(ISTEXT('S12'!$F$30),NA(),'S12'!$F$30)","v":{"$error":"#N/A"}},{"$error":"#N/A"},{"$f":"IF(ISTEXT('S12'!$F$31),NA(),'S12'!$F$31)","v":{"$error":"#N/A"}},{"$error":"#N/A"},{"$f":"IF(ISTEXT('S12'!$E$32),NA(),'S12'!$E$32)","v":{"$error":"#N/A"}},{"$error":"#N/A"},{"$f":"IF(ISTEXT('S12'!$F$34),NA(),'S12'!$F$34)","v":{"$error":"#N/A"}},{"$error":"#N/A"},{"$f":"IF(ISTEXT('S12'!$F$21),NA(),'S12'!$F$21)","v":{"$error":"#N/A"}},{"$error":"#N/A"},{"$f":"IF(ISTEXT('S12'!$F$24),NA(),'S12'!$F$24)","v":{"$error":"#N/A"}},{"$error":"#N/A"}]
[{"$f":"IF(ISBLANK('S12'!G$10),\" \",'S12'!G$10)","v":135},{"$f":"IF(ISTEXT('S12'!$H$17),NA(),'S12'!$H$17)","v":{"$error":"#N/A"}},{"$error":"#N/A"},{"$f":"IF(ISTEXT('S12'!$H$18),NA(),'S12'!$H$18)","v":{"$error":"#N/A"}},{"$error":"#N/A"},{"$f":"IF(ISTEXT('S12'!$H$19),NA(),'S12'!$H$19)","v":{"$error":"#N/A"}},{"$error":"#N/A"},{"$f":"IF(ISTEXT('S12'!$H$20),NA(),'S12'!$H$20)","v":{"$error":"#N/A"}},{"$error":"#N/A"},{"$f":"IF(ISTEXT('S12'!$H$22),NA(),'S12'!$H$22)","v":{"$error":"#N/A"}},{"$error":"#N/A"},{"$f":"IF(ISTEXT('S12'!$H$23),NA(),'S12'!$H$23)","v":{"$error":"#N/A"}},{"$error":"#N/A"},{"$f":"IF(ISTEXT('S12'!$H$25),NA(),'S12'!$H$25)","v":{"$error":"#N/A"}},{"$error":"#N/A"},{"$f":"IF(ISTEXT('S12'!$H$26),NA(),'S12'!$H$26)","v":{"$error":"#N/A"}},{"$error":"#N/A"},{"$f":"IF(ISTEXT('S12'!$H$27),NA(),'S12'!$H$27)","v":{"$error":"#N/A"}},{"$error":"#N/A"},{"$f":"IF(ISTEXT('S12'!$H$28),NA(),'S12'!$H$28)","v":{"$error":"#N/A"}},{"$error":"#N/A"},{"$f":"IF(ISTEXT('S12'!$H$29),NA(),'S12'!$H$29)","v":{"$error":"#N/A"}},{"$error":"#N/A"},{"$f":"IF(ISTEXT('S12'!$H$30),NA(),'S12'!$H$30)","v":{"$error":"#N/A"}},{"$error":"#N/A"},{"$f":"IF(ISTEXT('S12'!$H$31),NA(),'S12'!$H$31)","v":{"$error":"#N/A"}},{"$error":"#N/A"},{"$f":"IF(ISTEXT('S12'!$G$32),NA(),'S12'!$G$32)","v":{"$error":"#N/A"}},{"$error":"#N/A"},{"$f":"IF(ISTEXT('S12'!$H$34),NA(),'S12'!$H$34)","v":{"$error":"#N/A"}},{"$error":"#N/A"},{"$f":"IF(ISTEXT('S12'!$H$21),NA(),'S12'!$H$21)","v":{"$error":"#N/A"}},{"$error":"#N/A"},{"$f":"IF(ISTEXT('S12'!$H$24),NA(),'S12'!$H$24)","v":{"$error":"#N/A"}},{"$error":"#N/A"}]
[{"$f":"IF(ISBLANK('S12'!I$10),\" \",'S12'!I$10)","v":136},{"$f":"IF(ISTEXT('S12'!$J$17),NA(),'S12'!$J$17)","v":{"$error":"#N/A"}},{"$error":"#N/A"},{"$f":"IF(ISTEXT('S12'!$J$18),NA(),'S12'!$J$18)","v":{"$error":"#N/A"}},{"$error":"#N/A"},{"$f":"IF(ISTEXT('S12'!$J$19),NA(),'S12'!$J$19)","v":{"$error":"#N/A"}},{"$error":"#N/A"},{"$f":"IF(ISTEXT('S12'!$J$20),NA(),'S12'!$J$20)","v":{"$error":"#N/A"}},{"$error":"#N/A"},{"$f":"IF(ISTEXT('S12'!$J$22),NA(),'S12'!$J$22)","v":{"$error":"#N/A"}},{"$error":"#N/A"},{"$f":"IF(ISTEXT('S12'!$J$23),NA(),'S12'!$J$23)","v":{"$error":"#N/A"}},{"$error":"#N/A"},{"$f":"IF(ISTEXT('S12'!$J$25),NA(),'S12'!$J$25)","v":{"$error":"#N/A"}},{"$error":"#N/A"},{"$f":"IF(ISTEXT('S12'!$J$26),NA(),'S12'!$J$26)","v":{"$error":"#N/A"}},{"$error":"#N/A"},{"$f":"IF(ISTEXT('S12'!$J$27),NA(),'S12'!$J$27)","v":{"$error":"#N/A"}},{"$error":"#N/A"},{"$f":"IF(ISTEXT('S12'!$J$28),NA(),'S12'!$J$28)","v":{"$error":"#N/A"}},{"$error":"#N/A"},{"$f":"IF(ISTEXT('S12'!$J$29),NA(),'S12'!$J$29)","v":{"$error":"#N/A"}},{"$error":"#N/A"},{"$f":"IF(ISTEXT('S12'!$J$30),NA(),'S12'!$J$30)","v":{"$error":"#N/A"}},{"$error":"#N/A"},{"$f":"IF(ISTEXT('S12'!$J$31),NA(),'S12'!$J$31)","v":{"$error":"#N/A"}},{"$error":"#N/A"},{"$f":"IF(ISTEXT('S12'!$I$32),NA(),'S12'!$I$32)","v":{"$error":"#N/A"}},{"$error":"#N/A"},{"$f":"IF(ISTEXT('S12'!$J$34),NA(),'S12'!$J$34)","v":{"$error":"#N/A"}},{"$error":"#N/A"},{"$f":"IF(ISTEXT('S12'!$J$21),NA(),'S12'!$J$21)","v":{"$error":"#N/A"}},{"$error":"#N/A"},{"$f":"IF(ISTEXT('S12'!$J$24),NA(),'S12'!$J$24)","v":{"$error":"#N/A"}},{"$error":"#N/A"}]
[{"$f":"IF(ISBLANK('S12'!K$10),\" \",'S12'!K$10)","v":137},{"$f":"IF(ISTEXT('S12'!$L$17),NA(),'S12'!$L$17)","v":{"$error":"#N/A"}},{"$error":"#N/A"},{"$f":"IF(ISTEXT('S12'!$L$18),NA(),'S12'!$L$18)","v":{"$error":"#N/A"}},{"$error":"#N/A"},{"$f":"IF(ISTEXT('S12'!$L$19),NA(),'S12'!$L$19)","v":{"$error":"#N/A"}},{"$error":"#N/A"},{"$f":"IF(ISTEXT('S12'!$L$20),NA(),'S12'!$L$20)","v":{"$error":"#N/A"}},{"$error":"#N/A"},{"$f":"IF(ISTEXT('S12'!$L$22),NA(),'S12'!$L$22)","v":{"$error":"#N/A"}},{"$error":"#N/A"},{"$f":"IF(ISTEXT('S12'!$L$23),NA(),'S12'!$L$23)","v":{"$error":"#N/A"}},{"$error":"#N/A"},{"$f":"IF(ISTEXT('S12'!$L$25),NA(),'S12'!$L$25)","v":{"$error":"#N/A"}},{"$error":"#N/A"},{"$f":"IF(ISTEXT('S12'!$L$26),NA(),'S12'!$L$26)","v":{"$error":"#N/A"}},{"$error":"#N/A"},{"$f":"IF(ISTEXT('S12'!$L$27),NA(),'S12'!$L$27)","v":{"$error":"#N/A"}},{"$error":"#N/A"},{"$f":"IF(ISTEXT('S12'!$L$28),NA(),'S12'!$L$28)","v":{"$error":"#N/A"}},{"$error":"#N/A"},{"$f":"IF(ISTEXT('S12'!$L$29),NA(),'S12'!$L$29)","v":{"$error":"#N/A"}},{"$error":"#N/A"},{"$f":"IF(ISTEXT('S12'!$L$30),NA(),'S12'!$L$30)","v":{"$error":"#N/A"}},{"$error":"#N/A"},{"$f":"IF(ISTEXT('S12'!$L$31),NA(),'S12'!$L$31)","v":{"$error":"#N/A"}},{"$error":"#N/A"},{"$f":"IF(ISTEXT('S12'!$K$32),NA(),'S12'!$K$32)","v":{"$error":"#N/A"}},{"$error":"#N/A"},{"$f":"IF(ISTEXT('S12'!$L$34),NA(),'S12'!$L$34)","v":{"$error":"#N/A"}},{"$error":"#N/A"},{"$f":"IF(ISTEXT('S12'!$L$21),NA(),'S12'!$L$21)","v":{"$error":"#N/A"}},{"$error":"#N/A"},{"$f":"IF(ISTEXT('S12'!$L$24),NA(),'S12'!$L$24)","v":{"$error":"#N/A"}},{"$error":"#N/A"}]
[{"$f":"IF(ISBLANK('S12'!M$10),\" \",'S12'!M$10)","v":138},{"$f":"IF(ISTEXT('S12'!$N$17),NA(),'S12'!$N$17)","v":{"$error":"#N/A"}},{"$error":"#N/A"},{"$f":"IF(ISTEXT('S12'!$N$18),NA(),'S12'!$N$18)","v":{"$error":"#N/A"}},{"$error":"#N/A"},{"$f":"IF(ISTEXT('S12'!$N$19),NA(),'S12'!$N$19)","v":{"$error":"#N/A"}},{"$error":"#N/A"},{"$f":"IF(ISTEXT('S12'!$N$20),NA(),'S12'!$N$20)","v":{"$error":"#N/A"}},{"$error":"#N/A"},{"$f":"IF(ISTEXT('S12'!$N$22),NA(),'S12'!$N$22)","v":{"$error":"#N/A"}},{"$error":"#N/A"},{"$f":"IF(ISTEXT('S12'!$N$23),NA(),'S12'!$N$23)","v":{"$error":"#N/A"}},{"$error":"#N/A"},{"$f":"IF(ISTEXT('S12'!$N$25),NA(),'S12'!$N$25)","v":{"$error":"#N/A"}},{"$error":"#N/A"},{"$f":"IF(ISTEXT('S12'!$N$26),NA(),'S12'!$N$26)","v":{"$error":"#N/A"}},{"$error":"#N/A"},{"$f":"IF(ISTEXT('S12'!$N$27),NA(),'S12'!$N$27)","v":{"$error":"#N/A"}},{"$error":"#N/A"},{"$f":"IF(ISTEXT('S12'!$N$28),NA(),'S12'!$N$28)","v":{"$error":"#N/A"}},{"$error":"#N/A"},{"$f":"IF(ISTEXT('S12'!$N$29),NA(),'S12'!$N$29)","v":{"$error":"#N/A"}},{"$error":"#N/A"},{"$f":"IF(ISTEXT('S12'!$N$30),NA(),'S12'!$N$30)","v":{"$error":"#N/A"}},{"$error":"#N/A"},{"$f":"IF(ISTEXT('S12'!$N$31),NA(),'S12'!$N$31)","v":{"$error":"#N/A"}},{"$error":"#N/A"},{"$f":"IF(ISTEXT('S12'!$M$32),NA(),'S12'!$M$32)","v":{"$error":"#N/A"}},{"$error":"#N/A"},{"$f":"IF(ISTEXT('S12'!$N$34),NA(),'S12'!$N$34)","v":{"$error":"#N/A"}},{"$error":"#N/A"},{"$f":"IF(ISTEXT('S12'!$N$21),NA(),'S12'!$N$21)","v":{"$error":"#N/A"}},{"$error":"#N/A"},{"$f":"IF(ISTEXT('S12'!$N$24),NA(),'S12'!$N$24)","v":{"$error":"#N/A"}},{"$error":"#N/A"}]
[{"$f":"IF(ISBLANK('S12'!C$43),\" \",'S12'!C$43)","v":139},{"$f":"IF(ISTEXT('S12'!$D$50),NA(),'S12'!$D$50)","v":{"$error":"#N/A"}},{"$error":"#N/A"},{"$f":"IF(ISTEXT('S12'!$D$51),NA(),'S12'!$D$51)","v":{"$error":"#N/A"}},{"$error":"#N/A"},{"$f":"IF(ISTEXT('S12'!$D$52),NA(),'S12'!$D$52)","v":{"$error":"#N/A"}},{"$error":"#N/A"},{"$f":"IF(ISTEXT('S12'!$D$53),NA(),'S12'!$D$53)","v":{"$error":"#N/A"}},{"$error":"#N/A"},{"$f":"IF(ISTEXT('S12'!$D$55),NA(),'S12'!$D$55)","v":{"$error":"#N/A"}},{"$error":"#N/A"},{"$f":"IF(ISTEXT('S12'!$D$56),NA(),'S12'!$D$56)","v":{"$error":"#N/A"}},{"$error":"#N/A"},{"$f":"IF(ISTEXT('S12'!$D$58),NA(),'S12'!$D$58)","v":{"$error":"#N/A"}},{"$error":"#N/A"},{"$f":"IF(ISTEXT('S12'!$D$59),NA(),'S12'!$D$59)","v":{"$error":"#N/A"}},{"$error":"#N/A"},{"$f":"IF(ISTEXT('S12'!$D$60),NA(),'S12'!$D$60)","v":{"$error":"#N/A"}},{"$error":"#N/A"},{"$f":"IF(ISTEXT('S12'!$D$61),NA(),'S12'!$D$61)","v":{"$error":"#N/A"}},{"$error":"#N/A"},{"$f":"IF(ISTEXT('S12'!$D$62),NA(),'S12'!$D$62)","v":{"$error":"#N/A"}},{"$error":"#N/A"},{"$f":"IF(ISTEXT('S12'!$D$63),NA(),'S12'!$D$63)","v":{"$error":"#N/A"}},{"$error":"#N/A"},{"$f":"IF(ISTEXT('S12'!$D$64),NA(),'S12'!$D$64)","v":{"$error":"#N/A"}},{"$error":"#N/A"},{"$f":"IF(ISTEXT('S12'!$C$65),NA(),'S12'!$C$65)","v":{"$error":"#N/A"}},{"$error":"#N/A"},{"$f":"IF(ISTEXT('S12'!$D$67),NA(),'S12'!$D$67)","v":{"$error":"#N/A"}},{"$error":"#N/A"},{"$f":"IF(ISTEXT('S12'!$D$54),NA(),'S12'!$D$54)","v":{"$error":"#N/A"}},{"$error":"#N/A"},{"$f":"IF(ISTEXT('S12'!$D$57),NA(),'S12'!$D$57)","v":{"$error":"#N/A"}},{"$error":"#N/A"}]
[{"$f":"IF(ISBLANK('S12'!E$43),\" \",'S12'!E$43)","v":140},{"$f":"IF(ISTEXT('S12'!$F$50),NA(),'S12'!$F$50)","v":{"$error":"#N/A"}},{"$error":"#N/A"},{"$f":"IF(ISTEXT('S12'!$F$51),NA(),'S12'!$F$51)","v":{"$error":"#N/A"}},{"$error":"#N/A"},{"$f":"IF(ISTEXT('S12'!$F$52),NA(),'S12'!$F$52)","v":{"$error":"#N/A"}},{"$error":"#N/A"},{"$f":"IF(ISTEXT('S12'!$F$53),NA(),'S12'!$F$53)","v":{"$error":"#N/A"}},{"$error":"#N/A"},{"$f":"IF(ISTEXT('S12'!$F$55),NA(),'S12'!$F$55)","v":{"$error":"#N/A"}},{"$error":"#N/A"},{"$f":"IF(ISTEXT('S12'!$F$56),NA(),'S12'!$F$56)","v":{"$error":"#N/A"}},{"$error":"#N/A"},{"$f":"IF(ISTEXT('S12'!$F$58),NA(),'S12'!$F$58)","v":{"$error":"#N/A"}},{"$error":"#N/A"},{"$f":"IF(ISTEXT('S12'!$F$59),NA(),'S12'!$F$59)","v":{"$error":"#N/A"}},{"$error":"#N/A"},{"$f":"IF(ISTEXT('S12'!$F$60),NA(),'S12'!$F$60)","v":{"$error":"#N/A"}},{"$error":"#N/A"},{"$f":"IF(ISTEXT('S12'!$F$61),NA(),'S12'!$F$61)","v":{"$error":"#N/A"}},{"$error":"#N/A"},{"$f":"IF(ISTEXT('S12'!$F$62),NA(),'S12'!$F$62)","v":{"$error":"#N/A"}},{"$error":"#N/A"},{"$f":"IF(ISTEXT('S12'!$F$63),NA(),'S12'!$F$63)","v":{"$error":"#N/A"}},{"$error":"#N/A"},{"$f":"IF(ISTEXT('S12'!$F$64),NA(),'S12'!$F$64)","v":{"$error":"#N/A"}},{"$error":"#N/A"},{"$f":"IF(ISTEXT('S12'!$E$65),NA(),'S12'!$E$65)","v":{"$error":"#N/A"}},{"$error":"#N/A"},{"$f":"IF(ISTEXT('S12'!$F$67),NA(),'S12'!$F$67)","v":{"$error":"#N/A"}},{"$error":"#N/A"},{"$f":"IF(ISTEXT('S12'!$F$54),NA(),'S12'!$F$54)","v":{"$error":"#N/A"}},{"$error":"#N/A"},{"$f":"IF(ISTEXT('S12'!$F$57),NA(),'S12'!$F$57)","v":{"$error":"#N/A"}},{"$error":"#N/A"}]
[{"$f":"IF(ISBLANK('S12'!G$43),\" \",'S12'!G$43)","v":141},{"$f":"IF(ISTEXT('S12'!$H$50),NA(),'S12'!$H$50)","v":{"$error":"#N/A"}},{"$error":"#N/A"},{"$f":"IF(ISTEXT('S12'!$H$51),NA(),'S12'!$H$51)","v":{"$error":"#N/A"}},{"$error":"#N/A"},{"$f":"IF(ISTEXT('S12'!$H$52),NA(),'S12'!$H$52)","v":{"$error":"#N/A"}},{"$error":"#N/A"},{"$f":"IF(ISTEXT('S12'!$H$53),NA(),'S12'!$H$53)","v":{"$error":"#N/A"}},{"$error":"#N/A"},{"$f":"IF(ISTEXT('S12'!$H$55),NA(),'S12'!$H$55)","v":{"$error":"#N/A"}},{"$error":"#N/A"},{"$f":"IF(ISTEXT('S12'!$H$56),NA(),'S12'!$H$56)","v":{"$error":"#N/A"}},{"$error":"#N/A"},{"$f":"IF(ISTEXT('S12'!$H$58),NA(),'S12'!$H$58)","v":{"$error":"#N/A"}},{"$error":"#N/A"},{"$f":"IF(ISTEXT('S12'!$H$59),NA(),'S12'!$H$59)","v":{"$error":"#N/A"}},{"$error":"#N/A"},{"$f":"IF(ISTEXT('S12'!$H$60),NA(),'S12'!$H$60)","v":{"$error":"#N/A"}},{"$error":"#N/A"},{"$f":"IF(ISTEXT('S12'!$H$61),NA(),'S12'!$H$61)","v":{"$error":"#N/A"}},{"$error":"#N/A"},{"$f":"IF(ISTEXT('S12'!$H$62),NA(),'S12'!$H$62)","v":{"$error":"#N/A"}},{"$error":"#N/A"},{"$f":"IF(ISTEXT('S12'!$H$63),NA(),'S12'!$H$63)","v":{"$error":"#N/A"}},{"$error":"#N/A"},{"$f":"IF(ISTEXT('S12'!$H$64),NA(),'S12'!$H$64)","v":{"$error":"#N/A"}},{"$error":"#N/A"},{"$f":"IF(ISTEXT('S12'!$G$65),NA(),'S12'!$G$65)","v":{"$error":"#N/A"}},{"$error":"#N/A"},{"$f":"IF(ISTEXT('S12'!$H$67),NA(),'S12'!$H$67)","v":{"$error":"#N/A"}},{"$error":"#N/A"},{"$f":"IF(ISTEXT('S12'!$H$54),NA(),'S12'!$H$54)","v":{"$error":"#N/A"}},{"$error":"#N/A"},{"$f":"IF(ISTEXT('S12'!$H$57),NA(),'S12'!$H$57)","v":{"$error":"#N/A"}},{"$error":"#N/A"}]
[{"$f":"IF(ISBLANK('S12'!I$43),\" \",'S12'!I$43)","v":142},{"$f":"IF(ISTEXT('S12'!$J$50),NA(),'S12'!$J$50)","v":{"$error":"#N/A"}},{"$error":"#N/A"},{"$f":"IF(ISTEXT('S12'!$J$51),NA(),'S12'!$J$51)","v":{"$error":"#N/A"}},{"$error":"#N/A"},{"$f":"IF(ISTEXT('S12'!$J$52),NA(),'S12'!$J$52)","v":{"$error":"#N/A"}},{"$error":"#N/A"},{"$f":"IF(ISTEXT('S12'!$J$53),NA(),'S12'!$J$53)","v":{"$error":"#N/A"}},{"$error":"#N/A"},{"$f":"IF(ISTEXT('S12'!$J$55),NA(),'S12'!$J$55)","v":{"$error":"#N/A"}},{"$error":"#N/A"},{"$f":"IF(ISTEXT('S12'!$J$56),NA(),'S12'!$J$56)","v":{"$error":"#N/A"}},{"$error":"#N/A"},{"$f":"IF(ISTEXT('S12'!$J$58),NA(),'S12'!$J$58)","v":{"$error":"#N/A"}},{"$error":"#N/A"},{"$f":"IF(ISTEXT('S12'!$J$59),NA(),'S12'!$J$59)","v":{"$error":"#N/A"}},{"$error":"#N/A"},{"$f":"IF(ISTEXT('S12'!$J$60),NA(),'S12'!$J$60)","v":{"$error":"#N/A"}},{"$error":"#N/A"},{"$f":"IF(ISTEXT('S12'!$J$61),NA(),'S12'!$J$61)","v":{"$error":"#N/A"}},{"$error":"#N/A"},{"$f":"IF(ISTEXT('S12'!$J$62),NA(),'S12'!$J$62)","v":{"$error":"#N/A"}},{"$error":"#N/A"},{"$f":"IF(ISTEXT('S12'!$J$63),NA(),'S12'!$J$63)","v":{"$error":"#N/A"}},{"$error":"#N/A"},{"$f":"IF(ISTEXT('S12'!$J$64),NA(),'S12'!$J$64)","v":{"$error":"#N/A"}},{"$error":"#N/A"},{"$f":"IF(ISTEXT('S12'!$I$65),NA(),'S12'!$I$65)","v":{"$error":"#N/A"}},{"$error":"#N/A"},{"$f":"IF(ISTEXT('S12'!$J$67),NA(),'S12'!$J$67)","v":{"$error":"#N/A"}},{"$error":"#N/A"},{"$f":"IF(ISTEXT('S12'!$J$54),NA(),'S12'!$J$54)","v":{"$error":"#N/A"}},{"$error":"#N/A"},{"$f":"IF(ISTEXT('S12'!$J$57),NA(),'S12'!$J$57)","v":{"$error":"#N/A"}},{"$error":"#N/A"}]
[{"$f":"IF(ISBLANK('S12'!K$43),\" \",'S12'!K$43)","v":143},{"$f":"IF(ISTEXT('S12'!$L$50),NA(),'S12'!$L$50)","v":{"$error":"#N/A"}},{"$error":"#N/A"},{"$f":"IF(ISTEXT('S12'!$L$51),NA(),'S12'!$L$51)","v":{"$error":"#N/A"}},{"$error":"#N/A"},{"$f":"IF(ISTEXT('S12'!$L$52),NA(),'S12'!$L$52)","v":{"$error":"#N/A"}},{"$error":"#N/A"},{"$f":"IF(ISTEXT('S12'!$L$53),NA(),'S12'!$L$53)","v":{"$error":"#N/A"}},{"$error":"#N/A"},{"$f":"IF(ISTEXT('S12'!$L$55),NA(),'S12'!$L$55)","v":{"$error":"#N/A"}},{"$error":"#N/A"},{"$f":"IF(ISTEXT('S12'!$L$56),NA(),'S12'!$L$56)","v":{"$error":"#N/A"}},{"$error":"#N/A"},{"$f":"IF(ISTEXT('S12'!$L$58),NA(),'S12'!$L$58)","v":{"$error":"#N/A"}},{"$error":"#N/A"},{"$f":"IF(ISTEXT('S12'!$L$59),NA(),'S12'!$L$59)","v":{"$error":"#N/A"}},{"$error":"#N/A"},{"$f":"IF(ISTEXT('S12'!$L$60),NA(),'S12'!$L$60)","v":{"$error":"#N/A"}},{"$error":"#N/A"},{"$f":"IF(ISTEXT('S12'!$L$61),NA(),'S12'!$L$61)","v":{"$error":"#N/A"}},{"$error":"#N/A"},{"$f":"IF(ISTEXT('S12'!$L$62),NA(),'S12'!$L$62)","v":{"$error":"#N/A"}},{"$error":"#N/A"},{"$f":"IF(ISTEXT('S12'!$L$63),NA(),'S12'!$L$63)","v":{"$error":"#N/A"}},{"$error":"#N/A"},{"$f":"IF(ISTEXT('S12'!$L$64),NA(),'S12'!$L$64)","v":{"$error":"#N/A"}},{"$error":"#N/A"},{"$f":"IF(ISTEXT('S12'!$K$65),NA(),'S12'!$K$65)","v":{"$error":"#N/A"}},{"$error":"#N/A"},{"$f":"IF(ISTEXT('S12'!$L$67),NA(),'S12'!$L$67)","v":{"$error":"#N/A"}},{"$error":"#N/A"},{"$f":"IF(ISTEXT('S12'!$L$54),NA(),'S12'!$L$54)","v":{"$error":"#N/A"}},{"$error":"#N/A"},{"$f":"IF(ISTEXT('S12'!$L$57),NA(),'S12'!$L$57)","v":{"$error":"#N/A"}},{"$error":"#N/A"}]
[{"$f":"IF(ISBLANK('S12'!M$43),\" \",'S12'!M$43)","v":144},{"$f":"IF(ISTEXT('S12'!$N$50),NA(),'S12'!$N$50)","v":{"$error":"#N/A"}},{"$error":"#N/A"},{"$f":"IF(ISTEXT('S12'!$N$51),NA(),'S12'!$N$51)","v":{"$error":"#N/A"}},{"$error":"#N/A"},{"$f":"IF(ISTEXT('S12'!$N$52),NA(),'S12'!$N$52)","v":{"$error":"#N/A"}},{"$error":"#N/A"},{"$f":"IF(ISTEXT('S12'!$N$53),NA(),'S12'!$N$53)","v":{"$error":"#N/A"}},{"$error":"#N/A"},{"$f":"IF(ISTEXT('S12'!$N$55),NA(),'S12'!$N$55)","v":{"$error":"#N/A"}},{"$error":"#N/A"},{"$f":"IF(ISTEXT('S12'!$N$56),NA(),'S12'!$N$56)","v":{"$error":"#N/A"}},{"$error":"#N/A"},{"$f":"IF(ISTEXT('S12'!$N$58),NA(),'S12'!$N$58)","v":{"$error":"#N/A"}},{"$error":"#N/A"},{"$f":"IF(ISTEXT('S12'!$N$59),NA(),'S12'!$N$59)","v":{"$error":"#N/A"}},{"$error":"#N/A"},{"$f":"IF(ISTEXT('S12'!$N$60),NA(),'S12'!$N$60)","v":{"$error":"#N/A"}},{"$error":"#N/A"},{"$f":"IF(ISTEXT('S12'!$N$61),NA(),'S12'!$N$61)","v":{"$error":"#N/A"}},{"$error":"#N/A"},{"$f":"IF(ISTEXT('S12'!$N$62),NA(),'S12'!$N$62)","v":{"$error":"#N/A"}},{"$error":"#N/A"},{"$f":"IF(ISTEXT('S12'!$N$63),NA(),'S12'!$N$63)","v":{"$error":"#N/A"}},{"$error":"#N/A"},{"$f":"IF(ISTEXT('S12'!$N$64),NA(),'S12'!$N$64)","v":{"$error":"#N/A"}},{"$error":"#N/A"},{"$f":"IF(ISTEXT('S12'!$M$65),NA(),'S12'!$M$65)","v":{"$error":"#N/A"}},{"$error":"#N/A"},{"$f":"IF(ISTEXT('S12'!$N$67),NA(),'S12'!$N$67)","v":{"$error":"#N/A"}},{"$error":"#N/A"},{"$f":"IF(ISTEXT('S12'!$N$54),NA(),'S12'!$N$54)","v":{"$error":"#N/A"}},{"$error":"#N/A"},{"$f":"IF(ISTEXT('S12'!$N$57),NA(),'S12'!$N$57)","v":{"$error":"#N/A"}},{"$error":"#N/A"}]

{"sheet":"S14","index":20,"n_rows":145,"n_cols":18,"rows_kept":145,"cut":false,"hidden":true,"merged":[]}
["FM","Wash",200,100,50,30,16,8,4,0.25,0.375,0.5,0.625,0.75,1,1.5,2,2.5]
[{"$f":"'S1'!$C$32","v":" "},{"$f":"'S1'!$D$34","v":""},{"$f":"'S1'!$D$31","v":"  "},{"$f":"'S1'!$D$30","v":"  "},{"$f":"'S1'!$D$29","v":"  "},{"$f":"'S1'!$D$28","v":"  "},{"$f":"'S1'!$D$27","v":"  "},{"$f":"'S1'!$D$26","v":"  "},{"$f":"'S1'!$D$25","v":"  "},{"$f":"'S1'!$D$24","v":"  "},{"$f":"'S1'!$D$23","v":"  "},{"$f":"'S1'!$D$22","v":"  "},{"$f":"'S1'!$D$21","v":"  "},{"$f":"'S1'!$D$20","v":"  "},{"$f":"'S1'!$D$19","v":"  "},{"$f":"'S1'!$D$18","v":"  "},{"$f":"'S1'!$D$17","v":"  "},{"$f":"'S1'!$D$16","v":"  "}]
[{"$f":"'S1'!$E$32","v":" "},{"$f":"'S1'!$F$34","v":""},{"$f":"'S1'!$F$31","v":"  "},{"$f":"'S1'!$F$30","v":"  "},{"$f":"'S1'!$F$29","v":"  "},{"$f":"'S1'!$F$28","v":"  "},{"$f":"'S1'!$F$27","v":"  "},{"$f":"'S1'!$F$26","v":"  "},{"$f":"'S1'!$F$25","v":"  "},{"$f":"'S1'!$F$24","v":"  "},{"$f":"'S1'!$F$23","v":"  "},{"$f":"'S1'!$F$22","v":"  "},{"$f":"'S1'!$F$21","v":"  "},{"$f":"'S1'!$F$20","v":"  "},{"$f":"'S1'!$F$19","v":"  "},{"$f":"'S1'!$F$18","v":"  "},{"$f":"'S1'!$F$17","v":"  "},{"$f":"'S1'!$F$16","v":"  "}]
[{"$f":"'S1'!$G$32","v":" "},{"$f":"'S1'!$H$34","v":""},{"$f":"'S1'!$H$31","v":"  "},{"$f":"'S1'!$H$30","v":"  "},{"$f":"'S1'!$H$29","v":"  "},{"$f":"'S1'!$H$28","v":"  "},{"$f":"'S1'!$H$27","v":"  "},{"$f":"'S1'!$H$26","v":"  "},{"$f":"'S1'!$H$25","v":"  "},{"$f":"'S1'!$H$24","v":"  "},{"$f":"'S1'!$H$23","v":"  "},{"$f":"'S1'!$H$22","v":"  "},{"$f":"'S1'!$H$21","v":"  "},{"$f":"'S1'!$H$20","v":"  "},{"$f":"'S1'!$H$19","v":"  "},{"$f":"'S1'!$H$18","v":"  "},{"$f":"'S1'!$H$17","v":"  "},{"$f":"'S1'!$H$16","v":"  "}]
[{"$f":"'S1'!$I$32","v":" "},{"$f":"'S1'!$J$34","v":""},{"$f":"'S1'!$J$31","v":"  "},{"$f":"'S1'!$J$30","v":"  "},{"$f":"'S1'!$J$29","v":"  "},{"$f":"'S1'!$J$28","v":"  "},{"$f":"'S1'!$J$27","v":"  "},{"$f":"'S1'!$J$26","v":"  "},{"$f":"'S1'!$J$25","v":"  "},{"$f":"'S1'!$J$24","v":"  "},{"$f":"'S1'!$J$23","v":"  "},{"$f":"'S1'!$J$22","v":"  "},{"$f":"'S1'!$J$21","v":"  "},{"$f":"'S1'!$J$20","v":"  "},{"$f":"'S1'!$J$19","v":"  "},{"$f":"'S1'!$J$18","v":"  "},{"$f":"'S1'!$J$17","v":"  "},{"$f":"'S1'!$J$16","v":"  "}]
[{"$f":"'S1'!$K$32","v":" "},{"$f":"'S1'!$L$34","v":""},{"$f":"'S1'!$L$31","v":"  "},{"$f":"'S1'!$L$30","v":"  "},{"$f":"'S1'!$L$29","v":"  "},{"$f":"'S1'!$L$28","v":"  "},{"$f":"'S1'!$L$27","v":"  "},{"$f":"'S1'!$L$26","v":"  "},{"$f":"'S1'!$L$25","v":"  "},{"$f":"'S1'!$L$24","v":"  "},{"$f":"'S1'!$L$23","v":"  "},{"$f":"'S1'!$L$22","v":"  "},{"$f":"'S1'!$L$21","v":"  "},{"$f":"'S1'!$L$20","v":"  "},{"$f":"'S1'!$L$19","v":"  "},{"$f":"'S1'!$L$18","v":"  "},{"$f":"'S1'!$L$17","v":"  "},{"$f":"'S1'!$L$16","v":"  "}]
[{"$f":"'S1'!$M$32","v":" "},{"$f":"'S1'!$N$34","v":""},{"$f":"'S1'!$N$31","v":"  "},{"$f":"'S1'!$N$30","v":"  "},{"$f":"'S1'!$N$29","v":"  "},{"$f":"'S1'!$N$28","v":"  "},{"$f":"'S1'!$N$27","v":"  "},{"$f":"'S1'!$N$26","v":"  "},{"$f":"'S1'!$N$25","v":"  "},{"$f":"'S1'!$N$24","v":"  "},{"$f":"'S1'!$N$23","v":"  "},{"$f":"'S1'!$N$22","v":"  "},{"$f":"'S1'!$N$21","v":"  "},{"$f":"'S1'!$N$20","v":"  "},{"$f":"'S1'!$N$19","v":"  "},{"$f":"'S1'!$N$18","v":"  "},{"$f":"'S1'!$N$17","v":"  "},{"$f":"'S1'!$N$16","v":"  "}]
[{"$f":"'S1'!$C$65","v":" "},{"$f":"'S1'!$D$67","v":""},{"$f":"'S1'!$D$64","v":" "},{"$f":"'S1'!$D$63","v":" "},{"$f":"'S1'!$D$62","v":" "},{"$f":"'S1'!$D$61","v":" "},{"$f":"'S1'!$D$60","v":" "},{"$f":"'S1'!$D$59","v":" "},{"$f":"'S1'!$D$58","v":" "},{"$f":"'S1'!$D$57","v":" "},{"$f":"'S1'!$D$56","v":" "},{"$f":"'S1'!$D$55","v":" "},{"$f":"'S1'!$D$54","v":" "},{"$f":"'S1'!$D$53","v":" "},{"$f":"'S1'!$D$52","v":" "},{"$f":"'S1'!$D$51","v":" "},{"$f":"'S1'!$D$50","v":" "},{"$f":"'S1'!$D$49","v":" "}]
[{"$f":"'S1'!$E$65","v":" "},{"$f":"'S1'!$F$67","v":""},{"$f":"'S1'!$F$64","v":" "},{"$f":"'S1'!$F$63","v":" "},{"$f":"'S1'!$F$62","v":" "},{"$f":"'S1'!$F$61","v":" "},{"$f":"'S1'!$F$60","v":" "},{"$f":"'S1'!$F$59","v":" "},{"$f":"'S1'!$F$58","v":" "},{"$f":"'S1'!$F$57","v":" "},{"$f":"'S1'!$F$56","v":" "},{"$f":"'S1'!$F$55","v":" "},{"$f":"'S1'!$F$54","v":" "},{"$f":"'S1'!$F$53","v":" "},{"$f":"'S1'!$F$52","v":" "},{"$f":"'S1'!$F$51","v":" "},{"$f":"'S1'!$F$50","v":" "},{"$f":"'S1'!$F$49","v":" "}]
[{"$f":"'S1'!$G$65","v":" "},{"$f":"'S1'!$H$67","v":""},{"$f":"'S1'!$H$64","v":" "},{"$f":"'S1'!$H$63","v":" "},{"$f":"'S1'!$H$62","v":" "},{"$f":"'S1'!$H$61","v":" "},{"$f":"'S1'!$H$60","v":" "},{"$f":"'S1'!$H$59","v":" "},{"$f":"'S1'!$H$58","v":" "},{"$f":"'S1'!$H$57","v":" "},{"$f":"'S1'!$H$56","v":" "},{"$f":"'S1'!$H$55","v":" "},{"$f":"'S1'!$H$54","v":" "},{"$f":"'S1'!$H$53","v":" "},{"$f":"'S1'!$H$52","v":" "},{"$f":"'S1'!$H$51","v":" "},{"$f":"'S1'!$H$50","v":" "},{"$f":"'S1'!$H$49","v":" "}]
[{"$f":"'S1'!$I$65","v":" "},{"$f":"'S1'!$J$67","v":""},{"$f":"'S1'!$J$64","v":" "},{"$f":"'S1'!$J$63","v":" "},{"$f":"'S1'!$J$62","v":" "},{"$f":"'S1'!$J$61","v":" "},{"$f":"'S1'!$J$60","v":" "},{"$f":"'S1'!$J$59","v":" "},{"$f":"'S1'!$J$58","v":" "},{"$f":"'S1'!$J$57","v":" "},{"$f":"'S1'!$J$56","v":" "},{"$f":"'S1'!$J$55","v":" "},{"$f":"'S1'!$J$54","v":" "},{"$f":"'S1'!$J$53","v":" "},{"$f":"'S1'!$J$52","v":" "},{"$f":"'S1'!$J$51","v":" "},{"$f":"'S1'!$J$50","v":" "},{"$f":"'S1'!$J$49","v":" "}]
[{"$f":"'S1'!$K$65","v":" "},{"$f":"'S1'!$L$67","v":""},{"$f":"'S1'!$L$64","v":" "},{"$f":"'S1'!$L$63","v":" "},{"$f":"'S1'!$L$62","v":" "},{"$f":"'S1'!$L$61","v":" "},{"$f":"'S1'!$L$60","v":" "},{"$f":"'S1'!$L$59","v":" "},{"$f":"'S1'!$L$58","v":" "},{"$f":"'S1'!$L$57","v":" "},{"$f":"'S1'!$L$56","v":" "},{"$f":"'S1'!$L$55","v":" "},{"$f":"'S1'!$L$54","v":" "},{"$f":"'S1'!$L$53","v":" "},{"$f":"'S1'!$L$52","v":" "},{"$f":"'S1'!$L$51","v":" "},{"$f":"'S1'!$L$50","v":" "},{"$f":"'S1'!$L$49","v":" "}]
[{"$f":"'S1'!$M$65","v":" "},{"$f":"'S1'!$N$67","v":""},{"$f":"'S1'!$N$64","v":"  "},{"$f":"'S1'!$N$63","v":"  "},{"$f":"'S1'!$N$62","v":"  "},{"$f":"'S1'!$N$61","v":"  "},{"$f":"'S1'!$N$60","v":"  "},{"$f":"'S1'!$N$59","v":"  "},{"$f":"'S1'!$N$58","v":"  "},{"$f":"'S1'!$N$57","v":"  "},{"$f":"'S1'!$N$56","v":"  "},{"$f":"'S1'!$N$55","v":"  "},{"$f":"'S1'!$N$54","v":"  "},{"$f":"'S1'!$N$53","v":"  "},{"$f":"'S1'!$N$52","v":"  "},{"$f":"'S1'!$N$51","v":"  "},{"$f":"'S1'!$N$50","v":"  "},{"$f":"'S1'!$N$49","v":"  "}]
[{"$f":"'S2'!$C$32","v":" "},{"$f":"'S2'!$D$34","v":""},{"$f":"'S2'!$D$31","v":"  "},{"$f":"'S2'!$D$30","v":"  "},{"$f":"'S2'!$D$29","v":"  "},{"$f":"'S2'!$D$28","v":"  "},{"$f":"'S2'!$D$27","v":"  "},{"$f":"'S2'!$D$26","v":"  "},{"$f":"'S2'!$D$25","v":"  "},{"$f":"'S2'!$D$24","v":"  "},{"$f":"'S2'!$D$23","v":"  "},{"$f":"'S2'!$D$22","v":"  "},{"$f":"'S2'!$D$21","v":"  "},{"$f":"'S2'!$D$20","v":"  "},{"$f":"'S2'!$D$19","v":"  "},{"$f":"'S2'!$D$18","v":"  "},{"$f":"'S2'!$D$17","v":"  "},{"$f":"'S2'!$D$16","v":"  "}]
[{"$f":"'S2'!$E$32","v":" "},{"$f":"'S2'!$F$34","v":""},{"$f":"'S2'!$F$31","v":"  "},{"$f":"'S2'!$F$30","v":"  "},{"$f":"'S2'!$F$29","v":"  "},{"$f":"'S2'!$F$28","v":"  "},{"$f":"'S2'!$F$27","v":"  "},{"$f":"'S2'!$F$26","v":"  "},{"$f":"'S2'!$F$25","v":"  "},{"$f":"'S2'!$F$24","v":"  "},{"$f":"'S2'!$F$23","v":"  "},{"$f":"'S2'!$F$22","v":"  "},{"$f":"'S2'!$F$21","v":"  "},{"$f":"'S2'!$F$20","v":"  "},{"$f":"'S2'!$F$19","v":"  "},{"$f":"'S2'!$F$18","v":"  "},{"$f":"'S2'!$F$17","v":"  "},{"$f":"'S2'!$F$16","v":"  "}]
[{"$f":"'S2'!$G$32","v":" "},{"$f":"'S2'!$H$34","v":""},{"$f":"'S2'!$H$31","v":"  "},{"$f":"'S2'!$H$30","v":"  "},{"$f":"'S2'!$H$29","v":"  "},{"$f":"'S2'!$H$28","v":"  "},{"$f":"'S2'!$H$27","v":"  "},{"$f":"'S2'!$H$26","v":"  "},{"$f":"'S2'!$H$25","v":"  "},{"$f":"'S2'!$H$24","v":"  "},{"$f":"'S2'!$H$23","v":"  "},{"$f":"'S2'!$H$22","v":"  "},{"$f":"'S2'!$H$21","v":"  "},{"$f":"'S2'!$H$20","v":"  "},{"$f":"'S2'!$H$19","v":"  "},{"$f":"'S2'!$H$18","v":"  "},{"$f":"'S2'!$H$17","v":"  "},{"$f":"'S2'!$H$16","v":"  "}]
[{"$f":"'S2'!$I$32","v":" "},{"$f":"'S2'!$J$34","v":""},{"$f":"'S2'!$J$31","v":"  "},{"$f":"'S2'!$J$30","v":"  "},{"$f":"'S2'!$J$29","v":"  "},{"$f":"'S2'!$J$28","v":"  "},{"$f":"'S2'!$J$27","v":"  "},{"$f":"'S2'!$J$26","v":"  "},{"$f":"'S2'!$J$25","v":"  "},{"$f":"'S2'!$J$24","v":"  "},{"$f":"'S2'!$J$23","v":"  "},{"$f":"'S2'!$J$22","v":"  "},{"$f":"'S2'!$J$21","v":"  "},{"$f":"'S2'!$J$20","v":"  "},{"$f":"'S2'!$J$19","v":"  "},{"$f":"'S2'!$J$18","v":"  "},{"$f":"'S2'!$J$17","v":"  "},{"$f":"'S2'!$J$16","v":"  "}]
[{"$f":"'S2'!$K$32","v":" "},{"$f":"'S2'!$L$34","v":""},{"$f":"'S2'!$L$31","v":"  "},{"$f":"'S2'!$L$30","v":"  "},{"$f":"'S2'!$L$29","v":"  "},{"$f":"'S2'!$L$28","v":"  "},{"$f":"'S2'!$L$27","v":"  "},{"$f":"'S2'!$L$26","v":"  "},{"$f":"'S2'!$L$25","v":"  "},{"$f":"'S2'!$L$24","v":"  "},{"$f":"'S2'!$L$23","v":"  "},{"$f":"'S2'!$L$22","v":"  "},{"$f":"'S2'!$L$21","v":"  "},{"$f":"'S2'!$L$20","v":"  "},{"$f":"'S2'!$L$19","v":"  "},{"$f":"'S2'!$L$18","v":"  "},{"$f":"'S2'!$L$17","v":"  "},{"$f":"'S2'!$L$16","v":"  "}]
[{"$f":"'S2'!$M$32","v":" "},{"$f":"'S2'!$N$34","v":""},{"$f":"'S2'!$N$31","v":"  "},{"$f":"'S2'!$N$30","v":"  "},{"$f":"'S2'!$N$29","v":"  "},{"$f":"'S2'!$N$28","v":"  "},{"$f":"'S2'!$N$27","v":"  "},{"$f":"'S2'!$N$26","v":"  "},{"$f":"'S2'!$N$25","v":"  "},{"$f":"'S2'!$N$24","v":"  "},{"$f":"'S2'!$N$23","v":"  "},{"$f":"'S2'!$N$22","v":"  "},{"$f":"'S2'!$N$21","v":"  "},{"$f":"'S2'!$N$20","v":"  "},{"$f":"'S2'!$N$19","v":"  "},{"$f":"'S2'!$N$18","v":"  "},{"$f":"'S2'!$N$17","v":"  "},{"$f":"'S2'!$N$16","v":"  "}]
[{"$f":"'S2'!$C$65","v":" "},{"$f":"'S2'!$D$67","v":""},{"$f":"'S2'!$D$64","v":"  "},{"$f":"'S2'!$D$63","v":"  "},{"$f":"'S2'!$D$62","v":"  "},{"$f":"'S2'!$D$61","v":"  "},{"$f":"'S2'!$D$60","v":"  "},{"$f":"'S2'!$D$59","v":"  "},{"$f":"'S2'!$D$58","v":"  "},{"$f":"'S2'!$D$57","v":"  "},{"$f":"'S2'!$D$56","v":"  "},{"$f":"'S2'!$D$55","v":"  "},{"$f":"'S2'!$D$54","v":"  "},{"$f":"'S2'!$D$53","v":"  "},{"$f":"'S2'!$D$52","v":"  "},{"$f":"'S2'!$D$51","v":"  "},{"$f":"'S2'!$D$50","v":"  "},{"$f":"'S2'!$D$49","v":"  "}]
[{"$f":"'S2'!$E$65","v":" "},{"$f":"'S2'!$F$67","v":""},{"$f":"'S2'!$F$64","v":"  "},{"$f":"'S2'!$F$63","v":"  "},{"$f":"'S2'!$F$62","v":"  "},{"$f":"'S2'!$F$61","v":"  "},{"$f":"'S2'!$F$60","v":"  "},{"$f":"'S2'!$F$59","v":"  "},{"$f":"'S2'!$F$58","v":"  "},{"$f":"'S2'!$F$57","v":"  "},{"$f":"'S2'!$F$56","v":"  "},{"$f":"'S2'!$F$55","v":"  "},{"$f":"'S2'!$F$54","v":"  "},{"$f":"'S2'!$F$53","v":"  "},{"$f":"'S2'!$F$52","v":"  "},{"$f":"'S2'!$F$51","v":"  "},{"$f":"'S2'!$F$50","v":"  "},{"$f":"'S2'!$F$49","v":"  "}]
[{"$f":"'S2'!$G$65","v":" "},{"$f":"'S2'!$H$67","v":""},{"$f":"'S2'!$H$64","v":"  "},{"$f":"'S2'!$H$63","v":"  "},{"$f":"'S2'!$H$62","v":"  "},{"$f":"'S2'!$H$61","v":"  "},{"$f":"'S2'!$H$60","v":"  "},{"$f":"'S2'!$H$59","v":"  "},{"$f":"'S2'!$H$58","v":"  "},{"$f":"'S2'!$H$57","v":"  "},{"$f":"'S2'!$H$56","v":"  "},{"$f":"'S2'!$H$55","v":"  "},{"$f":"'S2'!$H$54","v":"  "},{"$f":"'S2'!$H$53","v":"  "},{"$f":"'S2'!$H$52","v":"  "},{"$f":"'S2'!$H$51","v":"  "},{"$f":"'S2'!$H$50","v":"  "},{"$f":"'S2'!$H$49","v":"  "}]
[{"$f":"'S2'!$I$65","v":" "},{"$f":"'S2'!$J$67","v":""},{"$f":"'S2'!$J$64","v":"  "},{"$f":"'S2'!$J$63","v":"  "},{"$f":"'S2'!$J$62","v":"  "},{"$f":"'S2'!$J$61","v":"  "},{"$f":"'S2'!$J$60","v":"  "},{"$f":"'S2'!$J$59","v":"  "},{"$f":"'S2'!$J$58","v":"  "},{"$f":"'S2'!$J$57","v":"  "},{"$f":"'S2'!$J$56","v":"  "},{"$f":"'S2'!$J$55","v":"  "},{"$f":"'S2'!$J$54","v":"  "},{"$f":"'S2'!$J$53","v":"  "},{"$f":"'S2'!$J$52","v":"  "},{"$f":"'S2'!$J$51","v":"  "},{"$f":"'S2'!$J$50","v":"  "},{"$f":"'S2'!$J$49","v":"  "}]
[{"$f":"'S2'!$K$65","v":" "},{"$f":"'S2'!$L$67","v":""},{"$f":"'S2'!$L$64","v":"  "},{"$f":"'S2'!$L$63","v":"  "},{"$f":"'S2'!$L$62","v":"  "},{"$f":"'S2'!$L$61","v":"  "},{"$f":"'S2'!$L$60","v":"  "},{"$f":"'S2'!$L$59","v":"  "},{"$f":"'S2'!$L$58","v":"  "},{"$f":"'S2'!$L$57","v":"  "},{"$f":"'S2'!$L$56","v":"  "},{"$f":"'S2'!$L$55","v":"  "},{"$f":"'S2'!$L$54","v":"  "},{"$f":"'S2'!$L$53","v":"  "},{"$f":"'S2'!$L$52","v":"  "},{"$f":"'S2'!$L$51","v":"  "},{"$f":"'S2'!$L$50","v":"  "},{"$f":"'S2'!$L$49","v":"  "}]
[{"$f":"'S2'!$M$65","v":" "},{"$f":"'S2'!$N$67","v":""},{"$f":"'S2'!$N$64","v":"  "},{"$f":"'S2'!$N$63","v":"  "},{"$f":"'S2'!$N$62","v":"  "},{"$f":"'S2'!$N$61","v":"  "},{"$f":"'S2'!$N$60","v":"  "},{"$f":"'S2'!$N$59","v":"  "},{"$f":"'S2'!$N$58","v":"  "},{"$f":"'S2'!$N$57","v":"  "},{"$f":"'S2'!$N$56","v":"  "},{"$f":"'S2'!$N$55","v":"  "},{"$f":"'S2'!$N$54","v":"  "},{"$f":"'S2'!$N$53","v":"  "},{"$f":"'S2'!$N$52","v":"  "},{"$f":"'S2'!$N$51","v":"  "},{"$f":"'S2'!$N$50","v":"  "},{"$f":"'S2'!$N$49","v":"  "}]
[{"$f":"'S3'!$C$32","v":" "},{"$f":"'S3'!$D$34","v":""},{"$f":"'S3'!$D$31","v":"  "},{"$f":"'S3'!$D$30","v":"  "},{"$f":"'S3'!$D$29","v":"  "},{"$f":"'S3'!$D$28","v":"  "},{"$f":"'S3'!$D$27","v":"  "},{"$f":"'S3'!$D$26","v":"  "},{"$f":"'S3'!$D$25","v":"  "},{"$f":"'S3'!$D$24","v":"  "},{"$f":"'S3'!$D$23","v":"  "},{"$f":"'S3'!$D$22","v":"  "},{"$f":"'S3'!$D$21","v":"  "},{"$f":"'S3'!$D$20","v":"  "},{"$f":"'S3'!$D$19","v":"  "},{"$f":"'S3'!$D$18","v":"  "},{"$f":"'S3'!$D$17","v":"  "},{"$f":"'S3'!$D$16","v":"  "}]
[{"$f":"'S3'!$E$32","v":" "},{"$f":"'S3'!$F$34","v":""},{"$f":"'S3'!$F$31","v":"  "},{"$f":"'S3'!$F$30","v":"  "},{"$f":"'S3'!$F$29","v":"  "},{"$f":"'S3'!$F$28","v":"  "},{"$f":"'S3'!$F$27","v":"  "},{"$f":"'S3'!$F$26","v":"  "},{"$f":"'S3'!$F$25","v":"  "},{"$f":"'S3'!$F$24","v":"  "},{"$f":"'S3'!$F$23","v":"  "},{"$f":"'S3'!$F$22","v":"  "},{"$f":"'S3'!$F$21","v":"  "},{"$f":"'S3'!$F$20","v":"  "},{"$f":"'S3'!$F$19","v":"  "},{"$f":"'S3'!$F$18","v":"  "},{"$f":"'S3'!$F$17","v":"  "},{"$f":"'S3'!$F$16","v":"  "}]
[{"$f":"'S3'!$G$32","v":" "},{"$f":"'S3'!$H$34","v":""},{"$f":"'S3'!$H$31","v":"  "},{"$f":"'S3'!$H$30","v":"  "},{"$f":"'S3'!$H$29","v":"  "},{"$f":"'S3'!$H$28","v":"  "},{"$f":"'S3'!$H$27","v":"  "},{"$f":"'S3'!$H$26","v":"  "},{"$f":"'S3'!$H$25","v":"  "},{"$f":"'S3'!$H$24","v":"  "},{"$f":"'S3'!$H$23","v":"  "},{"$f":"'S3'!$H$22","v":"  "},{"$f":"'S3'!$H$21","v":"  "},{"$f":"'S3'!$H$20","v":"  "},{"$f":"'S3'!$H$19","v":"  "},{"$f":"'S3'!$H$18","v":"  "},{"$f":"'S3'!$H$17","v":"  "},{"$f":"'S3'!$H$16","v":"  "}]
[{"$f":"'S3'!$I$32","v":" "},{"$f":"'S3'!$J$34","v":""},{"$f":"'S3'!$J$31","v":"  "},{"$f":"'S3'!$J$30","v":"  "},{"$f":"'S3'!$J$29","v":"  "},{"$f":"'S3'!$J$28","v":"  "},{"$f":"'S3'!$J$27","v":"  "},{"$f":"'S3'!$J$26","v":"  "},{"$f":"'S3'!$J$25","v":"  "},{"$f":"'S3'!$J$24","v":"  "},{"$f":"'S3'!$J$23","v":"  "},{"$f":"'S3'!$J$22","v":"  "},{"$f":"'S3'!$J$21","v":"  "},{"$f":"'S3'!$J$20","v":"  "},{"$f":"'S3'!$J$19","v":"  "},{"$f":"'S3'!$J$18","v":"  "},{"$f":"'S3'!$J$17","v":"  "},{"$f":"'S3'!$J$16","v":"  "}]
[{"$f":"'S3'!$K$32","v":" "},{"$f":"'S3'!$L$34","v":""},{"$f":"'S3'!$L$31","v":"  "},{"$f":"'S3'!$L$30","v":"  "},{"$f":"'S3'!$L$29","v":"  "},{"$f":"'S3'!$L$28","v":"  "},{"$f":"'S3'!$L$27","v":"  "},{"$f":"'S3'!$L$26","v":"  "},{"$f":"'S3'!$L$25","v":"  "},{"$f":"'S3'!$L$24","v":"  "},{"$f":"'S3'!$L$23","v":"  "},{"$f":"'S3'!$L$22","v":"  "},{"$f":"'S3'!$L$21","v":"  "},{"$f":"'S3'!$L$20","v":"  "},{"$f":"'S3'!$L$19","v":"  "},{"$f":"'S3'!$L$18","v":"  "},{"$f":"'S3'!$L$17","v":"  "},{"$f":"'S3'!$L$16","v":"  "}]
[{"$f":"'S3'!$M$32","v":" "},{"$f":"'S3'!$N$34","v":""},{"$f":"'S3'!$N$31","v":"  "},{"$f":"'S3'!$N$30","v":"  "},{"$f":"'S3'!$N$29","v":"  "},{"$f":"'S3'!$N$28","v":"  "},{"$f":"'S3'!$N$27","v":"  "},{"$f":"'S3'!$N$26","v":"  "},{"$f":"'S3'!$N$25","v":"  "},{"$f":"'S3'!$N$24","v":"  "},{"$f":"'S3'!$N$23","v":"  "},{"$f":"'S3'!$N$22","v":"  "},{"$f":"'S3'!$N$21","v":"  "},{"$f":"'S3'!$N$20","v":"  "},{"$f":"'S3'!$N$19","v":"  "},{"$f":"'S3'!$N$18","v":"  "},{"$f":"'S3'!$N$17","v":"  "},{"$f":"'S3'!$N$16","v":"  "}]
[{"$f":"'S3'!$C$65","v":" "},{"$f":"'S3'!$D$67","v":""},{"$f":"'S3'!$D$64","v":"  "},{"$f":"'S3'!$D$63","v":"  "},{"$f":"'S3'!$D$62","v":"  "},{"$f":"'S3'!$D$61","v":"  "},{"$f":"'S3'!$D$60","v":"  "},{"$f":"'S3'!$D$59","v":"  "},{"$f":"'S3'!$D$58","v":"  "},{"$f":"'S3'!$D$57","v":"  "},{"$f":"'S3'!$D$56","v":"  "},{"$f":"'S3'!$D$55","v":"  "},{"$f":"'S3'!$D$54","v":"  "},{"$f":"'S3'!$D$53","v":"  "},{"$f":"'S3'!$D$52","v":"  "},{"$f":"'S3'!$D$51","v":"  "},{"$f":"'S3'!$D$50","v":"  "},{"$f":"'S3'!$D$49","v":"  "}]
[{"$f":"'S3'!$E$65","v":" "},{"$f":"'S3'!$F$67","v":""},{"$f":"'S3'!$F$64","v":"  "},{"$f":"'S3'!$F$63","v":"  "},{"$f":"'S3'!$F$62","v":"  "},{"$f":"'S3'!$F$61","v":"  "},{"$f":"'S3'!$F$60","v":"  "},{"$f":"'S3'!$F$59","v":"  "},{"$f":"'S3'!$F$58","v":"  "},{"$f":"'S3'!$F$57","v":"  "},{"$f":"'S3'!$F$56","v":"  "},{"$f":"'S3'!$F$55","v":"  "},{"$f":"'S3'!$F$54","v":"  "},{"$f":"'S3'!$F$53","v":"  "},{"$f":"'S3'!$F$52","v":"  "},{"$f":"'S3'!$F$51","v":"  "},{"$f":"'S3'!$F$50","v":"  "},{"$f":"'S3'!$F$49","v":"  "}]
[{"$f":"'S3'!$G$65","v":" "},{"$f":"'S3'!$H$67","v":""},{"$f":"'S3'!$H$64","v":"  "},{"$f":"'S3'!$H$63","v":"  "},{"$f":"'S3'!$H$62","v":"  "},{"$f":"'S3'!$H$61","v":"  "},{"$f":"'S3'!$H$60","v":"  "},{"$f":"'S3'!$H$59","v":"  "},{"$f":"'S3'!$H$58","v":"  "},{"$f":"'S3'!$H$57","v":"  "},{"$f":"'S3'!$H$56","v":"  "},{"$f":"'S3'!$H$55","v":"  "},{"$f":"'S3'!$H$54","v":"  "},{"$f":"'S3'!$H$53","v":"  "},{"$f":"'S3'!$H$52","v":"  "},{"$f":"'S3'!$H$51","v":"  "},{"$f":"'S3'!$H$50","v":"  "},{"$f":"'S3'!$H$49","v":"  "}]
[{"$f":"'S3'!$I$65","v":" "},{"$f":"'S3'!$J$67","v":""},{"$f":"'S3'!$J$64","v":"  "},{"$f":"'S3'!$J$63","v":"  "},{"$f":"'S3'!$J$62","v":"  "},{"$f":"'S3'!$J$61","v":"  "},{"$f":"'S3'!$J$60","v":"  "},{"$f":"'S3'!$J$59","v":"  "},{"$f":"'S3'!$J$58","v":"  "},{"$f":"'S3'!$J$57","v":"  "},{"$f":"'S3'!$J$56","v":"  "},{"$f":"'S3'!$J$55","v":"  "},{"$f":"'S3'!$J$54","v":"  "},{"$f":"'S3'!$J$53","v":"  "},{"$f":"'S3'!$J$52","v":"  "},{"$f":"'S3'!$J$51","v":"  "},{"$f":"'S3'!$J$50","v":"  "},{"$f":"'S3'!$J$49","v":"  "}]
[{"$f":"'S3'!$K$65","v":" "},{"$f":"'S3'!$L$67","v":""},{"$f":"'S3'!$L$64","v":"  "},{"$f":"'S3'!$L$63","v":"  "},{"$f":"'S3'!$L$62","v":"  "},{"$f":"'S3'!$L$61","v":"  "},{"$f":"'S3'!$L$60","v":"  "},{"$f":"'S3'!$L$59","v":"  "},{"$f":"'S3'!$L$58","v":"  "},{"$f":"'S3'!$L$57","v":"  "},{"$f":"'S3'!$L$56","v":"  "},{"$f":"'S3'!$L$55","v":"  "},{"$f":"'S3'!$L$54","v":"  "},{"$f":"'S3'!$L$53","v":"  "},{"$f":"'S3'!$L$52","v":"  "},{"$f":"'S3'!$L$51","v":"  "},{"$f":"'S3'!$L$50","v":"  "},{"$f":"'S3'!$L$49","v":"  "}]
[{"$f":"'S3'!$M$65","v":" "},{"$f":"'S3'!$N$67","v":""},{"$f":"'S3'!$N$64","v":"  "},{"$f":"'S3'!$N$63","v":"  "},{"$f":"'S3'!$N$62","v":"  "},{"$f":"'S3'!$N$61","v":"  "},{"$f":"'S3'!$N$60","v":"  "},{"$f":"'S3'!$N$59","v":"  "},{"$f":"'S3'!$N$58","v":"  "},{"$f":"'S3'!$N$57","v":"  "},{"$f":"'S3'!$N$56","v":"  "},{"$f":"'S3'!$N$55","v":"  "},{"$f":"'S3'!$N$54","v":"  "},{"$f":"'S3'!$N$53","v":"  "},{"$f":"'S3'!$N$52","v":"  "},{"$f":"'S3'!$N$51","v":"  "},{"$f":"'S3'!$N$50","v":"  "},{"$f":"'S3'!$N$49","v":"  "}]
[{"$f":"'S4'!$C$32","v":" "},{"$f":"'S4'!$D$34","v":""},{"$f":"'S4'!$D$31","v":"  "},{"$f":"'S4'!$D$30","v":"  "},{"$f":"'S4'!$D$29","v":"  "},{"$f":"'S4'!$D$28","v":"  "},{"$f":"'S4'!$D$27","v":"  "},{"$f":"'S4'!$D$26","v":"  "},{"$f":"'S4'!$D$25","v":"  "},{"$f":"'S4'!$D$24","v":"  "},{"$f":"'S4'!$D$23","v":"  "},{"$f":"'S4'!$D$22","v":"  "},{"$f":"'S4'!$D$21","v":"  "},{"$f":"'S4'!$D$20","v":"  "},{"$f":"'S4'!$D$19","v":"  "},{"$f":"'S4'!$D$18","v":"  "},{"$f":"'S4'!$D$17","v":"  "},{"$f":"'S4'!$D$16","v":"  "}]
[{"$f":"'S4'!$E$32","v":" "},{"$f":"'S4'!$F$34","v":""},{"$f":"'S4'!$F$31","v":"  "},{"$f":"'S4'!$F$30","v":"  "},{"$f":"'S4'!$F$29","v":"  "},{"$f":"'S4'!$F$28","v":"  "},{"$f":"'S4'!$F$27","v":"  "},{"$f":"'S4'!$F$26","v":"  "},{"$f":"'S4'!$F$25","v":"  "},{"$f":"'S4'!$F$24","v":"  "},{"$f":"'S4'!$F$23","v":"  "},{"$f":"'S4'!$F$22","v":"  "},{"$f":"'S4'!$F$21","v":"  "},{"$f":"'S4'!$F$20","v":"  "},{"$f":"'S4'!$F$19","v":"  "},{"$f":"'S4'!$F$18","v":"  "},{"$f":"'S4'!$F$17","v":"  "},{"$f":"'S4'!$F$16","v":"  "}]
[{"$f":"'S4'!$G$32","v":" "},{"$f":"'S4'!$H$34","v":""},{"$f":"'S4'!$H$31","v":"  "},{"$f":"'S4'!$H$30","v":"  "},{"$f":"'S4'!$H$29","v":"  "},{"$f":"'S4'!$H$28","v":"  "},{"$f":"'S4'!$H$27","v":"  "},{"$f":"'S4'!$H$26","v":"  "},{"$f":"'S4'!$H$25","v":"  "},{"$f":"'S4'!$H$24","v":"  "},{"$f":"'S4'!$H$23","v":"  "},{"$f":"'S4'!$H$22","v":"  "},{"$f":"'S4'!$H$21","v":"  "},{"$f":"'S4'!$H$20","v":"  "},{"$f":"'S4'!$H$19","v":"  "},{"$f":"'S4'!$H$18","v":"  "},{"$f":"'S4'!$H$17","v":"  "},{"$f":"'S4'!$H$16","v":"  "}]
[{"$f":"'S4'!$I$32","v":" "},{"$f":"'S4'!$J$34","v":""},{"$f":"'S4'!$J$31","v":"  "},{"$f":"'S4'!$J$30","v":"  "},{"$f":"'S4'!$J$29","v":"  "},{"$f":"'S4'!$J$28","v":"  "},{"$f":"'S4'!$J$27","v":"  "},{"$f":"'S4'!$J$26","v":"  "},{"$f":"'S4'!$J$25","v":"  "},{"$f":"'S4'!$J$24","v":"  "},{"$f":"'S4'!$J$23","v":"  "},{"$f":"'S4'!$J$22","v":"  "},{"$f":"'S4'!$J$21","v":"  "},{"$f":"'S4'!$J$20","v":"  "},{"$f":"'S4'!$J$19","v":"  "},{"$f":"'S4'!$J$18","v":"  "},{"$f":"'S4'!$J$17","v":"  "},{"$f":"'S4'!$J$16","v":"  "}]
[{"$f":"'S4'!$K$32","v":" "},{"$f":"'S4'!$L$34","v":""},{"$f":"'S4'!$L$31","v":"  "},{"$f":"'S4'!$L$30","v":"  "},{"$f":"'S4'!$L$29","v":"  "},{"$f":"'S4'!$L$28","v":"  "},{"$f":"'S4'!$L$27","v":"  "},{"$f":"'S4'!$L$26","v":"  "},{"$f":"'S4'!$L$25","v":"  "},{"$f":"'S4'!$L$24","v":"  "},{"$f":"'S4'!$L$23","v":"  "},{"$f":"'S4'!$L$22","v":"  "},{"$f":"'S4'!$L$21","v":"  "},{"$f":"'S4'!$L$20","v":"  "},{"$f":"'S4'!$L$19","v":"  "},{"$f":"'S4'!$L$18","v":"  "},{"$f":"'S4'!$L$17","v":"  "},{"$f":"'S4'!$L$16","v":"  "}]
[{"$f":"'S4'!$M$32","v":" "},{"$f":"'S4'!$N$34","v":""},{"$f":"'S4'!$N$31","v":"  "},{"$f":"'S4'!$N$30","v":"  "},{"$f":"'S4'!$N$29","v":"  "},{"$f":"'S4'!$N$28","v":"  "},{"$f":"'S4'!$N$27","v":"  "},{"$f":"'S4'!$N$26","v":"  "},{"$f":"'S4'!$N$25","v":"  "},{"$f":"'S4'!$N$24","v":"  "},{"$f":"'S4'!$N$23","v":"  "},{"$f":"'S4'!$N$22","v":"  "},{"$f":"'S4'!$N$21","v":"  "},{"$f":"'S4'!$N$20","v":"  "},{"$f":"'S4'!$N$19","v":"  "},{"$f":"'S4'!$N$18","v":"  "},{"$f":"'S4'!$N$17","v":"  "},{"$f":"'S4'!$N$16","v":"  "}]
[{"$f":"'S4'!$C$65","v":" "},{"$f":"'S4'!$D$67","v":""},{"$f":"'S4'!$D$64","v":"  "},{"$f":"'S4'!$D$63","v":"  "},{"$f":"'S4'!$D$62","v":"  "},{"$f":"'S4'!$D$61","v":"  "},{"$f":"'S4'!$D$60","v":"  "},{"$f":"'S4'!$D$59","v":"  "},{"$f":"'S4'!$D$58","v":"  "},{"$f":"'S4'!$D$57","v":"  "},{"$f":"'S4'!$D$56","v":"  "},{"$f":"'S4'!$D$55","v":"  "},{"$f":"'S4'!$D$54","v":"  "},{"$f":"'S4'!$D$53","v":"  "},{"$f":"'S4'!$D$52","v":"  "},{"$f":"'S4'!$D$51","v":"  "},{"$f":"'S4'!$D$50","v":"  "},{"$f":"'S4'!$D$49","v":"  "}]
[{"$f":"'S4'!$E$65","v":" "},{"$f":"'S4'!$F$67","v":""},{"$f":"'S4'!$F$64","v":"  "},{"$f":"'S4'!$F$63","v":"  "},{"$f":"'S4'!$F$62","v":"  "},{"$f":"'S4'!$F$61","v":"  "},{"$f":"'S4'!$F$60","v":"  "},{"$f":"'S4'!$F$59","v":"  "},{"$f":"'S4'!$F$58","v":"  "},{"$f":"'S4'!$F$57","v":"  "},{"$f":"'S4'!$F$56","v":"  "},{"$f":"'S4'!$F$55","v":"  "},{"$f":"'S4'!$F$54","v":"  "},{"$f":"'S4'!$F$53","v":"  "},{"$f":"'S4'!$F$52","v":"  "},{"$f":"'S4'!$F$51","v":"  "},{"$f":"'S4'!$F$50","v":"  "},{"$f":"'S4'!$F$49","v":"  "}]
[{"$f":"'S4'!$G$65","v":" "},{"$f":"'S4'!$H$67","v":""},{"$f":"'S4'!$H$64","v":"  "},{"$f":"'S4'!$H$63","v":"  "},{"$f":"'S4'!$H$62","v":"  "},{"$f":"'S4'!$H$61","v":"  "},{"$f":"'S4'!$H$60","v":"  "},{"$f":"'S4'!$H$59","v":"  "},{"$f":"'S4'!$H$58","v":"  "},{"$f":"'S4'!$H$57","v":"  "},{"$f":"'S4'!$H$56","v":"  "},{"$f":"'S4'!$H$55","v":"  "},{"$f":"'S4'!$H$54","v":"  "},{"$f":"'S4'!$H$53","v":"  "},{"$f":"'S4'!$H$52","v":"  "},{"$f":"'S4'!$H$51","v":"  "},{"$f":"'S4'!$H$50","v":"  "},{"$f":"'S4'!$H$49","v":"  "}]
[{"$f":"'S4'!$I$65","v":" "},{"$f":"'S4'!$J$67","v":""},{"$f":"'S4'!$J$64","v":"  "},{"$f":"'S4'!$J$63","v":"  "},{"$f":"'S4'!$J$62","v":"  "},{"$f":"'S4'!$J$61","v":"  "},{"$f":"'S4'!$J$60","v":"  "},{"$f":"'S4'!$J$59","v":"  "},{"$f":"'S4'!$J$58","v":"  "},{"$f":"'S4'!$J$57","v":"  "},{"$f":"'S4'!$J$56","v":"  "},{"$f":"'S4'!$J$55","v":"  "},{"$f":"'S4'!$J$54","v":"  "},{"$f":"'S4'!$J$53","v":"  "},{"$f":"'S4'!$J$52","v":"  "},{"$f":"'S4'!$J$51","v":"  "},{"$f":"'S4'!$J$50","v":"  "},{"$f":"'S4'!$J$49","v":"  "}]
[{"$f":"'S4'!$K$65","v":" "},{"$f":"'S4'!$L$67","v":""},{"$f":"'S4'!$L$64","v":"  "},{"$f":"'S4'!$L$63","v":"  "},{"$f":"'S4'!$L$62","v":"  "},{"$f":"'S4'!$L$61","v":"  "},{"$f":"'S4'!$L$60","v":"  "},{"$f":"'S4'!$L$59","v":"  "},{"$f":"'S4'!$L$58","v":"  "},{"$f":"'S4'!$L$57","v":"  "},{"$f":"'S4'!$L$56","v":"  "},{"$f":"'S4'!$L$55","v":"  "},{"$f":"'S4'!$L$54","v":"  "},{"$f":"'S4'!$L$53","v":"  "},{"$f":"'S4'!$L$52","v":"  "},{"$f":"'S4'!$L$51","v":"  "},{"$f":"'S4'!$L$50","v":"  "},{"$f":"'S4'!$L$49","v":"  "}]
[{"$f":"'S4'!$M$65","v":" "},{"$f":"'S4'!$N$67","v":""},{"$f":"'S4'!$N$64","v":"  "},{"$f":"'S4'!$N$63","v":"  "},{"$f":"'S4'!$N$62","v":"  "},{"$f":"'S4'!$N$61","v":"  "},{"$f":"'S4'!$N$60","v":"  "},{"$f":"'S4'!$N$59","v":"  "},{"$f":"'S4'!$N$58","v":"  "},{"$f":"'S4'!$N$57","v":"  "},{"$f":"'S4'!$N$56","v":"  "},{"$f":"'S4'!$N$55","v":"  "},{"$f":"'S4'!$N$54","v":"  "},{"$f":"'S4'!$N$53","v":"  "},{"$f":"'S4'!$N$52","v":"  "},{"$f":"'S4'!$N$51","v":"  "},{"$f":"'S4'!$N$50","v":"  "},{"$f":"'S4'!$N$49","v":"  "}]
[{"$f":"'S5'!$C$32","v":" "},{"$f":"'S5'!$D$34","v":""},{"$f":"'S5'!$D$31","v":"  "},{"$f":"'S5'!$D$30","v":"  "},{"$f":"'S5'!$D$29","v":"  "},{"$f":"'S5'!$D$28","v":"  "},{"$f":"'S5'!$D$27","v":"  "},{"$f":"'S5'!$D$26","v":"  "},{"$f":"'S5'!$D$25","v":"  "},{"$f":"'S5'!$D$24","v":"  "},{"$f":"'S5'!$D$23","v":"  "},{"$f":"'S5'!$D$22","v":"  "},{"$f":"'S5'!$D$21","v":"  "},{"$f":"'S5'!$D$20","v":"  "},{"$f":"'S5'!$D$19","v":"  "},{"$f":"'S5'!$D$18","v":"  "},{"$f":"'S5'!$D$17","v":"  "},{"$f":"'S5'!$D$16","v":"  "}]
[{"$f":"'S5'!$E$32","v":" "},{"$f":"'S5'!$F$34","v":""},{"$f":"'S5'!$F$31","v":"  "},{"$f":"'S5'!$F$30","v":"  "},{"$f":"'S5'!$F$29","v":"  "},{"$f":"'S5'!$F$28","v":"  "},{"$f":"'S5'!$F$27","v":"  "},{"$f":"'S5'!$F$26","v":"  "},{"$f":"'S5'!$F$25","v":"  "},{"$f":"'S5'!$F$24","v":"  "},{"$f":"'S5'!$F$23","v":"  "},{"$f":"'S5'!$F$22","v":"  "},{"$f":"'S5'!$F$21","v":"  "},{"$f":"'S5'!$F$20","v":"  "},{"$f":"'S5'!$F$19","v":"  "},{"$f":"'S5'!$F$18","v":"  "},{"$f":"'S5'!$F$17","v":"  "},{"$f":"'S5'!$F$16","v":"  "}]
[{"$f":"'S5'!$G$32","v":" "},{"$f":"'S5'!$H$34","v":""},{"$f":"'S5'!$H$31","v":"  "},{"$f":"'S5'!$H$30","v":"  "},{"$f":"'S5'!$H$29","v":"  "},{"$f":"'S5'!$H$28","v":"  "},{"$f":"'S5'!$H$27","v":"  "},{"$f":"'S5'!$H$26","v":"  "},{"$f":"'S5'!$H$25","v":"  "},{"$f":"'S5'!$H$24","v":"  "},{"$f":"'S5'!$H$23","v":"  "},{"$f":"'S5'!$H$22","v":"  "},{"$f":"'S5'!$H$21","v":"  "},{"$f":"'S5'!$H$20","v":"  "},{"$f":"'S5'!$H$19","v":"  "},{"$f":"'S5'!$H$18","v":"  "},{"$f":"'S5'!$H$17","v":"  "},{"$f":"'S5'!$H$16","v":"  "}]
[{"$f":"'S5'!$I$32","v":" "},{"$f":"'S5'!$J$34","v":""},{"$f":"'S5'!$J$31","v":"  "},{"$f":"'S5'!$J$30","v":"  "},{"$f":"'S5'!$J$29","v":"  "},{"$f":"'S5'!$J$28","v":"  "},{"$f":"'S5'!$J$27","v":"  "},{"$f":"'S5'!$J$26","v":"  "},{"$f":"'S5'!$J$25","v":"  "},{"$f":"'S5'!$J$24","v":"  "},{"$f":"'S5'!$J$23","v":"  "},{"$f":"'S5'!$J$22","v":"  "},{"$f":"'S5'!$J$21","v":"  "},{"$f":"'S5'!$J$20","v":"  "},{"$f":"'S5'!$J$19","v":"  "},{"$f":"'S5'!$J$18","v":"  "},{"$f":"'S5'!$J$17","v":"  "},{"$f":"'S5'!$J$16","v":"  "}]
[{"$f":"'S5'!$K$32","v":" "},{"$f":"'S5'!$L$34","v":""},{"$f":"'S5'!$L$31","v":"  "},{"$f":"'S5'!$L$30","v":"  "},{"$f":"'S5'!$L$29","v":"  "},{"$f":"'S5'!$L$28","v":"  "},{"$f":"'S5'!$L$27","v":"  "},{"$f":"'S5'!$L$26","v":"  "},{"$f":"'S5'!$L$25","v":"  "},{"$f":"'S5'!$L$24","v":"  "},{"$f":"'S5'!$L$23","v":"  "},{"$f":"'S5'!$L$22","v":"  "},{"$f":"'S5'!$L$21","v":"  "},{"$f":"'S5'!$L$20","v":"  "},{"$f":"'S5'!$L$19","v":"  "},{"$f":"'S5'!$L$18","v":"  "},{"$f":"'S5'!$L$17","v":"  "},{"$f":"'S5'!$L$16","v":"  "}]
[{"$f":"'S5'!$M$32","v":" "},{"$f":"'S5'!$N$34","v":""},{"$f":"'S5'!$N$31","v":"  "},{"$f":"'S5'!$N$30","v":"  "},{"$f":"'S5'!$N$29","v":"  "},{"$f":"'S5'!$N$28","v":"  "},{"$f":"'S5'!$N$27","v":"  "},{"$f":"'S5'!$N$26","v":"  "},{"$f":"'S5'!$N$25","v":"  "},{"$f":"'S5'!$N$24","v":"  "},{"$f":"'S5'!$N$23","v":"  "},{"$f":"'S5'!$N$22","v":"  "},{"$f":"'S5'!$N$21","v":"  "},{"$f":"'S5'!$N$20","v":"  "},{"$f":"'S5'!$N$19","v":"  "},{"$f":"'S5'!$N$18","v":"  "},{"$f":"'S5'!$N$17","v":"  "},{"$f":"'S5'!$N$16","v":"  "}]
[{"$f":"'S5'!$C$65","v":" "},{"$f":"'S5'!$D$67","v":""},{"$f":"'S5'!$D$64","v":"  "},{"$f":"'S5'!$D$63","v":"  "},{"$f":"'S5'!$D$62","v":"  "},{"$f":"'S5'!$D$61","v":"  "},{"$f":"'S5'!$D$60","v":"  "},{"$f":"'S5'!$D$59","v":"  "},{"$f":"'S5'!$D$58","v":"  "},{"$f":"'S5'!$D$57","v":"  "},{"$f":"'S5'!$D$56","v":"  "},{"$f":"'S5'!$D$55","v":"  "},{"$f":"'S5'!$D$54","v":"  "},{"$f":"'S5'!$D$53","v":"  "},{"$f":"'S5'!$D$52","v":"  "},{"$f":"'S5'!$D$51","v":"  "},{"$f":"'S5'!$D$50","v":"  "},{"$f":"'S5'!$D$49","v":"  "}]
[{"$f":"'S5'!$E$65","v":" "},{"$f":"'S5'!$F$67","v":""},{"$f":"'S5'!$F$64","v":"  "},{"$f":"'S5'!$F$63","v":"  "},{"$f":"'S5'!$F$62","v":"  "},{"$f":"'S5'!$F$61","v":"  "},{"$f":"'S5'!$F$60","v":"  "},{"$f":"'S5'!$F$59","v":"  "},{"$f":"'S5'!$F$58","v":"  "},{"$f":"'S5'!$F$57","v":"  "},{"$f":"'S5'!$F$56","v":"  "},{"$f":"'S5'!$F$55","v":"  "},{"$f":"'S5'!$F$54","v":"  "},{"$f":"'S5'!$F$53","v":"  "},{"$f":"'S5'!$F$52","v":"  "},{"$f":"'S5'!$F$51","v":"  "},{"$f":"'S5'!$F$50","v":"  "},{"$f":"'S5'!$F$49","v":"  "}]
[{"$f":"'S5'!$G$65","v":" "},{"$f":"'S5'!$H$67","v":""},{"$f":"'S5'!$H$64","v":"  "},{"$f":"'S5'!$H$63","v":"  "},{"$f":"'S5'!$H$62","v":"  "},{"$f":"'S5'!$H$61","v":"  "},{"$f":"'S5'!$H$60","v":"  "},{"$f":"'S5'!$H$59","v":"  "},{"$f":"'S5'!$H$58","v":"  "},{"$f":"'S5'!$H$57","v":"  "},{"$f":"'S5'!$H$56","v":"  "},{"$f":"'S5'!$H$55","v":"  "},{"$f":"'S5'!$H$54","v":"  "},{"$f":"'S5'!$H$53","v":"  "},{"$f":"'S5'!$H$52","v":"  "},{"$f":"'S5'!$H$51","v":"  "},{"$f":"'S5'!$H$50","v":"  "},{"$f":"'S5'!$H$49","v":"  "}]
[{"$f":"'S5'!$I$65","v":" "},{"$f":"'S5'!$J$67","v":""},{"$f":"'S5'!$J$64","v":"  "},{"$f":"'S5'!$J$63","v":"  "},{"$f":"'S5'!$J$62","v":"  "},{"$f":"'S5'!$J$61","v":"  "},{"$f":"'S5'!$J$60","v":"  "},{"$f":"'S5'!$J$59","v":"  "},{"$f":"'S5'!$J$58","v":"  "},{"$f":"'S5'!$J$57","v":"  "},{"$f":"'S5'!$J$56","v":"  "},{"$f":"'S5'!$J$55","v":"  "},{"$f":"'S5'!$J$54","v":"  "},{"$f":"'S5'!$J$53","v":"  "},{"$f":"'S5'!$J$52","v":"  "},{"$f":"'S5'!$J$51","v":"  "},{"$f":"'S5'!$J$50","v":"  "},{"$f":"'S5'!$J$49","v":"  "}]
[{"$f":"'S5'!$K$65","v":" "},{"$f":"'S5'!$L$67","v":""},{"$f":"'S5'!$L$64","v":"  "},{"$f":"'S5'!$L$63","v":"  "},{"$f":"'S5'!$L$62","v":"  "},{"$f":"'S5'!$L$61","v":"  "},{"$f":"'S5'!$L$60","v":"  "},{"$f":"'S5'!$L$59","v":"  "},{"$f":"'S5'!$L$58","v":"  "},{"$f":"'S5'!$L$57","v":"  "},{"$f":"'S5'!$L$56","v":"  "},{"$f":"'S5'!$L$55","v":"  "},{"$f":"'S5'!$L$54","v":"  "},{"$f":"'S5'!$L$53","v":"  "},{"$f":"'S5'!$L$52","v":"  "},{"$f":"'S5'!$L$51","v":"  "},{"$f":"'S5'!$L$50","v":"  "},{"$f":"'S5'!$L$49","v":"  "}]
[{"$f":"'S5'!$M$65","v":" "},{"$f":"'S5'!$N$67","v":""},{"$f":"'S5'!$N$64","v":"  "},{"$f":"'S5'!$N$63","v":"  "},{"$f":"'S5'!$N$62","v":"  "},{"$f":"'S5'!$N$61","v":"  "},{"$f":"'S5'!$N$60","v":"  "},{"$f":"'S5'!$N$59","v":"  "},{"$f":"'S5'!$N$58","v":"  "},{"$f":"'S5'!$N$57","v":"  "},{"$f":"'S5'!$N$56","v":"  "},{"$f":"'S5'!$N$55","v":"  "},{"$f":"'S5'!$N$54","v":"  "},{"$f":"'S5'!$N$53","v":"  "},{"$f":"'S5'!$N$52","v":"  "},{"$f":"'S5'!$N$51","v":"  "},{"$f":"'S5'!$N$50","v":"  "},{"$f":"'S5'!$N$49","v":"  "}]
[{"$f":"'S6'!$C$32","v":" "},{"$f":"'S6'!$D$34","v":""},{"$f":"'S6'!$D$31","v":"  "},{"$f":"'S6'!$D$30","v":"  "},{"$f":"'S6'!$D$29","v":"  "},{"$f":"'S6'!$D$28","v":"  "},{"$f":"'S6'!$D$27","v":"  "},{"$f":"'S6'!$D$26","v":"  "},{"$f":"'S6'!$D$25","v":"  "},{"$f":"'S6'!$D$24","v":"  "},{"$f":"'S6'!$D$23","v":"  "},{"$f":"'S6'!$D$22","v":"  "},{"$f":"'S6'!$D$21","v":"  "},{"$f":"'S6'!$D$20","v":"  "},{"$f":"'S6'!$D$19","v":"  "},{"$f":"'S6'!$D$18","v":"  "},{"$f":"'S6'!$D$17","v":"  "},{"$f":"'S6'!$D$16","v":"  "}]
[{"$f":"'S6'!$E$32","v":" "},{"$f":"'S6'!$F$34","v":""},{"$f":"'S6'!$F$31","v":"  "},{"$f":"'S6'!$F$30","v":"  "},{"$f":"'S6'!$F$29","v":"  "},{"$f":"'S6'!$F$28","v":"  "},{"$f":"'S6'!$F$27","v":"  "},{"$f":"'S6'!$F$26","v":"  "},{"$f":"'S6'!$F$25","v":"  "},{"$f":"'S6'!$F$24","v":"  "},{"$f":"'S6'!$F$23","v":"  "},{"$f":"'S6'!$F$22","v":"  "},{"$f":"'S6'!$F$21","v":"  "},{"$f":"'S6'!$F$20","v":"  "},{"$f":"'S6'!$F$19","v":"  "},{"$f":"'S6'!$F$18","v":"  "},{"$f":"'S6'!$F$17","v":"  "},{"$f":"'S6'!$F$16","v":"  "}]
[{"$f":"'S6'!$G$32","v":" "},{"$f":"'S6'!$H$34","v":""},{"$f":"'S6'!$H$31","v":"  "},{"$f":"'S6'!$H$30","v":"  "},{"$f":"'S6'!$H$29","v":"  "},{"$f":"'S6'!$H$28","v":"  "},{"$f":"'S6'!$H$27","v":"  "},{"$f":"'S6'!$H$26","v":"  "},{"$f":"'S6'!$H$25","v":"  "},{"$f":"'S6'!$H$24","v":"  "},{"$f":"'S6'!$H$23","v":"  "},{"$f":"'S6'!$H$22","v":"  "},{"$f":"'S6'!$H$21","v":"  "},{"$f":"'S6'!$H$20","v":"  "},{"$f":"'S6'!$H$19","v":"  "},{"$f":"'S6'!$H$18","v":"  "},{"$f":"'S6'!$H$17","v":"  "},{"$f":"'S6'!$H$16","v":"  "}]
[{"$f":"'S6'!$I$32","v":" "},{"$f":"'S6'!$J$34","v":""},{"$f":"'S6'!$J$31","v":"  "},{"$f":"'S6'!$J$30","v":"  "},{"$f":"'S6'!$J$29","v":"  "},{"$f":"'S6'!$J$28","v":"  "},{"$f":"'S6'!$J$27","v":"  "},{"$f":"'S6'!$J$26","v":"  "},{"$f":"'S6'!$J$25","v":"  "},{"$f":"'S6'!$J$24","v":"  "},{"$f":"'S6'!$J$23","v":"  "},{"$f":"'S6'!$J$22","v":"  "},{"$f":"'S6'!$J$21","v":"  "},{"$f":"'S6'!$J$20","v":"  "},{"$f":"'S6'!$J$19","v":"  "},{"$f":"'S6'!$J$18","v":"  "},{"$f":"'S6'!$J$17","v":"  "},{"$f":"'S6'!$J$16","v":"  "}]
[{"$f":"'S6'!$K$32","v":" "},{"$f":"'S6'!$L$34","v":""},{"$f":"'S6'!$L$31","v":"  "},{"$f":"'S6'!$L$30","v":"  "},{"$f":"'S6'!$L$29","v":"  "},{"$f":"'S6'!$L$28","v":"  "},{"$f":"'S6'!$L$27","v":"  "},{"$f":"'S6'!$L$26","v":"  "},{"$f":"'S6'!$L$25","v":"  "},{"$f":"'S6'!$L$24","v":"  "},{"$f":"'S6'!$L$23","v":"  "},{"$f":"'S6'!$L$22","v":"  "},{"$f":"'S6'!$L$21","v":"  "},{"$f":"'S6'!$L$20","v":"  "},{"$f":"'S6'!$L$19","v":"  "},{"$f":"'S6'!$L$18","v":"  "},{"$f":"'S6'!$L$17","v":"  "},{"$f":"'S6'!$L$16","v":"  "}]
[{"$f":"'S6'!$M$32","v":" "},{"$f":"'S6'!$N$34","v":""},{"$f":"'S6'!$N$31","v":"  "},{"$f":"'S6'!$N$30","v":"  "},{"$f":"'S6'!$N$29","v":"  "},{"$f":"'S6'!$N$28","v":"  "},{"$f":"'S6'!$N$27","v":"  "},{"$f":"'S6'!$N$26","v":"  "},{"$f":"'S6'!$N$25","v":"  "},{"$f":"'S6'!$N$24","v":"  "},{"$f":"'S6'!$N$23","v":"  "},{"$f":"'S6'!$N$22","v":"  "},{"$f":"'S6'!$N$21","v":"  "},{"$f":"'S6'!$N$20","v":"  "},{"$f":"'S6'!$N$19","v":"  "},{"$f":"'S6'!$N$18","v":"  "},{"$f":"'S6'!$N$17","v":"  "},{"$f":"'S6'!$N$16","v":"  "}]
[{"$f":"'S6'!$C$65","v":" "},{"$f":"'S6'!$D$67","v":""},{"$f":"'S6'!$D$64","v":"  "},{"$f":"'S6'!$D$63","v":"  "},{"$f":"'S6'!$D$62","v":"  "},{"$f":"'S6'!$D$61","v":"  "},{"$f":"'S6'!$D$60","v":"  "},{"$f":"'S6'!$D$59","v":"  "},{"$f":"'S6'!$D$58","v":"  "},{"$f":"'S6'!$D$57","v":"  "},{"$f":"'S6'!$D$56","v":"  "},{"$f":"'S6'!$D$55","v":"  "},{"$f":"'S6'!$D$54","v":"  "},{"$f":"'S6'!$D$53","v":"  "},{"$f":"'S6'!$D$52","v":"  "},{"$f":"'S6'!$D$51","v":"  "},{"$f":"'S6'!$D$50","v":"  "},{"$f":"'S6'!$D$49","v":"  "}]
[{"$f":"'S6'!$E$65","v":" "},{"$f":"'S6'!$F$67","v":""},{"$f":"'S6'!$F$64","v":"  "},{"$f":"'S6'!$F$63","v":"  "},{"$f":"'S6'!$F$62","v":"  "},{"$f":"'S6'!$F$61","v":"  "},{"$f":"'S6'!$F$60","v":"  "},{"$f":"'S6'!$F$59","v":"  "},{"$f":"'S6'!$F$58","v":"  "},{"$f":"'S6'!$F$57","v":"  "},{"$f":"'S6'!$F$56","v":"  "},{"$f":"'S6'!$F$55","v":"  "},{"$f":"'S6'!$F$54","v":"  "},{"$f":"'S6'!$F$53","v":"  "},{"$f":"'S6'!$F$52","v":"  "},{"$f":"'S6'!$F$51","v":"  "},{"$f":"'S6'!$F$50","v":"  "},{"$f":"'S6'!$F$49","v":"  "}]
[{"$f":"'S6'!$G$65","v":" "},{"$f":"'S6'!$H$67","v":""},{"$f":"'S6'!$H$64","v":"  "},{"$f":"'S6'!$H$63","v":"  "},{"$f":"'S6'!$H$62","v":"  "},{"$f":"'S6'!$H$61","v":"  "},{"$f":"'S6'!$H$60","v":"  "},{"$f":"'S6'!$H$59","v":"  "},{"$f":"'S6'!$H$58","v":"  "},{"$f":"'S6'!$H$57","v":"  "},{"$f":"'S6'!$H$56","v":"  "},{"$f":"'S6'!$H$55","v":"  "},{"$f":"'S6'!$H$54","v":"  "},{"$f":"'S6'!$H$53","v":"  "},{"$f":"'S6'!$H$52","v":"  "},{"$f":"'S6'!$H$51","v":"  "},{"$f":"'S6'!$H$50","v":"  "},{"$f":"'S6'!$H$49","v":"  "}]
[{"$f":"'S6'!$I$65","v":" "},{"$f":"'S6'!$J$67","v":""},{"$f":"'S6'!$J$64","v":"  "},{"$f":"'S6'!$J$63","v":"  "},{"$f":"'S6'!$J$62","v":"  "},{"$f":"'S6'!$J$61","v":"  "},{"$f":"'S6'!$J$60","v":"  "},{"$f":"'S6'!$J$59","v":"  "},{"$f":"'S6'!$J$58","v":"  "},{"$f":"'S6'!$J$57","v":"  "},{"$f":"'S6'!$J$56","v":"  "},{"$f":"'S6'!$J$55","v":"  "},{"$f":"'S6'!$J$54","v":"  "},{"$f":"'S6'!$J$53","v":"  "},{"$f":"'S6'!$J$52","v":"  "},{"$f":"'S6'!$J$51","v":"  "},{"$f":"'S6'!$J$50","v":"  "},{"$f":"'S6'!$J$49","v":"  "}]
[{"$f":"'S6'!$K$65","v":" "},{"$f":"'S6'!$L$67","v":""},{"$f":"'S6'!$L$64","v":"  "},{"$f":"'S6'!$L$63","v":"  "},{"$f":"'S6'!$L$62","v":"  "},{"$f":"'S6'!$L$61","v":"  "},{"$f":"'S6'!$L$60","v":"  "},{"$f":"'S6'!$L$59","v":"  "},{"$f":"'S6'!$L$58","v":"  "},{"$f":"'S6'!$L$57","v":"  "},{"$f":"'S6'!$L$56","v":"  "},{"$f":"'S6'!$L$55","v":"  "},{"$f":"'S6'!$L$54","v":"  "},{"$f":"'S6'!$L$53","v":"  "},{"$f":"'S6'!$L$52","v":"  "},{"$f":"'S6'!$L$51","v":"  "},{"$f":"'S6'!$L$50","v":"  "},{"$f":"'S6'!$L$49","v":"  "}]
[{"$f":"'S6'!$M$65","v":" "},{"$f":"'S6'!$N$67","v":""},{"$f":"'S6'!$N$64","v":"  "},{"$f":"'S6'!$N$63","v":"  "},{"$f":"'S6'!$N$62","v":"  "},{"$f":"'S6'!$N$61","v":"  "},{"$f":"'S6'!$N$60","v":"  "},{"$f":"'S6'!$N$59","v":"  "},{"$f":"'S6'!$N$58","v":"  "},{"$f":"'S6'!$N$57","v":"  "},{"$f":"'S6'!$N$56","v":"  "},{"$f":"'S6'!$N$55","v":"  "},{"$f":"'S6'!$N$54","v":"  "},{"$f":"'S6'!$N$53","v":"  "},{"$f":"'S6'!$N$52","v":"  "},{"$f":"'S6'!$N$51","v":"  "},{"$f":"'S6'!$N$50","v":"  "},{"$f":"'S6'!$N$49","v":"  "}]
[{"$f":"'S7'!$C$32","v":" "},{"$f":"'S7'!$D$34","v":""},{"$f":"'S7'!$D$31","v":"  "},{"$f":"'S7'!$D$30","v":"  "},{"$f":"'S7'!$D$29","v":"  "},{"$f":"'S7'!$D$28","v":"  "},{"$f":"'S7'!$D$27","v":"  "},{"$f":"'S7'!$D$26","v":"  "},{"$f":"'S7'!$D$25","v":"  "},{"$f":"'S7'!$D$24","v":"  "},{"$f":"'S7'!$D$23","v":"  "},{"$f":"'S7'!$D$22","v":"  "},{"$f":"'S7'!$D$21","v":"  "},{"$f":"'S7'!$D$20","v":"  "},{"$f":"'S7'!$D$19","v":"  "},{"$f":"'S7'!$D$18","v":"  "},{"$f":"'S7'!$D$17","v":"  "},{"$f":"'S7'!$D$16","v":"  "}]
[{"$f":"'S7'!$E$32","v":" "},{"$f":"'S7'!$F$34","v":""},{"$f":"'S7'!$F$31","v":"  "},{"$f":"'S7'!$F$30","v":"  "},{"$f":"'S7'!$F$29","v":"  "},{"$f":"'S7'!$F$28","v":"  "},{"$f":"'S7'!$F$27","v":"  "},{"$f":"'S7'!$F$26","v":"  "},{"$f":"'S7'!$F$25","v":"  "},{"$f":"'S7'!$F$24","v":"  "},{"$f":"'S7'!$F$23","v":"  "},{"$f":"'S7'!$F$22","v":"  "},{"$f":"'S7'!$F$21","v":"  "},{"$f":"'S7'!$F$20","v":"  "},{"$f":"'S7'!$F$19","v":"  "},{"$f":"'S7'!$F$18","v":"  "},{"$f":"'S7'!$F$17","v":"  "},{"$f":"'S7'!$F$16","v":"  "}]
[{"$f":"'S7'!$G$32","v":" "},{"$f":"'S7'!$H$34","v":""},{"$f":"'S7'!$H$31","v":"  "},{"$f":"'S7'!$H$30","v":"  "},{"$f":"'S7'!$H$29","v":"  "},{"$f":"'S7'!$H$28","v":"  "},{"$f":"'S7'!$H$27","v":"  "},{"$f":"'S7'!$H$26","v":"  "},{"$f":"'S7'!$H$25","v":"  "},{"$f":"'S7'!$H$24","v":"  "},{"$f":"'S7'!$H$23","v":"  "},{"$f":"'S7'!$H$22","v":"  "},{"$f":"'S7'!$H$21","v":"  "},{"$f":"'S7'!$H$20","v":"  "},{"$f":"'S7'!$H$19","v":"  "},{"$f":"'S7'!$H$18","v":"  "},{"$f":"'S7'!$H$17","v":"  "},{"$f":"'S7'!$H$16","v":"  "}]
[{"$f":"'S7'!$I$32","v":" "},{"$f":"'S7'!$J$34","v":""},{"$f":"'S7'!$J$31","v":"  "},{"$f":"'S7'!$J$30","v":"  "},{"$f":"'S7'!$J$29","v":"  "},{"$f":"'S7'!$J$28","v":"  "},{"$f":"'S7'!$J$27","v":"  "},{"$f":"'S7'!$J$26","v":"  "},{"$f":"'S7'!$J$25","v":"  "},{"$f":"'S7'!$J$24","v":"  "},{"$f":"'S7'!$J$23","v":"  "},{"$f":"'S7'!$J$22","v":"  "},{"$f":"'S7'!$J$21","v":"  "},{"$f":"'S7'!$J$20","v":"  "},{"$f":"'S7'!$J$19","v":"  "},{"$f":"'S7'!$J$18","v":"  "},{"$f":"'S7'!$J$17","v":"  "},{"$f":"'S7'!$J$16","v":"  "}]
[{"$f":"'S7'!$K$32","v":" "},{"$f":"'S7'!$L$34","v":""},{"$f":"'S7'!$L$31","v":"  "},{"$f":"'S7'!$L$30","v":"  "},{"$f":"'S7'!$L$29","v":"  "},{"$f":"'S7'!$L$28","v":"  "},{"$f":"'S7'!$L$27","v":"  "},{"$f":"'S7'!$L$26","v":"  "},{"$f":"'S7'!$L$25","v":"  "},{"$f":"'S7'!$L$24","v":"  "},{"$f":"'S7'!$L$23","v":"  "},{"$f":"'S7'!$L$22","v":"  "},{"$f":"'S7'!$L$21","v":"  "},{"$f":"'S7'!$L$20","v":"  "},{"$f":"'S7'!$L$19","v":"  "},{"$f":"'S7'!$L$18","v":"  "},{"$f":"'S7'!$L$17","v":"  "},{"$f":"'S7'!$L$16","v":"  "}]
[{"$f":"'S7'!$M$32","v":" "},{"$f":"'S7'!$N$34","v":""},{"$f":"'S7'!$N$31","v":"  "},{"$f":"'S7'!$N$30","v":"  "},{"$f":"'S7'!$N$29","v":"  "},{"$f":"'S7'!$N$28","v":"  "},{"$f":"'S7'!$N$27","v":"  "},{"$f":"'S7'!$N$26","v":"  "},{"$f":"'S7'!$N$25","v":"  "},{"$f":"'S7'!$N$24","v":"  "},{"$f":"'S7'!$N$23","v":"  "},{"$f":"'S7'!$N$22","v":"  "},{"$f":"'S7'!$N$21","v":"  "},{"$f":"'S7'!$N$20","v":"  "},{"$f":"'S7'!$N$19","v":"  "},{"$f":"'S7'!$N$18","v":"  "},{"$f":"'S7'!$N$17","v":"  "},{"$f":"'S7'!$N$16","v":"  "}]
[{"$f":"'S7'!$C$65","v":" "},{"$f":"'S7'!$D$67","v":""},{"$f":"'S7'!$D$64","v":"  "},{"$f":"'S7'!$D$63","v":"  "},{"$f":"'S7'!$D$62","v":"  "},{"$f":"'S7'!$D$61","v":"  "},{"$f":"'S7'!$D$60","v":"  "},{"$f":"'S7'!$D$59","v":"  "},{"$f":"'S7'!$D$58","v":"  "},{"$f":"'S7'!$D$57","v":"  "},{"$f":"'S7'!$D$56","v":"  "},{"$f":"'S7'!$D$55","v":"  "},{"$f":"'S7'!$D$54","v":"  "},{"$f":"'S7'!$D$53","v":"  "},{"$f":"'S7'!$D$52","v":"  "},{"$f":"'S7'!$D$51","v":"  "},{"$f":"'S7'!$D$50","v":"  "},{"$f":"'S7'!$D$49","v":"  "}]
[{"$f":"'S7'!$E$65","v":" "},{"$f":"'S7'!$F$67","v":""},{"$f":"'S7'!$F$64","v":"  "},{"$f":"'S7'!$F$63","v":"  "},{"$f":"'S7'!$F$62","v":"  "},{"$f":"'S7'!$F$61","v":"  "},{"$f":"'S7'!$F$60","v":"  "},{"$f":"'S7'!$F$59","v":"  "},{"$f":"'S7'!$F$58","v":"  "},{"$f":"'S7'!$F$57","v":"  "},{"$f":"'S7'!$F$56","v":"  "},{"$f":"'S7'!$F$55","v":"  "},{"$f":"'S7'!$F$54","v":"  "},{"$f":"'S7'!$F$53","v":"  "},{"$f":"'S7'!$F$52","v":"  "},{"$f":"'S7'!$F$51","v":"  "},{"$f":"'S7'!$F$50","v":"  "},{"$f":"'S7'!$F$49","v":"  "}]
[{"$f":"'S7'!$G$65","v":" "},{"$f":"'S7'!$H$67","v":""},{"$f":"'S7'!$H$64","v":"  "},{"$f":"'S7'!$H$63","v":"  "},{"$f":"'S7'!$H$62","v":"  "},{"$f":"'S7'!$H$61","v":"  "},{"$f":"'S7'!$H$60","v":"  "},{"$f":"'S7'!$H$59","v":"  "},{"$f":"'S7'!$H$58","v":"  "},{"$f":"'S7'!$H$57","v":"  "},{"$f":"'S7'!$H$56","v":"  "},{"$f":"'S7'!$H$55","v":"  "},{"$f":"'S7'!$H$54","v":"  "},{"$f":"'S7'!$H$53","v":"  "},{"$f":"'S7'!$H$52","v":"  "},{"$f":"'S7'!$H$51","v":"  "},{"$f":"'S7'!$H$50","v":"  "},{"$f":"'S7'!$H$49","v":"  "}]
[{"$f":"'S7'!$I$65","v":" "},{"$f":"'S7'!$J$67","v":""},{"$f":"'S7'!$J$64","v":"  "},{"$f":"'S7'!$J$63","v":"  "},{"$f":"'S7'!$J$62","v":"  "},{"$f":"'S7'!$J$61","v":"  "},{"$f":"'S7'!$J$60","v":"  "},{"$f":"'S7'!$J$59","v":"  "},{"$f":"'S7'!$J$58","v":"  "},{"$f":"'S7'!$J$57","v":"  "},{"$f":"'S7'!$J$56","v":"  "},{"$f":"'S7'!$J$55","v":"  "},{"$f":"'S7'!$J$54","v":"  "},{"$f":"'S7'!$J$53","v":"  "},{"$f":"'S7'!$J$52","v":"  "},{"$f":"'S7'!$J$51","v":"  "},{"$f":"'S7'!$J$50","v":"  "},{"$f":"'S7'!$J$49","v":"  "}]
[{"$f":"'S7'!$K$65","v":" "},{"$f":"'S7'!$L$67","v":""},{"$f":"'S7'!$L$64","v":"  "},{"$f":"'S7'!$L$63","v":"  "},{"$f":"'S7'!$L$62","v":"  "},{"$f":"'S7'!$L$61","v":"  "},{"$f":"'S7'!$L$60","v":"  "},{"$f":"'S7'!$L$59","v":"  "},{"$f":"'S7'!$L$58","v":"  "},{"$f":"'S7'!$L$57","v":"  "},{"$f":"'S7'!$L$56","v":"  "},{"$f":"'S7'!$L$55","v":"  "},{"$f":"'S7'!$L$54","v":"  "},{"$f":"'S7'!$L$53","v":"  "},{"$f":"'S7'!$L$52","v":"  "},{"$f":"'S7'!$L$51","v":"  "},{"$f":"'S7'!$L$50","v":"  "},{"$f":"'S7'!$L$49","v":"  "}]
[{"$f":"'S7'!$M$65","v":" "},{"$f":"'S7'!$N$67","v":""},{"$f":"'S7'!$N$64","v":"  "},{"$f":"'S7'!$N$63","v":"  "},{"$f":"'S7'!$N$62","v":"  "},{"$f":"'S7'!$N$61","v":"  "},{"$f":"'S7'!$N$60","v":"  "},{"$f":"'S7'!$N$59","v":"  "},{"$f":"'S7'!$N$58","v":"  "},{"$f":"'S7'!$N$57","v":"  "},{"$f":"'S7'!$N$56","v":"  "},{"$f":"'S7'!$N$55","v":"  "},{"$f":"'S7'!$N$54","v":"  "},{"$f":"'S7'!$N$53","v":"  "},{"$f":"'S7'!$N$52","v":"  "},{"$f":"'S7'!$N$51","v":"  "},{"$f":"'S7'!$N$50","v":"  "},{"$f":"'S7'!$N$49","v":"  "}]
[{"$f":"'S8'!$C$32","v":" "},{"$f":"'S8'!$D$34","v":""},{"$f":"'S8'!$D$31","v":"  "},{"$f":"'S8'!$D$30","v":"  "},{"$f":"'S8'!$D$29","v":"  "},{"$f":"'S8'!$D$28","v":"  "},{"$f":"'S8'!$D$27","v":"  "},{"$f":"'S8'!$D$26","v":"  "},{"$f":"'S8'!$D$25","v":"  "},{"$f":"'S8'!$D$24","v":"  "},{"$f":"'S8'!$D$23","v":"  "},{"$f":"'S8'!$D$22","v":"  "},{"$f":"'S8'!$D$21","v":"  "},{"$f":"'S8'!$D$20","v":"  "},{"$f":"'S8'!$D$19","v":"  "},{"$f":"'S8'!$D$18","v":"  "},{"$f":"'S8'!$D$17","v":"  "},{"$f":"'S8'!$D$16","v":"  "}]
[{"$f":"'S8'!$E$32","v":" "},{"$f":"'S8'!$F$34","v":""},{"$f":"'S8'!$F$31","v":"  "},{"$f":"'S8'!$F$30","v":"  "},{"$f":"'S8'!$F$29","v":"  "},{"$f":"'S8'!$F$28","v":"  "},{"$f":"'S8'!$F$27","v":"  "},{"$f":"'S8'!$F$26","v":"  "},{"$f":"'S8'!$F$25","v":"  "},{"$f":"'S8'!$F$24","v":"  "},{"$f":"'S8'!$F$23","v":"  "},{"$f":"'S8'!$F$22","v":"  "},{"$f":"'S8'!$F$21","v":"  "},{"$f":"'S8'!$F$20","v":"  "},{"$f":"'S8'!$F$19","v":"  "},{"$f":"'S8'!$F$18","v":"  "},{"$f":"'S8'!$F$17","v":"  "},{"$f":"'S8'!$F$16","v":"  "}]
[{"$f":"'S8'!$G$32","v":" "},{"$f":"'S8'!$H$34","v":""},{"$f":"'S8'!$H$31","v":"  "},{"$f":"'S8'!$H$30","v":"  "},{"$f":"'S8'!$H$29","v":"  "},{"$f":"'S8'!$H$28","v":"  "},{"$f":"'S8'!$H$27","v":"  "},{"$f":"'S8'!$H$26","v":"  "},{"$f":"'S8'!$H$25","v":"  "},{"$f":"'S8'!$H$24","v":"  "},{"$f":"'S8'!$H$23","v":"  "},{"$f":"'S8'!$H$22","v":"  "},{"$f":"'S8'!$H$21","v":"  "},{"$f":"'S8'!$H$20","v":"  "},{"$f":"'S8'!$H$19","v":"  "},{"$f":"'S8'!$H$18","v":"  "},{"$f":"'S8'!$H$17","v":"  "},{"$f":"'S8'!$H$16","v":"  "}]
[{"$f":"'S8'!$I$32","v":" "},{"$f":"'S8'!$J$34","v":""},{"$f":"'S8'!$J$31","v":"  "},{"$f":"'S8'!$J$30","v":"  "},{"$f":"'S8'!$J$29","v":"  "},{"$f":"'S8'!$J$28","v":"  "},{"$f":"'S8'!$J$27","v":"  "},{"$f":"'S8'!$J$26","v":"  "},{"$f":"'S8'!$J$25","v":"  "},{"$f":"'S8'!$J$24","v":"  "},{"$f":"'S8'!$J$23","v":"  "},{"$f":"'S8'!$J$22","v":"  "},{"$f":"'S8'!$J$21","v":"  "},{"$f":"'S8'!$J$20","v":"  "},{"$f":"'S8'!$J$19","v":"  "},{"$f":"'S8'!$J$18","v":"  "},{"$f":"'S8'!$J$17","v":"  "},{"$f":"'S8'!$J$16","v":"  "}]
[{"$f":"'S8'!$K$32","v":" "},{"$f":"'S8'!$L$34","v":""},{"$f":"'S8'!$L$31","v":"  "},{"$f":"'S8'!$L$30","v":"  "},{"$f":"'S8'!$L$29","v":"  "},{"$f":"'S8'!$L$28","v":"  "},{"$f":"'S8'!$L$27","v":"  "},{"$f":"'S8'!$L$26","v":"  "},{"$f":"'S8'!$L$25","v":"  "},{"$f":"'S8'!$L$24","v":"  "},{"$f":"'S8'!$L$23","v":"  "},{"$f":"'S8'!$L$22","v":"  "},{"$f":"'S8'!$L$21","v":"  "},{"$f":"'S8'!$L$20","v":"  "},{"$f":"'S8'!$L$19","v":"  "},{"$f":"'S8'!$L$18","v":"  "},{"$f":"'S8'!$L$17","v":"  "},{"$f":"'S8'!$L$16","v":"  "}]
[{"$f":"'S8'!$M$32","v":" "},{"$f":"'S8'!$N$34","v":""},{"$f":"'S8'!$N$31","v":"  "},{"$f":"'S8'!$N$30","v":"  "},{"$f":"'S8'!$N$29","v":"  "},{"$f":"'S8'!$N$28","v":"  "},{"$f":"'S8'!$N$27","v":"  "},{"$f":"'S8'!$N$26","v":"  "},{"$f":"'S8'!$N$25","v":"  "},{"$f":"'S8'!$N$24","v":"  "},{"$f":"'S8'!$N$23","v":"  "},{"$f":"'S8'!$N$22","v":"  "},{"$f":"'S8'!$N$21","v":"  "},{"$f":"'S8'!$N$20","v":"  "},{"$f":"'S8'!$N$19","v":"  "},{"$f":"'S8'!$N$18","v":"  "},{"$f":"'S8'!$N$17","v":"  "},{"$f":"'S8'!$N$16","v":"  "}]
[{"$f":"'S8'!$C$65","v":" "},{"$f":"'S8'!$D$67","v":""},{"$f":"'S8'!$D$64","v":"  "},{"$f":"'S8'!$D$63","v":"  "},{"$f":"'S8'!$D$62","v":"  "},{"$f":"'S8'!$D$61","v":"  "},{"$f":"'S8'!$D$60","v":"  "},{"$f":"'S8'!$D$59","v":"  "},{"$f":"'S8'!$D$58","v":"  "},{"$f":"'S8'!$D$57","v":"  "},{"$f":"'S8'!$D$56","v":"  "},{"$f":"'S8'!$D$55","v":"  "},{"$f":"'S8'!$D$54","v":"  "},{"$f":"'S8'!$D$53","v":"  "},{"$f":"'S8'!$D$52","v":"  "},{"$f":"'S8'!$D$51","v":"  "},{"$f":"'S8'!$D$50","v":"  "},{"$f":"'S8'!$D$49","v":"  "}]
[{"$f":"'S8'!$E$65","v":" "},{"$f":"'S8'!$F$67","v":""},{"$f":"'S8'!$F$64","v":"  "},{"$f":"'S8'!$F$63","v":"  "},{"$f":"'S8'!$F$62","v":"  "},{"$f":"'S8'!$F$61","v":"  "},{"$f":"'S8'!$F$60","v":"  "},{"$f":"'S8'!$F$59","v":"  "},{"$f":"'S8'!$F$58","v":"  "},{"$f":"'S8'!$F$57","v":"  "},{"$f":"'S8'!$F$56","v":"  "},{"$f":"'S8'!$F$55","v":"  "},{"$f":"'S8'!$F$54","v":"  "},{"$f":"'S8'!$F$53","v":"  "},{"$f":"'S8'!$F$52","v":"  "},{"$f":"'S8'!$F$51","v":"  "},{"$f":"'S8'!$F$50","v":"  "},{"$f":"'S8'!$F$49","v":"  "}]
[{"$f":"'S8'!$G$65","v":" "},{"$f":"'S8'!$H$67","v":""},{"$f":"'S8'!$H$64","v":"  "},{"$f":"'S8'!$H$63","v":"  "},{"$f":"'S8'!$H$62","v":"  "},{"$f":"'S8'!$H$61","v":"  "},{"$f":"'S8'!$H$60","v":"  "},{"$f":"'S8'!$H$59","v":"  "},{"$f":"'S8'!$H$58","v":"  "},{"$f":"'S8'!$H$57","v":"  "},{"$f":"'S8'!$H$56","v":"  "},{"$f":"'S8'!$H$55","v":"  "},{"$f":"'S8'!$H$54","v":"  "},{"$f":"'S8'!$H$53","v":"  "},{"$f":"'S8'!$H$52","v":"  "},{"$f":"'S8'!$H$51","v":"  "},{"$f":"'S8'!$H$50","v":"  "},{"$f":"'S8'!$H$49","v":"  "}]
[{"$f":"'S8'!$I$65","v":" "},{"$f":"'S8'!$J$67","v":""},{"$f":"'S8'!$J$64","v":"  "},{"$f":"'S8'!$J$63","v":"  "},{"$f":"'S8'!$J$62","v":"  "},{"$f":"'S8'!$J$61","v":"  "},{"$f":"'S8'!$J$60","v":"  "},{"$f":"'S8'!$J$59","v":"  "},{"$f":"'S8'!$J$58","v":"  "},{"$f":"'S8'!$J$57","v":"  "},{"$f":"'S8'!$J$56","v":"  "},{"$f":"'S8'!$J$55","v":"  "},{"$f":"'S8'!$J$54","v":"  "},{"$f":"'S8'!$J$53","v":"  "},{"$f":"'S8'!$J$52","v":"  "},{"$f":"'S8'!$J$51","v":"  "},{"$f":"'S8'!$J$50","v":"  "},{"$f":"'S8'!$J$49","v":"  "}]
[{"$f":"'S8'!$K$65","v":" "},{"$f":"'S8'!$L$67","v":""},{"$f":"'S8'!$L$64","v":"  "},{"$f":"'S8'!$L$63","v":"  "},{"$f":"'S8'!$L$62","v":"  "},{"$f":"'S8'!$L$61","v":"  "},{"$f":"'S8'!$L$60","v":"  "},{"$f":"'S8'!$L$59","v":"  "},{"$f":"'S8'!$L$58","v":"  "},{"$f":"'S8'!$L$57","v":"  "},{"$f":"'S8'!$L$56","v":"  "},{"$f":"'S8'!$L$55","v":"  "},{"$f":"'S8'!$L$54","v":"  "},{"$f":"'S8'!$L$53","v":"  "},{"$f":"'S8'!$L$52","v":"  "},{"$f":"'S8'!$L$51","v":"  "},{"$f":"'S8'!$L$50","v":"  "},{"$f":"'S8'!$L$49","v":"  "}]
[{"$f":"'S8'!$M$65","v":" "},{"$f":"'S8'!$N$67","v":""},{"$f":"'S8'!$N$64","v":"  "},{"$f":"'S8'!$N$63","v":"  "},{"$f":"'S8'!$N$62","v":"  "},{"$f":"'S8'!$N$61","v":"  "},{"$f":"'S8'!$N$60","v":"  "},{"$f":"'S8'!$N$59","v":"  "},{"$f":"'S8'!$N$58","v":"  "},{"$f":"'S8'!$N$57","v":"  "},{"$f":"'S8'!$N$56","v":"  "},{"$f":"'S8'!$N$55","v":"  "},{"$f":"'S8'!$N$54","v":"  "},{"$f":"'S8'!$N$53","v":"  "},{"$f":"'S8'!$N$52","v":"  "},{"$f":"'S8'!$N$51","v":"  "},{"$f":"'S8'!$N$50","v":"  "},{"$f":"'S8'!$N$49","v":"  "}]
[{"$f":"'S9'!$C$32","v":" "},{"$f":"'S9'!$D$34","v":""},{"$f":"'S9'!$D$31","v":"  "},{"$f":"'S9'!$D$30","v":"  "},{"$f":"'S9'!$D$29","v":"  "},{"$f":"'S9'!$D$28","v":"  "},{"$f":"'S9'!$D$27","v":"  "},{"$f":"'S9'!$D$26","v":"  "},{"$f":"'S9'!$D$25","v":"  "},{"$f":"'S9'!$D$24","v":"  "},{"$f":"'S9'!$D$23","v":"  "},{"$f":"'S9'!$D$22","v":"  "},{"$f":"'S9'!$D$21","v":"  "},{"$f":"'S9'!$D$20","v":"  "},{"$f":"'S9'!$D$19","v":"  "},{"$f":"'S9'!$D$18","v":"  "},{"$f":"'S9'!$D$17","v":"  "},{"$f":"'S9'!$D$16","v":"  "}]
[{"$f":"'S9'!$E$32","v":" "},{"$f":"'S9'!$F$34","v":""},{"$f":"'S9'!$F$31","v":"  "},{"$f":"'S9'!$F$30","v":"  "},{"$f":"'S9'!$F$29","v":"  "},{"$f":"'S9'!$F$28","v":"  "},{"$f":"'S9'!$F$27","v":"  "},{"$f":"'S9'!$F$26","v":"  "},{"$f":"'S9'!$F$25","v":"  "},{"$f":"'S9'!$F$24","v":"  "},{"$f":"'S9'!$F$23","v":"  "},{"$f":"'S9'!$F$22","v":"  "},{"$f":"'S9'!$F$21","v":"  "},{"$f":"'S9'!$F$20","v":"  "},{"$f":"'S9'!$F$19","v":"  "},{"$f":"'S9'!$F$18","v":"  "},{"$f":"'S9'!$F$17","v":"  "},{"$f":"'S9'!$F$16","v":"  "}]
[{"$f":"'S9'!$G$32","v":" "},{"$f":"'S9'!$H$34","v":""},{"$f":"'S9'!$H$31","v":"  "},{"$f":"'S9'!$H$30","v":"  "},{"$f":"'S9'!$H$29","v":"  "},{"$f":"'S9'!$H$28","v":"  "},{"$f":"'S9'!$H$27","v":"  "},{"$f":"'S9'!$H$26","v":"  "},{"$f":"'S9'!$H$25","v":"  "},{"$f":"'S9'!$H$24","v":"  "},{"$f":"'S9'!$H$23","v":"  "},{"$f":"'S9'!$H$22","v":"  "},{"$f":"'S9'!$H$21","v":"  "},{"$f":"'S9'!$H$20","v":"  "},{"$f":"'S9'!$H$19","v":"  "},{"$f":"'S9'!$H$18","v":"  "},{"$f":"'S9'!$H$17","v":"  "},{"$f":"'S9'!$H$16","v":"  "}]
[{"$f":"'S9'!$I$32","v":" "},{"$f":"'S9'!$J$34","v":""},{"$f":"'S9'!$J$31","v":"  "},{"$f":"'S9'!$J$30","v":"  "},{"$f":"'S9'!$J$29","v":"  "},{"$f":"'S9'!$J$28","v":"  "},{"$f":"'S9'!$J$27","v":"  "},{"$f":"'S9'!$J$26","v":"  "},{"$f":"'S9'!$J$25","v":"  "},{"$f":"'S9'!$J$24","v":"  "},{"$f":"'S9'!$J$23","v":"  "},{"$f":"'S9'!$J$22","v":"  "},{"$f":"'S9'!$J$21","v":"  "},{"$f":"'S9'!$J$20","v":"  "},{"$f":"'S9'!$J$19","v":"  "},{"$f":"'S9'!$J$18","v":"  "},{"$f":"'S9'!$J$17","v":"  "},{"$f":"'S9'!$J$16","v":"  "}]
[{"$f":"'S9'!$K$32","v":" "},{"$f":"'S9'!$L$34","v":""},{"$f":"'S9'!$L$31","v":"  "},{"$f":"'S9'!$L$30","v":"  "},{"$f":"'S9'!$L$29","v":"  "},{"$f":"'S9'!$L$28","v":"  "},{"$f":"'S9'!$L$27","v":"  "},{"$f":"'S9'!$L$26","v":"  "},{"$f":"'S9'!$L$25","v":"  "},{"$f":"'S9'!$L$24","v":"  "},{"$f":"'S9'!$L$23","v":"  "},{"$f":"'S9'!$L$22","v":"  "},{"$f":"'S9'!$L$21","v":"  "},{"$f":"'S9'!$L$20","v":"  "},{"$f":"'S9'!$L$19","v":"  "},{"$f":"'S9'!$L$18","v":"  "},{"$f":"'S9'!$L$17","v":"  "},{"$f":"'S9'!$L$16","v":"  "}]
[{"$f":"'S9'!$M$32","v":" "},{"$f":"'S9'!$N$34","v":""},{"$f":"'S9'!$N$31","v":"  "},{"$f":"'S9'!$N$30","v":"  "},{"$f":"'S9'!$N$29","v":"  "},{"$f":"'S9'!$N$28","v":"  "},{"$f":"'S9'!$N$27","v":"  "},{"$f":"'S9'!$N$26","v":"  "},{"$f":"'S9'!$N$25","v":"  "},{"$f":"'S9'!$N$24","v":"  "},{"$f":"'S9'!$N$23","v":"  "},{"$f":"'S9'!$N$22","v":"  "},{"$f":"'S9'!$N$21","v":"  "},{"$f":"'S9'!$N$20","v":"  "},{"$f":"'S9'!$N$19","v":"  "},{"$f":"'S9'!$N$18","v":"  "},{"$f":"'S9'!$N$17","v":"  "},{"$f":"'S9'!$N$16","v":"  "}]
[{"$f":"'S9'!$C$65","v":" "},{"$f":"'S9'!$D$67","v":""},{"$f":"'S9'!$D$64","v":"  "},{"$f":"'S9'!$D$63","v":"  "},{"$f":"'S9'!$D$62","v":"  "},{"$f":"'S9'!$D$61","v":"  "},{"$f":"'S9'!$D$60","v":"  "},{"$f":"'S9'!$D$59","v":"  "},{"$f":"'S9'!$D$58","v":"  "},{"$f":"'S9'!$D$57","v":"  "},{"$f":"'S9'!$D$56","v":"  "},{"$f":"'S9'!$D$55","v":"  "},{"$f":"'S9'!$D$54","v":"  "},{"$f":"'S9'!$D$53","v":"  "},{"$f":"'S9'!$D$52","v":"  "},{"$f":"'S9'!$D$51","v":"  "},{"$f":"'S9'!$D$50","v":"  "},{"$f":"'S9'!$D$49","v":"  "}]
[{"$f":"'S9'!$E$65","v":" "},{"$f":"'S9'!$F$67","v":""},{"$f":"'S9'!$F$64","v":"  "},{"$f":"'S9'!$F$63","v":"  "},{"$f":"'S9'!$F$62","v":"  "},{"$f":"'S9'!$F$61","v":"  "},{"$f":"'S9'!$F$60","v":"  "},{"$f":"'S9'!$F$59","v":"  "},{"$f":"'S9'!$F$58","v":"  "},{"$f":"'S9'!$F$57","v":"  "},{"$f":"'S9'!$F$56","v":"  "},{"$f":"'S9'!$F$55","v":"  "},{"$f":"'S9'!$F$54","v":"  "},{"$f":"'S9'!$F$53","v":"  "},{"$f":"'S9'!$F$52","v":"  "},{"$f":"'S9'!$F$51","v":"  "},{"$f":"'S9'!$F$50","v":"  "},{"$f":"'S9'!$F$49","v":"  "}]
[{"$f":"'S9'!$G$65","v":" "},{"$f":"'S9'!$H$67","v":""},{"$f":"'S9'!$H$64","v":"  "},{"$f":"'S9'!$H$63","v":"  "},{"$f":"'S9'!$H$62","v":"  "},{"$f":"'S9'!$H$61","v":"  "},{"$f":"'S9'!$H$60","v":"  "},{"$f":"'S9'!$H$59","v":"  "},{"$f":"'S9'!$H$58","v":"  "},{"$f":"'S9'!$H$57","v":"  "},{"$f":"'S9'!$H$56","v":"  "},{"$f":"'S9'!$H$55","v":"  "},{"$f":"'S9'!$H$54","v":"  "},{"$f":"'S9'!$H$53","v":"  "},{"$f":"'S9'!$H$52","v":"  "},{"$f":"'S9'!$H$51","v":"  "},{"$f":"'S9'!$H$50","v":"  "},{"$f":"'S9'!$H$49","v":"  "}]
[{"$f":"'S9'!$I$65","v":" "},{"$f":"'S9'!$J$67","v":""},{"$f":"'S9'!$J$64","v":"  "},{"$f":"'S9'!$J$63","v":"  "},{"$f":"'S9'!$J$62","v":"  "},{"$f":"'S9'!$J$61","v":"  "},{"$f":"'S9'!$J$60","v":"  "},{"$f":"'S9'!$J$59","v":"  "},{"$f":"'S9'!$J$58","v":"  "},{"$f":"'S9'!$J$57","v":"  "},{"$f":"'S9'!$J$56","v":"  "},{"$f":"'S9'!$J$55","v":"  "},{"$f":"'S9'!$J$54","v":"  "},{"$f":"'S9'!$J$53","v":"  "},{"$f":"'S9'!$J$52","v":"  "},{"$f":"'S9'!$J$51","v":"  "},{"$f":"'S9'!$J$50","v":"  "},{"$f":"'S9'!$J$49","v":"  "}]
[{"$f":"'S9'!$K$65","v":" "},{"$f":"'S9'!$L$67","v":""},{"$f":"'S9'!$L$64","v":"  "},{"$f":"'S9'!$L$63","v":"  "},{"$f":"'S9'!$L$62","v":"  "},{"$f":"'S9'!$L$61","v":"  "},{"$f":"'S9'!$L$60","v":"  "},{"$f":"'S9'!$L$59","v":"  "},{"$f":"'S9'!$L$58","v":"  "},{"$f":"'S9'!$L$57","v":"  "},{"$f":"'S9'!$L$56","v":"  "},{"$f":"'S9'!$L$55","v":"  "},{"$f":"'S9'!$L$54","v":"  "},{"$f":"'S9'!$L$53","v":"  "},{"$f":"'S9'!$L$52","v":"  "},{"$f":"'S9'!$L$51","v":"  "},{"$f":"'S9'!$L$50","v":"  "},{"$f":"'S9'!$L$49","v":"  "}]
[{"$f":"'S9'!$M$65","v":" "},{"$f":"'S9'!$N$67","v":""},{"$f":"'S9'!$N$64","v":"  "},{"$f":"'S9'!$N$63","v":"  "},{"$f":"'S9'!$N$62","v":"  "},{"$f":"'S9'!$N$61","v":"  "},{"$f":"'S9'!$N$60","v":"  "},{"$f":"'S9'!$N$59","v":"  "},{"$f":"'S9'!$N$58","v":"  "},{"$f":"'S9'!$N$57","v":"  "},{"$f":"'S9'!$N$56","v":"  "},{"$f":"'S9'!$N$55","v":"  "},{"$f":"'S9'!$N$54","v":"  "},{"$f":"'S9'!$N$53","v":"  "},{"$f":"'S9'!$N$52","v":"  "},{"$f":"'S9'!$N$51","v":"  "},{"$f":"'S9'!$N$50","v":"  "},{"$f":"'S9'!$N$49","v":"  "}]
[{"$f":"'S10'!$C$32","v":" "},{"$f":"'S10'!$D$34","v":""},{"$f":"'S10'!$D$31","v":"  "},{"$f":"'S10'!$D$30","v":"  "},{"$f":"'S10'!$D$29","v":"  "},{"$f":"'S10'!$D$28","v":"  "},{"$f":"'S10'!$D$27","v":"  "},{"$f":"'S10'!$D$26","v":"  "},{"$f":"'S10'!$D$25","v":"  "},{"$f":"'S10'!$D$24","v":"  "},{"$f":"'S10'!$D$23","v":"  "},{"$f":"'S10'!$D$22","v":"  "},{"$f":"'S10'!$D$21","v":"  "},{"$f":"'S10'!$D$20","v":"  "},{"$f":"'S10'!$D$19","v":"  "},{"$f":"'S10'!$D$18","v":"  "},{"$f":"'S10'!$D$17","v":"  "},{"$f":"'S10'!$D$16","v":"  "}]
[{"$f":"'S10'!$E$32","v":" "},{"$f":"'S10'!$F$34","v":""},{"$f":"'S10'!$F$31","v":"  "},{"$f":"'S10'!$F$30","v":"  "},{"$f":"'S10'!$F$29","v":"  "},{"$f":"'S10'!$F$28","v":"  "},{"$f":"'S10'!$F$27","v":"  "},{"$f":"'S10'!$F$26","v":"  "},{"$f":"'S10'!$F$25","v":"  "},{"$f":"'S10'!$F$24","v":"  "},{"$f":"'S10'!$F$23","v":"  "},{"$f":"'S10'!$F$22","v":"  "},{"$f":"'S10'!$F$21","v":"  "},{"$f":"'S10'!$F$20","v":"  "},{"$f":"'S10'!$F$19","v":"  "},{"$f":"'S10'!$F$18","v":"  "},{"$f":"'S10'!$F$17","v":"  "},{"$f":"'S10'!$F$16","v":"  "}]
[{"$f":"'S10'!$G$32","v":" "},{"$f":"'S10'!$H$34","v":""},{"$f":"'S10'!$H$31","v":"  "},{"$f":"'S10'!$H$30","v":"  "},{"$f":"'S10'!$H$29","v":"  "},{"$f":"'S10'!$H$28","v":"  "},{"$f":"'S10'!$H$27","v":"  "},{"$f":"'S10'!$H$26","v":"  "},{"$f":"'S10'!$H$25","v":"  "},{"$f":"'S10'!$H$24","v":"  "},{"$f":"'S10'!$H$23","v":"  "},{"$f":"'S10'!$H$22","v":"  "},{"$f":"'S10'!$H$21","v":"  "},{"$f":"'S10'!$H$20","v":"  "},{"$f":"'S10'!$H$19","v":"  "},{"$f":"'S10'!$H$18","v":"  "},{"$f":"'S10'!$H$17","v":"  "},{"$f":"'S10'!$H$16","v":"  "}]
[{"$f":"'S10'!$I$32","v":" "},{"$f":"'S10'!$J$34","v":""},{"$f":"'S10'!$J$31","v":"  "},{"$f":"'S10'!$J$30","v":"  "},{"$f":"'S10'!$J$29","v":"  "},{"$f":"'S10'!$J$28","v":"  "},{"$f":"'S10'!$J$27","v":"  "},{"$f":"'S10'!$J$26","v":"  "},{"$f":"'S10'!$J$25","v":"  "},{"$f":"'S10'!$J$24","v":"  "},{"$f":"'S10'!$J$23","v":"  "},{"$f":"'S10'!$J$22","v":"  "},{"$f":"'S10'!$J$21","v":"  "},{"$f":"'S10'!$J$20","v":"  "},{"$f":"'S10'!$J$19","v":"  "},{"$f":"'S10'!$J$18","v":"  "},{"$f":"'S10'!$J$17","v":"  "},{"$f":"'S10'!$J$16","v":"  "}]
[{"$f":"'S10'!$K$32","v":" "},{"$f":"'S10'!$L$34","v":""},{"$f":"'S10'!$L$31","v":"  "},{"$f":"'S10'!$L$30","v":"  "},{"$f":"'S10'!$L$29","v":"  "},{"$f":"'S10'!$L$28","v":"  "},{"$f":"'S10'!$L$27","v":"  "},{"$f":"'S10'!$L$26","v":"  "},{"$f":"'S10'!$L$25","v":"  "},{"$f":"'S10'!$L$24","v":"  "},{"$f":"'S10'!$L$23","v":"  "},{"$f":"'S10'!$L$22","v":"  "},{"$f":"'S10'!$L$21","v":"  "},{"$f":"'S10'!$L$20","v":"  "},{"$f":"'S10'!$L$19","v":"  "},{"$f":"'S10'!$L$18","v":"  "},{"$f":"'S10'!$L$17","v":"  "},{"$f":"'S10'!$L$16","v":"  "}]
[{"$f":"'S10'!$M$32","v":" "},{"$f":"'S10'!$N$34","v":""},{"$f":"'S10'!$N$31","v":"  "},{"$f":"'S10'!$N$30","v":"  "},{"$f":"'S10'!$N$29","v":"  "},{"$f":"'S10'!$N$28","v":"  "},{"$f":"'S10'!$N$27","v":"  "},{"$f":"'S10'!$N$26","v":"  "},{"$f":"'S10'!$N$25","v":"  "},{"$f":"'S10'!$N$24","v":"  "},{"$f":"'S10'!$N$23","v":"  "},{"$f":"'S10'!$N$22","v":"  "},{"$f":"'S10'!$N$21","v":"  "},{"$f":"'S10'!$N$20","v":"  "},{"$f":"'S10'!$N$19","v":"  "},{"$f":"'S10'!$N$18","v":"  "},{"$f":"'S10'!$N$17","v":"  "},{"$f":"'S10'!$N$16","v":"  "}]
[{"$f":"'S10'!$C$65","v":" "},{"$f":"'S10'!$D$67","v":""},{"$f":"'S10'!$D$64","v":"  "},{"$f":"'S10'!$D$63","v":"  "},{"$f":"'S10'!$D$62","v":"  "},{"$f":"'S10'!$D$61","v":"  "},{"$f":"'S10'!$D$60","v":"  "},{"$f":"'S10'!$D$59","v":"  "},{"$f":"'S10'!$D$58","v":"  "},{"$f":"'S10'!$D$57","v":"  "},{"$f":"'S10'!$D$56","v":"  "},{"$f":"'S10'!$D$55","v":"  "},{"$f":"'S10'!$D$54","v":"  "},{"$f":"'S10'!$D$53","v":"  "},{"$f":"'S10'!$D$52","v":"  "},{"$f":"'S10'!$D$51","v":"  "},{"$f":"'S10'!$D$50","v":"  "},{"$f":"'S10'!$D$49","v":"  "}]
[{"$f":"'S10'!$E$65","v":" "},{"$f":"'S10'!$F$67","v":""},{"$f":"'S10'!$F$64","v":"  "},{"$f":"'S10'!$F$63","v":"  "},{"$f":"'S10'!$F$62","v":"  "},{"$f":"'S10'!$F$61","v":"  "},{"$f":"'S10'!$F$60","v":"  "},{"$f":"'S10'!$F$59","v":"  "},{"$f":"'S10'!$F$58","v":"  "},{"$f":"'S10'!$F$57","v":"  "},{"$f":"'S10'!$F$56","v":"  "},{"$f":"'S10'!$F$55","v":"  "},{"$f":"'S10'!$F$54","v":"  "},{"$f":"'S10'!$F$53","v":"  "},{"$f":"'S10'!$F$52","v":"  "},{"$f":"'S10'!$F$51","v":"  "},{"$f":"'S10'!$F$50","v":"  "},{"$f":"'S10'!$F$49","v":"  "}]
[{"$f":"'S10'!$G$65","v":" "},{"$f":"'S10'!$H$67","v":""},{"$f":"'S10'!$H$64","v":"  "},{"$f":"'S10'!$H$63","v":"  "},{"$f":"'S10'!$H$62","v":"  "},{"$f":"'S10'!$H$61","v":"  "},{"$f":"'S10'!$H$60","v":"  "},{"$f":"'S10'!$H$59","v":"  "},{"$f":"'S10'!$H$58","v":"  "},{"$f":"'S10'!$H$57","v":"  "},{"$f":"'S10'!$H$56","v":"  "},{"$f":"'S10'!$H$55","v":"  "},{"$f":"'S10'!$H$54","v":"  "},{"$f":"'S10'!$H$53","v":"  "},{"$f":"'S10'!$H$52","v":"  "},{"$f":"'S10'!$H$51","v":"  "},{"$f":"'S10'!$H$50","v":"  "},{"$f":"'S10'!$H$49","v":"  "}]
[{"$f":"'S10'!$I$65","v":" "},{"$f":"'S10'!$J$67","v":""},{"$f":"'S10'!$J$64","v":"  "},{"$f":"'S10'!$J$63","v":"  "},{"$f":"'S10'!$J$62","v":"  "},{"$f":"'S10'!$J$61","v":"  "},{"$f":"'S10'!$J$60","v":"  "},{"$f":"'S10'!$J$59","v":"  "},{"$f":"'S10'!$J$58","v":"  "},{"$f":"'S10'!$J$57","v":"  "},{"$f":"'S10'!$J$56","v":"  "},{"$f":"'S10'!$J$55","v":"  "},{"$f":"'S10'!$J$54","v":"  "},{"$f":"'S10'!$J$53","v":"  "},{"$f":"'S10'!$J$52","v":"  "},{"$f":"'S10'!$J$51","v":"  "},{"$f":"'S10'!$J$50","v":"  "},{"$f":"'S10'!$J$49","v":"  "}]
[{"$f":"'S10'!$K$65","v":" "},{"$f":"'S10'!$L$67","v":""},{"$f":"'S10'!$L$64","v":"  "},{"$f":"'S10'!$L$63","v":"  "},{"$f":"'S10'!$L$62","v":"  "},{"$f":"'S10'!$L$61","v":"  "},{"$f":"'S10'!$L$60","v":"  "},{"$f":"'S10'!$L$59","v":"  "},{"$f":"'S10'!$L$58","v":"  "},{"$f":"'S10'!$L$57","v":"  "},{"$f":"'S10'!$L$56","v":"  "},{"$f":"'S10'!$L$55","v":"  "},{"$f":"'S10'!$L$54","v":"  "},{"$f":"'S10'!$L$53","v":"  "},{"$f":"'S10'!$L$52","v":"  "},{"$f":"'S10'!$L$51","v":"  "},{"$f":"'S10'!$L$50","v":"  "},{"$f":"'S10'!$L$49","v":"  "}]
[{"$f":"'S10'!$M$65","v":" "},{"$f":"'S10'!$N$67","v":""},{"$f":"'S10'!$N$64","v":"  "},{"$f":"'S10'!$N$63","v":"  "},{"$f":"'S10'!$N$62","v":"  "},{"$f":"'S10'!$N$61","v":"  "},{"$f":"'S10'!$N$60","v":"  "},{"$f":"'S10'!$N$59","v":"  "},{"$f":"'S10'!$N$58","v":"  "},{"$f":"'S10'!$N$57","v":"  "},{"$f":"'S10'!$N$56","v":"  "},{"$f":"'S10'!$N$55","v":"  "},{"$f":"'S10'!$N$54","v":"  "},{"$f":"'S10'!$N$53","v":"  "},{"$f":"'S10'!$N$52","v":"  "},{"$f":"'S10'!$N$51","v":"  "},{"$f":"'S10'!$N$50","v":"  "},{"$f":"'S10'!$N$49","v":"  "}]
[{"$f":"'S11'!$C$32","v":" "},{"$f":"'S11'!$D$34","v":""},{"$f":"'S11'!$D$31","v":"  "},{"$f":"'S11'!$D$30","v":"  "},{"$f":"'S11'!$D$29","v":"  "},{"$f":"'S11'!$D$28","v":"  "},{"$f":"'S11'!$D$27","v":"  "},{"$f":"'S11'!$D$26","v":"  "},{"$f":"'S11'!$D$25","v":"  "},{"$f":"'S11'!$D$24","v":"  "},{"$f":"'S11'!$D$23","v":"  "},{"$f":"'S11'!$D$22","v":"  "},{"$f":"'S11'!$D$21","v":"  "},{"$f":"'S11'!$D$20","v":"  "},{"$f":"'S11'!$D$19","v":"  "},{"$f":"'S11'!$D$18","v":"  "},{"$f":"'S11'!$D$17","v":"  "},{"$f":"'S11'!$D$16","v":"  "}]
[{"$f":"'S11'!$E$32","v":" "},{"$f":"'S11'!$F$34","v":""},{"$f":"'S11'!$F$31","v":"  "},{"$f":"'S11'!$F$30","v":"  "},{"$f":"'S11'!$F$29","v":"  "},{"$f":"'S11'!$F$28","v":"  "},{"$f":"'S11'!$F$27","v":"  "},{"$f":"'S11'!$F$26","v":"  "},{"$f":"'S11'!$F$25","v":"  "},{"$f":"'S11'!$F$24","v":"  "},{"$f":"'S11'!$F$23","v":"  "},{"$f":"'S11'!$F$22","v":"  "},{"$f":"'S11'!$F$21","v":"  "},{"$f":"'S11'!$F$20","v":"  "},{"$f":"'S11'!$F$19","v":"  "},{"$f":"'S11'!$F$18","v":"  "},{"$f":"'S11'!$F$17","v":"  "},{"$f":"'S11'!$F$16","v":"  "}]
[{"$f":"'S11'!$G$32","v":" "},{"$f":"'S11'!$H$34","v":""},{"$f":"'S11'!$H$31","v":"  "},{"$f":"'S11'!$H$30","v":"  "},{"$f":"'S11'!$H$29","v":"  "},{"$f":"'S11'!$H$28","v":"  "},{"$f":"'S11'!$H$27","v":"  "},{"$f":"'S11'!$H$26","v":"  "},{"$f":"'S11'!$H$25","v":"  "},{"$f":"'S11'!$H$24","v":"  "},{"$f":"'S11'!$H$23","v":"  "},{"$f":"'S11'!$H$22","v":"  "},{"$f":"'S11'!$H$21","v":"  "},{"$f":"'S11'!$H$20","v":"  "},{"$f":"'S11'!$H$19","v":"  "},{"$f":"'S11'!$H$18","v":"  "},{"$f":"'S11'!$H$17","v":"  "},{"$f":"'S11'!$H$16","v":"  "}]
[{"$f":"'S11'!$I$32","v":" "},{"$f":"'S11'!$J$34","v":""},{"$f":"'S11'!$J$31","v":"  "},{"$f":"'S11'!$J$30","v":"  "},{"$f":"'S11'!$J$29","v":"  "},{"$f":"'S11'!$J$28","v":"  "},{"$f":"'S11'!$J$27","v":"  "},{"$f":"'S11'!$J$26","v":"  "},{"$f":"'S11'!$J$25","v":"  "},{"$f":"'S11'!$J$24","v":"  "},{"$f":"'S11'!$J$23","v":"  "},{"$f":"'S11'!$J$22","v":"  "},{"$f":"'S11'!$J$21","v":"  "},{"$f":"'S11'!$J$20","v":"  "},{"$f":"'S11'!$J$19","v":"  "},{"$f":"'S11'!$J$18","v":"  "},{"$f":"'S11'!$J$17","v":"  "},{"$f":"'S11'!$J$16","v":"  "}]
[{"$f":"'S11'!$K$32","v":" "},{"$f":"'S11'!$L$34","v":""},{"$f":"'S11'!$L$31","v":"  "},{"$f":"'S11'!$L$30","v":"  "},{"$f":"'S11'!$L$29","v":"  "},{"$f":"'S11'!$L$28","v":"  "},{"$f":"'S11'!$L$27","v":"  "},{"$f":"'S11'!$L$26","v":"  "},{"$f":"'S11'!$L$25","v":"  "},{"$f":"'S11'!$L$24","v":"  "},{"$f":"'S11'!$L$23","v":"  "},{"$f":"'S11'!$L$22","v":"  "},{"$f":"'S11'!$L$21","v":"  "},{"$f":"'S11'!$L$20","v":"  "},{"$f":"'S11'!$L$19","v":"  "},{"$f":"'S11'!$L$18","v":"  "},{"$f":"'S11'!$L$17","v":"  "},{"$f":"'S11'!$L$16","v":"  "}]
[{"$f":"'S11'!$M$32","v":" "},{"$f":"'S11'!$N$34","v":""},{"$f":"'S11'!$N$31","v":"  "},{"$f":"'S11'!$N$30","v":"  "},{"$f":"'S11'!$N$29","v":"  "},{"$f":"'S11'!$N$28","v":"  "},{"$f":"'S11'!$N$27","v":"  "},{"$f":"'S11'!$N$26","v":"  "},{"$f":"'S11'!$N$25","v":"  "},{"$f":"'S11'!$N$24","v":"  "},{"$f":"'S11'!$N$23","v":"  "},{"$f":"'S11'!$N$22","v":"  "},{"$f":"'S11'!$N$21","v":"  "},{"$f":"'S11'!$N$20","v":"  "},{"$f":"'S11'!$N$19","v":"  "},{"$f":"'S11'!$N$18","v":"  "},{"$f":"'S11'!$N$17","v":"  "},{"$f":"'S11'!$N$16","v":"  "}]
[{"$f":"'S11'!$C$65","v":" "},{"$f":"'S11'!$D$67","v":""},{"$f":"'S11'!$D$64","v":"  "},{"$f":"'S11'!$D$63","v":"  "},{"$f":"'S11'!$D$62","v":"  "},{"$f":"'S11'!$D$61","v":"  "},{"$f":"'S11'!$D$60","v":"  "},{"$f":"'S11'!$D$59","v":"  "},{"$f":"'S11'!$D$58","v":"  "},{"$f":"'S11'!$D$57","v":"  "},{"$f":"'S11'!$D$56","v":"  "},{"$f":"'S11'!$D$55","v":"  "},{"$f":"'S11'!$D$54","v":"  "},{"$f":"'S11'!$D$53","v":"  "},{"$f":"'S11'!$D$52","v":"  "},{"$f":"'S11'!$D$51","v":"  "},{"$f":"'S11'!$D$50","v":"  "},{"$f":"'S11'!$D$49","v":"  "}]
[{"$f":"'S11'!$E$65","v":" "},{"$f":"'S11'!$F$67","v":""},{"$f":"'S11'!$F$64","v":"  "},{"$f":"'S11'!$F$63","v":"  "},{"$f":"'S11'!$F$62","v":"  "},{"$f":"'S11'!$F$61","v":"  "},{"$f":"'S11'!$F$60","v":"  "},{"$f":"'S11'!$F$59","v":"  "},{"$f":"'S11'!$F$58","v":"  "},{"$f":"'S11'!$F$57","v":"  "},{"$f":"'S11'!$F$56","v":"  "},{"$f":"'S11'!$F$55","v":"  "},{"$f":"'S11'!$F$54","v":"  "},{"$f":"'S11'!$F$53","v":"  "},{"$f":"'S11'!$F$52","v":"  "},{"$f":"'S11'!$F$51","v":"  "},{"$f":"'S11'!$F$50","v":"  "},{"$f":"'S11'!$F$49","v":"  "}]
[{"$f":"'S11'!$G$65","v":" "},{"$f":"'S11'!$H$67","v":""},{"$f":"'S11'!$H$64","v":"  "},{"$f":"'S11'!$H$63","v":"  "},{"$f":"'S11'!$H$62","v":"  "},{"$f":"'S11'!$H$61","v":"  "},{"$f":"'S11'!$H$60","v":"  "},{"$f":"'S11'!$H$59","v":"  "},{"$f":"'S11'!$H$58","v":"  "},{"$f":"'S11'!$H$57","v":"  "},{"$f":"'S11'!$H$56","v":"  "},{"$f":"'S11'!$H$55","v":"  "},{"$f":"'S11'!$H$54","v":"  "},{"$f":"'S11'!$H$53","v":"  "},{"$f":"'S11'!$H$52","v":"  "},{"$f":"'S11'!$H$51","v":"  "},{"$f":"'S11'!$H$50","v":"  "},{"$f":"'S11'!$H$49","v":"  "}]
[{"$f":"'S11'!$I$65","v":" "},{"$f":"'S11'!$J$67","v":""},{"$f":"'S11'!$J$64","v":"  "},{"$f":"'S11'!$J$63","v":"  "},{"$f":"'S11'!$J$62","v":"  "},{"$f":"'S11'!$J$61","v":"  "},{"$f":"'S11'!$J$60","v":"  "},{"$f":"'S11'!$J$59","v":"  "},{"$f":"'S11'!$J$58","v":"  "},{"$f":"'S11'!$J$57","v":"  "},{"$f":"'S11'!$J$56","v":"  "},{"$f":"'S11'!$J$55","v":"  "},{"$f":"'S11'!$J$54","v":"  "},{"$f":"'S11'!$J$53","v":"  "},{"$f":"'S11'!$J$52","v":"  "},{"$f":"'S11'!$J$51","v":"  "},{"$f":"'S11'!$J$50","v":"  "},{"$f":"'S11'!$J$49","v":"  "}]
[{"$f":"'S11'!$K$65","v":" "},{"$f":"'S11'!$L$67","v":""},{"$f":"'S11'!$L$64","v":"  "},{"$f":"'S11'!$L$63","v":"  "},{"$f":"'S11'!$L$62","v":"  "},{"$f":"'S11'!$L$61","v":"  "},{"$f":"'S11'!$L$60","v":"  "},{"$f":"'S11'!$L$59","v":"  "},{"$f":"'S11'!$L$58","v":"  "},{"$f":"'S11'!$L$57","v":"  "},{"$f":"'S11'!$L$56","v":"  "},{"$f":"'S11'!$L$55","v":"  "},{"$f":"'S11'!$L$54","v":"  "},{"$f":"'S11'!$L$53","v":"  "},{"$f":"'S11'!$L$52","v":"  "},{"$f":"'S11'!$L$51","v":"  "},{"$f":"'S11'!$L$50","v":"  "},{"$f":"'S11'!$L$49","v":"  "}]
[{"$f":"'S11'!$M$65","v":" "},{"$f":"'S11'!$N$67","v":""},{"$f":"'S11'!$N$64","v":"  "},{"$f":"'S11'!$N$63","v":"  "},{"$f":"'S11'!$N$62","v":"  "},{"$f":"'S11'!$N$61","v":"  "},{"$f":"'S11'!$N$60","v":"  "},{"$f":"'S11'!$N$59","v":"  "},{"$f":"'S11'!$N$58","v":"  "},{"$f":"'S11'!$N$57","v":"  "},{"$f":"'S11'!$N$56","v":"  "},{"$f":"'S11'!$N$55","v":"  "},{"$f":"'S11'!$N$54","v":"  "},{"$f":"'S11'!$N$53","v":"  "},{"$f":"'S11'!$N$52","v":"  "},{"$f":"'S11'!$N$51","v":"  "},{"$f":"'S11'!$N$50","v":"  "},{"$f":"'S11'!$N$49","v":"  "}]
[{"$f":"'S12'!$C$32","v":" "},{"$f":"'S12'!$D$34","v":""},{"$f":"'S12'!$D$31","v":"  "},{"$f":"'S12'!$D$30","v":"  "},{"$f":"'S12'!$D$29","v":"  "},{"$f":"'S12'!$D$28","v":"  "},{"$f":"'S12'!$D$27","v":"  "},{"$f":"'S12'!$D$26","v":"  "},{"$f":"'S12'!$D$25","v":"  "},{"$f":"'S12'!$D$24","v":"  "},{"$f":"'S12'!$D$23","v":"  "},{"$f":"'S12'!$D$22","v":"  "},{"$f":"'S12'!$D$21","v":"  "},{"$f":"'S12'!$D$20","v":"  "},{"$f":"'S12'!$D$19","v":"  "},{"$f":"'S12'!$D$18","v":"  "},{"$f":"'S12'!$D$17","v":"  "},{"$f":"'S12'!$D$16","v":"  "}]
[{"$f":"'S12'!$E$32","v":" "},{"$f":"'S12'!$F$34","v":""},{"$f":"'S12'!$F$31","v":"  "},{"$f":"'S12'!$F$30","v":"  "},{"$f":"'S12'!$F$29","v":"  "},{"$f":"'S12'!$F$28","v":"  "},{"$f":"'S12'!$F$27","v":"  "},{"$f":"'S12'!$F$26","v":"  "},{"$f":"'S12'!$F$25","v":"  "},{"$f":"'S12'!$F$24","v":"  "},{"$f":"'S12'!$F$23","v":"  "},{"$f":"'S12'!$F$22","v":"  "},{"$f":"'S12'!$F$21","v":"  "},{"$f":"'S12'!$F$20","v":"  "},{"$f":"'S12'!$F$19","v":"  "},{"$f":"'S12'!$F$18","v":"  "},{"$f":"'S12'!$F$17","v":"  "},{"$f":"'S12'!$F$16","v":"  "}]
[{"$f":"'S12'!$G$32","v":" "},{"$f":"'S12'!$H$34","v":""},{"$f":"'S12'!$H$31","v":"  "},{"$f":"'S12'!$H$30","v":"  "},{"$f":"'S12'!$H$29","v":"  "},{"$f":"'S12'!$H$28","v":"  "},{"$f":"'S12'!$H$27","v":"  "},{"$f":"'S12'!$H$26","v":"  "},{"$f":"'S12'!$H$25","v":"  "},{"$f":"'S12'!$H$24","v":"  "},{"$f":"'S12'!$H$23","v":"  "},{"$f":"'S12'!$H$22","v":"  "},{"$f":"'S12'!$H$21","v":"  "},{"$f":"'S12'!$H$20","v":"  "},{"$f":"'S12'!$H$19","v":"  "},{"$f":"'S12'!$H$18","v":"  "},{"$f":"'S12'!$H$17","v":"  "},{"$f":"'S12'!$H$16","v":"  "}]
[{"$f":"'S12'!$I$32","v":" "},{"$f":"'S12'!$J$34","v":""},{"$f":"'S12'!$J$31","v":"  "},{"$f":"'S12'!$J$30","v":"  "},{"$f":"'S12'!$J$29","v":"  "},{"$f":"'S12'!$J$28","v":"  "},{"$f":"'S12'!$J$27","v":"  "},{"$f":"'S12'!$J$26","v":"  "},{"$f":"'S12'!$J$25","v":"  "},{"$f":"'S12'!$J$24","v":"  "},{"$f":"'S12'!$J$23","v":"  "},{"$f":"'S12'!$J$22","v":"  "},{"$f":"'S12'!$J$21","v":"  "},{"$f":"'S12'!$J$20","v":"  "},{"$f":"'S12'!$J$19","v":"  "},{"$f":"'S12'!$J$18","v":"  "},{"$f":"'S12'!$J$17","v":"  "},{"$f":"'S12'!$J$16","v":"  "}]
[{"$f":"'S12'!$K$32","v":" "},{"$f":"'S12'!$L$34","v":""},{"$f":"'S12'!$L$31","v":"  "},{"$f":"'S12'!$L$30","v":"  "},{"$f":"'S12'!$L$29","v":"  "},{"$f":"'S12'!$L$28","v":"  "},{"$f":"'S12'!$L$27","v":"  "},{"$f":"'S12'!$L$26","v":"  "},{"$f":"'S12'!$L$25","v":"  "},{"$f":"'S12'!$L$24","v":"  "},{"$f":"'S12'!$L$23","v":"  "},{"$f":"'S12'!$L$22","v":"  "},{"$f":"'S12'!$L$21","v":"  "},{"$f":"'S12'!$L$20","v":"  "},{"$f":"'S12'!$L$19","v":"  "},{"$f":"'S12'!$L$18","v":"  "},{"$f":"'S12'!$L$17","v":"  "},{"$f":"'S12'!$L$16","v":"  "}]
[{"$f":"'S12'!$M$32","v":" "},{"$f":"'S12'!$N$34","v":""},{"$f":"'S12'!$N$31","v":"  "},{"$f":"'S12'!$N$30","v":"  "},{"$f":"'S12'!$N$29","v":"  "},{"$f":"'S12'!$N$28","v":"  "},{"$f":"'S12'!$N$27","v":"  "},{"$f":"'S12'!$N$26","v":"  "},{"$f":"'S12'!$N$25","v":"  "},{"$f":"'S12'!$N$24","v":"  "},{"$f":"'S12'!$N$23","v":"  "},{"$f":"'S12'!$N$22","v":"  "},{"$f":"'S12'!$N$21","v":"  "},{"$f":"'S12'!$N$20","v":"  "},{"$f":"'S12'!$N$19","v":"  "},{"$f":"'S12'!$N$18","v":"  "},{"$f":"'S12'!$N$17","v":"  "},{"$f":"'S12'!$N$16","v":"  "}]
[{"$f":"'S12'!$C$65","v":" "},{"$f":"'S12'!$D$67","v":""},{"$f":"'S12'!$D$64","v":"  "},{"$f":"'S12'!$D$63","v":"  "},{"$f":"'S12'!$D$62","v":"  "},{"$f":"'S12'!$D$61","v":"  "},{"$f":"'S12'!$D$60","v":"  "},{"$f":"'S12'!$D$59","v":"  "},{"$f":"'S12'!$D$58","v":"  "},{"$f":"'S12'!$D$57","v":"  "},{"$f":"'S12'!$D$56","v":"  "},{"$f":"'S12'!$D$55","v":"  "},{"$f":"'S12'!$D$54","v":"  "},{"$f":"'S12'!$D$53","v":"  "},{"$f":"'S12'!$D$52","v":"  "},{"$f":"'S12'!$D$51","v":"  "},{"$f":"'S12'!$D$50","v":"  "},{"$f":"'S12'!$D$49","v":"  "}]
[{"$f":"'S12'!$E$65","v":" "},{"$f":"'S12'!$F$67","v":""},{"$f":"'S12'!$F$64","v":"  "},{"$f":"'S12'!$F$63","v":"  "},{"$f":"'S12'!$F$62","v":"  "},{"$f":"'S12'!$F$61","v":"  "},{"$f":"'S12'!$F$60","v":"  "},{"$f":"'S12'!$F$59","v":"  "},{"$f":"'S12'!$F$58","v":"  "},{"$f":"'S12'!$F$57","v":"  "},{"$f":"'S12'!$F$56","v":"  "},{"$f":"'S12'!$F$55","v":"  "},{"$f":"'S12'!$F$54","v":"  "},{"$f":"'S12'!$F$53","v":"  "},{"$f":"'S12'!$F$52","v":"  "},{"$f":"'S12'!$F$51","v":"  "},{"$f":"'S12'!$F$50","v":"  "},{"$f":"'S12'!$F$49","v":"  "}]
[{"$f":"'S12'!$G$65","v":" "},{"$f":"'S12'!$H$67","v":""},{"$f":"'S12'!$H$64","v":"  "},{"$f":"'S12'!$H$63","v":"  "},{"$f":"'S12'!$H$62","v":"  "},{"$f":"'S12'!$H$61","v":"  "},{"$f":"'S12'!$H$60","v":"  "},{"$f":"'S12'!$H$59","v":"  "},{"$f":"'S12'!$H$58","v":"  "},{"$f":"'S12'!$H$57","v":"  "},{"$f":"'S12'!$H$56","v":"  "},{"$f":"'S12'!$H$55","v":"  "},{"$f":"'S12'!$H$54","v":"  "},{"$f":"'S12'!$H$53","v":"  "},{"$f":"'S12'!$H$52","v":"  "},{"$f":"'S12'!$H$51","v":"  "},{"$f":"'S12'!$H$50","v":"  "},{"$f":"'S12'!$H$49","v":"  "}]
[{"$f":"'S12'!$I$65","v":" "},{"$f":"'S12'!$J$67","v":""},{"$f":"'S12'!$J$64","v":"  "},{"$f":"'S12'!$J$63","v":"  "},{"$f":"'S12'!$J$62","v":"  "},{"$f":"'S12'!$J$61","v":"  "},{"$f":"'S12'!$J$60","v":"  "},{"$f":"'S12'!$J$59","v":"  "},{"$f":"'S12'!$J$58","v":"  "},{"$f":"'S12'!$J$57","v":"  "},{"$f":"'S12'!$J$56","v":"  "},{"$f":"'S12'!$J$55","v":"  "},{"$f":"'S12'!$J$54","v":"  "},{"$f":"'S12'!$J$53","v":"  "},{"$f":"'S12'!$J$52","v":"  "},{"$f":"'S12'!$J$51","v":"  "},{"$f":"'S12'!$J$50","v":"  "},{"$f":"'S12'!$J$49","v":"  "}]
[{"$f":"'S12'!$K$65","v":" "},{"$f":"'S12'!$L$67","v":""},{"$f":"'S12'!$L$64","v":"  "},{"$f":"'S12'!$L$63","v":"  "},{"$f":"'S12'!$L$62","v":"  "},{"$f":"'S12'!$L$61","v":"  "},{"$f":"'S12'!$L$60","v":"  "},{"$f":"'S12'!$L$59","v":"  "},{"$f":"'S12'!$L$58","v":"  "},{"$f":"'S12'!$L$57","v":"  "},{"$f":"'S12'!$L$56","v":"  "},{"$f":"'S12'!$L$55","v":"  "},{"$f":"'S12'!$L$54","v":"  "},{"$f":"'S12'!$L$53","v":"  "},{"$f":"'S12'!$L$52","v":"  "},{"$f":"'S12'!$L$51","v":"  "},{"$f":"'S12'!$L$50","v":"  "},{"$f":"'S12'!$L$49","v":"  "}]
[{"$f":"'S12'!$M$65","v":" "},{"$f":"'S12'!$N$67","v":""},{"$f":"'S12'!$N$64","v":"  "},{"$f":"'S12'!$N$63","v":"  "},{"$f":"'S12'!$N$62","v":"  "},{"$f":"'S12'!$N$61","v":"  "},{"$f":"'S12'!$N$60","v":"  "},{"$f":"'S12'!$N$59","v":"  "},{"$f":"'S12'!$N$58","v":"  "},{"$f":"'S12'!$N$57","v":"  "},{"$f":"'S12'!$N$56","v":"  "},{"$f":"'S12'!$N$55","v":"  "},{"$f":"'S12'!$N$54","v":"  "},{"$f":"'S12'!$N$53","v":"  "},{"$f":"'S12'!$N$52","v":"  "},{"$f":"'S12'!$N$51","v":"  "},{"$f":"'S12'!$N$50","v":"  "},{"$f":"'S12'!$N$49","v":"  "}]

{"sheet":"Avg","index":21,"n_rows":7,"n_cols":19,"rows_kept":7,"cut":false,"hidden":false,"merged":[[1,0,1,11],[1,14,1,15]]}
[]
["Average Gradation Sieve Size Averages and Standard Deviations",null,null,null,null,null,null,null,null,null,null,null,"Agg Size",{"$f":"IF(ISBLANK('S1'!M4),\" \",'S1'!M4)","v":" "},{"$f":"IF(ISBLANK('S1'!M7),\" \",'S1'!M7)","v":" "},{"$f":"IF(ISBLANK('S1'!O4),\" \",'S1'!O4)","v":" "}]
[]
["Sieve","FM","Wash",200,100,50,30,16,8,4,0.25,0.375,0.5,0.625,0.75,1,1.5,2,2.5]
["Count",{"$f":"COUNT('S14'!A2:A145)","v":0},{"$f":"COUNT('S14'!B2:B145)","v":0},{"$f":"COUNT('S14'!C2:C145)","v":0},{"$f":"COUNT('S14'!D2:D145)","v":0},{"$f":"COUNT('S14'!E2:E145)","v":0},{"$f":"COUNT('S14'!F2:F145)","v":0},{"$f":"COUNT('S14'!G2:G145)","v":0},{"$f":"COUNT('S14'!H2:H145)","v":0},{"$f":"COUNT('S14'!I2:I145)","v":0},{"$f":"COUNT('S14'!J2:J145)","v":0},{"$f":"COUNT('S14'!K2:K145)","v":0},{"$f":"COUNT('S14'!L2:L145)","v":0},{"$f":"COUNT('S14'!M2:M145)","v":0},{"$f":"COUNT('S14'!N2:N145)","v":0},{"$f":"COUNT('S14'!O2:O145)","v":0},{"$f":"COUNT('S14'!P2:P145)","v":0},{"$f":"COUNT('S14'!Q2:Q145)","v":0},{"$f":"COUNT('S14'!R2:R145)","v":0}]
["Avg",{"$f":"AVERAGE('S14'!A2:A145)","v":{"$error":"#DIV/0!"}},{"$f":"AVERAGE('S14'!B2:B145)","v":{"$error":"#DIV/0!"}},{"$f":"AVERAGE('S14'!C2:C145)","v":{"$error":"#DIV/0!"}},{"$f":"ROUND(AVERAGE('S14'!D2:D145),0)","v":{"$error":"#DIV/0!"}},{"$f":"ROUND(AVERAGE('S14'!E2:E145),0)","v":{"$error":"#DIV/0!"}},{"$f":"ROUND(AVERAGE('S14'!F2:F145),0)","v":{"$error":"#DIV/0!"}},{"$f":"ROUND(AVERAGE('S14'!G2:G145),0)","v":{"$error":"#DIV/0!"}},{"$f":"ROUND(AVERAGE('S14'!H2:H145),0)","v":{"$error":"#DIV/0!"}},{"$f":"ROUND(AVERAGE('S14'!I2:I145),0)","v":{"$error":"#DIV/0!"}},{"$f":"ROUND(AVERAGE('S14'!J2:J145),0)","v":{"$error":"#DIV/0!"}},{"$f":"ROUND(AVERAGE('S14'!K2:K145),0)","v":{"$error":"#DIV/0!"}},{"$f":"ROUND(AVERAGE('S14'!L2:L145),0)","v":{"$error":"#DIV/0!"}},{"$f":"ROUND(AVERAGE('S14'!M2:M145),0)","v":{"$error":"#DIV/0!"}},{"$f":"ROUND(AVERAGE('S14'!N2:N145),0)","v":{"$error":"#DIV/0!"}},{"$f":"ROUND(AVERAGE('S14'!O2:O145),0)","v":{"$error":"#DIV/0!"}},{"$f":"ROUND(AVERAGE('S14'!P2:P145),0)","v":{"$error":"#DIV/0!"}},{"$f":"ROUND(AVERAGE('S14'!Q2:Q145),0)","v":{"$error":"#DIV/0!"}},{"$f":"ROUND(AVERAGE('S14'!R2:R145),0)","v":{"$error":"#DIV/0!"}}]
["St Dev",{"$f":"STDEV('S14'!A2:A145)","v":{"$error":"#DIV/0!"}},{"$f":"STDEV('S14'!B2:B145)","v":{"$error":"#DIV/0!"}},{"$f":"STDEV('S14'!C2:C145)","v":{"$error":"#DIV/0!"}},{"$f":"STDEV('S14'!D2:D145)","v":{"$error":"#DIV/0!"}},{"$f":"STDEV('S14'!E2:E145)","v":{"$error":"#DIV/0!"}},{"$f":"STDEV('S14'!F2:F145)","v":{"$error":"#DIV/0!"}},{"$f":"STDEV('S14'!G2:G145)","v":{"$error":"#DIV/0!"}},{"$f":"STDEV('S14'!H2:H145)","v":{"$error":"#DIV/0!"}},{"$f":"STDEV('S14'!I2:I145)","v":{"$error":"#DIV/0!"}},{"$f":"STDEV('S14'!J2:J145)","v":{"$error":"#DIV/0!"}},{"$f":"STDEV('S14'!K2:K145)","v":{"$error":"#DIV/0!"}},{"$f":"STDEV('S14'!L2:L145)","v":{"$error":"#DIV/0!"}},{"$f":"STDEV('S14'!M2:M145)","v":{"$error":"#DIV/0!"}},{"$f":"STDEV('S14'!N2:N145)","v":{"$error":"#DIV/0!"}},{"$f":"STDEV('S14'!O2:O145)","v":{"$error":"#DIV/0!"}},{"$f":"STDEV('S14'!P2:P145)","v":{"$error":"#DIV/0!"}},{"$f":"STDEV('S14'!Q2:Q145)","v":{"$error":"#DIV/0!"}},{"$f":"STDEV('S14'!R2:R145)","v":{"$error":"#DIV/0!"}}]

{"sheet":"Split 1","index":22,"n_rows":68,"n_cols":14,"rows_kept":68,"cut":false,"hidden":false,"merged":[[62,8,62,9],[62,10,62,11],[62,12,62,13],[63,0,65,1],[63,2,65,3],[63,4,65,5],[63,6,65,7],[63,8,65,9],[63,10,65,11],[63,12,65,13],[59,0,59,1],[60,0,60,1],[61,0,61,1],[58,0,58,1],[62,0,62,1],[62,2,62,3],[62,4,62,5],[62,6,62,7],[50,0,50,1],[51,0,51,1],[52,0,52,1],[53,0,53,1],[54,0,54,1],[55,0,55,1],[56,0,56,1],[57,0,57,1],[44,0,44,1],[45,0,45,1],[46,0,46,1],[47,0,47,1],[48,0,48,1],[49,0,49,1],[41,0,41,1],[42,0,42,1],[43,0,43,1],[39,0,39,1],[40,0,40,1],[37,12,37,13],[38,0,38,1],[38,2,38,3],[38,4,38,5],[38,6,38,7],[38,8,38,9],[38,10,38,11],[38,12,38,13],[37,0,37,1],[37,2,37,3],[37,4,37,5],[37,6,37,7],[37,8,37,9],[37,10,37,11],[33,0,35,1],[33,2,35,3],[33,4,35,5],[33,6,35,7],[33,8,35,9],[33,10,35,11],[33,12,35,13],[30,0,30,1],[31,0,31,1],[32,0,32,1],[32,2,32,3],[32,4,32,5],[32,6,32,7],[32,8,32,9],[32,10,32,11],[28,0,28,1],[29,0,29,1],[20,0,20,1],[21,0,21,1],[24,0,24,1],[25,0,25,1],[26,0,26,1],[27,0,27,1],[32,12,32,13],[22,0,22,1],[23,0,23,1],[14,0,14,1],[15,0,15,1],[16,0,16,1],[17,0,17,1],[18,0,18,1],[19,0,19,1],[11,0,11,1],[12,0,12,1],[13,0,13,1],[9,0,9,1],[10,0,10,1],[7,12,7,13],[8,0,8,1],[8,2,8,3],[8,4,8,5],[8,6,8,7],[8,8,8,9],[8,10,8,11],[8,12,8,13],[5,3,5,11],[7,0,7,1],[7,2,7,3],[7,4,7,5],[7,6,7,7],[7,8,7,9],[7,10,7,11],[4,10,4,11],[4,12,4,13],[0,0,3,1],[1,2,1,7],[1,10,1,11],[1,12,1,13],[2,2,2,7],[2,10,2,11],[2,12,2,13],[3,6,3,7],[3,10,3,11],[3,12,3,13],[3,2,3,3]]}
[]
[null,null,"COMMONWEALTH OF PENNSYLVANIA",null,null,null,null,null,null,null,"District"]
[null,null,"DEPARTMENT OF TRANSPORTATION",null,null,null,null,null,null,null,"Plant Code"]
[null,null,{"$f":"'S1'!$A$6","v":"Aggregate 2023"},null,null,null,null,null,null,null,"Agg. Size"]
[]
[null,null,null,"Material Test Results"]
[]
["Sample No.",null,1,null,2,null,3,null,4,null,5,null,6]
["Date"]
["Starting Wt",null,null,"% Loss",null,"% Loss",null,"% Loss",null,"% Loss",null,"% Loss",null,"% Loss"]
["Ending Wt",null,null,{"$f":"IF(ISBLANK(C11),\" \",((C10-C11)/C10)*100)","v":" "},null,{"$f":"IF(ISBLANK(E11),\" \",((E10-E11)/E10)*100)","v":" "},null,{"$f":"IF(ISBLANK(G11),\" \",((G10-G11)/G10)*100)","v":" "},null,{"$f":"IF(ISBLANK(I11),\" \",((I10-I11)/I10)*100)","v":" "},null,{"$f":"IF(ISBLANK(K11),\" \",((K10-K11)/K10)*100)","v":" "},null,{"$f":"IF(ISBLANK(M11),\" \",((M10-M11)/M10)*100)","v":" "}]
[null,null,"Wt","% Passing","Wt","% Passing","Wt","% Passing","Wt","% Passing","Wt","% Passing","Wt","% Passing"]
[2.5,null,null,{"$f":"IF(ISBLANK(C10),\"  \",IF(ISBLANK(C11),\" \",IF(ISBLANK(C13),\" \",ROUND(C13/C10*100,0))))","v":"  "},null,{"$f":"IF(ISBLANK(E10),\"  \",IF(ISBLANK(E11),\" \",IF(ISBLANK(E13),\" \",ROUND(E13/E10*100,0))))","v":"  "},null,{"$f":"IF(ISBLANK(G10),\"  \",IF(ISBLANK(G11),\" \",IF(ISBLANK(G13),\" \",ROUND(G13/G10*100,0))))","v":"  "},null,{"$f":"IF(ISBLANK(I10),\"  \",IF(ISBLANK(I11),\" \",IF(ISBLANK(I13),\" \",ROUND(I13/I10*100,0))))","v":"  "},null,{"$f":"IF(ISBLANK(K10),\"  \",IF(ISBLANK(K11),\" \",IF(ISBLANK(K13),\" \",ROUND(K13/K10*100,0))))","v":"  "},null,{"$f":"IF(ISBLANK(M10),\"  \",IF(ISBLANK(M11),\" \",IF(ISBLANK(M13),\" \",ROUND(M13/M10*100,0))))","v":"  "}]
[2,null,null,{"$f":"IF(ISBLANK(C10),\"  \",IF(ISBLANK(C11),\" \",IF(ISBLANK(C14),\" \",ROUND(C14/C10*100,0))))","v":"  "},null,{"$f":"IF(ISBLANK(E10),\"  \",IF(ISBLANK(E11),\" \",IF(ISBLANK(E14),\" \",ROUND(E14/E10*100,0))))","v":"  "},null,{"$f":"IF(ISBLANK(G10),\"  \",IF(ISBLANK(G11),\" \",IF(ISBLANK(G14),\" \",ROUND(G14/G10*100,0))))","v":"  "},null,{"$f":"IF(ISBLANK(I10),\"  \",IF(ISBLANK(I11),\" \",IF(ISBLANK(I14),\" \",ROUND(I14/I10*100,0))))","v":"  "},null,{"$f":"IF(ISBLANK(K10),\"  \",IF(ISBLANK(K11),\" \",IF(ISBLANK(K14),\" \",ROUND(K14/K10*100,0))))","v":"  "},null,{"$f":"IF(ISBLANK(M10),\"  \",IF(ISBLANK(M11),\" \",IF(ISBLANK(M14),\" \",ROUND(M14/M10*100,0))))","v":"  "}]
[1.5,null,null,{"$f":"IF(ISBLANK(C10),\"  \",IF(ISBLANK(C11),\" \",IF(ISBLANK(C15),\" \",ROUND(C15/C10*100,0))))","v":"  "},null,{"$f":"IF(ISBLANK(E10),\"  \",IF(ISBLANK(E11),\" \",IF(ISBLANK(E15),\" \",ROUND(E15/E10*100,0))))","v":"  "},null,{"$f":"IF(ISBLANK(G10),\"  \",IF(ISBLANK(G11),\" \",IF(ISBLANK(G15),\" \",ROUND(G15/G10*100,0))))","v":"  "},null,{"$f":"IF(ISBLANK(I10),\"  \",IF(ISBLANK(I11),\" \",IF(ISBLANK(I15),\" \",ROUND(I15/I10*100,0))))","v":"  "},null,{"$f":"IF(ISBLANK(K10),\"  \",IF(ISBLANK(K11),\" \",IF(ISBLANK(K15),\" \",ROUND(K15/K10*100,0))))","v":"  "},null,{"$f":"IF(ISBLANK(M10),\"  \",IF(ISBLANK(M11),\" \",IF(ISBLANK(M15),\" \",ROUND(M15/M10*100,0))))","v":"  "}]
[1,null,null,{"$f":"IF(ISBLANK(C10),\"  \",IF(ISBLANK(C11),\" \",IF(ISBLANK(C16),\" \",ROUND(C16/C10*100,0))))","v":"  "},null,{"$f":"IF(ISBLANK(E10),\"  \",IF(ISBLANK(E11),\" \",IF(ISBLANK(E16),\" \",ROUND(E16/E10*100,0))))","v":"  "},null,{"$f":"IF(ISBLANK(G10),\"  \",IF(ISBLANK(G11),\" \",IF(ISBLANK(G16),\" \",ROUND(G16/G10*100,0))))","v":"  "},null,{"$f":"IF(ISBLANK(I10),\"  \",IF(ISBLANK(I11),\" \",IF(ISBLANK(I16),\" \",ROUND(I16/I10*100,0))))","v":"  "},null,{"$f":"IF(ISBLANK(K10),\"  \",IF(ISBLANK(K11),\" \",IF(ISBLANK(K16),\" \",ROUND(K16/K10*100,0))))","v":"  "},null,{"$f":"IF(ISBLANK(M10),\"  \",IF(ISBLANK(M11),\" \",IF(ISBLANK(M16),\" \",ROUND(M16/M10*100,0))))","v":"  "}]
[0.75,null,null,{"$f":"IF(ISBLANK(C10),\"  \",IF(ISBLANK(C11),\" \",IF(ISBLANK(C17),\" \",ROUND(C17/C10*100,0))))","v":"  "},null,{"$f":"IF(ISBLANK(E10),\"  \",IF(ISBLANK(E11),\" \",IF(ISBLANK(E17),\" \",ROUND(E17/E10*100,0))))","v":"  "},null,{"$f":"IF(ISBLANK(G10),\"  \",IF(ISBLANK(G11),\" \",IF(ISBLANK(G17),\" \",ROUND(G17/G10*100,0))))","v":"  "},null,{"$f":"IF(ISBLANK(I10),\"  \",IF(ISBLANK(I11),\" \",IF(ISBLANK(I17),\" \",ROUND(I17/I10*100,0))))","v":"  "},null,{"$f":"IF(ISBLANK(K10),\"  \",IF(ISBLANK(K11),\" \",IF(ISBLANK(K17),\" \",ROUND(K17/K10*100,0))))","v":"  "},null,{"$f":"IF(ISBLANK(M10),\"  \",IF(ISBLANK(M11),\" \",IF(ISBLANK(M17),\" \",ROUND(M17/M10*100,0))))","v":"  "}]
[0.625,null,null,{"$f":"IF(ISBLANK(C10),\"  \",IF(ISBLANK(C11),\" \",IF(ISBLANK(C18),\" \",ROUND(C18/C10*100,0))))","v":"  "},null,{"$f":"IF(ISBLANK(E10),\"  \",IF(ISBLANK(E11),\" \",IF(ISBLANK(E18),\" \",ROUND(E18/E10*100,0))))","v":"  "},null,{"$f":"IF(ISBLANK(G10),\"  \",IF(ISBLANK(G11),\" \",IF(ISBLANK(G18),\" \",ROUND(G18/G10*100,0))))","v":"  "},null,{"$f":"IF(ISBLANK(I10),\"  \",IF(ISBLANK(I11),\" \",IF(ISBLANK(I18),\" \",ROUND(I18/I10*100,0))))","v":"  "},null,{"$f":"IF(ISBLANK(K10),\"  \",IF(ISBLANK(K11),\" \",IF(ISBLANK(K18),\" \",ROUND(K18/K10*100,0))))","v":"  "},null,{"$f":"IF(ISBLANK(M10),\"  \",IF(ISBLANK(M11),\" \",IF(ISBLANK(M18),\" \",ROUND(M18/M10*100,0))))","v":"  "}]
[0.5,null,null,{"$f":"IF(ISBLANK(C10),\"  \",IF(ISBLANK(C11),\" \",IF(ISBLANK(C19),\" \",ROUND(C19/C10*100,0))))","v":"  "},null,{"$f":"IF(ISBLANK(E10),\"  \",IF(ISBLANK(E11),\" \",IF(ISBLANK(E19),\" \",ROUND(E19/E10*100,0))))","v":"  "},null,{"$f":"IF(ISBLANK(G10),\"  \",IF(ISBLANK(G11),\" \",IF(ISBLANK(G19),\" \",ROUND(G19/G10*100,0))))","v":"  "},null,{"$f":"IF(ISBLANK(I10),\"  \",IF(ISBLANK(I11),\" \",IF(ISBLANK(I19),\" \",ROUND(I19/I10*100,0))))","v":"  "},null,{"$f":"IF(ISBLANK(K10),\"  \",IF(ISBLANK(K11),\" \",IF(ISBLANK(K19),\" \",ROUND(K19/K10*100,0))))","v":"  "},null,{"$f":"IF(ISBLANK(M10),\"  \",IF(ISBLANK(M11),\" \",IF(ISBLANK(M19),\" \",ROUND(M19/M10*100,0))))","v":"  "}]
[0.375,null,null,{"$f":"IF(ISBLANK(C10),\"  \",IF(ISBLANK(C11),\" \",IF(ISBLANK(C20),\" \",ROUND(C20/C10*100,0))))","v":"  "},null,{"$f":"IF(ISBLANK(E10),\"  \",IF(ISBLANK(E11),\" \",IF(ISBLANK(E20),\" \",ROUND(E20/E10*100,0))))","v":"  "},null,{"$f":"IF(ISBLANK(G10),\"  \",IF(ISBLANK(G11),\" \",IF(ISBLANK(G20),\" \",ROUND(G20/G10*100,0))))","v":"  "},null,{"$f":"IF(ISBLANK(I10),\"  \",IF(ISBLANK(I11),\" \",IF(ISBLANK(I20),\" \",ROUND(I20/I10*100,0))))","v":"  "},null,{"$f":"IF(ISBLANK(K10),\"  \",IF(ISBLANK(K11),\" \",IF(ISBLANK(K20),\" \",ROUND(K20/K10*100,0))))","v":"  "},null,{"$f":"IF(ISBLANK(M10),\"  \",IF(ISBLANK(M11),\" \",IF(ISBLANK(M20),\" \",ROUND(M20/M10*100,0))))","v":"  "}]
[0.25,null,null,{"$f":"IF(ISBLANK(C10),\"  \",IF(ISBLANK(C11),\" \",IF(ISBLANK(C21),\" \",ROUND(C21/C10*100,0))))","v":"  "},null,{"$f":"IF(ISBLANK(E10),\"  \",IF(ISBLANK(E11),\" \",IF(ISBLANK(E21),\" \",ROUND(E21/E10*100,0))))","v":"  "},null,{"$f":"IF(ISBLANK(G10),\"  \",IF(ISBLANK(G11),\" \",IF(ISBLANK(G21),\" \",ROUND(G21/G10*100,0))))","v":"  "},null,{"$f":"IF(ISBLANK(I10),\"  \",IF(ISBLANK(I11),\" \",IF(ISBLANK(I21),\" \",ROUND(I21/I10*100,0))))","v":"  "},null,{"$f":"IF(ISBLANK(K10),\"  \",IF(ISBLANK(K11),\" \",IF(ISBLANK(K21),\" \",ROUND(K21/K10*100,0))))","v":"  "},null,{"$f":"IF(ISBLANK(M10),\"  \",IF(ISBLANK(M11),\" \",IF(ISBLANK(M21),\" \",ROUND(M21/M10*100,0))))","v":"  "}]
[4,null,null,{"$f":"IF(ISBLANK(C10),\"  \",IF(ISBLANK(C11),\" \",IF(ISBLANK(C22),\" \",ROUND(C22/C10*100,0))))","v":"  "},null,{"$f":"IF(ISBLANK(E10),\"  \",IF(ISBLANK(E11),\" \",IF(ISBLANK(E22),\" \",ROUND(E22/E10*100,0))))","v":"  "},null,{"$f":"IF(ISBLANK(G10),\"  \",IF(ISBLANK(G11),\" \",IF(ISBLANK(G22),\" \",ROUND(G22/G10*100,0))))","v":"  "},null,{"$f":"IF(ISBLANK(I10),\"  \",IF(ISBLANK(I11),\" \",IF(ISBLANK(I22),\" \",ROUND(I22/I10*100,0))))","v":"  "},null,{"$f":"IF(ISBLANK(K10),\"  \",IF(ISBLANK(K11),\" \",IF(ISBLANK(K22),\" \",ROUND(K22/K10*100,0))))","v":"  "},null,{"$f":"IF(ISBLANK(M10),\"  \",IF(ISBLANK(M11),\" \",IF(ISBLANK(M22),\" \",ROUND(M22/M10*100,0))))","v":"  "}]
["Split St. Wt.",null,null,"% Loss",null,"% Loss",null,"% Loss",null,"% Loss",null,"% Loss",null,"% Loss"]
["Split Ending Wt.",null,null,{"$f":"IF(ISBLANK(C24),\"\",(C23-C24)/C23*100)","v":""},null,{"$f":"IF(ISBLANK(E24),\"\",(E23-E24)/E23*100)","v":""},null,{"$f":"IF(ISBLANK(G24),\"\",(G23-G24)/G23*100)","v":""},null,{"$f":"IF(ISBLANK(I24),\"\",(I23-I24)/I23*100)","v":""},null,{"$f":"IF(ISBLANK(K24),\"\",(K23-K24)/K23*100)","v":""},null,{"$f":"IF(ISBLANK(M24),\"\",(M23-M24)/M23*100)","v":""}]
[8,null,null,{"$f":"IF(ISBLANK(C10),\"  \",IF(ISBLANK(C22),\" \",IF(ISBLANK(C23),\" \",ROUND((C22/C23*C25)/C10*100,0))))","v":"  "},null,{"$f":"IF(ISBLANK(E10),\"  \",IF(ISBLANK(E22),\" \",IF(ISBLANK(E23),\" \",(E22/E23*E25)/E10*100)))","v":"  "},null,{"$f":"IF(ISBLANK(G10),\"  \",IF(ISBLANK(G22),\" \",IF(ISBLANK(G23),\" \",(G22/G23*G25)/G10*100)))","v":"  "},null,{"$f":"IF(ISBLANK(I10),\"  \",IF(ISBLANK(I22),\" \",IF(ISBLANK(I23),\" \",(I22/I23*I25)/I10*100)))","v":"  "},null,{"$f":"IF(ISBLANK(K10),\"  \",IF(ISBLANK(K22),\" \",IF(ISBLANK(K23),\" \",(K22/K23*K25)/K10*100)))","v":"  "},null,{"$f":"IF(ISBLANK(M10),\"  \",IF(ISBLANK(M22),\" \",IF(ISBLANK(M23),\" \",(M22/M23*M25)/M10*100)))","v":"  "}]
[16,null,null,{"$f":"IF(ISBLANK(C10),\"  \",IF(ISBLANK(C22),\" \",IF(ISBLANK(C23),\" \",(C22/C23*C26)/C10*100)))","v":"  "},null,{"$f":"IF(ISBLANK(E10),\"  \",IF(ISBLANK(E22),\" \",IF(ISBLANK(E23),\" \",(E22/E23*E26)/E10*100)))","v":"  "},null,{"$f":"IF(ISBLANK(G10),\"  \",IF(ISBLANK(G22),\" \",IF(ISBLANK(G23),\" \",(G22/G23*G26)/G10*100)))","v":"  "},null,{"$f":"IF(ISBLANK(I10),\"  \",IF(ISBLANK(I22),\" \",IF(ISBLANK(I23),\" \",(I22/I23*I26)/I10*100)))","v":"  "},null,{"$f":"IF(ISBLANK(K10),\"  \",IF(ISBLANK(K22),\" \",IF(ISBLANK(K23),\" \",(K22/K23*K26)/K10*100)))","v":"  "},null,{"$f":"IF(ISBLANK(M10),\"  \",IF(ISBLANK(M22),\" \",IF(ISBLANK(M23),\" \",(M22/M23*M26)/M10*100)))","v":"  "}]
[30,null,null,{"$f":"IF(ISBLANK(C10),\"  \",IF(ISBLANK(C22),\" \",IF(ISBLANK(C23),\" \",(C22/C23*C27)/C10*100)))","v":"  "},null,{"$f":"IF(ISBLANK(E10),\"  \",IF(ISBLANK(E22),\" \",IF(ISBLANK(E23),\" \",(E22/E23*E27)/E10*100)))","v":"  "},null,{"$f":"IF(ISBLANK(G10),\"  \",IF(ISBLANK(G22),\" \",IF(ISBLANK(G23),\" \",(G22/G23*G27)/G10*100)))","v":"  "},null,{"$f":"IF(ISBLANK(I10),\"  \",IF(ISBLANK(I22),\" \",IF(ISBLANK(I23),\" \",(I22/I23*I27)/I10*100)))","v":"  "},null,{"$f":"IF(ISBLANK(K10),\"  \",IF(ISBLANK(K22),\" \",IF(ISBLANK(K23),\" \",(K22/K23*K27)/K10*100)))","v":"  "},null,{"$f":"IF(ISBLANK(M10),\"  \",IF(ISBLANK(M22),\" \",IF(ISBLANK(M23),\" \",(M22/M23*M27)/M10*100)))","v":"  "}]
[50,null,null,{"$f":"IF(ISBLANK(C10),\"  \",IF(ISBLANK(C22),\" \",IF(ISBLANK(C23),\" \",(C22/C23*C28)/C10*100)))","v":"  "},null,{"$f":"IF(ISBLANK(E10),\"  \",IF(ISBLANK(E22),\" \",IF(ISBLANK(E23),\" \",(E22/E23*E28)/E10*100)))","v":"  "},null,{"$f":"IF(ISBLANK(G10),\"  \",IF(ISBLANK(G22),\" \",IF(ISBLANK(G23),\" \",(G22/G23*G28)/G10*100)))","v":"  "},null,{"$f":"IF(ISBLANK(I10),\"  \",IF(ISBLANK(I22),\" \",IF(ISBLANK(I23),\" \",(I22/I23*I28)/I10*100)))","v":"  "},null,{"$f":"IF(ISBLANK(K10),\"  \",IF(ISBLANK(K22),\" \",IF(ISBLANK(K23),\" \",(K22/K23*K28)/K10*100)))","v":"  "},null,{"$f":"IF(ISBLANK(M10),\"  \",IF(ISBLANK(M22),\" \",IF(ISBLANK(M23),\" \",(M22/M23*M28)/M10*100)))","v":"  "}]
[100,null,null,{"$f":"IF(ISBLANK(C10),\"  \",IF(ISBLANK(C22),\" \",IF(ISBLANK(C23),\" \",(C22/C23*C29)/C10*100)))","v":"  "},null,{"$f":"IF(ISBLANK(E10),\"  \",IF(ISBLANK(E22),\" \",IF(ISBLANK(E23),\" \",(E22/E23*E29)/E10*100)))","v":"  "},null,{"$f":"IF(ISBLANK(G10),\"  \",IF(ISBLANK(G22),\" \",IF(ISBLANK(G23),\" \",(G22/G23*G29)/G10*100)))","v":"  "},null,{"$f":"IF(ISBLANK(I10),\"  \",IF(ISBLANK(I22),\" \",IF(ISBLANK(I23),\" \",(I22/I23*I29)/I10*100)))","v":"  "},null,{"$f":"IF(ISBLANK(K10),\"  \",IF(ISBLANK(K22),\" \",IF(ISBLANK(K23),\" \",(K22/K23*K29)/K10*100)))","v":"  "},null,{"$f":"IF(ISBLANK(M10),\"  \",IF(ISBLANK(M22),\" \",IF(ISBLANK(M23),\" \",(M22/M23*M29)/M10*100)))","v":"  "}]
[200,null,null,{"$f":"IF(ISBLANK(C10),\"  \",IF(ISBLANK(C22),\" \",IF(ISBLANK(C23),\" \",(C22/C23*C30)/C10*100)))","v":"  "},null,{"$f":"IF(ISBLANK(E10),\"  \",IF(ISBLANK(E22),\" \",IF(ISBLANK(E23),\" \",(E22/E23*E30)/E10*100)))","v":"  "},null,{"$f":"IF(ISBLANK(G10),\"  \",IF(ISBLANK(G22),\" \",IF(ISBLANK(G23),\" \",(G22/G23*G30)/G10*100)))","v":"  "},null,{"$f":"IF(ISBLANK(I10),\"  \",IF(ISBLANK(I22),\" \",IF(ISBLANK(I23),\" \",(I22/I23*I30)/I10*100)))","v":"  "},null,{"$f":"IF(ISBLANK(K10),\"  \",IF(ISBLANK(K22),\" \",IF(ISBLANK(K23),\" \",(K22/K23*K30)/K10*100)))","v":"  "},null,{"$f":"IF(ISBLANK(M10),\"  \",IF(ISBLANK(M22),\" \",IF(ISBLANK(M23),\" \",(M22/M23*M30)/M10*100)))","v":"  "}]
["St. Wt. Before Wash",null,null,"% Passing",null,"% Passing",null,"% Passing",null,"% Passing",null,"% Passing",null,"% Passing"]
["End Wt. After Wash",null,null,{"$f":"IF(ISBLANK(C31),\"\",IF(ISBLANK(C32),\"\",((C31-C32)/C31)*100))","v":""},null,{"$f":"IF(ISBLANK(E31),\"\",IF(ISBLANK(E32),\"\",((E31-E32)/E31)*100))","v":""},null,{"$f":"IF(ISBLANK(G31),\"\",IF(ISBLANK(G32),\"\",((G31-G32)/G31)*100))","v":""},null,{"$f":"IF(ISBLANK(I31),\"\",IF(ISBLANK(I32),\"\",((I31-I32)/I31)*100))","v":""},null,{"$f":"IF(ISBLANK(K31),\"\",IF(ISBLANK(K32),\"\",((K31-K32)/K31)*100))","v":""},null,{"$f":"IF(ISBLANK(M31),\"\",IF(ISBLANK(M32),\"\",((M31-M32)/M31)*100))","v":""}]
["Tested By"]
["Remarks"]
[]
[]
[]
["Sample No.",null,7,null,8,null,9,null,10,null,11,null,12]
["Date"]
["Starting Wt",null,null,"% Loss",null,"% Loss",null,"% Loss",null,"% Loss",null,"% Loss",null,"% Loss"]
["Ending Wt",null,null,{"$f":"IF(ISBLANK(C41),\" \",((C40-C41)/C40)*100)","v":" "},null,{"$f":"IF(ISBLANK(E41),\" \",((E40-E41)/E40)*100)","v":" "},null,{"$f":"IF(ISBLANK(G41),\" \",((G40-G41)/G40)*100)","v":" "},null,{"$f":"IF(ISBLANK(I41),\" \",((I40-I41)/I40)*100)","v":" "},null,{"$f":"IF(ISBLANK(K41),\" \",((K40-K41)/K40)*100)","v":" "},null,{"$f":"IF(ISBLANK(M41),\" \",((M40-M41)/M40)*100)","v":" "}]
[null,null,"Wt","% Passing","Wt","% Passing","Wt","% Passing","Wt","% Passing","Wt","% Passing","Wt","% Passing"]
[2.5,null,null,{"$f":"IF(ISBLANK(C40),\"  \",IF(ISBLANK(C41),\" \",IF(ISBLANK(C43),\" \",ROUND(C43/C40*100,0))))","v":"  "},null,{"$f":"IF(ISBLANK(E40),\"  \",IF(ISBLANK(E41),\" \",IF(ISBLANK(E43),\" \",ROUND(E43/E40*100,0))))","v":"  "},null,{"$f":"IF(ISBLANK(G40),\"  \",IF(ISBLANK(G41),\" \",IF(ISBLANK(G43),\" \",ROUND(G43/G40*100,0))))","v":"  "},null,{"$f":"IF(ISBLANK(I40),\"  \",IF(ISBLANK(I41),\" \",IF(ISBLANK(I43),\" \",ROUND(I43/I40*100,0))))","v":"  "},null,{"$f":"IF(ISBLANK(K40),\"  \",IF(ISBLANK(K41),\" \",IF(ISBLANK(K43),\" \",ROUND(K43/K40*100,0))))","v":"  "},null,{"$f":"IF(ISBLANK(M40),\"  \",IF(ISBLANK(M41),\" \",IF(ISBLANK(M43),\" \",ROUND(M43/M40*100,0))))","v":"  "}]
[2,null,null,{"$f":"IF(ISBLANK(C40),\"  \",IF(ISBLANK(C41),\" \",IF(ISBLANK(C44),\" \",ROUND(C44/C40*100,0))))","v":"  "},null,{"$f":"IF(ISBLANK(E40),\"  \",IF(ISBLANK(E41),\" \",IF(ISBLANK(E44),\" \",ROUND(E44/E40*100,0))))","v":"  "},null,{"$f":"IF(ISBLANK(G40),\"  \",IF(ISBLANK(G41),\" \",IF(ISBLANK(G44),\" \",ROUND(G44/G40*100,0))))","v":"  "},null,{"$f":"IF(ISBLANK(I40),\"  \",IF(ISBLANK(I41),\" \",IF(ISBLANK(I44),\" \",ROUND(I44/I40*100,0))))","v":"  "},null,{"$f":"IF(ISBLANK(K40),\"  \",IF(ISBLANK(K41),\" \",IF(ISBLANK(K44),\" \",ROUND(K44/K40*100,0))))","v":"  "},null,{"$f":"IF(ISBLANK(M40),\"  \",IF(ISBLANK(M41),\" \",IF(ISBLANK(M44),\" \",ROUND(M44/M40*100,0))))","v":"  "}]
[1.5,null,null,{"$f":"IF(ISBLANK(C40),\"  \",IF(ISBLANK(C41),\" \",IF(ISBLANK(C45),\" \",ROUND(C45/C40*100,0))))","v":"  "},null,{"$f":"IF(ISBLANK(E40),\"  \",IF(ISBLANK(E41),\" \",IF(ISBLANK(E45),\" \",ROUND(E45/E40*100,0))))","v":"  "},null,{"$f":"IF(ISBLANK(G40),\"  \",IF(ISBLANK(G41),\" \",IF(ISBLANK(G45),\" \",ROUND(G45/G40*100,0))))","v":"  "},null,{"$f":"IF(ISBLANK(I40),\"  \",IF(ISBLANK(I41),\" \",IF(ISBLANK(I45),\" \",ROUND(I45/I40*100,0))))","v":"  "},null,{"$f":"IF(ISBLANK(K40),\"  \",IF(ISBLANK(K41),\" \",IF(ISBLANK(K45),\" \",ROUND(K45/K40*100,0))))","v":"  "},null,{"$f":"IF(ISBLANK(M40),\"  \",IF(ISBLANK(M41),\" \",IF(ISBLANK(M45),\" \",ROUND(M45/M40*100,0))))","v":"  "}]
[1,null,null,{"$f":"IF(ISBLANK(C40),\"  \",IF(ISBLANK(C41),\" \",IF(ISBLANK(C46),\" \",ROUND(C46/C40*100,0))))","v":"  "},null,{"$f":"IF(ISBLANK(E40),\"  \",IF(ISBLANK(E41),\" \",IF(ISBLANK(E46),\" \",ROUND(E46/E40*100,0))))","v":"  "},null,{"$f":"IF(ISBLANK(G40),\"  \",IF(ISBLANK(G41),\" \",IF(ISBLANK(G46),\" \",ROUND(G46/G40*100,0))))","v":"  "},null,{"$f":"IF(ISBLANK(I40),\"  \",IF(ISBLANK(I41),\" \",IF(ISBLANK(I46),\" \",ROUND(I46/I40*100,0))))","v":"  "},null,{"$f":"IF(ISBLANK(K40),\"  \",IF(ISBLANK(K41),\" \",IF(ISBLANK(K46),\" \",ROUND(K46/K40*100,0))))","v":"  "},null,{"$f":"IF(ISBLANK(M40),\"  \",IF(ISBLANK(M41),\" \",IF(ISBLANK(M46),\" \",ROUND(M46/M40*100,0))))","v":"  "}]
[0.75,null,null,{"$f":"IF(ISBLANK(C40),\"  \",IF(ISBLANK(C41),\" \",IF(ISBLANK(C47),\" \",ROUND(C47/C40*100,0))))","v":"  "},null,{"$f":"IF(ISBLANK(E40),\"  \",IF(ISBLANK(E41),\" \",IF(ISBLANK(E47),\" \",ROUND(E47/E40*100,0))))","v":"  "},null,{"$f":"IF(ISBLANK(G40),\"  \",IF(ISBLANK(G41),\" \",IF(ISBLANK(G47),\" \",ROUND(G47/G40*100,0))))","v":"  "},null,{"$f":"IF(ISBLANK(I40),\"  \",IF(ISBLANK(I41),\" \",IF(ISBLANK(I47),\" \",ROUND(I47/I40*100,0))))","v":"  "},null,{"$f":"IF(ISBLANK(K40),\"  \",IF(ISBLANK(K41),\" \",IF(ISBLANK(K47),\" \",ROUND(K47/K40*100,0))))","v":"  "},null,{"$f":"IF(ISBLANK(M40),\"  \",IF(ISBLANK(M41),\" \",IF(ISBLANK(M47),\" \",ROUND(M47/M40*100,0))))","v":"  "}]
[0.625,null,null,{"$f":"IF(ISBLANK(C40),\"  \",IF(ISBLANK(C41),\" \",IF(ISBLANK(C48),\" \",ROUND(C48/C40*100,0))))","v":"  "},null,{"$f":"IF(ISBLANK(E40),\"  \",IF(ISBLANK(E41),\" \",IF(ISBLANK(E48),\" \",ROUND(E48/E40*100,0))))","v":"  "},null,{"$f":"IF(ISBLANK(G40),\"  \",IF(ISBLANK(G41),\" \",IF(ISBLANK(G48),\" \",ROUND(G48/G40*100,0))))","v":"  "},null,{"$f":"IF(ISBLANK(I40),\"  \",IF(ISBLANK(I41),\" \",IF(ISBLANK(I48),\" \",ROUND(I48/I40*100,0))))","v":"  "},null,{"$f":"IF(ISBLANK(K40),\"  \",IF(ISBLANK(K41),\" \",IF(ISBLANK(K48),\" \",ROUND(K48/K40*100,0))))","v":"  "},null,{"$f":"IF(ISBLANK(M40),\"  \",IF(ISBLANK(M41),\" \",IF(ISBLANK(M48),\" \",ROUND(M48/M40*100,0))))","v":"  "}]
[0.5,null,null,{"$f":"IF(ISBLANK(C40),\"  \",IF(ISBLANK(C41),\" \",IF(ISBLANK(C49),\" \",ROUND(C49/C40*100,0))))","v":"  "},null,{"$f":"IF(ISBLANK(E40),\"  \",IF(ISBLANK(E41),\" \",IF(ISBLANK(E49),\" \",ROUND(E49/E40*100,0))))","v":"  "},null,{"$f":"IF(ISBLANK(G40),\"  \",IF(ISBLANK(G41),\" \",IF(ISBLANK(G49),\" \",ROUND(G49/G40*100,0))))","v":"  "},null,{"$f":"IF(ISBLANK(I40),\"  \",IF(ISBLANK(I41),\" \",IF(ISBLANK(I49),\" \",ROUND(I49/I40*100,0))))","v":"  "},null,{"$f":"IF(ISBLANK(K40),\"  \",IF(ISBLANK(K41),\" \",IF(ISBLANK(K49),\" \",ROUND(K49/K40*100,0))))","v":"  "},null,{"$f":"IF(ISBLANK(M40),\"  \",IF(ISBLANK(M41),\" \",IF(ISBLANK(M49),\" \",ROUND(M49/M40*100,0))))","v":"  "}]
[0.375,null,null,{"$f":"IF(ISBLANK(C40),\"  \",IF(ISBLANK(C41),\" \",IF(ISBLANK(C50),\" \",ROUND(C50/C40*100,0))))","v":"  "},null,{"$f":"IF(ISBLANK(E40),\"  \",IF(ISBLANK(E41),\" \",IF(ISBLANK(E50),\" \",ROUND(E50/E40*100,0))))","v":"  "},null,{"$f":"IF(ISBLANK(G40),\"  \",IF(ISBLANK(G41),\" \",IF(ISBLANK(G50),\" \",ROUND(G50/G40*100,0))))","v":"  "},null,{"$f":"IF(ISBLANK(I40),\"  \",IF(ISBLANK(I41),\" \",IF(ISBLANK(I50),\" \",ROUND(I50/I40*100,0))))","v":"  "},null,{"$f":"IF(ISBLANK(K40),\"  \",IF(ISBLANK(K41),\" \",IF(ISBLANK(K50),\" \",ROUND(K50/K40*100,0))))","v":"  "},null,{"$f":"IF(ISBLANK(M40),\"  \",IF(ISBLANK(M41),\" \",IF(ISBLANK(M50),\" \",ROUND(M50/M40*100,0))))","v":"  "}]
[0.25,null,null,{"$f":"IF(ISBLANK(C40),\"  \",IF(ISBLANK(C41),\" \",IF(ISBLANK(C51),\" \",ROUND(C51/C40*100,0))))","v":"  "},null,{"$f":"IF(ISBLANK(E40),\"  \",IF(ISBLANK(E41),\" \",IF(ISBLANK(E51),\" \",ROUND(E51/E40*100,0))))","v":"  "},null,{"$f":"IF(ISBLANK(G40),\"  \",IF(ISBLANK(G41),\" \",IF(ISBLANK(G51),\" \",ROUND(G51/G40*100,0))))","v":"  "},null,{"$f":"IF(ISBLANK(I40),\"  \",IF(ISBLANK(I41),\" \",IF(ISBLANK(I51),\" \",ROUND(I51/I40*100,0))))","v":"  "},null,{"$f":"IF(ISBLANK(K40),\"  \",IF(ISBLANK(K41),\" \",IF(ISBLANK(K51),\" \",ROUND(K51/K40*100,0))))","v":"  "},null,{"$f":"IF(ISBLANK(M40),\"  \",IF(ISBLANK(M41),\" \",IF(ISBLANK(M51),\" \",ROUND(M51/M40*100,0))))","v":"  "}]
[4,null,null,{"$f":"IF(ISBLANK(C40),\"  \",IF(ISBLANK(C41),\" \",IF(ISBLANK(C52),\" \",ROUND(C52/C40*100,0))))","v":"  "},null,{"$f":"IF(ISBLANK(E40),\"  \",IF(ISBLANK(E41),\" \",IF(ISBLANK(E52),\" \",ROUND(E52/E40*100,0))))","v":"  "},null,{"$f":"IF(ISBLANK(G40),\"  \",IF(ISBLANK(G41),\" \",IF(ISBLANK(G52),\" \",ROUND(G52/G40*100,0))))","v":"  "},null,{"$f":"IF(ISBLANK(I40),\"  \",IF(ISBLANK(I41),\" \",IF(ISBLANK(I52),\" \",ROUND(I52/I40*100,0))))","v":"  "},null,{"$f":"IF(ISBLANK(K40),\"  \",IF(ISBLANK(K41),\" \",IF(ISBLANK(K52),\" \",ROUND(K52/K40*100,0))))","v":"  "},null,{"$f":"IF(ISBLANK(M40),\"  \",IF(ISBLANK(M41),\" \",IF(ISBLANK(M52),\" \",ROUND(M52/M40*100,0))))","v":"  "}]
["Split St. Wt.",null,null,"% Loss",null,"% Loss",null,"% Loss",null,"% Loss",null,"% Loss",null,"% Loss"]
["Split Ending Wt.",null,null,{"$f":"IF(ISBLANK(C54),\"\",(C53-C54)/C53*100)","v":""},null,{"$f":"IF(ISBLANK(E54),\"\",(E53-E54)/E53*100)","v":""},null,{"$f":"IF(ISBLANK(G54),\"\",(G53-G54)/G53*100)","v":""},null,{"$f":"IF(ISBLANK(I54),\"\",(I53-I54)/I53*100)","v":""},null,{"$f":"IF(ISBLANK(K54),\"\",(K53-K54)/K53*100)","v":""},null,{"$f":"IF(ISBLANK(M54),\"\",(M53-M54)/M53*100)","v":""}]
[8,null,null,{"$f":"IF(ISBLANK(C40),\"  \",IF(ISBLANK(C52),\" \",IF(ISBLANK(C53),\" \",(C52/C53*C55)/C40*100)))","v":"  "},null,{"$f":"IF(ISBLANK(E40),\"  \",IF(ISBLANK(E52),\" \",IF(ISBLANK(E53),\" \",(E52/E53*E55)/E40*100)))","v":"  "},null,{"$f":"IF(ISBLANK(G40),\"  \",IF(ISBLANK(G52),\" \",IF(ISBLANK(G53),\" \",(G52/G53*G55)/G40*100)))","v":"  "},null,{"$f":"IF(ISBLANK(I40),\"  \",IF(ISBLANK(I52),\" \",IF(ISBLANK(I53),\" \",(I52/I53*I55)/I40*100)))","v":"  "},null,{"$f":"IF(ISBLANK(K40),\"  \",IF(ISBLANK(K52),\" \",IF(ISBLANK(K53),\" \",(K52/K53*K55)/K40*100)))","v":"  "},null,{"$f":"IF(ISBLANK(M40),\"  \",IF(ISBLANK(M52),\" \",IF(ISBLANK(M53),\" \",(M52/M53*M55)/M40*100)))","v":"  "}]
[16,null,null,{"$f":"IF(ISBLANK(C40),\"  \",IF(ISBLANK(C52),\" \",IF(ISBLANK(C53),\" \",(C52/C53*C56)/C40*100)))","v":"  "},null,{"$f":"IF(ISBLANK(E40),\"  \",IF(ISBLANK(E52),\" \",IF(ISBLANK(E53),\" \",(E52/E53*E56)/E40*100)))","v":"  "},null,{"$f":"IF(ISBLANK(G40),\"  \",IF(ISBLANK(G52),\" \",IF(ISBLANK(G53),\" \",(G52/G53*G56)/G40*100)))","v":"  "},null,{"$f":"IF(ISBLANK(I40),\"  \",IF(ISBLANK(I52),\" \",IF(ISBLANK(I53),\" \",(I52/I53*I56)/I40*100)))","v":"  "},null,{"$f":"IF(ISBLANK(K40),\"  \",IF(ISBLANK(K52),\" \",IF(ISBLANK(K53),\" \",(K52/K53*K56)/K40*100)))","v":"  "},null,{"$f":"IF(ISBLANK(M40),\"  \",IF(ISBLANK(M52),\" \",IF(ISBLANK(M53),\" \",(M52/M53*M56)/M40*100)))","v":"  "}]
[30,null,null,{"$f":"IF(ISBLANK(C40),\"  \",IF(ISBLANK(C52),\" \",IF(ISBLANK(C53),\" \",(C52/C53*C57)/C40*100)))","v":"  "},null,{"$f":"IF(ISBLANK(E40),\"  \",IF(ISBLANK(E52),\" \",IF(ISBLANK(E53),\" \",(E52/E53*E57)/E40*100)))","v":"  "},null,{"$f":"IF(ISBLANK(G40),\"  \",IF(ISBLANK(G52),\" \",IF(ISBLANK(G53),\" \",(G52/G53*G57)/G40*100)))","v":"  "},null,{"$f":"IF(ISBLANK(I40),\"  \",IF(ISBLANK(I52),\" \",IF(ISBLANK(I53),\" \",(I52/I53*I57)/I40*100)))","v":"  "},null,{"$f":"IF(ISBLANK(K40),\"  \",IF(ISBLANK(K52),\" \",IF(ISBLANK(K53),\" \",(K52/K53*K57)/K40*100)))","v":"  "},null,{"$f":"IF(ISBLANK(M40),\"  \",IF(ISBLANK(M52),\" \",IF(ISBLANK(M53),\" \",(M52/M53*M57)/M40*100)))","v":"  "}]
[50,null,null,{"$f":"IF(ISBLANK(C40),\"  \",IF(ISBLANK(C52),\" \",IF(ISBLANK(C53),\" \",(C52/C53*C58)/C40*100)))","v":"  "},null,{"$f":"IF(ISBLANK(E40),\"  \",IF(ISBLANK(E52),\" \",IF(ISBLANK(E53),\" \",(E52/E53*E58)/E40*100)))","v":"  "},null,{"$f":"IF(ISBLANK(G40),\"  \",IF(ISBLANK(G52),\" \",IF(ISBLANK(G53),\" \",(G52/G53*G58)/G40*100)))","v":"  "},null,{"$f":"IF(ISBLANK(I40),\"  \",IF(ISBLANK(I52),\" \",IF(ISBLANK(I53),\" \",(I52/I53*I58)/I40*100)))","v":"  "},null,{"$f":"IF(ISBLANK(K40),\"  \",IF(ISBLANK(K52),\" \",IF(ISBLANK(K53),\" \",(K52/K53*K58)/K40*100)))","v":"  "},null,{"$f":"IF(ISBLANK(M40),\"  \",IF(ISBLANK(M52),\" \",IF(ISBLANK(M53),\" \",(M52/M53*M58)/M40*100)))","v":"  "}]
[100,null,null,{"$f":"IF(ISBLANK(C40),\"  \",IF(ISBLANK(C52),\" \",IF(ISBLANK(C53),\" \",(C52/C53*C59)/C40*100)))","v":"  "},null,{"$f":"IF(ISBLANK(E40),\"  \",IF(ISBLANK(E52),\" \",IF(ISBLANK(E53),\" \",(E52/E53*E59)/E40*100)))","v":"  "},null,{"$f":"IF(ISBLANK(G40),\"  \",IF(ISBLANK(G52),\" \",IF(ISBLANK(G53),\" \",(G52/G53*G59)/G40*100)))","v":"  "},null,{"$f":"IF(ISBLANK(I40),\"  \",IF(ISBLANK(I52),\" \",IF(ISBLANK(I53),\" \",(I52/I53*I59)/I40*100)))","v":"  "},null,{"$f":"IF(ISBLANK(K40),\"  \",IF(ISBLANK(K52),\" \",IF(ISBLANK(K53),\" \",(K52/K53*K59)/K40*100)))","v":"  "},null,{"$f":"IF(ISBLANK(M40),\"  \",IF(ISBLANK(M52),\" \",IF(ISBLANK(M53),\" \",(M52/M53*M59)/M40*100)))","v":"  "}]
[200,null,null,{"$f":"IF(ISBLANK(C40),\"  \",IF(ISBLANK(C52),\" \",IF(ISBLANK(C53),\" \",(C52/C53*C60)/C40*100)))","v":"  "},null,{"$f":"IF(ISBLANK(E40),\"  \",IF(ISBLANK(E52),\" \",IF(ISBLANK(E53),\" \",(E52/E53*E60)/E40*100)))","v":"  "},null,{"$f":"IF(ISBLANK(G40),\"  \",IF(ISBLANK(G52),\" \",IF(ISBLANK(G53),\" \",(G52/G53*G60)/G40*100)))","v":"  "},null,{"$f":"IF(ISBLANK(I40),\"  \",IF(ISBLANK(I52),\" \",IF(ISBLANK(I53),\" \",(I52/I53*I60)/I40*100)))","v":"  "},null,{"$f":"IF(ISBLANK(K40),\"  \",IF(ISBLANK(K52),\" \",IF(ISBLANK(K53),\" \",(K52/K53*K60)/K40*100)))","v":"  "},null,{"$f":"IF(ISBLANK(M40),\"  \",IF(ISBLANK(M52),\" \",IF(ISBLANK(M53),\" \",(M52/M53*M60)/M40*100)))","v":"  "}]
["St. Wt. Before Wash",null,null,"% Passing",null,"% Passing",null,"% Passing",null,"% Passing",null,"% Passing",null,"% Passing"]
["End Wt. After Wash",null,null,{"$f":"IF(ISBLANK(C61),\"\",IF(ISBLANK(C62),\"\",((C61-C62)/C61)*100))","v":""},null,{"$f":"IF(ISBLANK(E61),\"\",IF(ISBLANK(E62),\"\",((E61-E62)/E61)*100))","v":""},null,{"$f":"IF(ISBLANK(G61),\"\",IF(ISBLANK(G62),\"\",((G61-G62)/G61)*100))","v":""},null,{"$f":"IF(ISBLANK(I61),\"\",IF(ISBLANK(I62),\"\",((I61-I62)/I61)*100))","v":""},null,{"$f":"IF(ISBLANK(K61),\"\",IF(ISBLANK(K62),\"\",((K61-K62)/K61)*100))","v":""},null,{"$f":"IF(ISBLANK(M61),\"\",IF(ISBLANK(M62),\"\",((M61-M62)/M61)*100))","v":""}]
["Tested By"]
["Remarks"]
[]
[]
[]
[null,null,{"$f":"MAX(C43:C58)","v":0},null,{"$f":"MAX(E43:E58)","v":0},null,{"$f":"MAX(G43:G58)","v":0},null,{"$f":"MAX(I43:I58)","v":0},null,{"$f":"MAX(K43:K58)","v":0},null,{"$f":"MAX(M43:M58)","v":0}]

{"sheet":"Split 2","index":23,"n_rows":68,"n_cols":14,"rows_kept":68,"cut":false,"hidden":true,"merged":[[62,12,62,13],[63,0,65,1],[63,2,65,3],[63,4,65,5],[63,6,65,7],[63,8,65,9],[63,10,65,11],[63,12,65,13],[62,0,62,1],[62,2,62,3],[62,4,62,5],[62,6,62,7],[62,8,62,9],[62,10,62,11],[56,0,56,1],[57,0,57,1],[58,0,58,1],[59,0,59,1],[60,0,60,1],[61,0,61,1],[50,0,50,1],[51,0,51,1],[52,0,52,1],[53,0,53,1],[54,0,54,1],[55,0,55,1],[44,0,44,1],[45,0,45,1],[46,0,46,1],[47,0,47,1],[48,0,48,1],[49,0,49,1],[38,12,38,13],[39,0,39,1],[40,0,40,1],[41,0,41,1],[42,0,42,1],[43,0,43,1],[38,0,38,1],[38,2,38,3],[38,4,38,5],[38,6,38,7],[38,8,38,9],[38,10,38,11],[33,12,35,13],[37,0,37,1],[37,2,37,3],[37,4,37,5],[37,6,37,7],[37,8,37,9],[37,10,37,11],[37,12,37,13],[33,0,35,1],[33,2,35,3],[33,4,35,5],[33,6,35,7],[33,8,35,9],[33,10,35,11],[32,2,32,3],[32,4,32,5],[32,6,32,7],[32,8,32,9],[32,10,32,11],[32,12,32,13],[27,0,27,1],[28,0,28,1],[29,0,29,1],[30,0,30,1],[31,0,31,1],[32,0,32,1],[21,0,21,1],[22,0,22,1],[23,0,23,1],[24,0,24,1],[25,0,25,1],[26,0,26,1],[15,0,15,1],[16,0,16,1],[17,0,17,1],[18,0,18,1],[19,0,19,1],[20,0,20,1],[9,0,9,1],[10,0,10,1],[11,0,11,1],[12,0,12,1],[13,0,13,1],[14,0,14,1],[7,12,7,13],[8,0,8,1],[8,2,8,3],[8,4,8,5],[8,6,8,7],[8,8,8,9],[8,10,8,11],[8,12,8,13],[3,12,3,13],[4,10,4,11],[4,12,4,13],[5,3,5,11],[7,0,7,1],[7,2,7,3],[7,4,7,5],[7,6,7,7],[7,8,7,9],[7,10,7,11],[0,0,3,1],[1,2,1,7],[1,10,1,11],[1,12,1,13],[2,2,2,7],[2,10,2,11],[2,12,2,13],[3,2,3,3],[3,6,3,7],[3,10,3,11]]}
[]
[null,null,"COMMONWEALTH OF PENNSYLVANIA",null,null,null,null,null,null,null,"District"]
[null,null,"DEPARTMENT OF TRANSPORTATION",null,null,null,null,null,null,null,"Plant Code"]
[null,null,{"$f":"'S1'!$A$6","v":"Aggregate 2023"},null,null,null,null,null,null,null,"Agg. Size"]
[]
[null,null,null,"Material Test Results"]
[]
["Sample No.",null,13,null,14,null,15,null,16,null,17,null,18]
["Date"]
["Starting Wt",null,null,"% Loss",null,"% Loss",null,"% Loss",null,"% Loss",null,"% Loss",null,"% Loss"]
["Ending Wt",null,null,{"$f":"IF(ISBLANK(C11),\" \",((C10-C11)/C10)*100)","v":" "},null,{"$f":"IF(ISBLANK(E11),\" \",((E10-E11)/E10)*100)","v":" "},null,{"$f":"IF(ISBLANK(G11),\" \",((G10-G11)/G10)*100)","v":" "},null,{"$f":"IF(ISBLANK(I11),\" \",((I10-I11)/I10)*100)","v":" "},null,{"$f":"IF(ISBLANK(K11),\" \",((K10-K11)/K10)*100)","v":" "},null,{"$f":"IF(ISBLANK(M11),\" \",((M10-M11)/M10)*100)","v":" "}]
[null,null,"Wt","% Passing","Wt","% Passing","Wt","% Passing","Wt","% Passing","Wt","% Passing","Wt","% Passing"]
[2.5,null,null,{"$f":"IF(ISBLANK(C10),\"  \",IF(ISBLANK(C11),\" \",IF(ISBLANK(C13),\" \",ROUND(C13/C10*100,0))))","v":"  "},null,{"$f":"IF(ISBLANK(E10),\"  \",IF(ISBLANK(E11),\" \",IF(ISBLANK(E13),\" \",ROUND(E13/E10*100,0))))","v":"  "},null,{"$f":"IF(ISBLANK(G10),\"  \",IF(ISBLANK(G11),\" \",IF(ISBLANK(G13),\" \",ROUND(G13/G10*100,0))))","v":"  "},null,{"$f":"IF(ISBLANK(I10),\"  \",IF(ISBLANK(I11),\" \",IF(ISBLANK(I13),\" \",ROUND(I13/I10*100,0))))","v":"  "},null,{"$f":"IF(ISBLANK(K10),\"  \",IF(ISBLANK(K11),\" \",IF(ISBLANK(K13),\" \",ROUND(K13/K10*100,0))))","v":"  "},null,{"$f":"IF(ISBLANK(M10),\"  \",IF(ISBLANK(M11),\" \",IF(ISBLANK(M13),\" \",ROUND(M13/M10*100,0))))","v":"  "}]
[2,null,null,{"$f":"IF(ISBLANK(C10),\"  \",IF(ISBLANK(C11),\" \",IF(ISBLANK(C14),\" \",ROUND(C14/C10*100,0))))","v":"  "},null,{"$f":"IF(ISBLANK(E10),\"  \",IF(ISBLANK(E11),\" \",IF(ISBLANK(E14),\" \",ROUND(E14/E10*100,0))))","v":"  "},null,{"$f":"IF(ISBLANK(G10),\"  \",IF(ISBLANK(G11),\" \",IF(ISBLANK(G14),\" \",ROUND(G14/G10*100,0))))","v":"  "},null,{"$f":"IF(ISBLANK(I10),\"  \",IF(ISBLANK(I11),\" \",IF(ISBLANK(I14),\" \",ROUND(I14/I10*100,0))))","v":"  "},null,{"$f":"IF(ISBLANK(K10),\"  \",IF(ISBLANK(K11),\" \",IF(ISBLANK(K14),\" \",ROUND(K14/K10*100,0))))","v":"  "},null,{"$f":"IF(ISBLANK(M10),\"  \",IF(ISBLANK(M11),\" \",IF(ISBLANK(M14),\" \",ROUND(M14/M10*100,0))))","v":"  "}]
[1.5,null,null,{"$f":"IF(ISBLANK(C10),\"  \",IF(ISBLANK(C11),\" \",IF(ISBLANK(C15),\" \",ROUND(C15/C10*100,0))))","v":"  "},null,{"$f":"IF(ISBLANK(E10),\"  \",IF(ISBLANK(E11),\" \",IF(ISBLANK(E15),\" \",ROUND(E15/E10*100,0))))","v":"  "},null,{"$f":"IF(ISBLANK(G10),\"  \",IF(ISBLANK(G11),\" \",IF(ISBLANK(G15),\" \",ROUND(G15/G10*100,0))))","v":"  "},null,{"$f":"IF(ISBLANK(I10),\"  \",IF(ISBLANK(I11),\" \",IF(ISBLANK(I15),\" \",ROUND(I15/I10*100,0))))","v":"  "},null,{"$f":"IF(ISBLANK(K10),\"  \",IF(ISBLANK(K11),\" \",IF(ISBLANK(K15),\" \",ROUND(K15/K10*100,0))))","v":"  "},null,{"$f":"IF(ISBLANK(M10),\"  \",IF(ISBLANK(M11),\" \",IF(ISBLANK(M15),\" \",ROUND(M15/M10*100,0))))","v":"  "}]
[1,null,null,{"$f":"IF(ISBLANK(C10),\"  \",IF(ISBLANK(C11),\" \",IF(ISBLANK(C16),\" \",ROUND(C16/C10*100,0))))","v":"  "},null,{"$f":"IF(ISBLANK(E10),\"  \",IF(ISBLANK(E11),\" \",IF(ISBLANK(E16),\" \",ROUND(E16/E10*100,0))))","v":"  "},null,{"$f":"IF(ISBLANK(G10),\"  \",IF(ISBLANK(G11),\" \",IF(ISBLANK(G16),\" \",ROUND(G16/G10*100,0))))","v":"  "},null,{"$f":"IF(ISBLANK(I10),\"  \",IF(ISBLANK(I11),\" \",IF(ISBLANK(I16),\" \",ROUND(I16/I10*100,0))))","v":"  "},null,{"$f":"IF(ISBLANK(K10),\"  \",IF(ISBLANK(K11),\" \",IF(ISBLANK(K16),\" \",ROUND(K16/K10*100,0))))","v":"  "},null,{"$f":"IF(ISBLANK(M10),\"  \",IF(ISBLANK(M11),\" \",IF(ISBLANK(M16),\" \",ROUND(M16/M10*100,0))))","v":"  "}]
[0.75,null,null,{"$f":"IF(ISBLANK(C10),\"  \",IF(ISBLANK(C11),\" \",IF(ISBLANK(C17),\" \",ROUND(C17/C10*100,0))))","v":"  "},null,{"$f":"IF(ISBLANK(E10),\"  \",IF(ISBLANK(E11),\" \",IF(ISBLANK(E17),\" \",ROUND(E17/E10*100,0))))","v":"  "},null,{"$f":"IF(ISBLANK(G10),\"  \",IF(ISBLANK(G11),\" \",IF(ISBLANK(G17),\" \",ROUND(G17/G10*100,0))))","v":"  "},null,{"$f":"IF(ISBLANK(I10),\"  \",IF(ISBLANK(I11),\" \",IF(ISBLANK(I17),\" \",ROUND(I17/I10*100,0))))","v":"  "},null,{"$f":"IF(ISBLANK(K10),\"  \",IF(ISBLANK(K11),\" \",IF(ISBLANK(K17),\" \",ROUND(K17/K10*100,0))))","v":"  "},null,{"$f":"IF(ISBLANK(M10),\"  \",IF(ISBLANK(M11),\" \",IF(ISBLANK(M17),\" \",ROUND(M17/M10*100,0))))","v":"  "}]
[0.625,null,null,{"$f":"IF(ISBLANK(C10),\"  \",IF(ISBLANK(C11),\" \",IF(ISBLANK(C18),\" \",ROUND(C18/C10*100,0))))","v":"  "},null,{"$f":"IF(ISBLANK(E10),\"  \",IF(ISBLANK(E11),\" \",IF(ISBLANK(E18),\" \",ROUND(E18/E10*100,0))))","v":"  "},null,{"$f":"IF(ISBLANK(G10),\"  \",IF(ISBLANK(G11),\" \",IF(ISBLANK(G18),\" \",ROUND(G18/G10*100,0))))","v":"  "},null,{"$f":"IF(ISBLANK(I10),\"  \",IF(ISBLANK(I11),\" \",IF(ISBLANK(I18),\" \",ROUND(I18/I10*100,0))))","v":"  "},null,{"$f":"IF(ISBLANK(K10),\"  \",IF(ISBLANK(K11),\" \",IF(ISBLANK(K18),\" \",ROUND(K18/K10*100,0))))","v":"  "},null,{"$f":"IF(ISBLANK(M10),\"  \",IF(ISBLANK(M11),\" \",IF(ISBLANK(M18),\" \",ROUND(M18/M10*100,0))))","v":"  "}]
[0.5,null,null,{"$f":"IF(ISBLANK(C10),\"  \",IF(ISBLANK(C11),\" \",IF(ISBLANK(C19),\" \",ROUND(C19/C10*100,0))))","v":"  "},null,{"$f":"IF(ISBLANK(E10),\"  \",IF(ISBLANK(E11),\" \",IF(ISBLANK(E19),\" \",ROUND(E19/E10*100,0))))","v":"  "},null,{"$f":"IF(ISBLANK(G10),\"  \",IF(ISBLANK(G11),\" \",IF(ISBLANK(G19),\" \",ROUND(G19/G10*100,0))))","v":"  "},null,{"$f":"IF(ISBLANK(I10),\"  \",IF(ISBLANK(I11),\" \",IF(ISBLANK(I19),\" \",ROUND(I19/I10*100,0))))","v":"  "},null,{"$f":"IF(ISBLANK(K10),\"  \",IF(ISBLANK(K11),\" \",IF(ISBLANK(K19),\" \",ROUND(K19/K10*100,0))))","v":"  "},null,{"$f":"IF(ISBLANK(M10),\"  \",IF(ISBLANK(M11),\" \",IF(ISBLANK(M19),\" \",ROUND(M19/M10*100,0))))","v":"  "}]
[0.375,null,null,{"$f":"IF(ISBLANK(C10),\"  \",IF(ISBLANK(C11),\" \",IF(ISBLANK(C20),\" \",ROUND(C20/C10*100,0))))","v":"  "},null,{"$f":"IF(ISBLANK(E10),\"  \",IF(ISBLANK(E11),\" \",IF(ISBLANK(E20),\" \",ROUND(E20/E10*100,0))))","v":"  "},null,{"$f":"IF(ISBLANK(G10),\"  \",IF(ISBLANK(G11),\" \",IF(ISBLANK(G20),\" \",ROUND(G20/G10*100,0))))","v":"  "},null,{"$f":"IF(ISBLANK(I10),\"  \",IF(ISBLANK(I11),\" \",IF(ISBLANK(I20),\" \",ROUND(I20/I10*100,0))))","v":"  "},null,{"$f":"IF(ISBLANK(K10),\"  \",IF(ISBLANK(K11),\" \",IF(ISBLANK(K20),\" \",ROUND(K20/K10*100,0))))","v":"  "},null,{"$f":"IF(ISBLANK(M10),\"  \",IF(ISBLANK(M11),\" \",IF(ISBLANK(M20),\" \",ROUND(M20/M10*100,0))))","v":"  "}]
[0.25,null,null,{"$f":"IF(ISBLANK(C10),\"  \",IF(ISBLANK(C11),\" \",IF(ISBLANK(C21),\" \",ROUND(C21/C10*100,0))))","v":"  "},null,{"$f":"IF(ISBLANK(E10),\"  \",IF(ISBLANK(E11),\" \",IF(ISBLANK(E21),\" \",ROUND(E21/E10*100,0))))","v":"  "},null,{"$f":"IF(ISBLANK(G10),\"  \",IF(ISBLANK(G11),\" \",IF(ISBLANK(G21),\" \",ROUND(G21/G10*100,0))))","v":"  "},null,{"$f":"IF(ISBLANK(I10),\"  \",IF(ISBLANK(I11),\" \",IF(ISBLANK(I21),\" \",ROUND(I21/I10*100,0))))","v":"  "},null,{"$f":"IF(ISBLANK(K10),\"  \",IF(ISBLANK(K11),\" \",IF(ISBLANK(K21),\" \",ROUND(K21/K10*100,0))))","v":"  "},null,{"$f":"IF(ISBLANK(M10),\"  \",IF(ISBLANK(M11),\" \",IF(ISBLANK(M21),\" \",ROUND(M21/M10*100,0))))","v":"  "}]
[4,null,null,{"$f":"IF(ISBLANK(C10),\"  \",IF(ISBLANK(C11),\" \",IF(ISBLANK(C22),\" \",ROUND(C22/C10*100,0))))","v":"  "},null,{"$f":"IF(ISBLANK(E10),\"  \",IF(ISBLANK(E11),\" \",IF(ISBLANK(E22),\" \",ROUND(E22/E10*100,0))))","v":"  "},null,{"$f":"IF(ISBLANK(G10),\"  \",IF(ISBLANK(G11),\" \",IF(ISBLANK(G22),\" \",ROUND(G22/G10*100,0))))","v":"  "},null,{"$f":"IF(ISBLANK(I10),\"  \",IF(ISBLANK(I11),\" \",IF(ISBLANK(I22),\" \",ROUND(I22/I10*100,0))))","v":"  "},null,{"$f":"IF(ISBLANK(K10),\"  \",IF(ISBLANK(K11),\" \",IF(ISBLANK(K22),\" \",ROUND(K22/K10*100,0))))","v":"  "},null,{"$f":"IF(ISBLANK(M10),\"  \",IF(ISBLANK(M11),\" \",IF(ISBLANK(M22),\" \",ROUND(M22/M10*100,0))))","v":"  "}]
["Split St. Wt.",null,null,"% Loss",null,"% Loss",null,"% Loss",null,"% Loss",null,"% Loss",null,"% Loss"]
["Split Ending Wt.",null,null,{"$f":"IF(ISBLANK(C24),\"\",(C23-C24)/C23*100)","v":""},null,{"$f":"IF(ISBLANK(E24),\"\",(E23-E24)/E23*100)","v":""},null,{"$f":"IF(ISBLANK(G24),\"\",(G23-G24)/G23*100)","v":""},null,{"$f":"IF(ISBLANK(I24),\"\",(I23-I24)/I23*100)","v":""},null,{"$f":"IF(ISBLANK(K24),\"\",(K23-K24)/K23*100)","v":""},null,{"$f":"IF(ISBLANK(M24),\"\",(M23-M24)/M23*100)","v":""}]
[8,null,null,{"$f":"IF(ISBLANK(C10),\"  \",IF(ISBLANK(C22),\" \",IF(ISBLANK(C23),\" \",ROUND((C22/C23*C25)/C10*100,0))))","v":"  "},null,{"$f":"IF(ISBLANK(E10),\"  \",IF(ISBLANK(E22),\" \",IF(ISBLANK(E23),\" \",(E22/E23*E25)/E10*100)))","v":"  "},null,{"$f":"IF(ISBLANK(G10),\"  \",IF(ISBLANK(G22),\" \",IF(ISBLANK(G23),\" \",(G22/G23*G25)/G10*100)))","v":"  "},null,{"$f":"IF(ISBLANK(I10),\"  \",IF(ISBLANK(I22),\" \",IF(ISBLANK(I23),\" \",(I22/I23*I25)/I10*100)))","v":"  "},null,{"$f":"IF(ISBLANK(K10),\"  \",IF(ISBLANK(K22),\" \",IF(ISBLANK(K23),\" \",(K22/K23*K25)/K10*100)))","v":"  "},null,{"$f":"IF(ISBLANK(M10),\"  \",IF(ISBLANK(M22),\" \",IF(ISBLANK(M23),\" \",(M22/M23*M25)/M10*100)))","v":"  "}]
[16,null,null,{"$f":"IF(ISBLANK(C10),\"  \",IF(ISBLANK(C22),\" \",IF(ISBLANK(C23),\" \",(C22/C23*C26)/C10*100)))","v":"  "},null,{"$f":"IF(ISBLANK(E10),\"  \",IF(ISBLANK(E22),\" \",IF(ISBLANK(E23),\" \",(E22/E23*E26)/E10*100)))","v":"  "},null,{"$f":"IF(ISBLANK(G10),\"  \",IF(ISBLANK(G22),\" \",IF(ISBLANK(G23),\" \",(G22/G23*G26)/G10*100)))","v":"  "},null,{"$f":"IF(ISBLANK(I10),\"  \",IF(ISBLANK(I22),\" \",IF(ISBLANK(I23),\" \",(I22/I23*I26)/I10*100)))","v":"  "},null,{"$f":"IF(ISBLANK(K10),\"  \",IF(ISBLANK(K22),\" \",IF(ISBLANK(K23),\" \",(K22/K23*K26)/K10*100)))","v":"  "},null,{"$f":"IF(ISBLANK(M10),\"  \",IF(ISBLANK(M22),\" \",IF(ISBLANK(M23),\" \",(M22/M23*M26)/M10*100)))","v":"  "}]
[30,null,null,{"$f":"IF(ISBLANK(C10),\"  \",IF(ISBLANK(C22),\" \",IF(ISBLANK(C23),\" \",(C22/C23*C27)/C10*100)))","v":"  "},null,{"$f":"IF(ISBLANK(E10),\"  \",IF(ISBLANK(E22),\" \",IF(ISBLANK(E23),\" \",(E22/E23*E27)/E10*100)))","v":"  "},null,{"$f":"IF(ISBLANK(G10),\"  \",IF(ISBLANK(G22),\" \",IF(ISBLANK(G23),\" \",(G22/G23*G27)/G10*100)))","v":"  "},null,{"$f":"IF(ISBLANK(I10),\"  \",IF(ISBLANK(I22),\" \",IF(ISBLANK(I23),\" \",(I22/I23*I27)/I10*100)))","v":"  "},null,{"$f":"IF(ISBLANK(K10),\"  \",IF(ISBLANK(K22),\" \",IF(ISBLANK(K23),\" \",(K22/K23*K27)/K10*100)))","v":"  "},null,{"$f":"IF(ISBLANK(M10),\"  \",IF(ISBLANK(M22),\" \",IF(ISBLANK(M23),\" \",(M22/M23*M27)/M10*100)))","v":"  "}]
[50,null,null,{"$f":"IF(ISBLANK(C10),\"  \",IF(ISBLANK(C22),\" \",IF(ISBLANK(C23),\" \",(C22/C23*C28)/C10*100)))","v":"  "},null,{"$f":"IF(ISBLANK(E10),\"  \",IF(ISBLANK(E22),\" \",IF(ISBLANK(E23),\" \",(E22/E23*E28)/E10*100)))","v":"  "},null,{"$f":"IF(ISBLANK(G10),\"  \",IF(ISBLANK(G22),\" \",IF(ISBLANK(G23),\" \",(G22/G23*G28)/G10*100)))","v":"  "},null,{"$f":"IF(ISBLANK(I10),\"  \",IF(ISBLANK(I22),\" \",IF(ISBLANK(I23),\" \",(I22/I23*I28)/I10*100)))","v":"  "},null,{"$f":"IF(ISBLANK(K10),\"  \",IF(ISBLANK(K22),\" \",IF(ISBLANK(K23),\" \",(K22/K23*K28)/K10*100)))","v":"  "},null,{"$f":"IF(ISBLANK(M10),\"  \",IF(ISBLANK(M22),\" \",IF(ISBLANK(M23),\" \",(M22/M23*M28)/M10*100)))","v":"  "}]
[100,null,null,{"$f":"IF(ISBLANK(C10),\"  \",IF(ISBLANK(C22),\" \",IF(ISBLANK(C23),\" \",(C22/C23*C29)/C10*100)))","v":"  "},null,{"$f":"IF(ISBLANK(E10),\"  \",IF(ISBLANK(E22),\" \",IF(ISBLANK(E23),\" \",(E22/E23*E29)/E10*100)))","v":"  "},null,{"$f":"IF(ISBLANK(G10),\"  \",IF(ISBLANK(G22),\" \",IF(ISBLANK(G23),\" \",(G22/G23*G29)/G10*100)))","v":"  "},null,{"$f":"IF(ISBLANK(I10),\"  \",IF(ISBLANK(I22),\" \",IF(ISBLANK(I23),\" \",(I22/I23*I29)/I10*100)))","v":"  "},null,{"$f":"IF(ISBLANK(K10),\"  \",IF(ISBLANK(K22),\" \",IF(ISBLANK(K23),\" \",(K22/K23*K29)/K10*100)))","v":"  "},null,{"$f":"IF(ISBLANK(M10),\"  \",IF(ISBLANK(M22),\" \",IF(ISBLANK(M23),\" \",(M22/M23*M29)/M10*100)))","v":"  "}]
[200,null,null,{"$f":"IF(ISBLANK(C10),\"  \",IF(ISBLANK(C22),\" \",IF(ISBLANK(C23),\" \",(C22/C23*C30)/C10*100)))","v":"  "},null,{"$f":"IF(ISBLANK(E10),\"  \",IF(ISBLANK(E22),\" \",IF(ISBLANK(E23),\" \",(E22/E23*E30)/E10*100)))","v":"  "},null,{"$f":"IF(ISBLANK(G10),\"  \",IF(ISBLANK(G22),\" \",IF(ISBLANK(G23),\" \",(G22/G23*G30)/G10*100)))","v":"  "},null,{"$f":"IF(ISBLANK(I10),\"  \",IF(ISBLANK(I22),\" \",IF(ISBLANK(I23),\" \",(I22/I23*I30)/I10*100)))","v":"  "},null,{"$f":"IF(ISBLANK(K10),\"  \",IF(ISBLANK(K22),\" \",IF(ISBLANK(K23),\" \",(K22/K23*K30)/K10*100)))","v":"  "},null,{"$f":"IF(ISBLANK(M10),\"  \",IF(ISBLANK(M22),\" \",IF(ISBLANK(M23),\" \",(M22/M23*M30)/M10*100)))","v":"  "}]
["St. Wt. Before Wash",null,null,"% Passing",null,"% Passing",null,"% Passing",null,"% Passing",null,"% Passing",null,"% Passing"]
["End Wt. After Wash",null,null,{"$f":"IF(ISBLANK(C31),\"\",IF(ISBLANK(C32),\"\",((C31-C32)/C31)*100))","v":""},null,{"$f":"IF(ISBLANK(E31),\"\",IF(ISBLANK(E32),\"\",((E31-E32)/E31)*100))","v":""},null,{"$f":"IF(ISBLANK(G31),\"\",IF(ISBLANK(G32),\"\",((G31-G32)/G31)*100))","v":""},null,{"$f":"IF(ISBLANK(I31),\"\",IF(ISBLANK(I32),\"\",((I31-I32)/I31)*100))","v":""},null,{"$f":"IF(ISBLANK(K31),\"\",IF(ISBLANK(K32),\"\",((K31-K32)/K31)*100))","v":""},null,{"$f":"IF(ISBLANK(M31),\"\",IF(ISBLANK(M32),\"\",((M31-M32)/M31)*100))","v":""}]
["Tested By"]
["Remarks"]
[]
[]
[]
["Sample No.",null,19,null,20,null,21,null,22,null,23,null,24]
["Date"]
["Starting Wt",null,null,"% Loss",null,"% Loss",null,"% Loss",null,"% Loss",null,"% Loss",null,"% Loss"]
["Ending Wt",null,null,{"$f":"IF(ISBLANK(C41),\" \",((C40-C41)/C40)*100)","v":" "},null,{"$f":"IF(ISBLANK(E41),\" \",((E40-E41)/E40)*100)","v":" "},null,{"$f":"IF(ISBLANK(G41),\" \",((G40-G41)/G40)*100)","v":" "},null,{"$f":"IF(ISBLANK(I41),\" \",((I40-I41)/I40)*100)","v":" "},null,{"$f":"IF(ISBLANK(K41),\" \",((K40-K41)/K40)*100)","v":" "},null,{"$f":"IF(ISBLANK(M41),\" \",((M40-M41)/M40)*100)","v":" "}]
[null,null,"Wt","% Passing","Wt","% Passing","Wt","% Passing","Wt","% Passing","Wt","% Passing","Wt","% Passing"]
[2.5,null,null,{"$f":"IF(ISBLANK(C40),\"  \",IF(ISBLANK(C41),\" \",IF(ISBLANK(C43),\" \",ROUND(C43/C40*100,0))))","v":"  "},null,{"$f":"IF(ISBLANK(E40),\"  \",IF(ISBLANK(E41),\" \",IF(ISBLANK(E43),\" \",ROUND(E43/E40*100,0))))","v":"  "},null,{"$f":"IF(ISBLANK(G40),\"  \",IF(ISBLANK(G41),\" \",IF(ISBLANK(G43),\" \",ROUND(G43/G40*100,0))))","v":"  "},null,{"$f":"IF(ISBLANK(I40),\"  \",IF(ISBLANK(I41),\" \",IF(ISBLANK(I43),\" \",ROUND(I43/I40*100,0))))","v":"  "},null,{"$f":"IF(ISBLANK(K40),\"  \",IF(ISBLANK(K41),\" \",IF(ISBLANK(K43),\" \",ROUND(K43/K40*100,0))))","v":"  "},null,{"$f":"IF(ISBLANK(M40),\"  \",IF(ISBLANK(M41),\" \",IF(ISBLANK(M43),\" \",ROUND(M43/M40*100,0))))","v":"  "}]
[2,null,null,{"$f":"IF(ISBLANK(C40),\"  \",IF(ISBLANK(C41),\" \",IF(ISBLANK(C44),\" \",ROUND(C44/C40*100,0))))","v":"  "},null,{"$f":"IF(ISBLANK(E40),\"  \",IF(ISBLANK(E41),\" \",IF(ISBLANK(E44),\" \",ROUND(E44/E40*100,0))))","v":"  "},null,{"$f":"IF(ISBLANK(G40),\"  \",IF(ISBLANK(G41),\" \",IF(ISBLANK(G44),\" \",ROUND(G44/G40*100,0))))","v":"  "},null,{"$f":"IF(ISBLANK(I40),\"  \",IF(ISBLANK(I41),\" \",IF(ISBLANK(I44),\" \",ROUND(I44/I40*100,0))))","v":"  "},null,{"$f":"IF(ISBLANK(K40),\"  \",IF(ISBLANK(K41),\" \",IF(ISBLANK(K44),\" \",ROUND(K44/K40*100,0))))","v":"  "},null,{"$f":"IF(ISBLANK(M40),\"  \",IF(ISBLANK(M41),\" \",IF(ISBLANK(M44),\" \",ROUND(M44/M40*100,0))))","v":"  "}]
[1.5,null,null,{"$f":"IF(ISBLANK(C40),\"  \",IF(ISBLANK(C41),\" \",IF(ISBLANK(C45),\" \",ROUND(C45/C40*100,0))))","v":"  "},null,{"$f":"IF(ISBLANK(E40),\"  \",IF(ISBLANK(E41),\" \",IF(ISBLANK(E45),\" \",ROUND(E45/E40*100,0))))","v":"  "},null,{"$f":"IF(ISBLANK(G40),\"  \",IF(ISBLANK(G41),\" \",IF(ISBLANK(G45),\" \",ROUND(G45/G40*100,0))))","v":"  "},null,{"$f":"IF(ISBLANK(I40),\"  \",IF(ISBLANK(I41),\" \",IF(ISBLANK(I45),\" \",ROUND(I45/I40*100,0))))","v":"  "},null,{"$f":"IF(ISBLANK(K40),\"  \",IF(ISBLANK(K41),\" \",IF(ISBLANK(K45),\" \",ROUND(K45/K40*100,0))))","v":"  "},null,{"$f":"IF(ISBLANK(M40),\"  \",IF(ISBLANK(M41),\" \",IF(ISBLANK(M45),\" \",ROUND(M45/M40*100,0))))","v":"  "}]
[1,null,null,{"$f":"IF(ISBLANK(C40),\"  \",IF(ISBLANK(C41),\" \",IF(ISBLANK(C46),\" \",ROUND(C46/C40*100,0))))","v":"  "},null,{"$f":"IF(ISBLANK(E40),\"  \",IF(ISBLANK(E41),\" \",IF(ISBLANK(E46),\" \",ROUND(E46/E40*100,0))))","v":"  "},null,{"$f":"IF(ISBLANK(G40),\"  \",IF(ISBLANK(G41),\" \",IF(ISBLANK(G46),\" \",ROUND(G46/G40*100,0))))","v":"  "},null,{"$f":"IF(ISBLANK(I40),\"  \",IF(ISBLANK(I41),\" \",IF(ISBLANK(I46),\" \",ROUND(I46/I40*100,0))))","v":"  "},null,{"$f":"IF(ISBLANK(K40),\"  \",IF(ISBLANK(K41),\" \",IF(ISBLANK(K46),\" \",ROUND(K46/K40*100,0))))","v":"  "},null,{"$f":"IF(ISBLANK(M40),\"  \",IF(ISBLANK(M41),\" \",IF(ISBLANK(M46),\" \",ROUND(M46/M40*100,0))))","v":"  "}]
[0.75,null,null,{"$f":"IF(ISBLANK(C40),\"  \",IF(ISBLANK(C41),\" \",IF(ISBLANK(C47),\" \",ROUND(C47/C40*100,0))))","v":"  "},null,{"$f":"IF(ISBLANK(E40),\"  \",IF(ISBLANK(E41),\" \",IF(ISBLANK(E47),\" \",ROUND(E47/E40*100,0))))","v":"  "},null,{"$f":"IF(ISBLANK(G40),\"  \",IF(ISBLANK(G41),\" \",IF(ISBLANK(G47),\" \",ROUND(G47/G40*100,0))))","v":"  "},null,{"$f":"IF(ISBLANK(I40),\"  \",IF(ISBLANK(I41),\" \",IF(ISBLANK(I47),\" \",ROUND(I47/I40*100,0))))","v":"  "},null,{"$f":"IF(ISBLANK(K40),\"  \",IF(ISBLANK(K41),\" \",IF(ISBLANK(K47),\" \",ROUND(K47/K40*100,0))))","v":"  "},null,{"$f":"IF(ISBLANK(M40),\"  \",IF(ISBLANK(M41),\" \",IF(ISBLANK(M47),\" \",ROUND(M47/M40*100,0))))","v":"  "}]
[0.625,null,null,{"$f":"IF(ISBLANK(C40),\"  \",IF(ISBLANK(C41),\" \",IF(ISBLANK(C48),\" \",ROUND(C48/C40*100,0))))","v":"  "},null,{"$f":"IF(ISBLANK(E40),\"  \",IF(ISBLANK(E41),\" \",IF(ISBLANK(E48),\" \",ROUND(E48/E40*100,0))))","v":"  "},null,{"$f":"IF(ISBLANK(G40),\"  \",IF(ISBLANK(G41),\" \",IF(ISBLANK(G48),\" \",ROUND(G48/G40*100,0))))","v":"  "},null,{"$f":"IF(ISBLANK(I40),\"  \",IF(ISBLANK(I41),\" \",IF(ISBLANK(I48),\" \",ROUND(I48/I40*100,0))))","v":"  "},null,{"$f":"IF(ISBLANK(K40),\"  \",IF(ISBLANK(K41),\" \",IF(ISBLANK(K48),\" \",ROUND(K48/K40*100,0))))","v":"  "},null,{"$f":"IF(ISBLANK(M40),\"  \",IF(ISBLANK(M41),\" \",IF(ISBLANK(M48),\" \",ROUND(M48/M40*100,0))))","v":"  "}]
[0.5,null,null,{"$f":"IF(ISBLANK(C40),\"  \",IF(ISBLANK(C41),\" \",IF(ISBLANK(C49),\" \",ROUND(C49/C40*100,0))))","v":"  "},null,{"$f":"IF(ISBLANK(E40),\"  \",IF(ISBLANK(E41),\" \",IF(ISBLANK(E49),\" \",ROUND(E49/E40*100,0))))","v":"  "},null,{"$f":"IF(ISBLANK(G40),\"  \",IF(ISBLANK(G41),\" \",IF(ISBLANK(G49),\" \",ROUND(G49/G40*100,0))))","v":"  "},null,{"$f":"IF(ISBLANK(I40),\"  \",IF(ISBLANK(I41),\" \",IF(ISBLANK(I49),\" \",ROUND(I49/I40*100,0))))","v":"  "},null,{"$f":"IF(ISBLANK(K40),\"  \",IF(ISBLANK(K41),\" \",IF(ISBLANK(K49),\" \",ROUND(K49/K40*100,0))))","v":"  "},null,{"$f":"IF(ISBLANK(M40),\"  \",IF(ISBLANK(M41),\" \",IF(ISBLANK(M49),\" \",ROUND(M49/M40*100,0))))","v":"  "}]
[0.375,null,null,{"$f":"IF(ISBLANK(C40),\"  \",IF(ISBLANK(C41),\" \",IF(ISBLANK(C50),\" \",ROUND(C50/C40*100,0))))","v":"  "},null,{"$f":"IF(ISBLANK(E40),\"  \",IF(ISBLANK(E41),\" \",IF(ISBLANK(E50),\" \",ROUND(E50/E40*100,0))))","v":"  "},null,{"$f":"IF(ISBLANK(G40),\"  \",IF(ISBLANK(G41),\" \",IF(ISBLANK(G50),\" \",ROUND(G50/G40*100,0))))","v":"  "},null,{"$f":"IF(ISBLANK(I40),\"  \",IF(ISBLANK(I41),\" \",IF(ISBLANK(I50),\" \",ROUND(I50/I40*100,0))))","v":"  "},null,{"$f":"IF(ISBLANK(K40),\"  \",IF(ISBLANK(K41),\" \",IF(ISBLANK(K50),\" \",ROUND(K50/K40*100,0))))","v":"  "},null,{"$f":"IF(ISBLANK(M40),\"  \",IF(ISBLANK(M41),\" \",IF(ISBLANK(M50),\" \",ROUND(M50/M40*100,0))))","v":"  "}]
[0.25,null,null,{"$f":"IF(ISBLANK(C40),\"  \",IF(ISBLANK(C41),\" \",IF(ISBLANK(C51),\" \",ROUND(C51/C40*100,0))))","v":"  "},null,{"$f":"IF(ISBLANK(E40),\"  \",IF(ISBLANK(E41),\" \",IF(ISBLANK(E51),\" \",ROUND(E51/E40*100,0))))","v":"  "},null,{"$f":"IF(ISBLANK(G40),\"  \",IF(ISBLANK(G41),\" \",IF(ISBLANK(G51),\" \",ROUND(G51/G40*100,0))))","v":"  "},null,{"$f":"IF(ISBLANK(I40),\"  \",IF(ISBLANK(I41),\" \",IF(ISBLANK(I51),\" \",ROUND(I51/I40*100,0))))","v":"  "},null,{"$f":"IF(ISBLANK(K40),\"  \",IF(ISBLANK(K41),\" \",IF(ISBLANK(K51),\" \",ROUND(K51/K40*100,0))))","v":"  "},null,{"$f":"IF(ISBLANK(M40),\"  \",IF(ISBLANK(M41),\" \",IF(ISBLANK(M51),\" \",ROUND(M51/M40*100,0))))","v":"  "}]
[4,null,null,{"$f":"IF(ISBLANK(C40),\"  \",IF(ISBLANK(C41),\" \",IF(ISBLANK(C52),\" \",ROUND(C52/C40*100,0))))","v":"  "},null,{"$f":"IF(ISBLANK(E40),\"  \",IF(ISBLANK(E41),\" \",IF(ISBLANK(E52),\" \",ROUND(E52/E40*100,0))))","v":"  "},null,{"$f":"IF(ISBLANK(G40),\"  \",IF(ISBLANK(G41),\" \",IF(ISBLANK(G52),\" \",ROUND(G52/G40*100,0))))","v":"  "},null,{"$f":"IF(ISBLANK(I40),\"  \",IF(ISBLANK(I41),\" \",IF(ISBLANK(I52),\" \",ROUND(I52/I40*100,0))))","v":"  "},null,{"$f":"IF(ISBLANK(K40),\"  \",IF(ISBLANK(K41),\" \",IF(ISBLANK(K52),\" \",ROUND(K52/K40*100,0))))","v":"  "},null,{"$f":"IF(ISBLANK(M40),\"  \",IF(ISBLANK(M41),\" \",IF(ISBLANK(M52),\" \",ROUND(M52/M40*100,0))))","v":"  "}]
["Split St. Wt.",null,null,"% Loss",null,"% Loss",null,"% Loss",null,"% Loss",null,"% Loss",null,"% Loss"]
["Split Ending Wt.",null,null,{"$f":"IF(ISBLANK(C54),\"\",(C53-C54)/C53*100)","v":""},null,{"$f":"IF(ISBLANK(E54),\"\",(E53-E54)/E53*100)","v":""},null,{"$f":"IF(ISBLANK(G54),\"\",(G53-G54)/G53*100)","v":""},null,{"$f":"IF(ISBLANK(I54),\"\",(I53-I54)/I53*100)","v":""},null,{"$f":"IF(ISBLANK(K54),\"\",(K53-K54)/K53*100)","v":""},null,{"$f":"IF(ISBLANK(M54),\"\",(M53-M54)/M53*100)","v":""}]
[8,null,null,{"$f":"IF(ISBLANK(C40),\"  \",IF(ISBLANK(C52),\" \",IF(ISBLANK(C53),\" \",(C52/C53*C55)/C40*100)))","v":"  "},null,{"$f":"IF(ISBLANK(E40),\"  \",IF(ISBLANK(E52),\" \",IF(ISBLANK(E53),\" \",(E52/E53*E55)/E40*100)))","v":"  "},null,{"$f":"IF(ISBLANK(G40),\"  \",IF(ISBLANK(G52),\" \",IF(ISBLANK(G53),\" \",(G52/G53*G55)/G40*100)))","v":"  "},null,{"$f":"IF(ISBLANK(I40),\"  \",IF(ISBLANK(I52),\" \",IF(ISBLANK(I53),\" \",(I52/I53*I55)/I40*100)))","v":"  "},null,{"$f":"IF(ISBLANK(K40),\"  \",IF(ISBLANK(K52),\" \",IF(ISBLANK(K53),\" \",(K52/K53*K55)/K40*100)))","v":"  "},null,{"$f":"IF(ISBLANK(M40),\"  \",IF(ISBLANK(M52),\" \",IF(ISBLANK(M53),\" \",(M52/M53*M55)/M40*100)))","v":"  "}]
[16,null,null,{"$f":"IF(ISBLANK(C40),\"  \",IF(ISBLANK(C52),\" \",IF(ISBLANK(C53),\" \",(C52/C53*C56)/C40*100)))","v":"  "},null,{"$f":"IF(ISBLANK(E40),\"  \",IF(ISBLANK(E52),\" \",IF(ISBLANK(E53),\" \",(E52/E53*E56)/E40*100)))","v":"  "},null,{"$f":"IF(ISBLANK(G40),\"  \",IF(ISBLANK(G52),\" \",IF(ISBLANK(G53),\" \",(G52/G53*G56)/G40*100)))","v":"  "},null,{"$f":"IF(ISBLANK(I40),\"  \",IF(ISBLANK(I52),\" \",IF(ISBLANK(I53),\" \",(I52/I53*I56)/I40*100)))","v":"  "},null,{"$f":"IF(ISBLANK(K40),\"  \",IF(ISBLANK(K52),\" \",IF(ISBLANK(K53),\" \",(K52/K53*K56)/K40*100)))","v":"  "},null,{"$f":"IF(ISBLANK(M40),\"  \",IF(ISBLANK(M52),\" \",IF(ISBLANK(M53),\" \",(M52/M53*M56)/M40*100)))","v":"  "}]
[30,null,null,{"$f":"IF(ISBLANK(C40),\"  \",IF(ISBLANK(C52),\" \",IF(ISBLANK(C53),\" \",(C52/C53*C57)/C40*100)))","v":"  "},null,{"$f":"IF(ISBLANK(E40),\"  \",IF(ISBLANK(E52),\" \",IF(ISBLANK(E53),\" \",(E52/E53*E57)/E40*100)))","v":"  "},null,{"$f":"IF(ISBLANK(G40),\"  \",IF(ISBLANK(G52),\" \",IF(ISBLANK(G53),\" \",(G52/G53*G57)/G40*100)))","v":"  "},null,{"$f":"IF(ISBLANK(I40),\"  \",IF(ISBLANK(I52),\" \",IF(ISBLANK(I53),\" \",(I52/I53*I57)/I40*100)))","v":"  "},null,{"$f":"IF(ISBLANK(K40),\"  \",IF(ISBLANK(K52),\" \",IF(ISBLANK(K53),\" \",(K52/K53*K57)/K40*100)))","v":"  "},null,{"$f":"IF(ISBLANK(M40),\"  \",IF(ISBLANK(M52),\" \",IF(ISBLANK(M53),\" \",(M52/M53*M57)/M40*100)))","v":"  "}]
[50,null,null,{"$f":"IF(ISBLANK(C40),\"  \",IF(ISBLANK(C52),\" \",IF(ISBLANK(C53),\" \",(C52/C53*C58)/C40*100)))","v":"  "},null,{"$f":"IF(ISBLANK(E40),\"  \",IF(ISBLANK(E52),\" \",IF(ISBLANK(E53),\" \",(E52/E53*E58)/E40*100)))","v":"  "},null,{"$f":"IF(ISBLANK(G40),\"  \",IF(ISBLANK(G52),\" \",IF(ISBLANK(G53),\" \",(G52/G53*G58)/G40*100)))","v":"  "},null,{"$f":"IF(ISBLANK(I40),\"  \",IF(ISBLANK(I52),\" \",IF(ISBLANK(I53),\" \",(I52/I53*I58)/I40*100)))","v":"  "},null,{"$f":"IF(ISBLANK(K40),\"  \",IF(ISBLANK(K52),\" \",IF(ISBLANK(K53),\" \",(K52/K53*K58)/K40*100)))","v":"  "},null,{"$f":"IF(ISBLANK(M40),\"  \",IF(ISBLANK(M52),\" \",IF(ISBLANK(M53),\" \",(M52/M53*M58)/M40*100)))","v":"  "}]
[100,null,null,{"$f":"IF(ISBLANK(C40),\"  \",IF(ISBLANK(C52),\" \",IF(ISBLANK(C53),\" \",(C52/C53*C59)/C40*100)))","v":"  "},null,{"$f":"IF(ISBLANK(E40),\"  \",IF(ISBLANK(E52),\" \",IF(ISBLANK(E53),\" \",(E52/E53*E59)/E40*100)))","v":"  "},null,{"$f":"IF(ISBLANK(G40),\"  \",IF(ISBLANK(G52),\" \",IF(ISBLANK(G53),\" \",(G52/G53*G59)/G40*100)))","v":"  "},null,{"$f":"IF(ISBLANK(I40),\"  \",IF(ISBLANK(I52),\" \",IF(ISBLANK(I53),\" \",(I52/I53*I59)/I40*100)))","v":"  "},null,{"$f":"IF(ISBLANK(K40),\"  \",IF(ISBLANK(K52),\" \",IF(ISBLANK(K53),\" \",(K52/K53*K59)/K40*100)))","v":"  "},null,{"$f":"IF(ISBLANK(M40),\"  \",IF(ISBLANK(M52),\" \",IF(ISBLANK(M53),\" \",(M52/M53*M59)/M40*100)))","v":"  "}]
[200,null,null,{"$f":"IF(ISBLANK(C40),\"  \",IF(ISBLANK(C52),\" \",IF(ISBLANK(C53),\" \",(C52/C53*C60)/C40*100)))","v":"  "},null,{"$f":"IF(ISBLANK(E40),\"  \",IF(ISBLANK(E52),\" \",IF(ISBLANK(E53),\" \",(E52/E53*E60)/E40*100)))","v":"  "},null,{"$f":"IF(ISBLANK(G40),\"  \",IF(ISBLANK(G52),\" \",IF(ISBLANK(G53),\" \",(G52/G53*G60)/G40*100)))","v":"  "},null,{"$f":"IF(ISBLANK(I40),\"  \",IF(ISBLANK(I52),\" \",IF(ISBLANK(I53),\" \",(I52/I53*I60)/I40*100)))","v":"  "},null,{"$f":"IF(ISBLANK(K40),\"  \",IF(ISBLANK(K52),\" \",IF(ISBLANK(K53),\" \",(K52/K53*K60)/K40*100)))","v":"  "},null,{"$f":"IF(ISBLANK(M40),\"  \",IF(ISBLANK(M52),\" \",IF(ISBLANK(M53),\" \",(M52/M53*M60)/M40*100)))","v":"  "}]
["St. Wt. Before Wash",null,null,"% Passing",null,"% Passing",null,"% Passing",null,"% Passing",null,"% Passing",null,"% Passing"]
["End Wt. After Wash",null,null,{"$f":"IF(ISBLANK(C61),\"\",IF(ISBLANK(C62),\"\",((C61-C62)/C61)*100))","v":""},null,{"$f":"IF(ISBLANK(E61),\"\",IF(ISBLANK(E62),\"\",((E61-E62)/E61)*100))","v":""},null,{"$f":"IF(ISBLANK(G61),\"\",IF(ISBLANK(G62),\"\",((G61-G62)/G61)*100))","v":""},null,{"$f":"IF(ISBLANK(I61),\"\",IF(ISBLANK(I62),\"\",((I61-I62)/I61)*100))","v":""},null,{"$f":"IF(ISBLANK(K61),\"\",IF(ISBLANK(K62),\"\",((K61-K62)/K61)*100))","v":""},null,{"$f":"IF(ISBLANK(M61),\"\",IF(ISBLANK(M62),\"\",((M61-M62)/M61)*100))","v":""}]
["Tested By"]
["Remarks"]
[]
[]
[]
[null,null,{"$f":"MAX(C43:C58)","v":0},null,{"$f":"MAX(E43:E58)","v":0},null,{"$f":"MAX(G43:G58)","v":0},null,{"$f":"MAX(I43:I58)","v":0},null,{"$f":"MAX(K43:K58)","v":0},null,{"$f":"MAX(M43:M58)","v":0}]

{"sheet":"Split 3","index":24,"n_rows":68,"n_cols":14,"rows_kept":68,"cut":false,"hidden":true,"merged":[[62,12,62,13],[63,0,65,1],[63,2,65,3],[63,4,65,5],[63,6,65,7],[63,8,65,9],[63,10,65,11],[63,12,65,13],[62,0,62,1],[62,2,62,3],[62,4,62,5],[62,6,62,7],[62,8,62,9],[62,10,62,11],[56,0,56,1],[57,0,57,1],[58,0,58,1],[59,0,59,1],[60,0,60,1],[61,0,61,1],[50,0,50,1],[51,0,51,1],[52,0,52,1],[53,0,53,1],[54,0,54,1],[55,0,55,1],[44,0,44,1],[45,0,45,1],[46,0,46,1],[47,0,47,1],[48,0,48,1],[49,0,49,1],[38,12,38,13],[39,0,39,1],[40,0,40,1],[41,0,41,1],[42,0,42,1],[43,0,43,1],[38,0,38,1],[38,2,38,3],[38,4,38,5],[38,6,38,7],[38,8,38,9],[38,10,38,11],[33,12,35,13],[37,0,37,1],[37,2,37,3],[37,4,37,5],[37,6,37,7],[37,8,37,9],[37,10,37,11],[37,12,37,13],[33,0,35,1],[33,2,35,3],[33,4,35,5],[33,6,35,7],[33,8,35,9],[33,10,35,11],[32,2,32,3],[32,4,32,5],[32,6,32,7],[32,8,32,9],[32,10,32,11],[32,12,32,13],[27,0,27,1],[28,0,28,1],[29,0,29,1],[30,0,30,1],[31,0,31,1],[32,0,32,1],[21,0,21,1],[22,0,22,1],[23,0,23,1],[24,0,24,1],[25,0,25,1],[26,0,26,1],[15,0,15,1],[16,0,16,1],[17,0,17,1],[18,0,18,1],[19,0,19,1],[20,0,20,1],[9,0,9,1],[10,0,10,1],[11,0,11,1],[12,0,12,1],[13,0,13,1],[14,0,14,1],[7,12,7,13],[8,0,8,1],[8,2,8,3],[8,4,8,5],[8,6,8,7],[8,8,8,9],[8,10,8,11],[8,12,8,13],[3,12,3,13],[4,10,4,11],[4,12,4,13],[5,3,5,11],[7,0,7,1],[7,2,7,3],[7,4,7,5],[7,6,7,7],[7,8,7,9],[7,10,7,11],[0,0,3,1],[1,2,1,7],[1,10,1,11],[1,12,1,13],[2,2,2,7],[2,10,2,11],[2,12,2,13],[3,2,3,3],[3,6,3,7],[3,10,3,11]]}
[]
[null,null,"COMMONWEALTH OF PENNSYLVANIA",null,null,null,null,null,null,null,"District"]
[null,null,"DEPARTMENT OF TRANSPORTATION",null,null,null,null,null,null,null,"Plant Code"]
[null,null,{"$f":"'S1'!$A$6","v":"Aggregate 2023"},null,null,null,null,null,null,null,"Agg. Size"]
[]
[null,null,null,"Material Test Results"]
[]
["Sample No.",null,25,null,26,null,27,null,28,null,29,null,30]
["Date"]
["Starting Wt",null,null,"% Loss",null,"% Loss",null,"% Loss",null,"% Loss",null,"% Loss",null,"% Loss"]
["Ending Wt",null,null,{"$f":"IF(ISBLANK(C11),\" \",((C10-C11)/C10)*100)","v":" "},null,{"$f":"IF(ISBLANK(E11),\" \",((E10-E11)/E10)*100)","v":" "},null,{"$f":"IF(ISBLANK(G11),\" \",((G10-G11)/G10)*100)","v":" "},null,{"$f":"IF(ISBLANK(I11),\" \",((I10-I11)/I10)*100)","v":" "},null,{"$f":"IF(ISBLANK(K11),\" \",((K10-K11)/K10)*100)","v":" "},null,{"$f":"IF(ISBLANK(M11),\" \",((M10-M11)/M10)*100)","v":" "}]
[null,null,"Wt","% Passing","Wt","% Passing","Wt","% Passing","Wt","% Passing","Wt","% Passing","Wt","% Passing"]
[2.5,null,null,{"$f":"IF(ISBLANK(C10),\"  \",IF(ISBLANK(C11),\" \",IF(ISBLANK(C13),\" \",ROUND(C13/C10*100,0))))","v":"  "},null,{"$f":"IF(ISBLANK(E10),\"  \",IF(ISBLANK(E11),\" \",IF(ISBLANK(E13),\" \",ROUND(E13/E10*100,0))))","v":"  "},null,{"$f":"IF(ISBLANK(G10),\"  \",IF(ISBLANK(G11),\" \",IF(ISBLANK(G13),\" \",ROUND(G13/G10*100,0))))","v":"  "},null,{"$f":"IF(ISBLANK(I10),\"  \",IF(ISBLANK(I11),\" \",IF(ISBLANK(I13),\" \",ROUND(I13/I10*100,0))))","v":"  "},null,{"$f":"IF(ISBLANK(K10),\"  \",IF(ISBLANK(K11),\" \",IF(ISBLANK(K13),\" \",ROUND(K13/K10*100,0))))","v":"  "},null,{"$f":"IF(ISBLANK(M10),\"  \",IF(ISBLANK(M11),\" \",IF(ISBLANK(M13),\" \",ROUND(M13/M10*100,0))))","v":"  "}]
[2,null,null,{"$f":"IF(ISBLANK(C10),\"  \",IF(ISBLANK(C11),\" \",IF(ISBLANK(C14),\" \",ROUND(C14/C10*100,0))))","v":"  "},null,{"$f":"IF(ISBLANK(E10),\"  \",IF(ISBLANK(E11),\" \",IF(ISBLANK(E14),\" \",ROUND(E14/E10*100,0))))","v":"  "},null,{"$f":"IF(ISBLANK(G10),\"  \",IF(ISBLANK(G11),\" \",IF(ISBLANK(G14),\" \",ROUND(G14/G10*100,0))))","v":"  "},null,{"$f":"IF(ISBLANK(I10),\"  \",IF(ISBLANK(I11),\" \",IF(ISBLANK(I14),\" \",ROUND(I14/I10*100,0))))","v":"  "},null,{"$f":"IF(ISBLANK(K10),\"  \",IF(ISBLANK(K11),\" \",IF(ISBLANK(K14),\" \",ROUND(K14/K10*100,0))))","v":"  "},null,{"$f":"IF(ISBLANK(M10),\"  \",IF(ISBLANK(M11),\" \",IF(ISBLANK(M14),\" \",ROUND(M14/M10*100,0))))","v":"  "}]
[1.5,null,null,{"$f":"IF(ISBLANK(C10),\"  \",IF(ISBLANK(C11),\" \",IF(ISBLANK(C15),\" \",ROUND(C15/C10*100,0))))","v":"  "},null,{"$f":"IF(ISBLANK(E10),\"  \",IF(ISBLANK(E11),\" \",IF(ISBLANK(E15),\" \",ROUND(E15/E10*100,0))))","v":"  "},null,{"$f":"IF(ISBLANK(G10),\"  \",IF(ISBLANK(G11),\" \",IF(ISBLANK(G15),\" \",ROUND(G15/G10*100,0))))","v":"  "},null,{"$f":"IF(ISBLANK(I10),\"  \",IF(ISBLANK(I11),\" \",IF(ISBLANK(I15),\" \",ROUND(I15/I10*100,0))))","v":"  "},null,{"$f":"IF(ISBLANK(K10),\"  \",IF(ISBLANK(K11),\" \",IF(ISBLANK(K15),\" \",ROUND(K15/K10*100,0))))","v":"  "},null,{"$f":"IF(ISBLANK(M10),\"  \",IF(ISBLANK(M11),\" \",IF(ISBLANK(M15),\" \",ROUND(M15/M10*100,0))))","v":"  "}]
[1,null,null,{"$f":"IF(ISBLANK(C10),\"  \",IF(ISBLANK(C11),\" \",IF(ISBLANK(C16),\" \",ROUND(C16/C10*100,0))))","v":"  "},null,{"$f":"IF(ISBLANK(E10),\"  \",IF(ISBLANK(E11),\" \",IF(ISBLANK(E16),\" \",ROUND(E16/E10*100,0))))","v":"  "},null,{"$f":"IF(ISBLANK(G10),\"  \",IF(ISBLANK(G11),\" \",IF(ISBLANK(G16),\" \",ROUND(G16/G10*100,0))))","v":"  "},null,{"$f":"IF(ISBLANK(I10),\"  \",IF(ISBLANK(I11),\" \",IF(ISBLANK(I16),\" \",ROUND(I16/I10*100,0))))","v":"  "},null,{"$f":"IF(ISBLANK(K10),\"  \",IF(ISBLANK(K11),\" \",IF(ISBLANK(K16),\" \",ROUND(K16/K10*100,0))))","v":"  "},null,{"$f":"IF(ISBLANK(M10),\"  \",IF(ISBLANK(M11),\" \",IF(ISBLANK(M16),\" \",ROUND(M16/M10*100,0))))","v":"  "}]
[0.75,null,null,{"$f":"IF(ISBLANK(C10),\"  \",IF(ISBLANK(C11),\" \",IF(ISBLANK(C17),\" \",ROUND(C17/C10*100,0))))","v":"  "},null,{"$f":"IF(ISBLANK(E10),\"  \",IF(ISBLANK(E11),\" \",IF(ISBLANK(E17),\" \",ROUND(E17/E10*100,0))))","v":"  "},null,{"$f":"IF(ISBLANK(G10),\"  \",IF(ISBLANK(G11),\" \",IF(ISBLANK(G17),\" \",ROUND(G17/G10*100,0))))","v":"  "},null,{"$f":"IF(ISBLANK(I10),\"  \",IF(ISBLANK(I11),\" \",IF(ISBLANK(I17),\" \",ROUND(I17/I10*100,0))))","v":"  "},null,{"$f":"IF(ISBLANK(K10),\"  \",IF(ISBLANK(K11),\" \",IF(ISBLANK(K17),\" \",ROUND(K17/K10*100,0))))","v":"  "},null,{"$f":"IF(ISBLANK(M10),\"  \",IF(ISBLANK(M11),\" \",IF(ISBLANK(M17),\" \",ROUND(M17/M10*100,0))))","v":"  "}]
[0.625,null,null,{"$f":"IF(ISBLANK(C10),\"  \",IF(ISBLANK(C11),\" \",IF(ISBLANK(C18),\" \",ROUND(C18/C10*100,0))))","v":"  "},null,{"$f":"IF(ISBLANK(E10),\"  \",IF(ISBLANK(E11),\" \",IF(ISBLANK(E18),\" \",ROUND(E18/E10*100,0))))","v":"  "},null,{"$f":"IF(ISBLANK(G10),\"  \",IF(ISBLANK(G11),\" \",IF(ISBLANK(G18),\" \",ROUND(G18/G10*100,0))))","v":"  "},null,{"$f":"IF(ISBLANK(I10),\"  \",IF(ISBLANK(I11),\" \",IF(ISBLANK(I18),\" \",ROUND(I18/I10*100,0))))","v":"  "},null,{"$f":"IF(ISBLANK(K10),\"  \",IF(ISBLANK(K11),\" \",IF(ISBLANK(K18),\" \",ROUND(K18/K10*100,0))))","v":"  "},null,{"$f":"IF(ISBLANK(M10),\"  \",IF(ISBLANK(M11),\" \",IF(ISBLANK(M18),\" \",ROUND(M18/M10*100,0))))","v":"  "}]
[0.5,null,null,{"$f":"IF(ISBLANK(C10),\"  \",IF(ISBLANK(C11),\" \",IF(ISBLANK(C19),\" \",ROUND(C19/C10*100,0))))","v":"  "},null,{"$f":"IF(ISBLANK(E10),\"  \",IF(ISBLANK(E11),\" \",IF(ISBLANK(E19),\" \",ROUND(E19/E10*100,0))))","v":"  "},null,{"$f":"IF(ISBLANK(G10),\"  \",IF(ISBLANK(G11),\" \",IF(ISBLANK(G19),\" \",ROUND(G19/G10*100,0))))","v":"  "},null,{"$f":"IF(ISBLANK(I10),\"  \",IF(ISBLANK(I11),\" \",IF(ISBLANK(I19),\" \",ROUND(I19/I10*100,0))))","v":"  "},null,{"$f":"IF(ISBLANK(K10),\"  \",IF(ISBLANK(K11),\" \",IF(ISBLANK(K19),\" \",ROUND(K19/K10*100,0))))","v":"  "},null,{"$f":"IF(ISBLANK(M10),\"  \",IF(ISBLANK(M11),\" \",IF(ISBLANK(M19),\" \",ROUND(M19/M10*100,0))))","v":"  "}]
[0.375,null,null,{"$f":"IF(ISBLANK(C10),\"  \",IF(ISBLANK(C11),\" \",IF(ISBLANK(C20),\" \",ROUND(C20/C10*100,0))))","v":"  "},null,{"$f":"IF(ISBLANK(E10),\"  \",IF(ISBLANK(E11),\" \",IF(ISBLANK(E20),\" \",ROUND(E20/E10*100,0))))","v":"  "},null,{"$f":"IF(ISBLANK(G10),\"  \",IF(ISBLANK(G11),\" \",IF(ISBLANK(G20),\" \",ROUND(G20/G10*100,0))))","v":"  "},null,{"$f":"IF(ISBLANK(I10),\"  \",IF(ISBLANK(I11),\" \",IF(ISBLANK(I20),\" \",ROUND(I20/I10*100,0))))","v":"  "},null,{"$f":"IF(ISBLANK(K10),\"  \",IF(ISBLANK(K11),\" \",IF(ISBLANK(K20),\" \",ROUND(K20/K10*100,0))))","v":"  "},null,{"$f":"IF(ISBLANK(M10),\"  \",IF(ISBLANK(M11),\" \",IF(ISBLANK(M20),\" \",ROUND(M20/M10*100,0))))","v":"  "}]
[0.25,null,null,{"$f":"IF(ISBLANK(C10),\"  \",IF(ISBLANK(C11),\" \",IF(ISBLANK(C21),\" \",ROUND(C21/C10*100,0))))","v":"  "},null,{"$f":"IF(ISBLANK(E10),\"  \",IF(ISBLANK(E11),\" \",IF(ISBLANK(E21),\" \",ROUND(E21/E10*100,0))))","v":"  "},null,{"$f":"IF(ISBLANK(G10),\"  \",IF(ISBLANK(G11),\" \",IF(ISBLANK(G21),\" \",ROUND(G21/G10*100,0))))","v":"  "},null,{"$f":"IF(ISBLANK(I10),\"  \",IF(ISBLANK(I11),\" \",IF(ISBLANK(I21),\" \",ROUND(I21/I10*100,0))))","v":"  "},null,{"$f":"IF(ISBLANK(K10),\"  \",IF(ISBLANK(K11),\" \",IF(ISBLANK(K21),\" \",ROUND(K21/K10*100,0))))","v":"  "},null,{"$f":"IF(ISBLANK(M10),\"  \",IF(ISBLANK(M11),\" \",IF(ISBLANK(M21),\" \",ROUND(M21/M10*100,0))))","v":"  "}]
[4,null,null,{"$f":"IF(ISBLANK(C10),\"  \",IF(ISBLANK(C11),\" \",IF(ISBLANK(C22),\" \",ROUND(C22/C10*100,0))))","v":"  "},null,{"$f":"IF(ISBLANK(E10),\"  \",IF(ISBLANK(E11),\" \",IF(ISBLANK(E22),\" \",ROUND(E22/E10*100,0))))","v":"  "},null,{"$f":"IF(ISBLANK(G10),\"  \",IF(ISBLANK(G11),\" \",IF(ISBLANK(G22),\" \",ROUND(G22/G10*100,0))))","v":"  "},null,{"$f":"IF(ISBLANK(I10),\"  \",IF(ISBLANK(I11),\" \",IF(ISBLANK(I22),\" \",ROUND(I22/I10*100,0))))","v":"  "},null,{"$f":"IF(ISBLANK(K10),\"  \",IF(ISBLANK(K11),\" \",IF(ISBLANK(K22),\" \",ROUND(K22/K10*100,0))))","v":"  "},null,{"$f":"IF(ISBLANK(M10),\"  \",IF(ISBLANK(M11),\" \",IF(ISBLANK(M22),\" \",ROUND(M22/M10*100,0))))","v":"  "}]
["Split St. Wt.",null,null,"% Loss",null,"% Loss",null,"% Loss",null,"% Loss",null,"% Loss",null,"% Loss"]
["Split Ending Wt.",null,null,{"$f":"IF(ISBLANK(C24),\"\",(C23-C24)/C23*100)","v":""},null,{"$f":"IF(ISBLANK(E24),\"\",(E23-E24)/E23*100)","v":""},null,{"$f":"IF(ISBLANK(G24),\"\",(G23-G24)/G23*100)","v":""},null,{"$f":"IF(ISBLANK(I24),\"\",(I23-I24)/I23*100)","v":""},null,{"$f":"IF(ISBLANK(K24),\"\",(K23-K24)/K23*100)","v":""},null,{"$f":"IF(ISBLANK(M24),\"\",(M23-M24)/M23*100)","v":""}]
[8,null,null,{"$f":"IF(ISBLANK(C10),\"  \",IF(ISBLANK(C22),\" \",IF(ISBLANK(C23),\" \",ROUND((C22/C23*C25)/C10*100,0))))","v":"  "},null,{"$f":"IF(ISBLANK(E10),\"  \",IF(ISBLANK(E22),\" \",IF(ISBLANK(E23),\" \",(E22/E23*E25)/E10*100)))","v":"  "},null,{"$f":"IF(ISBLANK(G10),\"  \",IF(ISBLANK(G22),\" \",IF(ISBLANK(G23),\" \",(G22/G23*G25)/G10*100)))","v":"  "},null,{"$f":"IF(ISBLANK(I10),\"  \",IF(ISBLANK(I22),\" \",IF(ISBLANK(I23),\" \",(I22/I23*I25)/I10*100)))","v":"  "},null,{"$f":"IF(ISBLANK(K10),\"  \",IF(ISBLANK(K22),\" \",IF(ISBLANK(K23),\" \",(K22/K23*K25)/K10*100)))","v":"  "},null,{"$f":"IF(ISBLANK(M10),\"  \",IF(ISBLANK(M22),\" \",IF(ISBLANK(M23),\" \",(M22/M23*M25)/M10*100)))","v":"  "}]
[16,null,null,{"$f":"IF(ISBLANK(C10),\"  \",IF(ISBLANK(C22),\" \",IF(ISBLANK(C23),\" \",(C22/C23*C26)/C10*100)))","v":"  "},null,{"$f":"IF(ISBLANK(E10),\"  \",IF(ISBLANK(E22),\" \",IF(ISBLANK(E23),\" \",(E22/E23*E26)/E10*100)))","v":"  "},null,{"$f":"IF(ISBLANK(G10),\"  \",IF(ISBLANK(G22),\" \",IF(ISBLANK(G23),\" \",(G22/G23*G26)/G10*100)))","v":"  "},null,{"$f":"IF(ISBLANK(I10),\"  \",IF(ISBLANK(I22),\" \",IF(ISBLANK(I23),\" \",(I22/I23*I26)/I10*100)))","v":"  "},null,{"$f":"IF(ISBLANK(K10),\"  \",IF(ISBLANK(K22),\" \",IF(ISBLANK(K23),\" \",(K22/K23*K26)/K10*100)))","v":"  "},null,{"$f":"IF(ISBLANK(M10),\"  \",IF(ISBLANK(M22),\" \",IF(ISBLANK(M23),\" \",(M22/M23*M26)/M10*100)))","v":"  "}]
[30,null,null,{"$f":"IF(ISBLANK(C10),\"  \",IF(ISBLANK(C22),\" \",IF(ISBLANK(C23),\" \",(C22/C23*C27)/C10*100)))","v":"  "},null,{"$f":"IF(ISBLANK(E10),\"  \",IF(ISBLANK(E22),\" \",IF(ISBLANK(E23),\" \",(E22/E23*E27)/E10*100)))","v":"  "},null,{"$f":"IF(ISBLANK(G10),\"  \",IF(ISBLANK(G22),\" \",IF(ISBLANK(G23),\" \",(G22/G23*G27)/G10*100)))","v":"  "},null,{"$f":"IF(ISBLANK(I10),\"  \",IF(ISBLANK(I22),\" \",IF(ISBLANK(I23),\" \",(I22/I23*I27)/I10*100)))","v":"  "},null,{"$f":"IF(ISBLANK(K10),\"  \",IF(ISBLANK(K22),\" \",IF(ISBLANK(K23),\" \",(K22/K23*K27)/K10*100)))","v":"  "},null,{"$f":"IF(ISBLANK(M10),\"  \",IF(ISBLANK(M22),\" \",IF(ISBLANK(M23),\" \",(M22/M23*M27)/M10*100)))","v":"  "}]
[50,null,null,{"$f":"IF(ISBLANK(C10),\"  \",IF(ISBLANK(C22),\" \",IF(ISBLANK(C23),\" \",(C22/C23*C28)/C10*100)))","v":"  "},null,{"$f":"IF(ISBLANK(E10),\"  \",IF(ISBLANK(E22),\" \",IF(ISBLANK(E23),\" \",(E22/E23*E28)/E10*100)))","v":"  "},null,{"$f":"IF(ISBLANK(G10),\"  \",IF(ISBLANK(G22),\" \",IF(ISBLANK(G23),\" \",(G22/G23*G28)/G10*100)))","v":"  "},null,{"$f":"IF(ISBLANK(I10),\"  \",IF(ISBLANK(I22),\" \",IF(ISBLANK(I23),\" \",(I22/I23*I28)/I10*100)))","v":"  "},null,{"$f":"IF(ISBLANK(K10),\"  \",IF(ISBLANK(K22),\" \",IF(ISBLANK(K23),\" \",(K22/K23*K28)/K10*100)))","v":"  "},null,{"$f":"IF(ISBLANK(M10),\"  \",IF(ISBLANK(M22),\" \",IF(ISBLANK(M23),\" \",(M22/M23*M28)/M10*100)))","v":"  "}]
[100,null,null,{"$f":"IF(ISBLANK(C10),\"  \",IF(ISBLANK(C22),\" \",IF(ISBLANK(C23),\" \",(C22/C23*C29)/C10*100)))","v":"  "},null,{"$f":"IF(ISBLANK(E10),\"  \",IF(ISBLANK(E22),\" \",IF(ISBLANK(E23),\" \",(E22/E23*E29)/E10*100)))","v":"  "},null,{"$f":"IF(ISBLANK(G10),\"  \",IF(ISBLANK(G22),\" \",IF(ISBLANK(G23),\" \",(G22/G23*G29)/G10*100)))","v":"  "},null,{"$f":"IF(ISBLANK(I10),\"  \",IF(ISBLANK(I22),\" \",IF(ISBLANK(I23),\" \",(I22/I23*I29)/I10*100)))","v":"  "},null,{"$f":"IF(ISBLANK(K10),\"  \",IF(ISBLANK(K22),\" \",IF(ISBLANK(K23),\" \",(K22/K23*K29)/K10*100)))","v":"  "},null,{"$f":"IF(ISBLANK(M10),\"  \",IF(ISBLANK(M22),\" \",IF(ISBLANK(M23),\" \",(M22/M23*M29)/M10*100)))","v":"  "}]
[200,null,null,{"$f":"IF(ISBLANK(C10),\"  \",IF(ISBLANK(C22),\" \",IF(ISBLANK(C23),\" \",(C22/C23*C30)/C10*100)))","v":"  "},null,{"$f":"IF(ISBLANK(E10),\"  \",IF(ISBLANK(E22),\" \",IF(ISBLANK(E23),\" \",(E22/E23*E30)/E10*100)))","v":"  "},null,{"$f":"IF(ISBLANK(G10),\"  \",IF(ISBLANK(G22),\" \",IF(ISBLANK(G23),\" \",(G22/G23*G30)/G10*100)))","v":"  "},null,{"$f":"IF(ISBLANK(I10),\"  \",IF(ISBLANK(I22),\" \",IF(ISBLANK(I23),\" \",(I22/I23*I30)/I10*100)))","v":"  "},null,{"$f":"IF(ISBLANK(K10),\"  \",IF(ISBLANK(K22),\" \",IF(ISBLANK(K23),\" \",(K22/K23*K30)/K10*100)))","v":"  "},null,{"$f":"IF(ISBLANK(M10),\"  \",IF(ISBLANK(M22),\" \",IF(ISBLANK(M23),\" \",(M22/M23*M30)/M10*100)))","v":"  "}]
["St. Wt. Before Wash",null,null,"% Passing",null,"% Passing",null,"% Passing",null,"% Passing",null,"% Passing",null,"% Passing"]
["End Wt. After Wash",null,null,{"$f":"IF(ISBLANK(C31),\"\",IF(ISBLANK(C32),\"\",((C31-C32)/C31)*100))","v":""},null,{"$f":"IF(ISBLANK(E31),\"\",IF(ISBLANK(E32),\"\",((E31-E32)/E31)*100))","v":""},null,{"$f":"IF(ISBLANK(G31),\"\",IF(ISBLANK(G32),\"\",((G31-G32)/G31)*100))","v":""},null,{"$f":"IF(ISBLANK(I31),\"\",IF(ISBLANK(I32),\"\",((I31-I32)/I31)*100))","v":""},null,{"$f":"IF(ISBLANK(K31),\"\",IF(ISBLANK(K32),\"\",((K31-K32)/K31)*100))","v":""},null,{"$f":"IF(ISBLANK(M31),\"\",IF(ISBLANK(M32),\"\",((M31-M32)/M31)*100))","v":""}]
["Tested By"]
["Remarks"]
[]
[]
[]
["Sample No.",null,31,null,32,null,33,null,34,null,35,null,36]
["Date"]
["Starting Wt",null,null,"% Loss",null,"% Loss",null,"% Loss",null,"% Loss",null,"% Loss",null,"% Loss"]
["Ending Wt",null,null,{"$f":"IF(ISBLANK(C41),\" \",((C40-C41)/C40)*100)","v":" "},null,{"$f":"IF(ISBLANK(E41),\" \",((E40-E41)/E40)*100)","v":" "},null,{"$f":"IF(ISBLANK(G41),\" \",((G40-G41)/G40)*100)","v":" "},null,{"$f":"IF(ISBLANK(I41),\" \",((I40-I41)/I40)*100)","v":" "},null,{"$f":"IF(ISBLANK(K41),\" \",((K40-K41)/K40)*100)","v":" "},null,{"$f":"IF(ISBLANK(M41),\" \",((M40-M41)/M40)*100)","v":" "}]
[null,null,"Wt","% Passing","Wt","% Passing","Wt","% Passing","Wt","% Passing","Wt","% Passing","Wt","% Passing"]
[2.5,null,null,{"$f":"IF(ISBLANK(C40),\"  \",IF(ISBLANK(C41),\" \",IF(ISBLANK(C43),\" \",ROUND(C43/C40*100,0))))","v":"  "},null,{"$f":"IF(ISBLANK(E40),\"  \",IF(ISBLANK(E41),\" \",IF(ISBLANK(E43),\" \",ROUND(E43/E40*100,0))))","v":"  "},null,{"$f":"IF(ISBLANK(G40),\"  \",IF(ISBLANK(G41),\" \",IF(ISBLANK(G43),\" \",ROUND(G43/G40*100,0))))","v":"  "},null,{"$f":"IF(ISBLANK(I40),\"  \",IF(ISBLANK(I41),\" \",IF(ISBLANK(I43),\" \",ROUND(I43/I40*100,0))))","v":"  "},null,{"$f":"IF(ISBLANK(K40),\"  \",IF(ISBLANK(K41),\" \",IF(ISBLANK(K43),\" \",ROUND(K43/K40*100,0))))","v":"  "},null,{"$f":"IF(ISBLANK(M40),\"  \",IF(ISBLANK(M41),\" \",IF(ISBLANK(M43),\" \",ROUND(M43/M40*100,0))))","v":"  "}]
[2,null,null,{"$f":"IF(ISBLANK(C40),\"  \",IF(ISBLANK(C41),\" \",IF(ISBLANK(C44),\" \",ROUND(C44/C40*100,0))))","v":"  "},null,{"$f":"IF(ISBLANK(E40),\"  \",IF(ISBLANK(E41),\" \",IF(ISBLANK(E44),\" \",ROUND(E44/E40*100,0))))","v":"  "},null,{"$f":"IF(ISBLANK(G40),\"  \",IF(ISBLANK(G41),\" \",IF(ISBLANK(G44),\" \",ROUND(G44/G40*100,0))))","v":"  "},null,{"$f":"IF(ISBLANK(I40),\"  \",IF(ISBLANK(I41),\" \",IF(ISBLANK(I44),\" \",ROUND(I44/I40*100,0))))","v":"  "},null,{"$f":"IF(ISBLANK(K40),\"  \",IF(ISBLANK(K41),\" \",IF(ISBLANK(K44),\" \",ROUND(K44/K40*100,0))))","v":"  "},null,{"$f":"IF(ISBLANK(M40),\"  \",IF(ISBLANK(M41),\" \",IF(ISBLANK(M44),\" \",ROUND(M44/M40*100,0))))","v":"  "}]
[1.5,null,null,{"$f":"IF(ISBLANK(C40),\"  \",IF(ISBLANK(C41),\" \",IF(ISBLANK(C45),\" \",ROUND(C45/C40*100,0))))","v":"  "},null,{"$f":"IF(ISBLANK(E40),\"  \",IF(ISBLANK(E41),\" \",IF(ISBLANK(E45),\" \",ROUND(E45/E40*100,0))))","v":"  "},null,{"$f":"IF(ISBLANK(G40),\"  \",IF(ISBLANK(G41),\" \",IF(ISBLANK(G45),\" \",ROUND(G45/G40*100,0))))","v":"  "},null,{"$f":"IF(ISBLANK(I40),\"  \",IF(ISBLANK(I41),\" \",IF(ISBLANK(I45),\" \",ROUND(I45/I40*100,0))))","v":"  "},null,{"$f":"IF(ISBLANK(K40),\"  \",IF(ISBLANK(K41),\" \",IF(ISBLANK(K45),\" \",ROUND(K45/K40*100,0))))","v":"  "},null,{"$f":"IF(ISBLANK(M40),\"  \",IF(ISBLANK(M41),\" \",IF(ISBLANK(M45),\" \",ROUND(M45/M40*100,0))))","v":"  "}]
[1,null,null,{"$f":"IF(ISBLANK(C40),\"  \",IF(ISBLANK(C41),\" \",IF(ISBLANK(C46),\" \",ROUND(C46/C40*100,0))))","v":"  "},null,{"$f":"IF(ISBLANK(E40),\"  \",IF(ISBLANK(E41),\" \",IF(ISBLANK(E46),\" \",ROUND(E46/E40*100,0))))","v":"  "},null,{"$f":"IF(ISBLANK(G40),\"  \",IF(ISBLANK(G41),\" \",IF(ISBLANK(G46),\" \",ROUND(G46/G40*100,0))))","v":"  "},null,{"$f":"IF(ISBLANK(I40),\"  \",IF(ISBLANK(I41),\" \",IF(ISBLANK(I46),\" \",ROUND(I46/I40*100,0))))","v":"  "},null,{"$f":"IF(ISBLANK(K40),\"  \",IF(ISBLANK(K41),\" \",IF(ISBLANK(K46),\" \",ROUND(K46/K40*100,0))))","v":"  "},null,{"$f":"IF(ISBLANK(M40),\"  \",IF(ISBLANK(M41),\" \",IF(ISBLANK(M46),\" \",ROUND(M46/M40*100,0))))","v":"  "}]
[0.75,null,null,{"$f":"IF(ISBLANK(C40),\"  \",IF(ISBLANK(C41),\" \",IF(ISBLANK(C47),\" \",ROUND(C47/C40*100,0))))","v":"  "},null,{"$f":"IF(ISBLANK(E40),\"  \",IF(ISBLANK(E41),\" \",IF(ISBLANK(E47),\" \",ROUND(E47/E40*100,0))))","v":"  "},null,{"$f":"IF(ISBLANK(G40),\"  \",IF(ISBLANK(G41),\" \",IF(ISBLANK(G47),\" \",ROUND(G47/G40*100,0))))","v":"  "},null,{"$f":"IF(ISBLANK(I40),\"  \",IF(ISBLANK(I41),\" \",IF(ISBLANK(I47),\" \",ROUND(I47/I40*100,0))))","v":"  "},null,{"$f":"IF(ISBLANK(K40),\"  \",IF(ISBLANK(K41),\" \",IF(ISBLANK(K47),\" \",ROUND(K47/K40*100,0))))","v":"  "},null,{"$f":"IF(ISBLANK(M40),\"  \",IF(ISBLANK(M41),\" \",IF(ISBLANK(M47),\" \",ROUND(M47/M40*100,0))))","v":"  "}]
[0.625,null,null,{"$f":"IF(ISBLANK(C40),\"  \",IF(ISBLANK(C41),\" \",IF(ISBLANK(C48),\" \",ROUND(C48/C40*100,0))))","v":"  "},null,{"$f":"IF(ISBLANK(E40),\"  \",IF(ISBLANK(E41),\" \",IF(ISBLANK(E48),\" \",ROUND(E48/E40*100,0))))","v":"  "},null,{"$f":"IF(ISBLANK(G40),\"  \",IF(ISBLANK(G41),\" \",IF(ISBLANK(G48),\" \",ROUND(G48/G40*100,0))))","v":"  "},null,{"$f":"IF(ISBLANK(I40),\"  \",IF(ISBLANK(I41),\" \",IF(ISBLANK(I48),\" \",ROUND(I48/I40*100,0))))","v":"  "},null,{"$f":"IF(ISBLANK(K40),\"  \",IF(ISBLANK(K41),\" \",IF(ISBLANK(K48),\" \",ROUND(K48/K40*100,0))))","v":"  "},null,{"$f":"IF(ISBLANK(M40),\"  \",IF(ISBLANK(M41),\" \",IF(ISBLANK(M48),\" \",ROUND(M48/M40*100,0))))","v":"  "}]
[0.5,null,null,{"$f":"IF(ISBLANK(C40),\"  \",IF(ISBLANK(C41),\" \",IF(ISBLANK(C49),\" \",ROUND(C49/C40*100,0))))","v":"  "},null,{"$f":"IF(ISBLANK(E40),\"  \",IF(ISBLANK(E41),\" \",IF(ISBLANK(E49),\" \",ROUND(E49/E40*100,0))))","v":"  "},null,{"$f":"IF(ISBLANK(G40),\"  \",IF(ISBLANK(G41),\" \",IF(ISBLANK(G49),\" \",ROUND(G49/G40*100,0))))","v":"  "},null,{"$f":"IF(ISBLANK(I40),\"  \",IF(ISBLANK(I41),\" \",IF(ISBLANK(I49),\" \",ROUND(I49/I40*100,0))))","v":"  "},null,{"$f":"IF(ISBLANK(K40),\"  \",IF(ISBLANK(K41),\" \",IF(ISBLANK(K49),\" \",ROUND(K49/K40*100,0))))","v":"  "},null,{"$f":"IF(ISBLANK(M40),\"  \",IF(ISBLANK(M41),\" \",IF(ISBLANK(M49),\" \",ROUND(M49/M40*100,0))))","v":"  "}]
[0.375,null,null,{"$f":"IF(ISBLANK(C40),\"  \",IF(ISBLANK(C41),\" \",IF(ISBLANK(C50),\" \",ROUND(C50/C40*100,0))))","v":"  "},null,{"$f":"IF(ISBLANK(E40),\"  \",IF(ISBLANK(E41),\" \",IF(ISBLANK(E50),\" \",ROUND(E50/E40*100,0))))","v":"  "},null,{"$f":"IF(ISBLANK(G40),\"  \",IF(ISBLANK(G41),\" \",IF(ISBLANK(G50),\" \",ROUND(G50/G40*100,0))))","v":"  "},null,{"$f":"IF(ISBLANK(I40),\"  \",IF(ISBLANK(I41),\" \",IF(ISBLANK(I50),\" \",ROUND(I50/I40*100,0))))","v":"  "},null,{"$f":"IF(ISBLANK(K40),\"  \",IF(ISBLANK(K41),\" \",IF(ISBLANK(K50),\" \",ROUND(K50/K40*100,0))))","v":"  "},null,{"$f":"IF(ISBLANK(M40),\"  \",IF(ISBLANK(M41),\" \",IF(ISBLANK(M50),\" \",ROUND(M50/M40*100,0))))","v":"  "}]
[0.25,null,null,{"$f":"IF(ISBLANK(C40),\"  \",IF(ISBLANK(C41),\" \",IF(ISBLANK(C51),\" \",ROUND(C51/C40*100,0))))","v":"  "},null,{"$f":"IF(ISBLANK(E40),\"  \",IF(ISBLANK(E41),\" \",IF(ISBLANK(E51),\" \",ROUND(E51/E40*100,0))))","v":"  "},null,{"$f":"IF(ISBLANK(G40),\"  \",IF(ISBLANK(G41),\" \",IF(ISBLANK(G51),\" \",ROUND(G51/G40*100,0))))","v":"  "},null,{"$f":"IF(ISBLANK(I40),\"  \",IF(ISBLANK(I41),\" \",IF(ISBLANK(I51),\" \",ROUND(I51/I40*100,0))))","v":"  "},null,{"$f":"IF(ISBLANK(K40),\"  \",IF(ISBLANK(K41),\" \",IF(ISBLANK(K51),\" \",ROUND(K51/K40*100,0))))","v":"  "},null,{"$f":"IF(ISBLANK(M40),\"  \",IF(ISBLANK(M41),\" \",IF(ISBLANK(M51),\" \",ROUND(M51/M40*100,0))))","v":"  "}]
[4,null,null,{"$f":"IF(ISBLANK(C40),\"  \",IF(ISBLANK(C41),\" \",IF(ISBLANK(C52),\" \",ROUND(C52/C40*100,0))))","v":"  "},null,{"$f":"IF(ISBLANK(E40),\"  \",IF(ISBLANK(E41),\" \",IF(ISBLANK(E52),\" \",ROUND(E52/E40*100,0))))","v":"  "},null,{"$f":"IF(ISBLANK(G40),\"  \",IF(ISBLANK(G41),\" \",IF(ISBLANK(G52),\" \",ROUND(G52/G40*100,0))))","v":"  "},null,{"$f":"IF(ISBLANK(I40),\"  \",IF(ISBLANK(I41),\" \",IF(ISBLANK(I52),\" \",ROUND(I52/I40*100,0))))","v":"  "},null,{"$f":"IF(ISBLANK(K40),\"  \",IF(ISBLANK(K41),\" \",IF(ISBLANK(K52),\" \",ROUND(K52/K40*100,0))))","v":"  "},null,{"$f":"IF(ISBLANK(M40),\"  \",IF(ISBLANK(M41),\" \",IF(ISBLANK(M52),\" \",ROUND(M52/M40*100,0))))","v":"  "}]
["Split St. Wt.",null,null,"% Loss",null,"% Loss",null,"% Loss",null,"% Loss",null,"% Loss",null,"% Loss"]
["Split Ending Wt.",null,null,{"$f":"IF(ISBLANK(C54),\"\",(C53-C54)/C53*100)","v":""},null,{"$f":"IF(ISBLANK(E54),\"\",(E53-E54)/E53*100)","v":""},null,{"$f":"IF(ISBLANK(G54),\"\",(G53-G54)/G53*100)","v":""},null,{"$f":"IF(ISBLANK(I54),\"\",(I53-I54)/I53*100)","v":""},null,{"$f":"IF(ISBLANK(K54),\"\",(K53-K54)/K53*100)","v":""},null,{"$f":"IF(ISBLANK(M54),\"\",(M53-M54)/M53*100)","v":""}]
[8,null,null,{"$f":"IF(ISBLANK(C40),\"  \",IF(ISBLANK(C52),\" \",IF(ISBLANK(C53),\" \",(C52/C53*C55)/C40*100)))","v":"  "},null,{"$f":"IF(ISBLANK(E40),\"  \",IF(ISBLANK(E52),\" \",IF(ISBLANK(E53),\" \",(E52/E53*E55)/E40*100)))","v":"  "},null,{"$f":"IF(ISBLANK(G40),\"  \",IF(ISBLANK(G52),\" \",IF(ISBLANK(G53),\" \",(G52/G53*G55)/G40*100)))","v":"  "},null,{"$f":"IF(ISBLANK(I40),\"  \",IF(ISBLANK(I52),\" \",IF(ISBLANK(I53),\" \",(I52/I53*I55)/I40*100)))","v":"  "},null,{"$f":"IF(ISBLANK(K40),\"  \",IF(ISBLANK(K52),\" \",IF(ISBLANK(K53),\" \",(K52/K53*K55)/K40*100)))","v":"  "},null,{"$f":"IF(ISBLANK(M40),\"  \",IF(ISBLANK(M52),\" \",IF(ISBLANK(M53),\" \",(M52/M53*M55)/M40*100)))","v":"  "}]
[16,null,null,{"$f":"IF(ISBLANK(C40),\"  \",IF(ISBLANK(C52),\" \",IF(ISBLANK(C53),\" \",(C52/C53*C56)/C40*100)))","v":"  "},null,{"$f":"IF(ISBLANK(E40),\"  \",IF(ISBLANK(E52),\" \",IF(ISBLANK(E53),\" \",(E52/E53*E56)/E40*100)))","v":"  "},null,{"$f":"IF(ISBLANK(G40),\"  \",IF(ISBLANK(G52),\" \",IF(ISBLANK(G53),\" \",(G52/G53*G56)/G40*100)))","v":"  "},null,{"$f":"IF(ISBLANK(I40),\"  \",IF(ISBLANK(I52),\" \",IF(ISBLANK(I53),\" \",(I52/I53*I56)/I40*100)))","v":"  "},null,{"$f":"IF(ISBLANK(K40),\"  \",IF(ISBLANK(K52),\" \",IF(ISBLANK(K53),\" \",(K52/K53*K56)/K40*100)))","v":"  "},null,{"$f":"IF(ISBLANK(M40),\"  \",IF(ISBLANK(M52),\" \",IF(ISBLANK(M53),\" \",(M52/M53*M56)/M40*100)))","v":"  "}]
[30,null,null,{"$f":"IF(ISBLANK(C40),\"  \",IF(ISBLANK(C52),\" \",IF(ISBLANK(C53),\" \",(C52/C53*C57)/C40*100)))","v":"  "},null,{"$f":"IF(ISBLANK(E40),\"  \",IF(ISBLANK(E52),\" \",IF(ISBLANK(E53),\" \",(E52/E53*E57)/E40*100)))","v":"  "},null,{"$f":"IF(ISBLANK(G40),\"  \",IF(ISBLANK(G52),\" \",IF(ISBLANK(G53),\" \",(G52/G53*G57)/G40*100)))","v":"  "},null,{"$f":"IF(ISBLANK(I40),\"  \",IF(ISBLANK(I52),\" \",IF(ISBLANK(I53),\" \",(I52/I53*I57)/I40*100)))","v":"  "},null,{"$f":"IF(ISBLANK(K40),\"  \",IF(ISBLANK(K52),\" \",IF(ISBLANK(K53),\" \",(K52/K53*K57)/K40*100)))","v":"  "},null,{"$f":"IF(ISBLANK(M40),\"  \",IF(ISBLANK(M52),\" \",IF(ISBLANK(M53),\" \",(M52/M53*M57)/M40*100)))","v":"  "}]
[50,null,null,{"$f":"IF(ISBLANK(C40),\"  \",IF(ISBLANK(C52),\" \",IF(ISBLANK(C53),\" \",(C52/C53*C58)/C40*100)))","v":"  "},null,{"$f":"IF(ISBLANK(E40),\"  \",IF(ISBLANK(E52),\" \",IF(ISBLANK(E53),\" \",(E52/E53*E58)/E40*100)))","v":"  "},null,{"$f":"IF(ISBLANK(G40),\"  \",IF(ISBLANK(G52),\" \",IF(ISBLANK(G53),\" \",(G52/G53*G58)/G40*100)))","v":"  "},null,{"$f":"IF(ISBLANK(I40),\"  \",IF(ISBLANK(I52),\" \",IF(ISBLANK(I53),\" \",(I52/I53*I58)/I40*100)))","v":"  "},null,{"$f":"IF(ISBLANK(K40),\"  \",IF(ISBLANK(K52),\" \",IF(ISBLANK(K53),\" \",(K52/K53*K58)/K40*100)))","v":"  "},null,{"$f":"IF(ISBLANK(M40),\"  \",IF(ISBLANK(M52),\" \",IF(ISBLANK(M53),\" \",(M52/M53*M58)/M40*100)))","v":"  "}]
[100,null,null,{"$f":"IF(ISBLANK(C40),\"  \",IF(ISBLANK(C52),\" \",IF(ISBLANK(C53),\" \",(C52/C53*C59)/C40*100)))","v":"  "},null,{"$f":"IF(ISBLANK(E40),\"  \",IF(ISBLANK(E52),\" \",IF(ISBLANK(E53),\" \",(E52/E53*E59)/E40*100)))","v":"  "},null,{"$f":"IF(ISBLANK(G40),\"  \",IF(ISBLANK(G52),\" \",IF(ISBLANK(G53),\" \",(G52/G53*G59)/G40*100)))","v":"  "},null,{"$f":"IF(ISBLANK(I40),\"  \",IF(ISBLANK(I52),\" \",IF(ISBLANK(I53),\" \",(I52/I53*I59)/I40*100)))","v":"  "},null,{"$f":"IF(ISBLANK(K40),\"  \",IF(ISBLANK(K52),\" \",IF(ISBLANK(K53),\" \",(K52/K53*K59)/K40*100)))","v":"  "},null,{"$f":"IF(ISBLANK(M40),\"  \",IF(ISBLANK(M52),\" \",IF(ISBLANK(M53),\" \",(M52/M53*M59)/M40*100)))","v":"  "}]
[200,null,null,{"$f":"IF(ISBLANK(C40),\"  \",IF(ISBLANK(C52),\" \",IF(ISBLANK(C53),\" \",(C52/C53*C60)/C40*100)))","v":"  "},null,{"$f":"IF(ISBLANK(E40),\"  \",IF(ISBLANK(E52),\" \",IF(ISBLANK(E53),\" \",(E52/E53*E60)/E40*100)))","v":"  "},null,{"$f":"IF(ISBLANK(G40),\"  \",IF(ISBLANK(G52),\" \",IF(ISBLANK(G53),\" \",(G52/G53*G60)/G40*100)))","v":"  "},null,{"$f":"IF(ISBLANK(I40),\"  \",IF(ISBLANK(I52),\" \",IF(ISBLANK(I53),\" \",(I52/I53*I60)/I40*100)))","v":"  "},null,{"$f":"IF(ISBLANK(K40),\"  \",IF(ISBLANK(K52),\" \",IF(ISBLANK(K53),\" \",(K52/K53*K60)/K40*100)))","v":"  "},null,{"$f":"IF(ISBLANK(M40),\"  \",IF(ISBLANK(M52),\" \",IF(ISBLANK(M53),\" \",(M52/M53*M60)/M40*100)))","v":"  "}]
["St. Wt. Before Wash",null,null,"% Passing",null,"% Passing",null,"% Passing",null,"% Passing",null,"% Passing",null,"% Passing"]
["End Wt. After Wash",null,null,{"$f":"IF(ISBLANK(C61),\"\",IF(ISBLANK(C62),\"\",((C61-C62)/C61)*100))","v":""},null,{"$f":"IF(ISBLANK(E61),\"\",IF(ISBLANK(E62),\"\",((E61-E62)/E61)*100))","v":""},null,{"$f":"IF(ISBLANK(G61),\"\",IF(ISBLANK(G62),\"\",((G61-G62)/G61)*100))","v":""},null,{"$f":"IF(ISBLANK(I61),\"\",IF(ISBLANK(I62),\"\",((I61-I62)/I61)*100))","v":""},null,{"$f":"IF(ISBLANK(K61),\"\",IF(ISBLANK(K62),\"\",((K61-K62)/K61)*100))","v":""},null,{"$f":"IF(ISBLANK(M61),\"\",IF(ISBLANK(M62),\"\",((M61-M62)/M61)*100))","v":""}]
["Tested By"]
["Remarks"]
[]
[]
[]
[null,null,{"$f":"MAX(C43:C58)","v":0},null,{"$f":"MAX(E43:E58)","v":0},null,{"$f":"MAX(G43:G58)","v":0},null,{"$f":"MAX(I43:I58)","v":0},null,{"$f":"MAX(K43:K58)","v":0},null,{"$f":"MAX(M43:M58)","v":0}]

{"sheet":"Split 4","index":25,"n_rows":68,"n_cols":14,"rows_kept":68,"cut":false,"hidden":true,"merged":[[62,12,62,13],[63,0,65,1],[63,2,65,3],[63,4,65,5],[63,6,65,7],[63,8,65,9],[63,10,65,11],[63,12,65,13],[62,0,62,1],[62,2,62,3],[62,4,62,5],[62,6,62,7],[62,8,62,9],[62,10,62,11],[56,0,56,1],[57,0,57,1],[58,0,58,1],[59,0,59,1],[60,0,60,1],[61,0,61,1],[50,0,50,1],[51,0,51,1],[52,0,52,1],[53,0,53,1],[54,0,54,1],[55,0,55,1],[44,0,44,1],[45,0,45,1],[46,0,46,1],[47,0,47,1],[48,0,48,1],[49,0,49,1],[38,12,38,13],[39,0,39,1],[40,0,40,1],[41,0,41,1],[42,0,42,1],[43,0,43,1],[38,0,38,1],[38,2,38,3],[38,4,38,5],[38,6,38,7],[38,8,38,9],[38,10,38,11],[33,12,35,13],[37,0,37,1],[37,2,37,3],[37,4,37,5],[37,6,37,7],[37,8,37,9],[37,10,37,11],[37,12,37,13],[33,0,35,1],[33,2,35,3],[33,4,35,5],[33,6,35,7],[33,8,35,9],[33,10,35,11],[32,2,32,3],[32,4,32,5],[32,6,32,7],[32,8,32,9],[32,10,32,11],[32,12,32,13],[27,0,27,1],[28,0,28,1],[29,0,29,1],[30,0,30,1],[31,0,31,1],[32,0,32,1],[21,0,21,1],[22,0,22,1],[23,0,23,1],[24,0,24,1],[25,0,25,1],[26,0,26,1],[15,0,15,1],[16,0,16,1],[17,0,17,1],[18,0,18,1],[19,0,19,1],[20,0,20,1],[9,0,9,1],[10,0,10,1],[11,0,11,1],[12,0,12,1],[13,0,13,1],[14,0,14,1],[7,12,7,13],[8,0,8,1],[8,2,8,3],[8,4,8,5],[8,6,8,7],[8,8,8,9],[8,10,8,11],[8,12,8,13],[3,12,3,13],[4,10,4,11],[4,12,4,13],[5,3,5,11],[7,0,7,1],[7,2,7,3],[7,4,7,5],[7,6,7,7],[7,8,7,9],[7,10,7,11],[0,0,3,1],[1,2,1,7],[1,10,1,11],[1,12,1,13],[2,2,2,7],[2,10,2,11],[2,12,2,13],[3,2,3,3],[3,6,3,7],[3,10,3,11]]}
[]
[null,null,"COMMONWEALTH OF PENNSYLVANIA",null,null,null,null,null,null,null,"District"]
[null,null,"DEPARTMENT OF TRANSPORTATION",null,null,null,null,null,null,null,"Plant Code"]
[null,null,{"$f":"'S1'!$A$6","v":"Aggregate 2023"},null,null,null,null,null,null,null,"Agg. Size"]
[]
[null,null,null,"Material Test Results"]
[]
["Sample No.",null,37,null,38,null,39,null,40,null,41,null,42]
["Date"]
["Starting Wt",null,null,"% Loss",null,"% Loss",null,"% Loss",null,"% Loss",null,"% Loss",null,"% Loss"]
["Ending Wt",null,null,{"$f":"IF(ISBLANK(C11),\" \",((C10-C11)/C10)*100)","v":" "},null,{"$f":"IF(ISBLANK(E11),\" \",((E10-E11)/E10)*100)","v":" "},null,{"$f":"IF(ISBLANK(G11),\" \",((G10-G11)/G10)*100)","v":" "},null,{"$f":"IF(ISBLANK(I11),\" \",((I10-I11)/I10)*100)","v":" "},null,{"$f":"IF(ISBLANK(K11),\" \",((K10-K11)/K10)*100)","v":" "},null,{"$f":"IF(ISBLANK(M11),\" \",((M10-M11)/M10)*100)","v":" "}]
[null,null,"Wt","% Passing","Wt","% Passing","Wt","% Passing","Wt","% Passing","Wt","% Passing","Wt","% Passing"]
[2.5,null,null,{"$f":"IF(ISBLANK(C10),\"  \",IF(ISBLANK(C11),\" \",IF(ISBLANK(C13),\" \",ROUND(C13/C10*100,0))))","v":"  "},null,{"$f":"IF(ISBLANK(E10),\"  \",IF(ISBLANK(E11),\" \",IF(ISBLANK(E13),\" \",ROUND(E13/E10*100,0))))","v":"  "},null,{"$f":"IF(ISBLANK(G10),\"  \",IF(ISBLANK(G11),\" \",IF(ISBLANK(G13),\" \",ROUND(G13/G10*100,0))))","v":"  "},null,{"$f":"IF(ISBLANK(I10),\"  \",IF(ISBLANK(I11),\" \",IF(ISBLANK(I13),\" \",ROUND(I13/I10*100,0))))","v":"  "},null,{"$f":"IF(ISBLANK(K10),\"  \",IF(ISBLANK(K11),\" \",IF(ISBLANK(K13),\" \",ROUND(K13/K10*100,0))))","v":"  "},null,{"$f":"IF(ISBLANK(M10),\"  \",IF(ISBLANK(M11),\" \",IF(ISBLANK(M13),\" \",ROUND(M13/M10*100,0))))","v":"  "}]
[2,null,null,{"$f":"IF(ISBLANK(C10),\"  \",IF(ISBLANK(C11),\" \",IF(ISBLANK(C14),\" \",ROUND(C14/C10*100,0))))","v":"  "},null,{"$f":"IF(ISBLANK(E10),\"  \",IF(ISBLANK(E11),\" \",IF(ISBLANK(E14),\" \",ROUND(E14/E10*100,0))))","v":"  "},null,{"$f":"IF(ISBLANK(G10),\"  \",IF(ISBLANK(G11),\" \",IF(ISBLANK(G14),\" \",ROUND(G14/G10*100,0))))","v":"  "},null,{"$f":"IF(ISBLANK(I10),\"  \",IF(ISBLANK(I11),\" \",IF(ISBLANK(I14),\" \",ROUND(I14/I10*100,0))))","v":"  "},null,{"$f":"IF(ISBLANK(K10),\"  \",IF(ISBLANK(K11),\" \",IF(ISBLANK(K14),\" \",ROUND(K14/K10*100,0))))","v":"  "},null,{"$f":"IF(ISBLANK(M10),\"  \",IF(ISBLANK(M11),\" \",IF(ISBLANK(M14),\" \",ROUND(M14/M10*100,0))))","v":"  "}]
[1.5,null,null,{"$f":"IF(ISBLANK(C10),\"  \",IF(ISBLANK(C11),\" \",IF(ISBLANK(C15),\" \",ROUND(C15/C10*100,0))))","v":"  "},null,{"$f":"IF(ISBLANK(E10),\"  \",IF(ISBLANK(E11),\" \",IF(ISBLANK(E15),\" \",ROUND(E15/E10*100,0))))","v":"  "},null,{"$f":"IF(ISBLANK(G10),\"  \",IF(ISBLANK(G11),\" \",IF(ISBLANK(G15),\" \",ROUND(G15/G10*100,0))))","v":"  "},null,{"$f":"IF(ISBLANK(I10),\"  \",IF(ISBLANK(I11),\" \",IF(ISBLANK(I15),\" \",ROUND(I15/I10*100,0))))","v":"  "},null,{"$f":"IF(ISBLANK(K10),\"  \",IF(ISBLANK(K11),\" \",IF(ISBLANK(K15),\" \",ROUND(K15/K10*100,0))))","v":"  "},null,{"$f":"IF(ISBLANK(M10),\"  \",IF(ISBLANK(M11),\" \",IF(ISBLANK(M15),\" \",ROUND(M15/M10*100,0))))","v":"  "}]
[1,null,null,{"$f":"IF(ISBLANK(C10),\"  \",IF(ISBLANK(C11),\" \",IF(ISBLANK(C16),\" \",ROUND(C16/C10*100,0))))","v":"  "},null,{"$f":"IF(ISBLANK(E10),\"  \",IF(ISBLANK(E11),\" \",IF(ISBLANK(E16),\" \",ROUND(E16/E10*100,0))))","v":"  "},null,{"$f":"IF(ISBLANK(G10),\"  \",IF(ISBLANK(G11),\" \",IF(ISBLANK(G16),\" \",ROUND(G16/G10*100,0))))","v":"  "},null,{"$f":"IF(ISBLANK(I10),\"  \",IF(ISBLANK(I11),\" \",IF(ISBLANK(I16),\" \",ROUND(I16/I10*100,0))))","v":"  "},null,{"$f":"IF(ISBLANK(K10),\"  \",IF(ISBLANK(K11),\" \",IF(ISBLANK(K16),\" \",ROUND(K16/K10*100,0))))","v":"  "},null,{"$f":"IF(ISBLANK(M10),\"  \",IF(ISBLANK(M11),\" \",IF(ISBLANK(M16),\" \",ROUND(M16/M10*100,0))))","v":"  "}]
[0.75,null,null,{"$f":"IF(ISBLANK(C10),\"  \",IF(ISBLANK(C11),\" \",IF(ISBLANK(C17),\" \",ROUND(C17/C10*100,0))))","v":"  "},null,{"$f":"IF(ISBLANK(E10),\"  \",IF(ISBLANK(E11),\" \",IF(ISBLANK(E17),\" \",ROUND(E17/E10*100,0))))","v":"  "},null,{"$f":"IF(ISBLANK(G10),\"  \",IF(ISBLANK(G11),\" \",IF(ISBLANK(G17),\" \",ROUND(G17/G10*100,0))))","v":"  "},null,{"$f":"IF(ISBLANK(I10),\"  \",IF(ISBLANK(I11),\" \",IF(ISBLANK(I17),\" \",ROUND(I17/I10*100,0))))","v":"  "},null,{"$f":"IF(ISBLANK(K10),\"  \",IF(ISBLANK(K11),\" \",IF(ISBLANK(K17),\" \",ROUND(K17/K10*100,0))))","v":"  "},null,{"$f":"IF(ISBLANK(M10),\"  \",IF(ISBLANK(M11),\" \",IF(ISBLANK(M17),\" \",ROUND(M17/M10*100,0))))","v":"  "}]
[0.625,null,null,{"$f":"IF(ISBLANK(C10),\"  \",IF(ISBLANK(C11),\" \",IF(ISBLANK(C18),\" \",ROUND(C18/C10*100,0))))","v":"  "},null,{"$f":"IF(ISBLANK(E10),\"  \",IF(ISBLANK(E11),\" \",IF(ISBLANK(E18),\" \",ROUND(E18/E10*100,0))))","v":"  "},null,{"$f":"IF(ISBLANK(G10),\"  \",IF(ISBLANK(G11),\" \",IF(ISBLANK(G18),\" \",ROUND(G18/G10*100,0))))","v":"  "},null,{"$f":"IF(ISBLANK(I10),\"  \",IF(ISBLANK(I11),\" \",IF(ISBLANK(I18),\" \",ROUND(I18/I10*100,0))))","v":"  "},null,{"$f":"IF(ISBLANK(K10),\"  \",IF(ISBLANK(K11),\" \",IF(ISBLANK(K18),\" \",ROUND(K18/K10*100,0))))","v":"  "},null,{"$f":"IF(ISBLANK(M10),\"  \",IF(ISBLANK(M11),\" \",IF(ISBLANK(M18),\" \",ROUND(M18/M10*100,0))))","v":"  "}]
[0.5,null,null,{"$f":"IF(ISBLANK(C10),\"  \",IF(ISBLANK(C11),\" \",IF(ISBLANK(C19),\" \",ROUND(C19/C10*100,0))))","v":"  "},null,{"$f":"IF(ISBLANK(E10),\"  \",IF(ISBLANK(E11),\" \",IF(ISBLANK(E19),\" \",ROUND(E19/E10*100,0))))","v":"  "},null,{"$f":"IF(ISBLANK(G10),\"  \",IF(ISBLANK(G11),\" \",IF(ISBLANK(G19),\" \",ROUND(G19/G10*100,0))))","v":"  "},null,{"$f":"IF(ISBLANK(I10),\"  \",IF(ISBLANK(I11),\" \",IF(ISBLANK(I19),\" \",ROUND(I19/I10*100,0))))","v":"  "},null,{"$f":"IF(ISBLANK(K10),\"  \",IF(ISBLANK(K11),\" \",IF(ISBLANK(K19),\" \",ROUND(K19/K10*100,0))))","v":"  "},null,{"$f":"IF(ISBLANK(M10),\"  \",IF(ISBLANK(M11),\" \",IF(ISBLANK(M19),\" \",ROUND(M19/M10*100,0))))","v":"  "}]
[0.375,null,null,{"$f":"IF(ISBLANK(C10),\"  \",IF(ISBLANK(C11),\" \",IF(ISBLANK(C20),\" \",ROUND(C20/C10*100,0))))","v":"  "},null,{"$f":"IF(ISBLANK(E10),\"  \",IF(ISBLANK(E11),\" \",IF(ISBLANK(E20),\" \",ROUND(E20/E10*100,0))))","v":"  "},null,{"$f":"IF(ISBLANK(G10),\"  \",IF(ISBLANK(G11),\" \",IF(ISBLANK(G20),\" \",ROUND(G20/G10*100,0))))","v":"  "},null,{"$f":"IF(ISBLANK(I10),\"  \",IF(ISBLANK(I11),\" \",IF(ISBLANK(I20),\" \",ROUND(I20/I10*100,0))))","v":"  "},null,{"$f":"IF(ISBLANK(K10),\"  \",IF(ISBLANK(K11),\" \",IF(ISBLANK(K20),\" \",ROUND(K20/K10*100,0))))","v":"  "},null,{"$f":"IF(ISBLANK(M10),\"  \",IF(ISBLANK(M11),\" \",IF(ISBLANK(M20),\" \",ROUND(M20/M10*100,0))))","v":"  "}]
[0.25,null,null,{"$f":"IF(ISBLANK(C10),\"  \",IF(ISBLANK(C11),\" \",IF(ISBLANK(C21),\" \",ROUND(C21/C10*100,0))))","v":"  "},null,{"$f":"IF(ISBLANK(E10),\"  \",IF(ISBLANK(E11),\" \",IF(ISBLANK(E21),\" \",ROUND(E21/E10*100,0))))","v":"  "},null,{"$f":"IF(ISBLANK(G10),\"  \",IF(ISBLANK(G11),\" \",IF(ISBLANK(G21),\" \",ROUND(G21/G10*100,0))))","v":"  "},null,{"$f":"IF(ISBLANK(I10),\"  \",IF(ISBLANK(I11),\" \",IF(ISBLANK(I21),\" \",ROUND(I21/I10*100,0))))","v":"  "},null,{"$f":"IF(ISBLANK(K10),\"  \",IF(ISBLANK(K11),\" \",IF(ISBLANK(K21),\" \",ROUND(K21/K10*100,0))))","v":"  "},null,{"$f":"IF(ISBLANK(M10),\"  \",IF(ISBLANK(M11),\" \",IF(ISBLANK(M21),\" \",ROUND(M21/M10*100,0))))","v":"  "}]
[4,null,null,{"$f":"IF(ISBLANK(C10),\"  \",IF(ISBLANK(C11),\" \",IF(ISBLANK(C22),\" \",ROUND(C22/C10*100,0))))","v":"  "},null,{"$f":"IF(ISBLANK(E10),\"  \",IF(ISBLANK(E11),\" \",IF(ISBLANK(E22),\" \",ROUND(E22/E10*100,0))))","v":"  "},null,{"$f":"IF(ISBLANK(G10),\"  \",IF(ISBLANK(G11),\" \",IF(ISBLANK(G22),\" \",ROUND(G22/G10*100,0))))","v":"  "},null,{"$f":"IF(ISBLANK(I10),\"  \",IF(ISBLANK(I11),\" \",IF(ISBLANK(I22),\" \",ROUND(I22/I10*100,0))))","v":"  "},null,{"$f":"IF(ISBLANK(K10),\"  \",IF(ISBLANK(K11),\" \",IF(ISBLANK(K22),\" \",ROUND(K22/K10*100,0))))","v":"  "},null,{"$f":"IF(ISBLANK(M10),\"  \",IF(ISBLANK(M11),\" \",IF(ISBLANK(M22),\" \",ROUND(M22/M10*100,0))))","v":"  "}]
["Split St. Wt.",null,null,"% Loss",null,"% Loss",null,"% Loss",null,"% Loss",null,"% Loss",null,"% Loss"]
["Split Ending Wt.",null,null,{"$f":"IF(ISBLANK(C24),\"\",(C23-C24)/C23*100)","v":""},null,{"$f":"IF(ISBLANK(E24),\"\",(E23-E24)/E23*100)","v":""},null,{"$f":"IF(ISBLANK(G24),\"\",(G23-G24)/G23*100)","v":""},null,{"$f":"IF(ISBLANK(I24),\"\",(I23-I24)/I23*100)","v":""},null,{"$f":"IF(ISBLANK(K24),\"\",(K23-K24)/K23*100)","v":""},null,{"$f":"IF(ISBLANK(M24),\"\",(M23-M24)/M23*100)","v":""}]
[8,null,null,{"$f":"IF(ISBLANK(C10),\"  \",IF(ISBLANK(C22),\" \",IF(ISBLANK(C23),\" \",ROUND((C22/C23*C25)/C10*100,0))))","v":"  "},null,{"$f":"IF(ISBLANK(E10),\"  \",IF(ISBLANK(E22),\" \",IF(ISBLANK(E23),\" \",(E22/E23*E25)/E10*100)))","v":"  "},null,{"$f":"IF(ISBLANK(G10),\"  \",IF(ISBLANK(G22),\" \",IF(ISBLANK(G23),\" \",(G22/G23*G25)/G10*100)))","v":"  "},null,{"$f":"IF(ISBLANK(I10),\"  \",IF(ISBLANK(I22),\" \",IF(ISBLANK(I23),\" \",(I22/I23*I25)/I10*100)))","v":"  "},null,{"$f":"IF(ISBLANK(K10),\"  \",IF(ISBLANK(K22),\" \",IF(ISBLANK(K23),\" \",(K22/K23*K25)/K10*100)))","v":"  "},null,{"$f":"IF(ISBLANK(M10),\"  \",IF(ISBLANK(M22),\" \",IF(ISBLANK(M23),\" \",(M22/M23*M25)/M10*100)))","v":"  "}]
[16,null,null,{"$f":"IF(ISBLANK(C10),\"  \",IF(ISBLANK(C22),\" \",IF(ISBLANK(C23),\" \",(C22/C23*C26)/C10*100)))","v":"  "},null,{"$f":"IF(ISBLANK(E10),\"  \",IF(ISBLANK(E22),\" \",IF(ISBLANK(E23),\" \",(E22/E23*E26)/E10*100)))","v":"  "},null,{"$f":"IF(ISBLANK(G10),\"  \",IF(ISBLANK(G22),\" \",IF(ISBLANK(G23),\" \",(G22/G23*G26)/G10*100)))","v":"  "},null,{"$f":"IF(ISBLANK(I10),\"  \",IF(ISBLANK(I22),\" \",IF(ISBLANK(I23),\" \",(I22/I23*I26)/I10*100)))","v":"  "},null,{"$f":"IF(ISBLANK(K10),\"  \",IF(ISBLANK(K22),\" \",IF(ISBLANK(K23),\" \",(K22/K23*K26)/K10*100)))","v":"  "},null,{"$f":"IF(ISBLANK(M10),\"  \",IF(ISBLANK(M22),\" \",IF(ISBLANK(M23),\" \",(M22/M23*M26)/M10*100)))","v":"  "}]
[30,null,null,{"$f":"IF(ISBLANK(C10),\"  \",IF(ISBLANK(C22),\" \",IF(ISBLANK(C23),\" \",(C22/C23*C27)/C10*100)))","v":"  "},null,{"$f":"IF(ISBLANK(E10),\"  \",IF(ISBLANK(E22),\" \",IF(ISBLANK(E23),\" \",(E22/E23*E27)/E10*100)))","v":"  "},null,{"$f":"IF(ISBLANK(G10),\"  \",IF(ISBLANK(G22),\" \",IF(ISBLANK(G23),\" \",(G22/G23*G27)/G10*100)))","v":"  "},null,{"$f":"IF(ISBLANK(I10),\"  \",IF(ISBLANK(I22),\" \",IF(ISBLANK(I23),\" \",(I22/I23*I27)/I10*100)))","v":"  "},null,{"$f":"IF(ISBLANK(K10),\"  \",IF(ISBLANK(K22),\" \",IF(ISBLANK(K23),\" \",(K22/K23*K27)/K10*100)))","v":"  "},null,{"$f":"IF(ISBLANK(M10),\"  \",IF(ISBLANK(M22),\" \",IF(ISBLANK(M23),\" \",(M22/M23*M27)/M10*100)))","v":"  "}]
[50,null,null,{"$f":"IF(ISBLANK(C10),\"  \",IF(ISBLANK(C22),\" \",IF(ISBLANK(C23),\" \",(C22/C23*C28)/C10*100)))","v":"  "},null,{"$f":"IF(ISBLANK(E10),\"  \",IF(ISBLANK(E22),\" \",IF(ISBLANK(E23),\" \",(E22/E23*E28)/E10*100)))","v":"  "},null,{"$f":"IF(ISBLANK(G10),\"  \",IF(ISBLANK(G22),\" \",IF(ISBLANK(G23),\" \",(G22/G23*G28)/G10*100)))","v":"  "},null,{"$f":"IF(ISBLANK(I10),\"  \",IF(ISBLANK(I22),\" \",IF(ISBLANK(I23),\" \",(I22/I23*I28)/I10*100)))","v":"  "},null,{"$f":"IF(ISBLANK(K10),\"  \",IF(ISBLANK(K22),\" \",IF(ISBLANK(K23),\" \",(K22/K23*K28)/K10*100)))","v":"  "},null,{"$f":"IF(ISBLANK(M10),\"  \",IF(ISBLANK(M22),\" \",IF(ISBLANK(M23),\" \",(M22/M23*M28)/M10*100)))","v":"  "}]
[100,null,null,{"$f":"IF(ISBLANK(C10),\"  \",IF(ISBLANK(C22),\" \",IF(ISBLANK(C23),\" \",(C22/C23*C29)/C10*100)))","v":"  "},null,{"$f":"IF(ISBLANK(E10),\"  \",IF(ISBLANK(E22),\" \",IF(ISBLANK(E23),\" \",(E22/E23*E29)/E10*100)))","v":"  "},null,{"$f":"IF(ISBLANK(G10),\"  \",IF(ISBLANK(G22),\" \",IF(ISBLANK(G23),\" \",(G22/G23*G29)/G10*100)))","v":"  "},null,{"$f":"IF(ISBLANK(I10),\"  \",IF(ISBLANK(I22),\" \",IF(ISBLANK(I23),\" \",(I22/I23*I29)/I10*100)))","v":"  "},null,{"$f":"IF(ISBLANK(K10),\"  \",IF(ISBLANK(K22),\" \",IF(ISBLANK(K23),\" \",(K22/K23*K29)/K10*100)))","v":"  "},null,{"$f":"IF(ISBLANK(M10),\"  \",IF(ISBLANK(M22),\" \",IF(ISBLANK(M23),\" \",(M22/M23*M29)/M10*100)))","v":"  "}]
[200,null,null,{"$f":"IF(ISBLANK(C10),\"  \",IF(ISBLANK(C22),\" \",IF(ISBLANK(C23),\" \",(C22/C23*C30)/C10*100)))","v":"  "},null,{"$f":"IF(ISBLANK(E10),\"  \",IF(ISBLANK(E22),\" \",IF(ISBLANK(E23),\" \",(E22/E23*E30)/E10*100)))","v":"  "},null,{"$f":"IF(ISBLANK(G10),\"  \",IF(ISBLANK(G22),\" \",IF(ISBLANK(G23),\" \",(G22/G23*G30)/G10*100)))","v":"  "},null,{"$f":"IF(ISBLANK(I10),\"  \",IF(ISBLANK(I22),\" \",IF(ISBLANK(I23),\" \",(I22/I23*I30)/I10*100)))","v":"  "},null,{"$f":"IF(ISBLANK(K10),\"  \",IF(ISBLANK(K22),\" \",IF(ISBLANK(K23),\" \",(K22/K23*K30)/K10*100)))","v":"  "},null,{"$f":"IF(ISBLANK(M10),\"  \",IF(ISBLANK(M22),\" \",IF(ISBLANK(M23),\" \",(M22/M23*M30)/M10*100)))","v":"  "}]
["St. Wt. Before Wash",null,null,"% Passing",null,"% Passing",null,"% Passing",null,"% Passing",null,"% Passing",null,"% Passing"]
["End Wt. After Wash",null,null,{"$f":"IF(ISBLANK(C31),\"\",IF(ISBLANK(C32),\"\",((C31-C32)/C31)*100))","v":""},null,{"$f":"IF(ISBLANK(E31),\"\",IF(ISBLANK(E32),\"\",((E31-E32)/E31)*100))","v":""},null,{"$f":"IF(ISBLANK(G31),\"\",IF(ISBLANK(G32),\"\",((G31-G32)/G31)*100))","v":""},null,{"$f":"IF(ISBLANK(I31),\"\",IF(ISBLANK(I32),\"\",((I31-I32)/I31)*100))","v":""},null,{"$f":"IF(ISBLANK(K31),\"\",IF(ISBLANK(K32),\"\",((K31-K32)/K31)*100))","v":""},null,{"$f":"IF(ISBLANK(M31),\"\",IF(ISBLANK(M32),\"\",((M31-M32)/M31)*100))","v":""}]
["Tested By"]
["Remarks"]
[]
[]
[]
["Sample No.",null,43,null,44,null,45,null,46,null,47,null,48]
["Date"]
["Starting Wt",null,null,"% Loss",null,"% Loss",null,"% Loss",null,"% Loss",null,"% Loss",null,"% Loss"]
["Ending Wt",null,null,{"$f":"IF(ISBLANK(C41),\" \",((C40-C41)/C40)*100)","v":" "},null,{"$f":"IF(ISBLANK(E41),\" \",((E40-E41)/E40)*100)","v":" "},null,{"$f":"IF(ISBLANK(G41),\" \",((G40-G41)/G40)*100)","v":" "},null,{"$f":"IF(ISBLANK(I41),\" \",((I40-I41)/I40)*100)","v":" "},null,{"$f":"IF(ISBLANK(K41),\" \",((K40-K41)/K40)*100)","v":" "},null,{"$f":"IF(ISBLANK(M41),\" \",((M40-M41)/M40)*100)","v":" "}]
[null,null,"Wt","% Passing","Wt","% Passing","Wt","% Passing","Wt","% Passing","Wt","% Passing","Wt","% Passing"]
[2.5,null,null,{"$f":"IF(ISBLANK(C40),\"  \",IF(ISBLANK(C41),\" \",IF(ISBLANK(C43),\" \",ROUND(C43/C40*100,0))))","v":"  "},null,{"$f":"IF(ISBLANK(E40),\"  \",IF(ISBLANK(E41),\" \",IF(ISBLANK(E43),\" \",ROUND(E43/E40*100,0))))","v":"  "},null,{"$f":"IF(ISBLANK(G40),\"  \",IF(ISBLANK(G41),\" \",IF(ISBLANK(G43),\" \",ROUND(G43/G40*100,0))))","v":"  "},null,{"$f":"IF(ISBLANK(I40),\"  \",IF(ISBLANK(I41),\" \",IF(ISBLANK(I43),\" \",ROUND(I43/I40*100,0))))","v":"  "},null,{"$f":"IF(ISBLANK(K40),\"  \",IF(ISBLANK(K41),\" \",IF(ISBLANK(K43),\" \",ROUND(K43/K40*100,0))))","v":"  "},null,{"$f":"IF(ISBLANK(M40),\"  \",IF(ISBLANK(M41),\" \",IF(ISBLANK(M43),\" \",ROUND(M43/M40*100,0))))","v":"  "}]
[2,null,null,{"$f":"IF(ISBLANK(C40),\"  \",IF(ISBLANK(C41),\" \",IF(ISBLANK(C44),\" \",ROUND(C44/C40*100,0))))","v":"  "},null,{"$f":"IF(ISBLANK(E40),\"  \",IF(ISBLANK(E41),\" \",IF(ISBLANK(E44),\" \",ROUND(E44/E40*100,0))))","v":"  "},null,{"$f":"IF(ISBLANK(G40),\"  \",IF(ISBLANK(G41),\" \",IF(ISBLANK(G44),\" \",ROUND(G44/G40*100,0))))","v":"  "},null,{"$f":"IF(ISBLANK(I40),\"  \",IF(ISBLANK(I41),\" \",IF(ISBLANK(I44),\" \",ROUND(I44/I40*100,0))))","v":"  "},null,{"$f":"IF(ISBLANK(K40),\"  \",IF(ISBLANK(K41),\" \",IF(ISBLANK(K44),\" \",ROUND(K44/K40*100,0))))","v":"  "},null,{"$f":"IF(ISBLANK(M40),\"  \",IF(ISBLANK(M41),\" \",IF(ISBLANK(M44),\" \",ROUND(M44/M40*100,0))))","v":"  "}]
[1.5,null,null,{"$f":"IF(ISBLANK(C40),\"  \",IF(ISBLANK(C41),\" \",IF(ISBLANK(C45),\" \",ROUND(C45/C40*100,0))))","v":"  "},null,{"$f":"IF(ISBLANK(E40),\"  \",IF(ISBLANK(E41),\" \",IF(ISBLANK(E45),\" \",ROUND(E45/E40*100,0))))","v":"  "},null,{"$f":"IF(ISBLANK(G40),\"  \",IF(ISBLANK(G41),\" \",IF(ISBLANK(G45),\" \",ROUND(G45/G40*100,0))))","v":"  "},null,{"$f":"IF(ISBLANK(I40),\"  \",IF(ISBLANK(I41),\" \",IF(ISBLANK(I45),\" \",ROUND(I45/I40*100,0))))","v":"  "},null,{"$f":"IF(ISBLANK(K40),\"  \",IF(ISBLANK(K41),\" \",IF(ISBLANK(K45),\" \",ROUND(K45/K40*100,0))))","v":"  "},null,{"$f":"IF(ISBLANK(M40),\"  \",IF(ISBLANK(M41),\" \",IF(ISBLANK(M45),\" \",ROUND(M45/M40*100,0))))","v":"  "}]
[1,null,null,{"$f":"IF(ISBLANK(C40),\"  \",IF(ISBLANK(C41),\" \",IF(ISBLANK(C46),\" \",ROUND(C46/C40*100,0))))","v":"  "},null,{"$f":"IF(ISBLANK(E40),\"  \",IF(ISBLANK(E41),\" \",IF(ISBLANK(E46),\" \",ROUND(E46/E40*100,0))))","v":"  "},null,{"$f":"IF(ISBLANK(G40),\"  \",IF(ISBLANK(G41),\" \",IF(ISBLANK(G46),\" \",ROUND(G46/G40*100,0))))","v":"  "},null,{"$f":"IF(ISBLANK(I40),\"  \",IF(ISBLANK(I41),\" \",IF(ISBLANK(I46),\" \",ROUND(I46/I40*100,0))))","v":"  "},null,{"$f":"IF(ISBLANK(K40),\"  \",IF(ISBLANK(K41),\" \",IF(ISBLANK(K46),\" \",ROUND(K46/K40*100,0))))","v":"  "},null,{"$f":"IF(ISBLANK(M40),\"  \",IF(ISBLANK(M41),\" \",IF(ISBLANK(M46),\" \",ROUND(M46/M40*100,0))))","v":"  "}]
[0.75,null,null,{"$f":"IF(ISBLANK(C40),\"  \",IF(ISBLANK(C41),\" \",IF(ISBLANK(C47),\" \",ROUND(C47/C40*100,0))))","v":"  "},null,{"$f":"IF(ISBLANK(E40),\"  \",IF(ISBLANK(E41),\" \",IF(ISBLANK(E47),\" \",ROUND(E47/E40*100,0))))","v":"  "},null,{"$f":"IF(ISBLANK(G40),\"  \",IF(ISBLANK(G41),\" \",IF(ISBLANK(G47),\" \",ROUND(G47/G40*100,0))))","v":"  "},null,{"$f":"IF(ISBLANK(I40),\"  \",IF(ISBLANK(I41),\" \",IF(ISBLANK(I47),\" \",ROUND(I47/I40*100,0))))","v":"  "},null,{"$f":"IF(ISBLANK(K40),\"  \",IF(ISBLANK(K41),\" \",IF(ISBLANK(K47),\" \",ROUND(K47/K40*100,0))))","v":"  "},null,{"$f":"IF(ISBLANK(M40),\"  \",IF(ISBLANK(M41),\" \",IF(ISBLANK(M47),\" \",ROUND(M47/M40*100,0))))","v":"  "}]
[0.625,null,null,{"$f":"IF(ISBLANK(C40),\"  \",IF(ISBLANK(C41),\" \",IF(ISBLANK(C48),\" \",ROUND(C48/C40*100,0))))","v":"  "},null,{"$f":"IF(ISBLANK(E40),\"  \",IF(ISBLANK(E41),\" \",IF(ISBLANK(E48),\" \",ROUND(E48/E40*100,0))))","v":"  "},null,{"$f":"IF(ISBLANK(G40),\"  \",IF(ISBLANK(G41),\" \",IF(ISBLANK(G48),\" \",ROUND(G48/G40*100,0))))","v":"  "},null,{"$f":"IF(ISBLANK(I40),\"  \",IF(ISBLANK(I41),\" \",IF(ISBLANK(I48),\" \",ROUND(I48/I40*100,0))))","v":"  "},null,{"$f":"IF(ISBLANK(K40),\"  \",IF(ISBLANK(K41),\" \",IF(ISBLANK(K48),\" \",ROUND(K48/K40*100,0))))","v":"  "},null,{"$f":"IF(ISBLANK(M40),\"  \",IF(ISBLANK(M41),\" \",IF(ISBLANK(M48),\" \",ROUND(M48/M40*100,0))))","v":"  "}]
[0.5,null,null,{"$f":"IF(ISBLANK(C40),\"  \",IF(ISBLANK(C41),\" \",IF(ISBLANK(C49),\" \",ROUND(C49/C40*100,0))))","v":"  "},null,{"$f":"IF(ISBLANK(E40),\"  \",IF(ISBLANK(E41),\" \",IF(ISBLANK(E49),\" \",ROUND(E49/E40*100,0))))","v":"  "},null,{"$f":"IF(ISBLANK(G40),\"  \",IF(ISBLANK(G41),\" \",IF(ISBLANK(G49),\" \",ROUND(G49/G40*100,0))))","v":"  "},null,{"$f":"IF(ISBLANK(I40),\"  \",IF(ISBLANK(I41),\" \",IF(ISBLANK(I49),\" \",ROUND(I49/I40*100,0))))","v":"  "},null,{"$f":"IF(ISBLANK(K40),\"  \",IF(ISBLANK(K41),\" \",IF(ISBLANK(K49),\" \",ROUND(K49/K40*100,0))))","v":"  "},null,{"$f":"IF(ISBLANK(M40),\"  \",IF(ISBLANK(M41),\" \",IF(ISBLANK(M49),\" \",ROUND(M49/M40*100,0))))","v":"  "}]
[0.375,null,null,{"$f":"IF(ISBLANK(C40),\"  \",IF(ISBLANK(C41),\" \",IF(ISBLANK(C50),\" \",ROUND(C50/C40*100,0))))","v":"  "},null,{"$f":"IF(ISBLANK(E40),\"  \",IF(ISBLANK(E41),\" \",IF(ISBLANK(E50),\" \",ROUND(E50/E40*100,0))))","v":"  "},null,{"$f":"IF(ISBLANK(G40),\"  \",IF(ISBLANK(G41),\" \",IF(ISBLANK(G50),\" \",ROUND(G50/G40*100,0))))","v":"  "},null,{"$f":"IF(ISBLANK(I40),\"  \",IF(ISBLANK(I41),\" \",IF(ISBLANK(I50),\" \",ROUND(I50/I40*100,0))))","v":"  "},null,{"$f":"IF(ISBLANK(K40),\"  \",IF(ISBLANK(K41),\" \",IF(ISBLANK(K50),\" \",ROUND(K50/K40*100,0))))","v":"  "},null,{"$f":"IF(ISBLANK(M40),\"  \",IF(ISBLANK(M41),\" \",IF(ISBLANK(M50),\" \",ROUND(M50/M40*100,0))))","v":"  "}]
[0.25,null,null,{"$f":"IF(ISBLANK(C40),\"  \",IF(ISBLANK(C41),\" \",IF(ISBLANK(C51),\" \",ROUND(C51/C40*100,0))))","v":"  "},null,{"$f":"IF(ISBLANK(E40),\"  \",IF(ISBLANK(E41),\" \",IF(ISBLANK(E51),\" \",ROUND(E51/E40*100,0))))","v":"  "},null,{"$f":"IF(ISBLANK(G40),\"  \",IF(ISBLANK(G41),\" \",IF(ISBLANK(G51),\" \",ROUND(G51/G40*100,0))))","v":"  "},null,{"$f":"IF(ISBLANK(I40),\"  \",IF(ISBLANK(I41),\" \",IF(ISBLANK(I51),\" \",ROUND(I51/I40*100,0))))","v":"  "},null,{"$f":"IF(ISBLANK(K40),\"  \",IF(ISBLANK(K41),\" \",IF(ISBLANK(K51),\" \",ROUND(K51/K40*100,0))))","v":"  "},null,{"$f":"IF(ISBLANK(M40),\"  \",IF(ISBLANK(M41),\" \",IF(ISBLANK(M51),\" \",ROUND(M51/M40*100,0))))","v":"  "}]
[4,null,null,{"$f":"IF(ISBLANK(C40),\"  \",IF(ISBLANK(C41),\" \",IF(ISBLANK(C52),\" \",ROUND(C52/C40*100,0))))","v":"  "},null,{"$f":"IF(ISBLANK(E40),\"  \",IF(ISBLANK(E41),\" \",IF(ISBLANK(E52),\" \",ROUND(E52/E40*100,0))))","v":"  "},null,{"$f":"IF(ISBLANK(G40),\"  \",IF(ISBLANK(G41),\" \",IF(ISBLANK(G52),\" \",ROUND(G52/G40*100,0))))","v":"  "},null,{"$f":"IF(ISBLANK(I40),\"  \",IF(ISBLANK(I41),\" \",IF(ISBLANK(I52),\" \",ROUND(I52/I40*100,0))))","v":"  "},null,{"$f":"IF(ISBLANK(K40),\"  \",IF(ISBLANK(K41),\" \",IF(ISBLANK(K52),\" \",ROUND(K52/K40*100,0))))","v":"  "},null,{"$f":"IF(ISBLANK(M40),\"  \",IF(ISBLANK(M41),\" \",IF(ISBLANK(M52),\" \",ROUND(M52/M40*100,0))))","v":"  "}]
["Split St. Wt.",null,null,"% Loss",null,"% Loss",null,"% Loss",null,"% Loss",null,"% Loss",null,"% Loss"]
["Split Ending Wt.",null,null,{"$f":"IF(ISBLANK(C54),\"\",(C53-C54)/C53*100)","v":""},null,{"$f":"IF(ISBLANK(E54),\"\",(E53-E54)/E53*100)","v":""},null,{"$f":"IF(ISBLANK(G54),\"\",(G53-G54)/G53*100)","v":""},null,{"$f":"IF(ISBLANK(I54),\"\",(I53-I54)/I53*100)","v":""},null,{"$f":"IF(ISBLANK(K54),\"\",(K53-K54)/K53*100)","v":""},null,{"$f":"IF(ISBLANK(M54),\"\",(M53-M54)/M53*100)","v":""}]
[8,null,null,{"$f":"IF(ISBLANK(C40),\"  \",IF(ISBLANK(C52),\" \",IF(ISBLANK(C53),\" \",(C52/C53*C55)/C40*100)))","v":"  "},null,{"$f":"IF(ISBLANK(E40),\"  \",IF(ISBLANK(E52),\" \",IF(ISBLANK(E53),\" \",(E52/E53*E55)/E40*100)))","v":"  "},null,{"$f":"IF(ISBLANK(G40),\"  \",IF(ISBLANK(G52),\" \",IF(ISBLANK(G53),\" \",(G52/G53*G55)/G40*100)))","v":"  "},null,{"$f":"IF(ISBLANK(I40),\"  \",IF(ISBLANK(I52),\" \",IF(ISBLANK(I53),\" \",(I52/I53*I55)/I40*100)))","v":"  "},null,{"$f":"IF(ISBLANK(K40),\"  \",IF(ISBLANK(K52),\" \",IF(ISBLANK(K53),\" \",(K52/K53*K55)/K40*100)))","v":"  "},null,{"$f":"IF(ISBLANK(M40),\"  \",IF(ISBLANK(M52),\" \",IF(ISBLANK(M53),\" \",(M52/M53*M55)/M40*100)))","v":"  "}]
[16,null,null,{"$f":"IF(ISBLANK(C40),\"  \",IF(ISBLANK(C52),\" \",IF(ISBLANK(C53),\" \",(C52/C53*C56)/C40*100)))","v":"  "},null,{"$f":"IF(ISBLANK(E40),\"  \",IF(ISBLANK(E52),\" \",IF(ISBLANK(E53),\" \",(E52/E53*E56)/E40*100)))","v":"  "},null,{"$f":"IF(ISBLANK(G40),\"  \",IF(ISBLANK(G52),\" \",IF(ISBLANK(G53),\" \",(G52/G53*G56)/G40*100)))","v":"  "},null,{"$f":"IF(ISBLANK(I40),\"  \",IF(ISBLANK(I52),\" \",IF(ISBLANK(I53),\" \",(I52/I53*I56)/I40*100)))","v":"  "},null,{"$f":"IF(ISBLANK(K40),\"  \",IF(ISBLANK(K52),\" \",IF(ISBLANK(K53),\" \",(K52/K53*K56)/K40*100)))","v":"  "},null,{"$f":"IF(ISBLANK(M40),\"  \",IF(ISBLANK(M52),\" \",IF(ISBLANK(M53),\" \",(M52/M53*M56)/M40*100)))","v":"  "}]
[30,null,null,{"$f":"IF(ISBLANK(C40),\"  \",IF(ISBLANK(C52),\" \",IF(ISBLANK(C53),\" \",(C52/C53*C57)/C40*100)))","v":"  "},null,{"$f":"IF(ISBLANK(E40),\"  \",IF(ISBLANK(E52),\" \",IF(ISBLANK(E53),\" \",(E52/E53*E57)/E40*100)))","v":"  "},null,{"$f":"IF(ISBLANK(G40),\"  \",IF(ISBLANK(G52),\" \",IF(ISBLANK(G53),\" \",(G52/G53*G57)/G40*100)))","v":"  "},null,{"$f":"IF(ISBLANK(I40),\"  \",IF(ISBLANK(I52),\" \",IF(ISBLANK(I53),\" \",(I52/I53*I57)/I40*100)))","v":"  "},null,{"$f":"IF(ISBLANK(K40),\"  \",IF(ISBLANK(K52),\" \",IF(ISBLANK(K53),\" \",(K52/K53*K57)/K40*100)))","v":"  "},null,{"$f":"IF(ISBLANK(M40),\"  \",IF(ISBLANK(M52),\" \",IF(ISBLANK(M53),\" \",(M52/M53*M57)/M40*100)))","v":"  "}]
[50,null,null,{"$f":"IF(ISBLANK(C40),\"  \",IF(ISBLANK(C52),\" \",IF(ISBLANK(C53),\" \",(C52/C53*C58)/C40*100)))","v":"  "},null,{"$f":"IF(ISBLANK(E40),\"  \",IF(ISBLANK(E52),\" \",IF(ISBLANK(E53),\" \",(E52/E53*E58)/E40*100)))","v":"  "},null,{"$f":"IF(ISBLANK(G40),\"  \",IF(ISBLANK(G52),\" \",IF(ISBLANK(G53),\" \",(G52/G53*G58)/G40*100)))","v":"  "},null,{"$f":"IF(ISBLANK(I40),\"  \",IF(ISBLANK(I52),\" \",IF(ISBLANK(I53),\" \",(I52/I53*I58)/I40*100)))","v":"  "},null,{"$f":"IF(ISBLANK(K40),\"  \",IF(ISBLANK(K52),\" \",IF(ISBLANK(K53),\" \",(K52/K53*K58)/K40*100)))","v":"  "},null,{"$f":"IF(ISBLANK(M40),\"  \",IF(ISBLANK(M52),\" \",IF(ISBLANK(M53),\" \",(M52/M53*M58)/M40*100)))","v":"  "}]
[100,null,null,{"$f":"IF(ISBLANK(C40),\"  \",IF(ISBLANK(C52),\" \",IF(ISBLANK(C53),\" \",(C52/C53*C59)/C40*100)))","v":"  "},null,{"$f":"IF(ISBLANK(E40),\"  \",IF(ISBLANK(E52),\" \",IF(ISBLANK(E53),\" \",(E52/E53*E59)/E40*100)))","v":"  "},null,{"$f":"IF(ISBLANK(G40),\"  \",IF(ISBLANK(G52),\" \",IF(ISBLANK(G53),\" \",(G52/G53*G59)/G40*100)))","v":"  "},null,{"$f":"IF(ISBLANK(I40),\"  \",IF(ISBLANK(I52),\" \",IF(ISBLANK(I53),\" \",(I52/I53*I59)/I40*100)))","v":"  "},null,{"$f":"IF(ISBLANK(K40),\"  \",IF(ISBLANK(K52),\" \",IF(ISBLANK(K53),\" \",(K52/K53*K59)/K40*100)))","v":"  "},null,{"$f":"IF(ISBLANK(M40),\"  \",IF(ISBLANK(M52),\" \",IF(ISBLANK(M53),\" \",(M52/M53*M59)/M40*100)))","v":"  "}]
[200,null,null,{"$f":"IF(ISBLANK(C40),\"  \",IF(ISBLANK(C52),\" \",IF(ISBLANK(C53),\" \",(C52/C53*C60)/C40*100)))","v":"  "},null,{"$f":"IF(ISBLANK(E40),\"  \",IF(ISBLANK(E52),\" \",IF(ISBLANK(E53),\" \",(E52/E53*E60)/E40*100)))","v":"  "},null,{"$f":"IF(ISBLANK(G40),\"  \",IF(ISBLANK(G52),\" \",IF(ISBLANK(G53),\" \",(G52/G53*G60)/G40*100)))","v":"  "},null,{"$f":"IF(ISBLANK(I40),\"  \",IF(ISBLANK(I52),\" \",IF(ISBLANK(I53),\" \",(I52/I53*I60)/I40*100)))","v":"  "},null,{"$f":"IF(ISBLANK(K40),\"  \",IF(ISBLANK(K52),\" \",IF(ISBLANK(K53),\" \",(K52/K53*K60)/K40*100)))","v":"  "},null,{"$f":"IF(ISBLANK(M40),\"  \",IF(ISBLANK(M52),\" \",IF(ISBLANK(M53),\" \",(M52/M53*M60)/M40*100)))","v":"  "}]
["St. Wt. Before Wash",null,null,"% Passing",null,"% Passing",null,"% Passing",null,"% Passing",null,"% Passing",null,"% Passing"]
["End Wt. After Wash",null,null,{"$f":"IF(ISBLANK(C61),\"\",IF(ISBLANK(C62),\"\",((C61-C62)/C61)*100))","v":""},null,{"$f":"IF(ISBLANK(E61),\"\",IF(ISBLANK(E62),\"\",((E61-E62)/E61)*100))","v":""},null,{"$f":"IF(ISBLANK(G61),\"\",IF(ISBLANK(G62),\"\",((G61-G62)/G61)*100))","v":""},null,{"$f":"IF(ISBLANK(I61),\"\",IF(ISBLANK(I62),\"\",((I61-I62)/I61)*100))","v":""},null,{"$f":"IF(ISBLANK(K61),\"\",IF(ISBLANK(K62),\"\",((K61-K62)/K61)*100))","v":""},null,{"$f":"IF(ISBLANK(M61),\"\",IF(ISBLANK(M62),\"\",((M61-M62)/M61)*100))","v":""}]
["Tested By"]
["Remarks"]
[]
[]
[]
[null,null,{"$f":"MAX(C43:C58)","v":0},null,{"$f":"MAX(E43:E58)","v":0},null,{"$f":"MAX(G43:G58)","v":0},null,{"$f":"MAX(I43:I58)","v":0},null,{"$f":"MAX(K43:K58)","v":0},null,{"$f":"MAX(M43:M58)","v":0}]

{"sheet":"Split 5","index":26,"n_rows":68,"n_cols":14,"rows_kept":68,"cut":false,"hidden":true,"merged":[[62,12,62,13],[63,0,65,1],[63,2,65,3],[63,4,65,5],[63,6,65,7],[63,8,65,9],[63,10,65,11],[63,12,65,13],[62,0,62,1],[62,2,62,3],[62,4,62,5],[62,6,62,7],[62,8,62,9],[62,10,62,11],[56,0,56,1],[57,0,57,1],[58,0,58,1],[59,0,59,1],[60,0,60,1],[61,0,61,1],[50,0,50,1],[51,0,51,1],[52,0,52,1],[53,0,53,1],[54,0,54,1],[55,0,55,1],[44,0,44,1],[45,0,45,1],[46,0,46,1],[47,0,47,1],[48,0,48,1],[49,0,49,1],[38,12,38,13],[39,0,39,1],[40,0,40,1],[41,0,41,1],[42,0,42,1],[43,0,43,1],[38,0,38,1],[38,2,38,3],[38,4,38,5],[38,6,38,7],[38,8,38,9],[38,10,38,11],[33,12,35,13],[37,0,37,1],[37,2,37,3],[37,4,37,5],[37,6,37,7],[37,8,37,9],[37,10,37,11],[37,12,37,13],[33,0,35,1],[33,2,35,3],[33,4,35,5],[33,6,35,7],[33,8,35,9],[33,10,35,11],[32,2,32,3],[32,4,32,5],[32,6,32,7],[32,8,32,9],[32,10,32,11],[32,12,32,13],[27,0,27,1],[28,0,28,1],[29,0,29,1],[30,0,30,1],[31,0,31,1],[32,0,32,1],[21,0,21,1],[22,0,22,1],[23,0,23,1],[24,0,24,1],[25,0,25,1],[26,0,26,1],[15,0,15,1],[16,0,16,1],[17,0,17,1],[18,0,18,1],[19,0,19,1],[20,0,20,1],[9,0,9,1],[10,0,10,1],[11,0,11,1],[12,0,12,1],[13,0,13,1],[14,0,14,1],[7,12,7,13],[8,0,8,1],[8,2,8,3],[8,4,8,5],[8,6,8,7],[8,8,8,9],[8,10,8,11],[8,12,8,13],[3,12,3,13],[4,10,4,11],[4,12,4,13],[5,3,5,11],[7,0,7,1],[7,2,7,3],[7,4,7,5],[7,6,7,7],[7,8,7,9],[7,10,7,11],[0,0,3,1],[1,2,1,7],[1,10,1,11],[1,12,1,13],[2,2,2,7],[2,10,2,11],[2,12,2,13],[3,2,3,3],[3,6,3,7],[3,10,3,11]]}
[]
[null,null,"COMMONWEALTH OF PENNSYLVANIA",null,null,null,null,null,null,null,"District"]
[null,null,"DEPARTMENT OF TRANSPORTATION",null,null,null,null,null,null,null,"Plant Code"]
[null,null,{"$f":"'S1'!$A$6","v":"Aggregate 2023"},null,null,null,null,null,null,null,"Agg. Size"]
[]
[null,null,null,"Material Test Results"]
[]
["Sample No.",null,49,null,50,null,51,null,52,null,53,null,54]
["Date"]
["Starting Wt",null,null,"% Loss",null,"% Loss",null,"% Loss",null,"% Loss",null,"% Loss",null,"% Loss"]
["Ending Wt",null,null,{"$f":"IF(ISBLANK(C11),\" \",((C10-C11)/C10)*100)","v":" "},null,{"$f":"IF(ISBLANK(E11),\" \",((E10-E11)/E10)*100)","v":" "},null,{"$f":"IF(ISBLANK(G11),\" \",((G10-G11)/G10)*100)","v":" "},null,{"$f":"IF(ISBLANK(I11),\" \",((I10-I11)/I10)*100)","v":" "},null,{"$f":"IF(ISBLANK(K11),\" \",((K10-K11)/K10)*100)","v":" "},null,{"$f":"IF(ISBLANK(M11),\" \",((M10-M11)/M10)*100)","v":" "}]
[null,null,"Wt","% Passing","Wt","% Passing","Wt","% Passing","Wt","% Passing","Wt","% Passing","Wt","% Passing"]
[2.5,null,null,{"$f":"IF(ISBLANK(C10),\"  \",IF(ISBLANK(C11),\" \",IF(ISBLANK(C13),\" \",ROUND(C13/C10*100,0))))","v":"  "},null,{"$f":"IF(ISBLANK(E10),\"  \",IF(ISBLANK(E11),\" \",IF(ISBLANK(E13),\" \",ROUND(E13/E10*100,0))))","v":"  "},null,{"$f":"IF(ISBLANK(G10),\"  \",IF(ISBLANK(G11),\" \",IF(ISBLANK(G13),\" \",ROUND(G13/G10*100,0))))","v":"  "},null,{"$f":"IF(ISBLANK(I10),\"  \",IF(ISBLANK(I11),\" \",IF(ISBLANK(I13),\" \",ROUND(I13/I10*100,0))))","v":"  "},null,{"$f":"IF(ISBLANK(K10),\"  \",IF(ISBLANK(K11),\" \",IF(ISBLANK(K13),\" \",ROUND(K13/K10*100,0))))","v":"  "},null,{"$f":"IF(ISBLANK(M10),\"  \",IF(ISBLANK(M11),\" \",IF(ISBLANK(M13),\" \",ROUND(M13/M10*100,0))))","v":"  "}]
[2,null,null,{"$f":"IF(ISBLANK(C10),\"  \",IF(ISBLANK(C11),\" \",IF(ISBLANK(C14),\" \",ROUND(C14/C10*100,0))))","v":"  "},null,{"$f":"IF(ISBLANK(E10),\"  \",IF(ISBLANK(E11),\" \",IF(ISBLANK(E14),\" \",ROUND(E14/E10*100,0))))","v":"  "},null,{"$f":"IF(ISBLANK(G10),\"  \",IF(ISBLANK(G11),\" \",IF(ISBLANK(G14),\" \",ROUND(G14/G10*100,0))))","v":"  "},null,{"$f":"IF(ISBLANK(I10),\"  \",IF(ISBLANK(I11),\" \",IF(ISBLANK(I14),\" \",ROUND(I14/I10*100,0))))","v":"  "},null,{"$f":"IF(ISBLANK(K10),\"  \",IF(ISBLANK(K11),\" \",IF(ISBLANK(K14),\" \",ROUND(K14/K10*100,0))))","v":"  "},null,{"$f":"IF(ISBLANK(M10),\"  \",IF(ISBLANK(M11),\" \",IF(ISBLANK(M14),\" \",ROUND(M14/M10*100,0))))","v":"  "}]
[1.5,null,null,{"$f":"IF(ISBLANK(C10),\"  \",IF(ISBLANK(C11),\" \",IF(ISBLANK(C15),\" \",ROUND(C15/C10*100,0))))","v":"  "},null,{"$f":"IF(ISBLANK(E10),\"  \",IF(ISBLANK(E11),\" \",IF(ISBLANK(E15),\" \",ROUND(E15/E10*100,0))))","v":"  "},null,{"$f":"IF(ISBLANK(G10),\"  \",IF(ISBLANK(G11),\" \",IF(ISBLANK(G15),\" \",ROUND(G15/G10*100,0))))","v":"  "},null,{"$f":"IF(ISBLANK(I10),\"  \",IF(ISBLANK(I11),\" \",IF(ISBLANK(I15),\" \",ROUND(I15/I10*100,0))))","v":"  "},null,{"$f":"IF(ISBLANK(K10),\"  \",IF(ISBLANK(K11),\" \",IF(ISBLANK(K15),\" \",ROUND(K15/K10*100,0))))","v":"  "},null,{"$f":"IF(ISBLANK(M10),\"  \",IF(ISBLANK(M11),\" \",IF(ISBLANK(M15),\" \",ROUND(M15/M10*100,0))))","v":"  "}]
[1,null,null,{"$f":"IF(ISBLANK(C10),\"  \",IF(ISBLANK(C11),\" \",IF(ISBLANK(C16),\" \",ROUND(C16/C10*100,0))))","v":"  "},null,{"$f":"IF(ISBLANK(E10),\"  \",IF(ISBLANK(E11),\" \",IF(ISBLANK(E16),\" \",ROUND(E16/E10*100,0))))","v":"  "},null,{"$f":"IF(ISBLANK(G10),\"  \",IF(ISBLANK(G11),\" \",IF(ISBLANK(G16),\" \",ROUND(G16/G10*100,0))))","v":"  "},null,{"$f":"IF(ISBLANK(I10),\"  \",IF(ISBLANK(I11),\" \",IF(ISBLANK(I16),\" \",ROUND(I16/I10*100,0))))","v":"  "},null,{"$f":"IF(ISBLANK(K10),\"  \",IF(ISBLANK(K11),\" \",IF(ISBLANK(K16),\" \",ROUND(K16/K10*100,0))))","v":"  "},null,{"$f":"IF(ISBLANK(M10),\"  \",IF(ISBLANK(M11),\" \",IF(ISBLANK(M16),\" \",ROUND(M16/M10*100,0))))","v":"  "}]
[0.75,null,null,{"$f":"IF(ISBLANK(C10),\"  \",IF(ISBLANK(C11),\" \",IF(ISBLANK(C17),\" \",ROUND(C17/C10*100,0))))","v":"  "},null,{"$f":"IF(ISBLANK(E10),\"  \",IF(ISBLANK(E11),\" \",IF(ISBLANK(E17),\" \",ROUND(E17/E10*100,0))))","v":"  "},null,{"$f":"IF(ISBLANK(G10),\"  \",IF(ISBLANK(G11),\" \",IF(ISBLANK(G17),\" \",ROUND(G17/G10*100,0))))","v":"  "},null,{"$f":"IF(ISBLANK(I10),\"  \",IF(ISBLANK(I11),\" \",IF(ISBLANK(I17),\" \",ROUND(I17/I10*100,0))))","v":"  "},null,{"$f":"IF(ISBLANK(K10),\"  \",IF(ISBLANK(K11),\" \",IF(ISBLANK(K17),\" \",ROUND(K17/K10*100,0))))","v":"  "},null,{"$f":"IF(ISBLANK(M10),\"  \",IF(ISBLANK(M11),\" \",IF(ISBLANK(M17),\" \",ROUND(M17/M10*100,0))))","v":"  "}]
[0.625,null,null,{"$f":"IF(ISBLANK(C10),\"  \",IF(ISBLANK(C11),\" \",IF(ISBLANK(C18),\" \",ROUND(C18/C10*100,0))))","v":"  "},null,{"$f":"IF(ISBLANK(E10),\"  \",IF(ISBLANK(E11),\" \",IF(ISBLANK(E18),\" \",ROUND(E18/E10*100,0))))","v":"  "},null,{"$f":"IF(ISBLANK(G10),\"  \",IF(ISBLANK(G11),\" \",IF(ISBLANK(G18),\" \",ROUND(G18/G10*100,0))))","v":"  "},null,{"$f":"IF(ISBLANK(I10),\"  \",IF(ISBLANK(I11),\" \",IF(ISBLANK(I18),\" \",ROUND(I18/I10*100,0))))","v":"  "},null,{"$f":"IF(ISBLANK(K10),\"  \",IF(ISBLANK(K11),\" \",IF(ISBLANK(K18),\" \",ROUND(K18/K10*100,0))))","v":"  "},null,{"$f":"IF(ISBLANK(M10),\"  \",IF(ISBLANK(M11),\" \",IF(ISBLANK(M18),\" \",ROUND(M18/M10*100,0))))","v":"  "}]
[0.5,null,null,{"$f":"IF(ISBLANK(C10),\"  \",IF(ISBLANK(C11),\" \",IF(ISBLANK(C19),\" \",ROUND(C19/C10*100,0))))","v":"  "},null,{"$f":"IF(ISBLANK(E10),\"  \",IF(ISBLANK(E11),\" \",IF(ISBLANK(E19),\" \",ROUND(E19/E10*100,0))))","v":"  "},null,{"$f":"IF(ISBLANK(G10),\"  \",IF(ISBLANK(G11),\" \",IF(ISBLANK(G19),\" \",ROUND(G19/G10*100,0))))","v":"  "},null,{"$f":"IF(ISBLANK(I10),\"  \",IF(ISBLANK(I11),\" \",IF(ISBLANK(I19),\" \",ROUND(I19/I10*100,0))))","v":"  "},null,{"$f":"IF(ISBLANK(K10),\"  \",IF(ISBLANK(K11),\" \",IF(ISBLANK(K19),\" \",ROUND(K19/K10*100,0))))","v":"  "},null,{"$f":"IF(ISBLANK(M10),\"  \",IF(ISBLANK(M11),\" \",IF(ISBLANK(M19),\" \",ROUND(M19/M10*100,0))))","v":"  "}]
[0.375,null,null,{"$f":"IF(ISBLANK(C10),\"  \",IF(ISBLANK(C11),\" \",IF(ISBLANK(C20),\" \",ROUND(C20/C10*100,0))))","v":"  "},null,{"$f":"IF(ISBLANK(E10),\"  \",IF(ISBLANK(E11),\" \",IF(ISBLANK(E20),\" \",ROUND(E20/E10*100,0))))","v":"  "},null,{"$f":"IF(ISBLANK(G10),\"  \",IF(ISBLANK(G11),\" \",IF(ISBLANK(G20),\" \",ROUND(G20/G10*100,0))))","v":"  "},null,{"$f":"IF(ISBLANK(I10),\"  \",IF(ISBLANK(I11),\" \",IF(ISBLANK(I20),\" \",ROUND(I20/I10*100,0))))","v":"  "},null,{"$f":"IF(ISBLANK(K10),\"  \",IF(ISBLANK(K11),\" \",IF(ISBLANK(K20),\" \",ROUND(K20/K10*100,0))))","v":"  "},null,{"$f":"IF(ISBLANK(M10),\"  \",IF(ISBLANK(M11),\" \",IF(ISBLANK(M20),\" \",ROUND(M20/M10*100,0))))","v":"  "}]
[0.25,null,null,{"$f":"IF(ISBLANK(C10),\"  \",IF(ISBLANK(C11),\" \",IF(ISBLANK(C21),\" \",ROUND(C21/C10*100,0))))","v":"  "},null,{"$f":"IF(ISBLANK(E10),\"  \",IF(ISBLANK(E11),\" \",IF(ISBLANK(E21),\" \",ROUND(E21/E10*100,0))))","v":"  "},null,{"$f":"IF(ISBLANK(G10),\"  \",IF(ISBLANK(G11),\" \",IF(ISBLANK(G21),\" \",ROUND(G21/G10*100,0))))","v":"  "},null,{"$f":"IF(ISBLANK(I10),\"  \",IF(ISBLANK(I11),\" \",IF(ISBLANK(I21),\" \",ROUND(I21/I10*100,0))))","v":"  "},null,{"$f":"IF(ISBLANK(K10),\"  \",IF(ISBLANK(K11),\" \",IF(ISBLANK(K21),\" \",ROUND(K21/K10*100,0))))","v":"  "},null,{"$f":"IF(ISBLANK(M10),\"  \",IF(ISBLANK(M11),\" \",IF(ISBLANK(M21),\" \",ROUND(M21/M10*100,0))))","v":"  "}]
[4,null,null,{"$f":"IF(ISBLANK(C10),\"  \",IF(ISBLANK(C11),\" \",IF(ISBLANK(C22),\" \",ROUND(C22/C10*100,0))))","v":"  "},null,{"$f":"IF(ISBLANK(E10),\"  \",IF(ISBLANK(E11),\" \",IF(ISBLANK(E22),\" \",ROUND(E22/E10*100,0))))","v":"  "},null,{"$f":"IF(ISBLANK(G10),\"  \",IF(ISBLANK(G11),\" \",IF(ISBLANK(G22),\" \",ROUND(G22/G10*100,0))))","v":"  "},null,{"$f":"IF(ISBLANK(I10),\"  \",IF(ISBLANK(I11),\" \",IF(ISBLANK(I22),\" \",ROUND(I22/I10*100,0))))","v":"  "},null,{"$f":"IF(ISBLANK(K10),\"  \",IF(ISBLANK(K11),\" \",IF(ISBLANK(K22),\" \",ROUND(K22/K10*100,0))))","v":"  "},null,{"$f":"IF(ISBLANK(M10),\"  \",IF(ISBLANK(M11),\" \",IF(ISBLANK(M22),\" \",ROUND(M22/M10*100,0))))","v":"  "}]
["Split St. Wt.",null,null,"% Loss",null,"% Loss",null,"% Loss",null,"% Loss",null,"% Loss",null,"% Loss"]
["Split Ending Wt.",null,null,{"$f":"IF(ISBLANK(C24),\"\",(C23-C24)/C23*100)","v":""},null,{"$f":"IF(ISBLANK(E24),\"\",(E23-E24)/E23*100)","v":""},null,{"$f":"IF(ISBLANK(G24),\"\",(G23-G24)/G23*100)","v":""},null,{"$f":"IF(ISBLANK(I24),\"\",(I23-I24)/I23*100)","v":""},null,{"$f":"IF(ISBLANK(K24),\"\",(K23-K24)/K23*100)","v":""},null,{"$f":"IF(ISBLANK(M24),\"\",(M23-M24)/M23*100)","v":""}]
[8,null,null,{"$f":"IF(ISBLANK(C10),\"  \",IF(ISBLANK(C22),\" \",IF(ISBLANK(C23),\" \",ROUND((C22/C23*C25)/C10*100,0))))","v":"  "},null,{"$f":"IF(ISBLANK(E10),\"  \",IF(ISBLANK(E22),\" \",IF(ISBLANK(E23),\" \",(E22/E23*E25)/E10*100)))","v":"  "},null,{"$f":"IF(ISBLANK(G10),\"  \",IF(ISBLANK(G22),\" \",IF(ISBLANK(G23),\" \",(G22/G23*G25)/G10*100)))","v":"  "},null,{"$f":"IF(ISBLANK(I10),\"  \",IF(ISBLANK(I22),\" \",IF(ISBLANK(I23),\" \",(I22/I23*I25)/I10*100)))","v":"  "},null,{"$f":"IF(ISBLANK(K10),\"  \",IF(ISBLANK(K22),\" \",IF(ISBLANK(K23),\" \",(K22/K23*K25)/K10*100)))","v":"  "},null,{"$f":"IF(ISBLANK(M10),\"  \",IF(ISBLANK(M22),\" \",IF(ISBLANK(M23),\" \",(M22/M23*M25)/M10*100)))","v":"  "}]
[16,null,null,{"$f":"IF(ISBLANK(C10),\"  \",IF(ISBLANK(C22),\" \",IF(ISBLANK(C23),\" \",(C22/C23*C26)/C10*100)))","v":"  "},null,{"$f":"IF(ISBLANK(E10),\"  \",IF(ISBLANK(E22),\" \",IF(ISBLANK(E23),\" \",(E22/E23*E26)/E10*100)))","v":"  "},null,{"$f":"IF(ISBLANK(G10),\"  \",IF(ISBLANK(G22),\" \",IF(ISBLANK(G23),\" \",(G22/G23*G26)/G10*100)))","v":"  "},null,{"$f":"IF(ISBLANK(I10),\"  \",IF(ISBLANK(I22),\" \",IF(ISBLANK(I23),\" \",(I22/I23*I26)/I10*100)))","v":"  "},null,{"$f":"IF(ISBLANK(K10),\"  \",IF(ISBLANK(K22),\" \",IF(ISBLANK(K23),\" \",(K22/K23*K26)/K10*100)))","v":"  "},null,{"$f":"IF(ISBLANK(M10),\"  \",IF(ISBLANK(M22),\" \",IF(ISBLANK(M23),\" \",(M22/M23*M26)/M10*100)))","v":"  "}]
[30,null,null,{"$f":"IF(ISBLANK(C10),\"  \",IF(ISBLANK(C22),\" \",IF(ISBLANK(C23),\" \",(C22/C23*C27)/C10*100)))","v":"  "},null,{"$f":"IF(ISBLANK(E10),\"  \",IF(ISBLANK(E22),\" \",IF(ISBLANK(E23),\" \",(E22/E23*E27)/E10*100)))","v":"  "},null,{"$f":"IF(ISBLANK(G10),\"  \",IF(ISBLANK(G22),\" \",IF(ISBLANK(G23),\" \",(G22/G23*G27)/G10*100)))","v":"  "},null,{"$f":"IF(ISBLANK(I10),\"  \",IF(ISBLANK(I22),\" \",IF(ISBLANK(I23),\" \",(I22/I23*I27)/I10*100)))","v":"  "},null,{"$f":"IF(ISBLANK(K10),\"  \",IF(ISBLANK(K22),\" \",IF(ISBLANK(K23),\" \",(K22/K23*K27)/K10*100)))","v":"  "},null,{"$f":"IF(ISBLANK(M10),\"  \",IF(ISBLANK(M22),\" \",IF(ISBLANK(M23),\" \",(M22/M23*M27)/M10*100)))","v":"  "}]
[50,null,null,{"$f":"IF(ISBLANK(C10),\"  \",IF(ISBLANK(C22),\" \",IF(ISBLANK(C23),\" \",(C22/C23*C28)/C10*100)))","v":"  "},null,{"$f":"IF(ISBLANK(E10),\"  \",IF(ISBLANK(E22),\" \",IF(ISBLANK(E23),\" \",(E22/E23*E28)/E10*100)))","v":"  "},null,{"$f":"IF(ISBLANK(G10),\"  \",IF(ISBLANK(G22),\" \",IF(ISBLANK(G23),\" \",(G22/G23*G28)/G10*100)))","v":"  "},null,{"$f":"IF(ISBLANK(I10),\"  \",IF(ISBLANK(I22),\" \",IF(ISBLANK(I23),\" \",(I22/I23*I28)/I10*100)))","v":"  "},null,{"$f":"IF(ISBLANK(K10),\"  \",IF(ISBLANK(K22),\" \",IF(ISBLANK(K23),\" \",(K22/K23*K28)/K10*100)))","v":"  "},null,{"$f":"IF(ISBLANK(M10),\"  \",IF(ISBLANK(M22),\" \",IF(ISBLANK(M23),\" \",(M22/M23*M28)/M10*100)))","v":"  "}]
[100,null,null,{"$f":"IF(ISBLANK(C10),\"  \",IF(ISBLANK(C22),\" \",IF(ISBLANK(C23),\" \",(C22/C23*C29)/C10*100)))","v":"  "},null,{"$f":"IF(ISBLANK(E10),\"  \",IF(ISBLANK(E22),\" \",IF(ISBLANK(E23),\" \",(E22/E23*E29)/E10*100)))","v":"  "},null,{"$f":"IF(ISBLANK(G10),\"  \",IF(ISBLANK(G22),\" \",IF(ISBLANK(G23),\" \",(G22/G23*G29)/G10*100)))","v":"  "},null,{"$f":"IF(ISBLANK(I10),\"  \",IF(ISBLANK(I22),\" \",IF(ISBLANK(I23),\" \",(I22/I23*I29)/I10*100)))","v":"  "},null,{"$f":"IF(ISBLANK(K10),\"  \",IF(ISBLANK(K22),\" \",IF(ISBLANK(K23),\" \",(K22/K23*K29)/K10*100)))","v":"  "},null,{"$f":"IF(ISBLANK(M10),\"  \",IF(ISBLANK(M22),\" \",IF(ISBLANK(M23),\" \",(M22/M23*M29)/M10*100)))","v":"  "}]
[200,null,null,{"$f":"IF(ISBLANK(C10),\"  \",IF(ISBLANK(C22),\" \",IF(ISBLANK(C23),\" \",(C22/C23*C30)/C10*100)))","v":"  "},null,{"$f":"IF(ISBLANK(E10),\"  \",IF(ISBLANK(E22),\" \",IF(ISBLANK(E23),\" \",(E22/E23*E30)/E10*100)))","v":"  "},null,{"$f":"IF(ISBLANK(G10),\"  \",IF(ISBLANK(G22),\" \",IF(ISBLANK(G23),\" \",(G22/G23*G30)/G10*100)))","v":"  "},null,{"$f":"IF(ISBLANK(I10),\"  \",IF(ISBLANK(I22),\" \",IF(ISBLANK(I23),\" \",(I22/I23*I30)/I10*100)))","v":"  "},null,{"$f":"IF(ISBLANK(K10),\"  \",IF(ISBLANK(K22),\" \",IF(ISBLANK(K23),\" \",(K22/K23*K30)/K10*100)))","v":"  "},null,{"$f":"IF(ISBLANK(M10),\"  \",IF(ISBLANK(M22),\" \",IF(ISBLANK(M23),\" \",(M22/M23*M30)/M10*100)))","v":"  "}]
["St. Wt. Before Wash",null,null,"% Passing",null,"% Passing",null,"% Passing",null,"% Passing",null,"% Passing",null,"% Passing"]
["End Wt. After Wash",null,null,{"$f":"IF(ISBLANK(C31),\"\",IF(ISBLANK(C32),\"\",((C31-C32)/C31)*100))","v":""},null,{"$f":"IF(ISBLANK(E31),\"\",IF(ISBLANK(E32),\"\",((E31-E32)/E31)*100))","v":""},null,{"$f":"IF(ISBLANK(G31),\"\",IF(ISBLANK(G32),\"\",((G31-G32)/G31)*100))","v":""},null,{"$f":"IF(ISBLANK(I31),\"\",IF(ISBLANK(I32),\"\",((I31-I32)/I31)*100))","v":""},null,{"$f":"IF(ISBLANK(K31),\"\",IF(ISBLANK(K32),\"\",((K31-K32)/K31)*100))","v":""},null,{"$f":"IF(ISBLANK(M31),\"\",IF(ISBLANK(M32),\"\",((M31-M32)/M31)*100))","v":""}]
["Tested By"]
["Remarks"]
[]
[]
[]
["Sample No.",null,55,null,56,null,57,null,58,null,59,null,60]
["Date"]
["Starting Wt",null,null,"% Loss",null,"% Loss",null,"% Loss",null,"% Loss",null,"% Loss",null,"% Loss"]
["Ending Wt",null,null,{"$f":"IF(ISBLANK(C41),\" \",((C40-C41)/C40)*100)","v":" "},null,{"$f":"IF(ISBLANK(E41),\" \",((E40-E41)/E40)*100)","v":" "},null,{"$f":"IF(ISBLANK(G41),\" \",((G40-G41)/G40)*100)","v":" "},null,{"$f":"IF(ISBLANK(I41),\" \",((I40-I41)/I40)*100)","v":" "},null,{"$f":"IF(ISBLANK(K41),\" \",((K40-K41)/K40)*100)","v":" "},null,{"$f":"IF(ISBLANK(M41),\" \",((M40-M41)/M40)*100)","v":" "}]
[null,null,"Wt","% Passing","Wt","% Passing","Wt","% Passing","Wt","% Passing","Wt","% Passing","Wt","% Passing"]
[2.5,null,null,{"$f":"IF(ISBLANK(C40),\"  \",IF(ISBLANK(C41),\" \",IF(ISBLANK(C43),\" \",ROUND(C43/C40*100,0))))","v":"  "},null,{"$f":"IF(ISBLANK(E40),\"  \",IF(ISBLANK(E41),\" \",IF(ISBLANK(E43),\" \",ROUND(E43/E40*100,0))))","v":"  "},null,{"$f":"IF(ISBLANK(G40),\"  \",IF(ISBLANK(G41),\" \",IF(ISBLANK(G43),\" \",ROUND(G43/G40*100,0))))","v":"  "},null,{"$f":"IF(ISBLANK(I40),\"  \",IF(ISBLANK(I41),\" \",IF(ISBLANK(I43),\" \",ROUND(I43/I40*100,0))))","v":"  "},null,{"$f":"IF(ISBLANK(K40),\"  \",IF(ISBLANK(K41),\" \",IF(ISBLANK(K43),\" \",ROUND(K43/K40*100,0))))","v":"  "},null,{"$f":"IF(ISBLANK(M40),\"  \",IF(ISBLANK(M41),\" \",IF(ISBLANK(M43),\" \",ROUND(M43/M40*100,0))))","v":"  "}]
[2,null,null,{"$f":"IF(ISBLANK(C40),\"  \",IF(ISBLANK(C41),\" \",IF(ISBLANK(C44),\" \",ROUND(C44/C40*100,0))))","v":"  "},null,{"$f":"IF(ISBLANK(E40),\"  \",IF(ISBLANK(E41),\" \",IF(ISBLANK(E44),\" \",ROUND(E44/E40*100,0))))","v":"  "},null,{"$f":"IF(ISBLANK(G40),\"  \",IF(ISBLANK(G41),\" \",IF(ISBLANK(G44),\" \",ROUND(G44/G40*100,0))))","v":"  "},null,{"$f":"IF(ISBLANK(I40),\"  \",IF(ISBLANK(I41),\" \",IF(ISBLANK(I44),\" \",ROUND(I44/I40*100,0))))","v":"  "},null,{"$f":"IF(ISBLANK(K40),\"  \",IF(ISBLANK(K41),\" \",IF(ISBLANK(K44),\" \",ROUND(K44/K40*100,0))))","v":"  "},null,{"$f":"IF(ISBLANK(M40),\"  \",IF(ISBLANK(M41),\" \",IF(ISBLANK(M44),\" \",ROUND(M44/M40*100,0))))","v":"  "}]
[1.5,null,null,{"$f":"IF(ISBLANK(C40),\"  \",IF(ISBLANK(C41),\" \",IF(ISBLANK(C45),\" \",ROUND(C45/C40*100,0))))","v":"  "},null,{"$f":"IF(ISBLANK(E40),\"  \",IF(ISBLANK(E41),\" \",IF(ISBLANK(E45),\" \",ROUND(E45/E40*100,0))))","v":"  "},null,{"$f":"IF(ISBLANK(G40),\"  \",IF(ISBLANK(G41),\" \",IF(ISBLANK(G45),\" \",ROUND(G45/G40*100,0))))","v":"  "},null,{"$f":"IF(ISBLANK(I40),\"  \",IF(ISBLANK(I41),\" \",IF(ISBLANK(I45),\" \",ROUND(I45/I40*100,0))))","v":"  "},null,{"$f":"IF(ISBLANK(K40),\"  \",IF(ISBLANK(K41),\" \",IF(ISBLANK(K45),\" \",ROUND(K45/K40*100,0))))","v":"  "},null,{"$f":"IF(ISBLANK(M40),\"  \",IF(ISBLANK(M41),\" \",IF(ISBLANK(M45),\" \",ROUND(M45/M40*100,0))))","v":"  "}]
[1,null,null,{"$f":"IF(ISBLANK(C40),\"  \",IF(ISBLANK(C41),\" \",IF(ISBLANK(C46),\" \",ROUND(C46/C40*100,0))))","v":"  "},null,{"$f":"IF(ISBLANK(E40),\"  \",IF(ISBLANK(E41),\" \",IF(ISBLANK(E46),\" \",ROUND(E46/E40*100,0))))","v":"  "},null,{"$f":"IF(ISBLANK(G40),\"  \",IF(ISBLANK(G41),\" \",IF(ISBLANK(G46),\" \",ROUND(G46/G40*100,0))))","v":"  "},null,{"$f":"IF(ISBLANK(I40),\"  \",IF(ISBLANK(I41),\" \",IF(ISBLANK(I46),\" \",ROUND(I46/I40*100,0))))","v":"  "},null,{"$f":"IF(ISBLANK(K40),\"  \",IF(ISBLANK(K41),\" \",IF(ISBLANK(K46),\" \",ROUND(K46/K40*100,0))))","v":"  "},null,{"$f":"IF(ISBLANK(M40),\"  \",IF(ISBLANK(M41),\" \",IF(ISBLANK(M46),\" \",ROUND(M46/M40*100,0))))","v":"  "}]
[0.75,null,null,{"$f":"IF(ISBLANK(C40),\"  \",IF(ISBLANK(C41),\" \",IF(ISBLANK(C47),\" \",ROUND(C47/C40*100,0))))","v":"  "},null,{"$f":"IF(ISBLANK(E40),\"  \",IF(ISBLANK(E41),\" \",IF(ISBLANK(E47),\" \",ROUND(E47/E40*100,0))))","v":"  "},null,{"$f":"IF(ISBLANK(G40),\"  \",IF(ISBLANK(G41),\" \",IF(ISBLANK(G47),\" \",ROUND(G47/G40*100,0))))","v":"  "},null,{"$f":"IF(ISBLANK(I40),\"  \",IF(ISBLANK(I41),\" \",IF(ISBLANK(I47),\" \",ROUND(I47/I40*100,0))))","v":"  "},null,{"$f":"IF(ISBLANK(K40),\"  \",IF(ISBLANK(K41),\" \",IF(ISBLANK(K47),\" \",ROUND(K47/K40*100,0))))","v":"  "},null,{"$f":"IF(ISBLANK(M40),\"  \",IF(ISBLANK(M41),\" \",IF(ISBLANK(M47),\" \",ROUND(M47/M40*100,0))))","v":"  "}]
[0.625,null,null,{"$f":"IF(ISBLANK(C40),\"  \",IF(ISBLANK(C41),\" \",IF(ISBLANK(C48),\" \",ROUND(C48/C40*100,0))))","v":"  "},null,{"$f":"IF(ISBLANK(E40),\"  \",IF(ISBLANK(E41),\" \",IF(ISBLANK(E48),\" \",ROUND(E48/E40*100,0))))","v":"  "},null,{"$f":"IF(ISBLANK(G40),\"  \",IF(ISBLANK(G41),\" \",IF(ISBLANK(G48),\" \",ROUND(G48/G40*100,0))))","v":"  "},null,{"$f":"IF(ISBLANK(I40),\"  \",IF(ISBLANK(I41),\" \",IF(ISBLANK(I48),\" \",ROUND(I48/I40*100,0))))","v":"  "},null,{"$f":"IF(ISBLANK(K40),\"  \",IF(ISBLANK(K41),\" \",IF(ISBLANK(K48),\" \",ROUND(K48/K40*100,0))))","v":"  "},null,{"$f":"IF(ISBLANK(M40),\"  \",IF(ISBLANK(M41),\" \",IF(ISBLANK(M48),\" \",ROUND(M48/M40*100,0))))","v":"  "}]
[0.5,null,null,{"$f":"IF(ISBLANK(C40),\"  \",IF(ISBLANK(C41),\" \",IF(ISBLANK(C49),\" \",ROUND(C49/C40*100,0))))","v":"  "},null,{"$f":"IF(ISBLANK(E40),\"  \",IF(ISBLANK(E41),\" \",IF(ISBLANK(E49),\" \",ROUND(E49/E40*100,0))))","v":"  "},null,{"$f":"IF(ISBLANK(G40),\"  \",IF(ISBLANK(G41),\" \",IF(ISBLANK(G49),\" \",ROUND(G49/G40*100,0))))","v":"  "},null,{"$f":"IF(ISBLANK(I40),\"  \",IF(ISBLANK(I41),\" \",IF(ISBLANK(I49),\" \",ROUND(I49/I40*100,0))))","v":"  "},null,{"$f":"IF(ISBLANK(K40),\"  \",IF(ISBLANK(K41),\" \",IF(ISBLANK(K49),\" \",ROUND(K49/K40*100,0))))","v":"  "},null,{"$f":"IF(ISBLANK(M40),\"  \",IF(ISBLANK(M41),\" \",IF(ISBLANK(M49),\" \",ROUND(M49/M40*100,0))))","v":"  "}]
[0.375,null,null,{"$f":"IF(ISBLANK(C40),\"  \",IF(ISBLANK(C41),\" \",IF(ISBLANK(C50),\" \",ROUND(C50/C40*100,0))))","v":"  "},null,{"$f":"IF(ISBLANK(E40),\"  \",IF(ISBLANK(E41),\" \",IF(ISBLANK(E50),\" \",ROUND(E50/E40*100,0))))","v":"  "},null,{"$f":"IF(ISBLANK(G40),\"  \",IF(ISBLANK(G41),\" \",IF(ISBLANK(G50),\" \",ROUND(G50/G40*100,0))))","v":"  "},null,{"$f":"IF(ISBLANK(I40),\"  \",IF(ISBLANK(I41),\" \",IF(ISBLANK(I50),\" \",ROUND(I50/I40*100,0))))","v":"  "},null,{"$f":"IF(ISBLANK(K40),\"  \",IF(ISBLANK(K41),\" \",IF(ISBLANK(K50),\" \",ROUND(K50/K40*100,0))))","v":"  "},null,{"$f":"IF(ISBLANK(M40),\"  \",IF(ISBLANK(M41),\" \",IF(ISBLANK(M50),\" \",ROUND(M50/M40*100,0))))","v":"  "}]
[0.25,null,null,{"$f":"IF(ISBLANK(C40),\"  \",IF(ISBLANK(C41),\" \",IF(ISBLANK(C51),\" \",ROUND(C51/C40*100,0))))","v":"  "},null,{"$f":"IF(ISBLANK(E40),\"  \",IF(ISBLANK(E41),\" \",IF(ISBLANK(E51),\" \",ROUND(E51/E40*100,0))))","v":"  "},null,{"$f":"IF(ISBLANK(G40),\"  \",IF(ISBLANK(G41),\" \",IF(ISBLANK(G51),\" \",ROUND(G51/G40*100,0))))","v":"  "},null,{"$f":"IF(ISBLANK(I40),\"  \",IF(ISBLANK(I41),\" \",IF(ISBLANK(I51),\" \",ROUND(I51/I40*100,0))))","v":"  "},null,{"$f":"IF(ISBLANK(K40),\"  \",IF(ISBLANK(K41),\" \",IF(ISBLANK(K51),\" \",ROUND(K51/K40*100,0))))","v":"  "},null,{"$f":"IF(ISBLANK(M40),\"  \",IF(ISBLANK(M41),\" \",IF(ISBLANK(M51),\" \",ROUND(M51/M40*100,0))))","v":"  "}]
[4,null,null,{"$f":"IF(ISBLANK(C40),\"  \",IF(ISBLANK(C41),\" \",IF(ISBLANK(C52),\" \",ROUND(C52/C40*100,0))))","v":"  "},null,{"$f":"IF(ISBLANK(E40),\"  \",IF(ISBLANK(E41),\" \",IF(ISBLANK(E52),\" \",ROUND(E52/E40*100,0))))","v":"  "},null,{"$f":"IF(ISBLANK(G40),\"  \",IF(ISBLANK(G41),\" \",IF(ISBLANK(G52),\" \",ROUND(G52/G40*100,0))))","v":"  "},null,{"$f":"IF(ISBLANK(I40),\"  \",IF(ISBLANK(I41),\" \",IF(ISBLANK(I52),\" \",ROUND(I52/I40*100,0))))","v":"  "},null,{"$f":"IF(ISBLANK(K40),\"  \",IF(ISBLANK(K41),\" \",IF(ISBLANK(K52),\" \",ROUND(K52/K40*100,0))))","v":"  "},null,{"$f":"IF(ISBLANK(M40),\"  \",IF(ISBLANK(M41),\" \",IF(ISBLANK(M52),\" \",ROUND(M52/M40*100,0))))","v":"  "}]
["Split St. Wt.",null,null,"% Loss",null,"% Loss",null,"% Loss",null,"% Loss",null,"% Loss",null,"% Loss"]
["Split Ending Wt.",null,null,{"$f":"IF(ISBLANK(C54),\"\",(C53-C54)/C53*100)","v":""},null,{"$f":"IF(ISBLANK(E54),\"\",(E53-E54)/E53*100)","v":""},null,{"$f":"IF(ISBLANK(G54),\"\",(G53-G54)/G53*100)","v":""},null,{"$f":"IF(ISBLANK(I54),\"\",(I53-I54)/I53*100)","v":""},null,{"$f":"IF(ISBLANK(K54),\"\",(K53-K54)/K53*100)","v":""},null,{"$f":"IF(ISBLANK(M54),\"\",(M53-M54)/M53*100)","v":""}]
[8,null,null,{"$f":"IF(ISBLANK(C40),\"  \",IF(ISBLANK(C52),\" \",IF(ISBLANK(C53),\" \",(C52/C53*C55)/C40*100)))","v":"  "},null,{"$f":"IF(ISBLANK(E40),\"  \",IF(ISBLANK(E52),\" \",IF(ISBLANK(E53),\" \",(E52/E53*E55)/E40*100)))","v":"  "},null,{"$f":"IF(ISBLANK(G40),\"  \",IF(ISBLANK(G52),\" \",IF(ISBLANK(G53),\" \",(G52/G53*G55)/G40*100)))","v":"  "},null,{"$f":"IF(ISBLANK(I40),\"  \",IF(ISBLANK(I52),\" \",IF(ISBLANK(I53),\" \",(I52/I53*I55)/I40*100)))","v":"  "},null,{"$f":"IF(ISBLANK(K40),\"  \",IF(ISBLANK(K52),\" \",IF(ISBLANK(K53),\" \",(K52/K53*K55)/K40*100)))","v":"  "},null,{"$f":"IF(ISBLANK(M40),\"  \",IF(ISBLANK(M52),\" \",IF(ISBLANK(M53),\" \",(M52/M53*M55)/M40*100)))","v":"  "}]
[16,null,null,{"$f":"IF(ISBLANK(C40),\"  \",IF(ISBLANK(C52),\" \",IF(ISBLANK(C53),\" \",(C52/C53*C56)/C40*100)))","v":"  "},null,{"$f":"IF(ISBLANK(E40),\"  \",IF(ISBLANK(E52),\" \",IF(ISBLANK(E53),\" \",(E52/E53*E56)/E40*100)))","v":"  "},null,{"$f":"IF(ISBLANK(G40),\"  \",IF(ISBLANK(G52),\" \",IF(ISBLANK(G53),\" \",(G52/G53*G56)/G40*100)))","v":"  "},null,{"$f":"IF(ISBLANK(I40),\"  \",IF(ISBLANK(I52),\" \",IF(ISBLANK(I53),\" \",(I52/I53*I56)/I40*100)))","v":"  "},null,{"$f":"IF(ISBLANK(K40),\"  \",IF(ISBLANK(K52),\" \",IF(ISBLANK(K53),\" \",(K52/K53*K56)/K40*100)))","v":"  "},null,{"$f":"IF(ISBLANK(M40),\"  \",IF(ISBLANK(M52),\" \",IF(ISBLANK(M53),\" \",(M52/M53*M56)/M40*100)))","v":"  "}]
[30,null,null,{"$f":"IF(ISBLANK(C40),\"  \",IF(ISBLANK(C52),\" \",IF(ISBLANK(C53),\" \",(C52/C53*C57)/C40*100)))","v":"  "},null,{"$f":"IF(ISBLANK(E40),\"  \",IF(ISBLANK(E52),\" \",IF(ISBLANK(E53),\" \",(E52/E53*E57)/E40*100)))","v":"  "},null,{"$f":"IF(ISBLANK(G40),\"  \",IF(ISBLANK(G52),\" \",IF(ISBLANK(G53),\" \",(G52/G53*G57)/G40*100)))","v":"  "},null,{"$f":"IF(ISBLANK(I40),\"  \",IF(ISBLANK(I52),\" \",IF(ISBLANK(I53),\" \",(I52/I53*I57)/I40*100)))","v":"  "},null,{"$f":"IF(ISBLANK(K40),\"  \",IF(ISBLANK(K52),\" \",IF(ISBLANK(K53),\" \",(K52/K53*K57)/K40*100)))","v":"  "},null,{"$f":"IF(ISBLANK(M40),\"  \",IF(ISBLANK(M52),\" \",IF(ISBLANK(M53),\" \",(M52/M53*M57)/M40*100)))","v":"  "}]
[50,null,null,{"$f":"IF(ISBLANK(C40),\"  \",IF(ISBLANK(C52),\" \",IF(ISBLANK(C53),\" \",(C52/C53*C58)/C40*100)))","v":"  "},null,{"$f":"IF(ISBLANK(E40),\"  \",IF(ISBLANK(E52),\" \",IF(ISBLANK(E53),\" \",(E52/E53*E58)/E40*100)))","v":"  "},null,{"$f":"IF(ISBLANK(G40),\"  \",IF(ISBLANK(G52),\" \",IF(ISBLANK(G53),\" \",(G52/G53*G58)/G40*100)))","v":"  "},null,{"$f":"IF(ISBLANK(I40),\"  \",IF(ISBLANK(I52),\" \",IF(ISBLANK(I53),\" \",(I52/I53*I58)/I40*100)))","v":"  "},null,{"$f":"IF(ISBLANK(K40),\"  \",IF(ISBLANK(K52),\" \",IF(ISBLANK(K53),\" \",(K52/K53*K58)/K40*100)))","v":"  "},null,{"$f":"IF(ISBLANK(M40),\"  \",IF(ISBLANK(M52),\" \",IF(ISBLANK(M53),\" \",(M52/M53*M58)/M40*100)))","v":"  "}]
[100,null,null,{"$f":"IF(ISBLANK(C40),\"  \",IF(ISBLANK(C52),\" \",IF(ISBLANK(C53),\" \",(C52/C53*C59)/C40*100)))","v":"  "},null,{"$f":"IF(ISBLANK(E40),\"  \",IF(ISBLANK(E52),\" \",IF(ISBLANK(E53),\" \",(E52/E53*E59)/E40*100)))","v":"  "},null,{"$f":"IF(ISBLANK(G40),\"  \",IF(ISBLANK(G52),\" \",IF(ISBLANK(G53),\" \",(G52/G53*G59)/G40*100)))","v":"  "},null,{"$f":"IF(ISBLANK(I40),\"  \",IF(ISBLANK(I52),\" \",IF(ISBLANK(I53),\" \",(I52/I53*I59)/I40*100)))","v":"  "},null,{"$f":"IF(ISBLANK(K40),\"  \",IF(ISBLANK(K52),\" \",IF(ISBLANK(K53),\" \",(K52/K53*K59)/K40*100)))","v":"  "},null,{"$f":"IF(ISBLANK(M40),\"  \",IF(ISBLANK(M52),\" \",IF(ISBLANK(M53),\" \",(M52/M53*M59)/M40*100)))","v":"  "}]
[200,null,null,{"$f":"IF(ISBLANK(C40),\"  \",IF(ISBLANK(C52),\" \",IF(ISBLANK(C53),\" \",(C52/C53*C60)/C40*100)))","v":"  "},null,{"$f":"IF(ISBLANK(E40),\"  \",IF(ISBLANK(E52),\" \",IF(ISBLANK(E53),\" \",(E52/E53*E60)/E40*100)))","v":"  "},null,{"$f":"IF(ISBLANK(G40),\"  \",IF(ISBLANK(G52),\" \",IF(ISBLANK(G53),\" \",(G52/G53*G60)/G40*100)))","v":"  "},null,{"$f":"IF(ISBLANK(I40),\"  \",IF(ISBLANK(I52),\" \",IF(ISBLANK(I53),\" \",(I52/I53*I60)/I40*100)))","v":"  "},null,{"$f":"IF(ISBLANK(K40),\"  \",IF(ISBLANK(K52),\" \",IF(ISBLANK(K53),\" \",(K52/K53*K60)/K40*100)))","v":"  "},null,{"$f":"IF(ISBLANK(M40),\"  \",IF(ISBLANK(M52),\" \",IF(ISBLANK(M53),\" \",(M52/M53*M60)/M40*100)))","v":"  "}]
["St. Wt. Before Wash",null,null,"% Passing",null,"% Passing",null,"% Passing",null,"% Passing",null,"% Passing",null,"% Passing"]
["End Wt. After Wash",null,null,{"$f":"IF(ISBLANK(C61),\"\",IF(ISBLANK(C62),\"\",((C61-C62)/C61)*100))","v":""},null,{"$f":"IF(ISBLANK(E61),\"\",IF(ISBLANK(E62),\"\",((E61-E62)/E61)*100))","v":""},null,{"$f":"IF(ISBLANK(G61),\"\",IF(ISBLANK(G62),\"\",((G61-G62)/G61)*100))","v":""},null,{"$f":"IF(ISBLANK(I61),\"\",IF(ISBLANK(I62),\"\",((I61-I62)/I61)*100))","v":""},null,{"$f":"IF(ISBLANK(K61),\"\",IF(ISBLANK(K62),\"\",((K61-K62)/K61)*100))","v":""},null,{"$f":"IF(ISBLANK(M61),\"\",IF(ISBLANK(M62),\"\",((M61-M62)/M61)*100))","v":""}]
["Tested By"]
["Remarks"]
[]
[]
[]
[null,null,{"$f":"MAX(C43:C58)","v":0},null,{"$f":"MAX(E43:E58)","v":0},null,{"$f":"MAX(G43:G58)","v":0},null,{"$f":"MAX(I43:I58)","v":0},null,{"$f":"MAX(K43:K58)","v":0},null,{"$f":"MAX(M43:M58)","v":0}]

{"sheet":"Split 6","index":27,"n_rows":68,"n_cols":14,"rows_kept":68,"cut":false,"hidden":true,"merged":[[62,12,62,13],[63,0,65,1],[63,2,65,3],[63,4,65,5],[63,6,65,7],[63,8,65,9],[63,10,65,11],[63,12,65,13],[62,0,62,1],[62,2,62,3],[62,4,62,5],[62,6,62,7],[62,8,62,9],[62,10,62,11],[56,0,56,1],[57,0,57,1],[58,0,58,1],[59,0,59,1],[60,0,60,1],[61,0,61,1],[50,0,50,1],[51,0,51,1],[52,0,52,1],[53,0,53,1],[54,0,54,1],[55,0,55,1],[44,0,44,1],[45,0,45,1],[46,0,46,1],[47,0,47,1],[48,0,48,1],[49,0,49,1],[38,12,38,13],[39,0,39,1],[40,0,40,1],[41,0,41,1],[42,0,42,1],[43,0,43,1],[38,0,38,1],[38,2,38,3],[38,4,38,5],[38,6,38,7],[38,8,38,9],[38,10,38,11],[33,12,35,13],[37,0,37,1],[37,2,37,3],[37,4,37,5],[37,6,37,7],[37,8,37,9],[37,10,37,11],[37,12,37,13],[33,0,35,1],[33,2,35,3],[33,4,35,5],[33,6,35,7],[33,8,35,9],[33,10,35,11],[32,2,32,3],[32,4,32,5],[32,6,32,7],[32,8,32,9],[32,10,32,11],[32,12,32,13],[27,0,27,1],[28,0,28,1],[29,0,29,1],[30,0,30,1],[31,0,31,1],[32,0,32,1],[21,0,21,1],[22,0,22,1],[23,0,23,1],[24,0,24,1],[25,0,25,1],[26,0,26,1],[15,0,15,1],[16,0,16,1],[17,0,17,1],[18,0,18,1],[19,0,19,1],[20,0,20,1],[9,0,9,1],[10,0,10,1],[11,0,11,1],[12,0,12,1],[13,0,13,1],[14,0,14,1],[7,12,7,13],[8,0,8,1],[8,2,8,3],[8,4,8,5],[8,6,8,7],[8,8,8,9],[8,10,8,11],[8,12,8,13],[3,12,3,13],[4,10,4,11],[4,12,4,13],[5,3,5,11],[7,0,7,1],[7,2,7,3],[7,4,7,5],[7,6,7,7],[7,8,7,9],[7,10,7,11],[0,0,3,1],[1,2,1,7],[1,10,1,11],[1,12,1,13],[2,2,2,7],[2,10,2,11],[2,12,2,13],[3,2,3,3],[3,6,3,7],[3,10,3,11]]}
[]
[null,null,"COMMONWEALTH OF PENNSYLVANIA",null,null,null,null,null,null,null,"District"]
[null,null,"DEPARTMENT OF TRANSPORTATION",null,null,null,null,null,null,null,"Plant Code"]
[null,null,{"$f":"'S1'!$A$6","v":"Aggregate 2023"},null,null,null,null,null,null,null,"Agg. Size"]
[]
[null,null,null,"Material Test Results"]
[]
["Sample No.",null,61,null,62,null,63,null,64,null,65,null,66]
["Date"]
["Starting Wt",null,null,"% Loss",null,"% Loss",null,"% Loss",null,"% Loss",null,"% Loss",null,"% Loss"]
["Ending Wt",null,null,{"$f":"IF(ISBLANK(C11),\" \",((C10-C11)/C10)*100)","v":" "},null,{"$f":"IF(ISBLANK(E11),\" \",((E10-E11)/E10)*100)","v":" "},null,{"$f":"IF(ISBLANK(G11),\" \",((G10-G11)/G10)*100)","v":" "},null,{"$f":"IF(ISBLANK(I11),\" \",((I10-I11)/I10)*100)","v":" "},null,{"$f":"IF(ISBLANK(K11),\" \",((K10-K11)/K10)*100)","v":" "},null,{"$f":"IF(ISBLANK(M11),\" \",((M10-M11)/M10)*100)","v":" "}]
[null,null,"Wt","% Passing","Wt","% Passing","Wt","% Passing","Wt","% Passing","Wt","% Passing","Wt","% Passing"]
[2.5,null,null,{"$f":"IF(ISBLANK(C10),\"  \",IF(ISBLANK(C11),\" \",IF(ISBLANK(C13),\" \",ROUND(C13/C10*100,0))))","v":"  "},null,{"$f":"IF(ISBLANK(E10),\"  \",IF(ISBLANK(E11),\" \",IF(ISBLANK(E13),\" \",ROUND(E13/E10*100,0))))","v":"  "},null,{"$f":"IF(ISBLANK(G10),\"  \",IF(ISBLANK(G11),\" \",IF(ISBLANK(G13),\" \",ROUND(G13/G10*100,0))))","v":"  "},null,{"$f":"IF(ISBLANK(I10),\"  \",IF(ISBLANK(I11),\" \",IF(ISBLANK(I13),\" \",ROUND(I13/I10*100,0))))","v":"  "},null,{"$f":"IF(ISBLANK(K10),\"  \",IF(ISBLANK(K11),\" \",IF(ISBLANK(K13),\" \",ROUND(K13/K10*100,0))))","v":"  "},null,{"$f":"IF(ISBLANK(M10),\"  \",IF(ISBLANK(M11),\" \",IF(ISBLANK(M13),\" \",ROUND(M13/M10*100,0))))","v":"  "}]
[2,null,null,{"$f":"IF(ISBLANK(C10),\"  \",IF(ISBLANK(C11),\" \",IF(ISBLANK(C14),\" \",ROUND(C14/C10*100,0))))","v":"  "},null,{"$f":"IF(ISBLANK(E10),\"  \",IF(ISBLANK(E11),\" \",IF(ISBLANK(E14),\" \",ROUND(E14/E10*100,0))))","v":"  "},null,{"$f":"IF(ISBLANK(G10),\"  \",IF(ISBLANK(G11),\" \",IF(ISBLANK(G14),\" \",ROUND(G14/G10*100,0))))","v":"  "},null,{"$f":"IF(ISBLANK(I10),\"  \",IF(ISBLANK(I11),\" \",IF(ISBLANK(I14),\" \",ROUND(I14/I10*100,0))))","v":"  "},null,{"$f":"IF(ISBLANK(K10),\"  \",IF(ISBLANK(K11),\" \",IF(ISBLANK(K14),\" \",ROUND(K14/K10*100,0))))","v":"  "},null,{"$f":"IF(ISBLANK(M10),\"  \",IF(ISBLANK(M11),\" \",IF(ISBLANK(M14),\" \",ROUND(M14/M10*100,0))))","v":"  "}]
[1.5,null,null,{"$f":"IF(ISBLANK(C10),\"  \",IF(ISBLANK(C11),\" \",IF(ISBLANK(C15),\" \",ROUND(C15/C10*100,0))))","v":"  "},null,{"$f":"IF(ISBLANK(E10),\"  \",IF(ISBLANK(E11),\" \",IF(ISBLANK(E15),\" \",ROUND(E15/E10*100,0))))","v":"  "},null,{"$f":"IF(ISBLANK(G10),\"  \",IF(ISBLANK(G11),\" \",IF(ISBLANK(G15),\" \",ROUND(G15/G10*100,0))))","v":"  "},null,{"$f":"IF(ISBLANK(I10),\"  \",IF(ISBLANK(I11),\" \",IF(ISBLANK(I15),\" \",ROUND(I15/I10*100,0))))","v":"  "},null,{"$f":"IF(ISBLANK(K10),\"  \",IF(ISBLANK(K11),\" \",IF(ISBLANK(K15),\" \",ROUND(K15/K10*100,0))))","v":"  "},null,{"$f":"IF(ISBLANK(M10),\"  \",IF(ISBLANK(M11),\" \",IF(ISBLANK(M15),\" \",ROUND(M15/M10*100,0))))","v":"  "}]
[1,null,null,{"$f":"IF(ISBLANK(C10),\"  \",IF(ISBLANK(C11),\" \",IF(ISBLANK(C16),\" \",ROUND(C16/C10*100,0))))","v":"  "},null,{"$f":"IF(ISBLANK(E10),\"  \",IF(ISBLANK(E11),\" \",IF(ISBLANK(E16),\" \",ROUND(E16/E10*100,0))))","v":"  "},null,{"$f":"IF(ISBLANK(G10),\"  \",IF(ISBLANK(G11),\" \",IF(ISBLANK(G16),\" \",ROUND(G16/G10*100,0))))","v":"  "},null,{"$f":"IF(ISBLANK(I10),\"  \",IF(ISBLANK(I11),\" \",IF(ISBLANK(I16),\" \",ROUND(I16/I10*100,0))))","v":"  "},null,{"$f":"IF(ISBLANK(K10),\"  \",IF(ISBLANK(K11),\" \",IF(ISBLANK(K16),\" \",ROUND(K16/K10*100,0))))","v":"  "},null,{"$f":"IF(ISBLANK(M10),\"  \",IF(ISBLANK(M11),\" \",IF(ISBLANK(M16),\" \",ROUND(M16/M10*100,0))))","v":"  "}]
[0.75,null,null,{"$f":"IF(ISBLANK(C10),\"  \",IF(ISBLANK(C11),\" \",IF(ISBLANK(C17),\" \",ROUND(C17/C10*100,0))))","v":"  "},null,{"$f":"IF(ISBLANK(E10),\"  \",IF(ISBLANK(E11),\" \",IF(ISBLANK(E17),\" \",ROUND(E17/E10*100,0))))","v":"  "},null,{"$f":"IF(ISBLANK(G10),\"  \",IF(ISBLANK(G11),\" \",IF(ISBLANK(G17),\" \",ROUND(G17/G10*100,0))))","v":"  "},null,{"$f":"IF(ISBLANK(I10),\"  \",IF(ISBLANK(I11),\" \",IF(ISBLANK(I17),\" \",ROUND(I17/I10*100,0))))","v":"  "},null,{"$f":"IF(ISBLANK(K10),\"  \",IF(ISBLANK(K11),\" \",IF(ISBLANK(K17),\" \",ROUND(K17/K10*100,0))))","v":"  "},null,{"$f":"IF(ISBLANK(M10),\"  \",IF(ISBLANK(M11),\" \",IF(ISBLANK(M17),\" \",ROUND(M17/M10*100,0))))","v":"  "}]
[0.625,null,null,{"$f":"IF(ISBLANK(C10),\"  \",IF(ISBLANK(C11),\" \",IF(ISBLANK(C18),\" \",ROUND(C18/C10*100,0))))","v":"  "},null,{"$f":"IF(ISBLANK(E10),\"  \",IF(ISBLANK(E11),\" \",IF(ISBLANK(E18),\" \",ROUND(E18/E10*100,0))))","v":"  "},null,{"$f":"IF(ISBLANK(G10),\"  \",IF(ISBLANK(G11),\" \",IF(ISBLANK(G18),\" \",ROUND(G18/G10*100,0))))","v":"  "},null,{"$f":"IF(ISBLANK(I10),\"  \",IF(ISBLANK(I11),\" \",IF(ISBLANK(I18),\" \",ROUND(I18/I10*100,0))))","v":"  "},null,{"$f":"IF(ISBLANK(K10),\"  \",IF(ISBLANK(K11),\" \",IF(ISBLANK(K18),\" \",ROUND(K18/K10*100,0))))","v":"  "},null,{"$f":"IF(ISBLANK(M10),\"  \",IF(ISBLANK(M11),\" \",IF(ISBLANK(M18),\" \",ROUND(M18/M10*100,0))))","v":"  "}]
[0.5,null,null,{"$f":"IF(ISBLANK(C10),\"  \",IF(ISBLANK(C11),\" \",IF(ISBLANK(C19),\" \",ROUND(C19/C10*100,0))))","v":"  "},null,{"$f":"IF(ISBLANK(E10),\"  \",IF(ISBLANK(E11),\" \",IF(ISBLANK(E19),\" \",ROUND(E19/E10*100,0))))","v":"  "},null,{"$f":"IF(ISBLANK(G10),\"  \",IF(ISBLANK(G11),\" \",IF(ISBLANK(G19),\" \",ROUND(G19/G10*100,0))))","v":"  "},null,{"$f":"IF(ISBLANK(I10),\"  \",IF(ISBLANK(I11),\" \",IF(ISBLANK(I19),\" \",ROUND(I19/I10*100,0))))","v":"  "},null,{"$f":"IF(ISBLANK(K10),\"  \",IF(ISBLANK(K11),\" \",IF(ISBLANK(K19),\" \",ROUND(K19/K10*100,0))))","v":"  "},null,{"$f":"IF(ISBLANK(M10),\"  \",IF(ISBLANK(M11),\" \",IF(ISBLANK(M19),\" \",ROUND(M19/M10*100,0))))","v":"  "}]
[0.375,null,null,{"$f":"IF(ISBLANK(C10),\"  \",IF(ISBLANK(C11),\" \",IF(ISBLANK(C20),\" \",ROUND(C20/C10*100,0))))","v":"  "},null,{"$f":"IF(ISBLANK(E10),\"  \",IF(ISBLANK(E11),\" \",IF(ISBLANK(E20),\" \",ROUND(E20/E10*100,0))))","v":"  "},null,{"$f":"IF(ISBLANK(G10),\"  \",IF(ISBLANK(G11),\" \",IF(ISBLANK(G20),\" \",ROUND(G20/G10*100,0))))","v":"  "},null,{"$f":"IF(ISBLANK(I10),\"  \",IF(ISBLANK(I11),\" \",IF(ISBLANK(I20),\" \",ROUND(I20/I10*100,0))))","v":"  "},null,{"$f":"IF(ISBLANK(K10),\"  \",IF(ISBLANK(K11),\" \",IF(ISBLANK(K20),\" \",ROUND(K20/K10*100,0))))","v":"  "},null,{"$f":"IF(ISBLANK(M10),\"  \",IF(ISBLANK(M11),\" \",IF(ISBLANK(M20),\" \",ROUND(M20/M10*100,0))))","v":"  "}]
[0.25,null,null,{"$f":"IF(ISBLANK(C10),\"  \",IF(ISBLANK(C11),\" \",IF(ISBLANK(C21),\" \",ROUND(C21/C10*100,0))))","v":"  "},null,{"$f":"IF(ISBLANK(E10),\"  \",IF(ISBLANK(E11),\" \",IF(ISBLANK(E21),\" \",ROUND(E21/E10*100,0))))","v":"  "},null,{"$f":"IF(ISBLANK(G10),\"  \",IF(ISBLANK(G11),\" \",IF(ISBLANK(G21),\" \",ROUND(G21/G10*100,0))))","v":"  "},null,{"$f":"IF(ISBLANK(I10),\"  \",IF(ISBLANK(I11),\" \",IF(ISBLANK(I21),\" \",ROUND(I21/I10*100,0))))","v":"  "},null,{"$f":"IF(ISBLANK(K10),\"  \",IF(ISBLANK(K11),\" \",IF(ISBLANK(K21),\" \",ROUND(K21/K10*100,0))))","v":"  "},null,{"$f":"IF(ISBLANK(M10),\"  \",IF(ISBLANK(M11),\" \",IF(ISBLANK(M21),\" \",ROUND(M21/M10*100,0))))","v":"  "}]
[4,null,null,{"$f":"IF(ISBLANK(C10),\"  \",IF(ISBLANK(C11),\" \",IF(ISBLANK(C22),\" \",ROUND(C22/C10*100,0))))","v":"  "},null,{"$f":"IF(ISBLANK(E10),\"  \",IF(ISBLANK(E11),\" \",IF(ISBLANK(E22),\" \",ROUND(E22/E10*100,0))))","v":"  "},null,{"$f":"IF(ISBLANK(G10),\"  \",IF(ISBLANK(G11),\" \",IF(ISBLANK(G22),\" \",ROUND(G22/G10*100,0))))","v":"  "},null,{"$f":"IF(ISBLANK(I10),\"  \",IF(ISBLANK(I11),\" \",IF(ISBLANK(I22),\" \",ROUND(I22/I10*100,0))))","v":"  "},null,{"$f":"IF(ISBLANK(K10),\"  \",IF(ISBLANK(K11),\" \",IF(ISBLANK(K22),\" \",ROUND(K22/K10*100,0))))","v":"  "},null,{"$f":"IF(ISBLANK(M10),\"  \",IF(ISBLANK(M11),\" \",IF(ISBLANK(M22),\" \",ROUND(M22/M10*100,0))))","v":"  "}]
["Split St. Wt.",null,null,"% Loss",null,"% Loss",null,"% Loss",null,"% Loss",null,"% Loss",null,"% Loss"]
["Split Ending Wt.",null,null,{"$f":"IF(ISBLANK(C24),\"\",(C23-C24)/C23*100)","v":""},null,{"$f":"IF(ISBLANK(E24),\"\",(E23-E24)/E23*100)","v":""},null,{"$f":"IF(ISBLANK(G24),\"\",(G23-G24)/G23*100)","v":""},null,{"$f":"IF(ISBLANK(I24),\"\",(I23-I24)/I23*100)","v":""},null,{"$f":"IF(ISBLANK(K24),\"\",(K23-K24)/K23*100)","v":""},null,{"$f":"IF(ISBLANK(M24),\"\",(M23-M24)/M23*100)","v":""}]
[8,null,null,{"$f":"IF(ISBLANK(C10),\"  \",IF(ISBLANK(C22),\" \",IF(ISBLANK(C23),\" \",ROUND((C22/C23*C25)/C10*100,0))))","v":"  "},null,{"$f":"IF(ISBLANK(E10),\"  \",IF(ISBLANK(E22),\" \",IF(ISBLANK(E23),\" \",(E22/E23*E25)/E10*100)))","v":"  "},null,{"$f":"IF(ISBLANK(G10),\"  \",IF(ISBLANK(G22),\" \",IF(ISBLANK(G23),\" \",(G22/G23*G25)/G10*100)))","v":"  "},null,{"$f":"IF(ISBLANK(I10),\"  \",IF(ISBLANK(I22),\" \",IF(ISBLANK(I23),\" \",(I22/I23*I25)/I10*100)))","v":"  "},null,{"$f":"IF(ISBLANK(K10),\"  \",IF(ISBLANK(K22),\" \",IF(ISBLANK(K23),\" \",(K22/K23*K25)/K10*100)))","v":"  "},null,{"$f":"IF(ISBLANK(M10),\"  \",IF(ISBLANK(M22),\" \",IF(ISBLANK(M23),\" \",(M22/M23*M25)/M10*100)))","v":"  "}]
[16,null,null,{"$f":"IF(ISBLANK(C10),\"  \",IF(ISBLANK(C22),\" \",IF(ISBLANK(C23),\" \",(C22/C23*C26)/C10*100)))","v":"  "},null,{"$f":"IF(ISBLANK(E10),\"  \",IF(ISBLANK(E22),\" \",IF(ISBLANK(E23),\" \",(E22/E23*E26)/E10*100)))","v":"  "},null,{"$f":"IF(ISBLANK(G10),\"  \",IF(ISBLANK(G22),\" \",IF(ISBLANK(G23),\" \",(G22/G23*G26)/G10*100)))","v":"  "},null,{"$f":"IF(ISBLANK(I10),\"  \",IF(ISBLANK(I22),\" \",IF(ISBLANK(I23),\" \",(I22/I23*I26)/I10*100)))","v":"  "},null,{"$f":"IF(ISBLANK(K10),\"  \",IF(ISBLANK(K22),\" \",IF(ISBLANK(K23),\" \",(K22/K23*K26)/K10*100)))","v":"  "},null,{"$f":"IF(ISBLANK(M10),\"  \",IF(ISBLANK(M22),\" \",IF(ISBLANK(M23),\" \",(M22/M23*M26)/M10*100)))","v":"  "}]
[30,null,null,{"$f":"IF(ISBLANK(C10),\"  \",IF(ISBLANK(C22),\" \",IF(ISBLANK(C23),\" \",(C22/C23*C27)/C10*100)))","v":"  "},null,{"$f":"IF(ISBLANK(E10),\"  \",IF(ISBLANK(E22),\" \",IF(ISBLANK(E23),\" \",(E22/E23*E27)/E10*100)))","v":"  "},null,{"$f":"IF(ISBLANK(G10),\"  \",IF(ISBLANK(G22),\" \",IF(ISBLANK(G23),\" \",(G22/G23*G27)/G10*100)))","v":"  "},null,{"$f":"IF(ISBLANK(I10),\"  \",IF(ISBLANK(I22),\" \",IF(ISBLANK(I23),\" \",(I22/I23*I27)/I10*100)))","v":"  "},null,{"$f":"IF(ISBLANK(K10),\"  \",IF(ISBLANK(K22),\" \",IF(ISBLANK(K23),\" \",(K22/K23*K27)/K10*100)))","v":"  "},null,{"$f":"IF(ISBLANK(M10),\"  \",IF(ISBLANK(M22),\" \",IF(ISBLANK(M23),\" \",(M22/M23*M27)/M10*100)))","v":"  "}]
[50,null,null,{"$f":"IF(ISBLANK(C10),\"  \",IF(ISBLANK(C22),\" \",IF(ISBLANK(C23),\" \",(C22/C23*C28)/C10*100)))","v":"  "},null,{"$f":"IF(ISBLANK(E10),\"  \",IF(ISBLANK(E22),\" \",IF(ISBLANK(E23),\" \",(E22/E23*E28)/E10*100)))","v":"  "},null,{"$f":"IF(ISBLANK(G10),\"  \",IF(ISBLANK(G22),\" \",IF(ISBLANK(G23),\" \",(G22/G23*G28)/G10*100)))","v":"  "},null,{"$f":"IF(ISBLANK(I10),\"  \",IF(ISBLANK(I22),\" \",IF(ISBLANK(I23),\" \",(I22/I23*I28)/I10*100)))","v":"  "},null,{"$f":"IF(ISBLANK(K10),\"  \",IF(ISBLANK(K22),\" \",IF(ISBLANK(K23),\" \",(K22/K23*K28)/K10*100)))","v":"  "},null,{"$f":"IF(ISBLANK(M10),\"  \",IF(ISBLANK(M22),\" \",IF(ISBLANK(M23),\" \",(M22/M23*M28)/M10*100)))","v":"  "}]
[100,null,null,{"$f":"IF(ISBLANK(C10),\"  \",IF(ISBLANK(C22),\" \",IF(ISBLANK(C23),\" \",(C22/C23*C29)/C10*100)))","v":"  "},null,{"$f":"IF(ISBLANK(E10),\"  \",IF(ISBLANK(E22),\" \",IF(ISBLANK(E23),\" \",(E22/E23*E29)/E10*100)))","v":"  "},null,{"$f":"IF(ISBLANK(G10),\"  \",IF(ISBLANK(G22),\" \",IF(ISBLANK(G23),\" \",(G22/G23*G29)/G10*100)))","v":"  "},null,{"$f":"IF(ISBLANK(I10),\"  \",IF(ISBLANK(I22),\" \",IF(ISBLANK(I23),\" \",(I22/I23*I29)/I10*100)))","v":"  "},null,{"$f":"IF(ISBLANK(K10),\"  \",IF(ISBLANK(K22),\" \",IF(ISBLANK(K23),\" \",(K22/K23*K29)/K10*100)))","v":"  "},null,{"$f":"IF(ISBLANK(M10),\"  \",IF(ISBLANK(M22),\" \",IF(ISBLANK(M23),\" \",(M22/M23*M29)/M10*100)))","v":"  "}]
[200,null,null,{"$f":"IF(ISBLANK(C10),\"  \",IF(ISBLANK(C22),\" \",IF(ISBLANK(C23),\" \",(C22/C23*C30)/C10*100)))","v":"  "},null,{"$f":"IF(ISBLANK(E10),\"  \",IF(ISBLANK(E22),\" \",IF(ISBLANK(E23),\" \",(E22/E23*E30)/E10*100)))","v":"  "},null,{"$f":"IF(ISBLANK(G10),\"  \",IF(ISBLANK(G22),\" \",IF(ISBLANK(G23),\" \",(G22/G23*G30)/G10*100)))","v":"  "},null,{"$f":"IF(ISBLANK(I10),\"  \",IF(ISBLANK(I22),\" \",IF(ISBLANK(I23),\" \",(I22/I23*I30)/I10*100)))","v":"  "},null,{"$f":"IF(ISBLANK(K10),\"  \",IF(ISBLANK(K22),\" \",IF(ISBLANK(K23),\" \",(K22/K23*K30)/K10*100)))","v":"  "},null,{"$f":"IF(ISBLANK(M10),\"  \",IF(ISBLANK(M22),\" \",IF(ISBLANK(M23),\" \",(M22/M23*M30)/M10*100)))","v":"  "}]
["St. Wt. Before Wash",null,null,"% Passing",null,"% Passing",null,"% Passing",null,"% Passing",null,"% Passing",null,"% Passing"]
["End Wt. After Wash",null,null,{"$f":"IF(ISBLANK(C31),\"\",IF(ISBLANK(C32),\"\",((C31-C32)/C31)*100))","v":""},null,{"$f":"IF(ISBLANK(E31),\"\",IF(ISBLANK(E32),\"\",((E31-E32)/E31)*100))","v":""},null,{"$f":"IF(ISBLANK(G31),\"\",IF(ISBLANK(G32),\"\",((G31-G32)/G31)*100))","v":""},null,{"$f":"IF(ISBLANK(I31),\"\",IF(ISBLANK(I32),\"\",((I31-I32)/I31)*100))","v":""},null,{"$f":"IF(ISBLANK(K31),\"\",IF(ISBLANK(K32),\"\",((K31-K32)/K31)*100))","v":""},null,{"$f":"IF(ISBLANK(M31),\"\",IF(ISBLANK(M32),\"\",((M31-M32)/M31)*100))","v":""}]
["Tested By"]
["Remarks"]
[]
[]
[]
["Sample No.",null,67,null,68,null,69,null,70,null,71,null,72]
["Date"]
["Starting Wt",null,null,"% Loss",null,"% Loss",null,"% Loss",null,"% Loss",null,"% Loss",null,"% Loss"]
["Ending Wt",null,null,{"$f":"IF(ISBLANK(C41),\" \",((C40-C41)/C40)*100)","v":" "},null,{"$f":"IF(ISBLANK(E41),\" \",((E40-E41)/E40)*100)","v":" "},null,{"$f":"IF(ISBLANK(G41),\" \",((G40-G41)/G40)*100)","v":" "},null,{"$f":"IF(ISBLANK(I41),\" \",((I40-I41)/I40)*100)","v":" "},null,{"$f":"IF(ISBLANK(K41),\" \",((K40-K41)/K40)*100)","v":" "},null,{"$f":"IF(ISBLANK(M41),\" \",((M40-M41)/M40)*100)","v":" "}]
[null,null,"Wt","% Passing","Wt","% Passing","Wt","% Passing","Wt","% Passing","Wt","% Passing","Wt","% Passing"]
[2.5,null,null,{"$f":"IF(ISBLANK(C40),\"  \",IF(ISBLANK(C41),\" \",IF(ISBLANK(C43),\" \",ROUND(C43/C40*100,0))))","v":"  "},null,{"$f":"IF(ISBLANK(E40),\"  \",IF(ISBLANK(E41),\" \",IF(ISBLANK(E43),\" \",ROUND(E43/E40*100,0))))","v":"  "},null,{"$f":"IF(ISBLANK(G40),\"  \",IF(ISBLANK(G41),\" \",IF(ISBLANK(G43),\" \",ROUND(G43/G40*100,0))))","v":"  "},null,{"$f":"IF(ISBLANK(I40),\"  \",IF(ISBLANK(I41),\" \",IF(ISBLANK(I43),\" \",ROUND(I43/I40*100,0))))","v":"  "},null,{"$f":"IF(ISBLANK(K40),\"  \",IF(ISBLANK(K41),\" \",IF(ISBLANK(K43),\" \",ROUND(K43/K40*100,0))))","v":"  "},null,{"$f":"IF(ISBLANK(M40),\"  \",IF(ISBLANK(M41),\" \",IF(ISBLANK(M43),\" \",ROUND(M43/M40*100,0))))","v":"  "}]
[2,null,null,{"$f":"IF(ISBLANK(C40),\"  \",IF(ISBLANK(C41),\" \",IF(ISBLANK(C44),\" \",ROUND(C44/C40*100,0))))","v":"  "},null,{"$f":"IF(ISBLANK(E40),\"  \",IF(ISBLANK(E41),\" \",IF(ISBLANK(E44),\" \",ROUND(E44/E40*100,0))))","v":"  "},null,{"$f":"IF(ISBLANK(G40),\"  \",IF(ISBLANK(G41),\" \",IF(ISBLANK(G44),\" \",ROUND(G44/G40*100,0))))","v":"  "},null,{"$f":"IF(ISBLANK(I40),\"  \",IF(ISBLANK(I41),\" \",IF(ISBLANK(I44),\" \",ROUND(I44/I40*100,0))))","v":"  "},null,{"$f":"IF(ISBLANK(K40),\"  \",IF(ISBLANK(K41),\" \",IF(ISBLANK(K44),\" \",ROUND(K44/K40*100,0))))","v":"  "},null,{"$f":"IF(ISBLANK(M40),\"  \",IF(ISBLANK(M41),\" \",IF(ISBLANK(M44),\" \",ROUND(M44/M40*100,0))))","v":"  "}]
[1.5,null,null,{"$f":"IF(ISBLANK(C40),\"  \",IF(ISBLANK(C41),\" \",IF(ISBLANK(C45),\" \",ROUND(C45/C40*100,0))))","v":"  "},null,{"$f":"IF(ISBLANK(E40),\"  \",IF(ISBLANK(E41),\" \",IF(ISBLANK(E45),\" \",ROUND(E45/E40*100,0))))","v":"  "},null,{"$f":"IF(ISBLANK(G40),\"  \",IF(ISBLANK(G41),\" \",IF(ISBLANK(G45),\" \",ROUND(G45/G40*100,0))))","v":"  "},null,{"$f":"IF(ISBLANK(I40),\"  \",IF(ISBLANK(I41),\" \",IF(ISBLANK(I45),\" \",ROUND(I45/I40*100,0))))","v":"  "},null,{"$f":"IF(ISBLANK(K40),\"  \",IF(ISBLANK(K41),\" \",IF(ISBLANK(K45),\" \",ROUND(K45/K40*100,0))))","v":"  "},null,{"$f":"IF(ISBLANK(M40),\"  \",IF(ISBLANK(M41),\" \",IF(ISBLANK(M45),\" \",ROUND(M45/M40*100,0))))","v":"  "}]
[1,null,null,{"$f":"IF(ISBLANK(C40),\"  \",IF(ISBLANK(C41),\" \",IF(ISBLANK(C46),\" \",ROUND(C46/C40*100,0))))","v":"  "},null,{"$f":"IF(ISBLANK(E40),\"  \",IF(ISBLANK(E41),\" \",IF(ISBLANK(E46),\" \",ROUND(E46/E40*100,0))))","v":"  "},null,{"$f":"IF(ISBLANK(G40),\"  \",IF(ISBLANK(G41),\" \",IF(ISBLANK(G46),\" \",ROUND(G46/G40*100,0))))","v":"  "},null,{"$f":"IF(ISBLANK(I40),\"  \",IF(ISBLANK(I41),\" \",IF(ISBLANK(I46),\" \",ROUND(I46/I40*100,0))))","v":"  "},null,{"$f":"IF(ISBLANK(K40),\"  \",IF(ISBLANK(K41),\" \",IF(ISBLANK(K46),\" \",ROUND(K46/K40*100,0))))","v":"  "},null,{"$f":"IF(ISBLANK(M40),\"  \",IF(ISBLANK(M41),\" \",IF(ISBLANK(M46),\" \",ROUND(M46/M40*100,0))))","v":"  "}]
[0.75,null,null,{"$f":"IF(ISBLANK(C40),\"  \",IF(ISBLANK(C41),\" \",IF(ISBLANK(C47),\" \",ROUND(C47/C40*100,0))))","v":"  "},null,{"$f":"IF(ISBLANK(E40),\"  \",IF(ISBLANK(E41),\" \",IF(ISBLANK(E47),\" \",ROUND(E47/E40*100,0))))","v":"  "},null,{"$f":"IF(ISBLANK(G40),\"  \",IF(ISBLANK(G41),\" \",IF(ISBLANK(G47),\" \",ROUND(G47/G40*100,0))))","v":"  "},null,{"$f":"IF(ISBLANK(I40),\"  \",IF(ISBLANK(I41),\" \",IF(ISBLANK(I47),\" \",ROUND(I47/I40*100,0))))","v":"  "},null,{"$f":"IF(ISBLANK(K40),\"  \",IF(ISBLANK(K41),\" \",IF(ISBLANK(K47),\" \",ROUND(K47/K40*100,0))))","v":"  "},null,{"$f":"IF(ISBLANK(M40),\"  \",IF(ISBLANK(M41),\" \",IF(ISBLANK(M47),\" \",ROUND(M47/M40*100,0))))","v":"  "}]
[0.625,null,null,{"$f":"IF(ISBLANK(C40),\"  \",IF(ISBLANK(C41),\" \",IF(ISBLANK(C48),\" \",ROUND(C48/C40*100,0))))","v":"  "},null,{"$f":"IF(ISBLANK(E40),\"  \",IF(ISBLANK(E41),\" \",IF(ISBLANK(E48),\" \",ROUND(E48/E40*100,0))))","v":"  "},null,{"$f":"IF(ISBLANK(G40),\"  \",IF(ISBLANK(G41),\" \",IF(ISBLANK(G48),\" \",ROUND(G48/G40*100,0))))","v":"  "},null,{"$f":"IF(ISBLANK(I40),\"  \",IF(ISBLANK(I41),\" \",IF(ISBLANK(I48),\" \",ROUND(I48/I40*100,0))))","v":"  "},null,{"$f":"IF(ISBLANK(K40),\"  \",IF(ISBLANK(K41),\" \",IF(ISBLANK(K48),\" \",ROUND(K48/K40*100,0))))","v":"  "},null,{"$f":"IF(ISBLANK(M40),\"  \",IF(ISBLANK(M41),\" \",IF(ISBLANK(M48),\" \",ROUND(M48/M40*100,0))))","v":"  "}]
[0.5,null,null,{"$f":"IF(ISBLANK(C40),\"  \",IF(ISBLANK(C41),\" \",IF(ISBLANK(C49),\" \",ROUND(C49/C40*100,0))))","v":"  "},null,{"$f":"IF(ISBLANK(E40),\"  \",IF(ISBLANK(E41),\" \",IF(ISBLANK(E49),\" \",ROUND(E49/E40*100,0))))","v":"  "},null,{"$f":"IF(ISBLANK(G40),\"  \",IF(ISBLANK(G41),\" \",IF(ISBLANK(G49),\" \",ROUND(G49/G40*100,0))))","v":"  "},null,{"$f":"IF(ISBLANK(I40),\"  \",IF(ISBLANK(I41),\" \",IF(ISBLANK(I49),\" \",ROUND(I49/I40*100,0))))","v":"  "},null,{"$f":"IF(ISBLANK(K40),\"  \",IF(ISBLANK(K41),\" \",IF(ISBLANK(K49),\" \",ROUND(K49/K40*100,0))))","v":"  "},null,{"$f":"IF(ISBLANK(M40),\"  \",IF(ISBLANK(M41),\" \",IF(ISBLANK(M49),\" \",ROUND(M49/M40*100,0))))","v":"  "}]
[0.375,null,null,{"$f":"IF(ISBLANK(C40),\"  \",IF(ISBLANK(C41),\" \",IF(ISBLANK(C50),\" \",ROUND(C50/C40*100,0))))","v":"  "},null,{"$f":"IF(ISBLANK(E40),\"  \",IF(ISBLANK(E41),\" \",IF(ISBLANK(E50),\" \",ROUND(E50/E40*100,0))))","v":"  "},null,{"$f":"IF(ISBLANK(G40),\"  \",IF(ISBLANK(G41),\" \",IF(ISBLANK(G50),\" \",ROUND(G50/G40*100,0))))","v":"  "},null,{"$f":"IF(ISBLANK(I40),\"  \",IF(ISBLANK(I41),\" \",IF(ISBLANK(I50),\" \",ROUND(I50/I40*100,0))))","v":"  "},null,{"$f":"IF(ISBLANK(K40),\"  \",IF(ISBLANK(K41),\" \",IF(ISBLANK(K50),\" \",ROUND(K50/K40*100,0))))","v":"  "},null,{"$f":"IF(ISBLANK(M40),\"  \",IF(ISBLANK(M41),\" \",IF(ISBLANK(M50),\" \",ROUND(M50/M40*100,0))))","v":"  "}]
[0.25,null,null,{"$f":"IF(ISBLANK(C40),\"  \",IF(ISBLANK(C41),\" \",IF(ISBLANK(C51),\" \",ROUND(C51/C40*100,0))))","v":"  "},null,{"$f":"IF(ISBLANK(E40),\"  \",IF(ISBLANK(E41),\" \",IF(ISBLANK(E51),\" \",ROUND(E51/E40*100,0))))","v":"  "},null,{"$f":"IF(ISBLANK(G40),\"  \",IF(ISBLANK(G41),\" \",IF(ISBLANK(G51),\" \",ROUND(G51/G40*100,0))))","v":"  "},null,{"$f":"IF(ISBLANK(I40),\"  \",IF(ISBLANK(I41),\" \",IF(ISBLANK(I51),\" \",ROUND(I51/I40*100,0))))","v":"  "},null,{"$f":"IF(ISBLANK(K40),\"  \",IF(ISBLANK(K41),\" \",IF(ISBLANK(K51),\" \",ROUND(K51/K40*100,0))))","v":"  "},null,{"$f":"IF(ISBLANK(M40),\"  \",IF(ISBLANK(M41),\" \",IF(ISBLANK(M51),\" \",ROUND(M51/M40*100,0))))","v":"  "}]
[4,null,null,{"$f":"IF(ISBLANK(C40),\"  \",IF(ISBLANK(C41),\" \",IF(ISBLANK(C52),\" \",ROUND(C52/C40*100,0))))","v":"  "},null,{"$f":"IF(ISBLANK(E40),\"  \",IF(ISBLANK(E41),\" \",IF(ISBLANK(E52),\" \",ROUND(E52/E40*100,0))))","v":"  "},null,{"$f":"IF(ISBLANK(G40),\"  \",IF(ISBLANK(G41),\" \",IF(ISBLANK(G52),\" \",ROUND(G52/G40*100,0))))","v":"  "},null,{"$f":"IF(ISBLANK(I40),\"  \",IF(ISBLANK(I41),\" \",IF(ISBLANK(I52),\" \",ROUND(I52/I40*100,0))))","v":"  "},null,{"$f":"IF(ISBLANK(K40),\"  \",IF(ISBLANK(K41),\" \",IF(ISBLANK(K52),\" \",ROUND(K52/K40*100,0))))","v":"  "},null,{"$f":"IF(ISBLANK(M40),\"  \",IF(ISBLANK(M41),\" \",IF(ISBLANK(M52),\" \",ROUND(M52/M40*100,0))))","v":"  "}]
["Split St. Wt.",null,null,"% Loss",null,"% Loss",null,"% Loss",null,"% Loss",null,"% Loss",null,"% Loss"]
["Split Ending Wt.",null,null,{"$f":"IF(ISBLANK(C54),\"\",(C53-C54)/C53*100)","v":""},null,{"$f":"IF(ISBLANK(E54),\"\",(E53-E54)/E53*100)","v":""},null,{"$f":"IF(ISBLANK(G54),\"\",(G53-G54)/G53*100)","v":""},null,{"$f":"IF(ISBLANK(I54),\"\",(I53-I54)/I53*100)","v":""},null,{"$f":"IF(ISBLANK(K54),\"\",(K53-K54)/K53*100)","v":""},null,{"$f":"IF(ISBLANK(M54),\"\",(M53-M54)/M53*100)","v":""}]
[8,null,null,{"$f":"IF(ISBLANK(C40),\"  \",IF(ISBLANK(C52),\" \",IF(ISBLANK(C53),\" \",(C52/C53*C55)/C40*100)))","v":"  "},null,{"$f":"IF(ISBLANK(E40),\"  \",IF(ISBLANK(E52),\" \",IF(ISBLANK(E53),\" \",(E52/E53*E55)/E40*100)))","v":"  "},null,{"$f":"IF(ISBLANK(G40),\"  \",IF(ISBLANK(G52),\" \",IF(ISBLANK(G53),\" \",(G52/G53*G55)/G40*100)))","v":"  "},null,{"$f":"IF(ISBLANK(I40),\"  \",IF(ISBLANK(I52),\" \",IF(ISBLANK(I53),\" \",(I52/I53*I55)/I40*100)))","v":"  "},null,{"$f":"IF(ISBLANK(K40),\"  \",IF(ISBLANK(K52),\" \",IF(ISBLANK(K53),\" \",(K52/K53*K55)/K40*100)))","v":"  "},null,{"$f":"IF(ISBLANK(M40),\"  \",IF(ISBLANK(M52),\" \",IF(ISBLANK(M53),\" \",(M52/M53*M55)/M40*100)))","v":"  "}]
[16,null,null,{"$f":"IF(ISBLANK(C40),\"  \",IF(ISBLANK(C52),\" \",IF(ISBLANK(C53),\" \",(C52/C53*C56)/C40*100)))","v":"  "},null,{"$f":"IF(ISBLANK(E40),\"  \",IF(ISBLANK(E52),\" \",IF(ISBLANK(E53),\" \",(E52/E53*E56)/E40*100)))","v":"  "},null,{"$f":"IF(ISBLANK(G40),\"  \",IF(ISBLANK(G52),\" \",IF(ISBLANK(G53),\" \",(G52/G53*G56)/G40*100)))","v":"  "},null,{"$f":"IF(ISBLANK(I40),\"  \",IF(ISBLANK(I52),\" \",IF(ISBLANK(I53),\" \",(I52/I53*I56)/I40*100)))","v":"  "},null,{"$f":"IF(ISBLANK(K40),\"  \",IF(ISBLANK(K52),\" \",IF(ISBLANK(K53),\" \",(K52/K53*K56)/K40*100)))","v":"  "},null,{"$f":"IF(ISBLANK(M40),\"  \",IF(ISBLANK(M52),\" \",IF(ISBLANK(M53),\" \",(M52/M53*M56)/M40*100)))","v":"  "}]
[30,null,null,{"$f":"IF(ISBLANK(C40),\"  \",IF(ISBLANK(C52),\" \",IF(ISBLANK(C53),\" \",(C52/C53*C57)/C40*100)))","v":"  "},null,{"$f":"IF(ISBLANK(E40),\"  \",IF(ISBLANK(E52),\" \",IF(ISBLANK(E53),\" \",(E52/E53*E57)/E40*100)))","v":"  "},null,{"$f":"IF(ISBLANK(G40),\"  \",IF(ISBLANK(G52),\" \",IF(ISBLANK(G53),\" \",(G52/G53*G57)/G40*100)))","v":"  "},null,{"$f":"IF(ISBLANK(I40),\"  \",IF(ISBLANK(I52),\" \",IF(ISBLANK(I53),\" \",(I52/I53*I57)/I40*100)))","v":"  "},null,{"$f":"IF(ISBLANK(K40),\"  \",IF(ISBLANK(K52),\" \",IF(ISBLANK(K53),\" \",(K52/K53*K57)/K40*100)))","v":"  "},null,{"$f":"IF(ISBLANK(M40),\"  \",IF(ISBLANK(M52),\" \",IF(ISBLANK(M53),\" \",(M52/M53*M57)/M40*100)))","v":"  "}]
[50,null,null,{"$f":"IF(ISBLANK(C40),\"  \",IF(ISBLANK(C52),\" \",IF(ISBLANK(C53),\" \",(C52/C53*C58)/C40*100)))","v":"  "},null,{"$f":"IF(ISBLANK(E40),\"  \",IF(ISBLANK(E52),\" \",IF(ISBLANK(E53),\" \",(E52/E53*E58)/E40*100)))","v":"  "},null,{"$f":"IF(ISBLANK(G40),\"  \",IF(ISBLANK(G52),\" \",IF(ISBLANK(G53),\" \",(G52/G53*G58)/G40*100)))","v":"  "},null,{"$f":"IF(ISBLANK(I40),\"  \",IF(ISBLANK(I52),\" \",IF(ISBLANK(I53),\" \",(I52/I53*I58)/I40*100)))","v":"  "},null,{"$f":"IF(ISBLANK(K40),\"  \",IF(ISBLANK(K52),\" \",IF(ISBLANK(K53),\" \",(K52/K53*K58)/K40*100)))","v":"  "},null,{"$f":"IF(ISBLANK(M40),\"  \",IF(ISBLANK(M52),\" \",IF(ISBLANK(M53),\" \",(M52/M53*M58)/M40*100)))","v":"  "}]
[100,null,null,{"$f":"IF(ISBLANK(C40),\"  \",IF(ISBLANK(C52),\" \",IF(ISBLANK(C53),\" \",(C52/C53*C59)/C40*100)))","v":"  "},null,{"$f":"IF(ISBLANK(E40),\"  \",IF(ISBLANK(E52),\" \",IF(ISBLANK(E53),\" \",(E52/E53*E59)/E40*100)))","v":"  "},null,{"$f":"IF(ISBLANK(G40),\"  \",IF(ISBLANK(G52),\" \",IF(ISBLANK(G53),\" \",(G52/G53*G59)/G40*100)))","v":"  "},null,{"$f":"IF(ISBLANK(I40),\"  \",IF(ISBLANK(I52),\" \",IF(ISBLANK(I53),\" \",(I52/I53*I59)/I40*100)))","v":"  "},null,{"$f":"IF(ISBLANK(K40),\"  \",IF(ISBLANK(K52),\" \",IF(ISBLANK(K53),\" \",(K52/K53*K59)/K40*100)))","v":"  "},null,{"$f":"IF(ISBLANK(M40),\"  \",IF(ISBLANK(M52),\" \",IF(ISBLANK(M53),\" \",(M52/M53*M59)/M40*100)))","v":"  "}]
[200,null,null,{"$f":"IF(ISBLANK(C40),\"  \",IF(ISBLANK(C52),\" \",IF(ISBLANK(C53),\" \",(C52/C53*C60)/C40*100)))","v":"  "},null,{"$f":"IF(ISBLANK(E40),\"  \",IF(ISBLANK(E52),\" \",IF(ISBLANK(E53),\" \",(E52/E53*E60)/E40*100)))","v":"  "},null,{"$f":"IF(ISBLANK(G40),\"  \",IF(ISBLANK(G52),\" \",IF(ISBLANK(G53),\" \",(G52/G53*G60)/G40*100)))","v":"  "},null,{"$f":"IF(ISBLANK(I40),\"  \",IF(ISBLANK(I52),\" \",IF(ISBLANK(I53),\" \",(I52/I53*I60)/I40*100)))","v":"  "},null,{"$f":"IF(ISBLANK(K40),\"  \",IF(ISBLANK(K52),\" \",IF(ISBLANK(K53),\" \",(K52/K53*K60)/K40*100)))","v":"  "},null,{"$f":"IF(ISBLANK(M40),\"  \",IF(ISBLANK(M52),\" \",IF(ISBLANK(M53),\" \",(M52/M53*M60)/M40*100)))","v":"  "}]
["St. Wt. Before Wash",null,null,"% Passing",null,"% Passing",null,"% Passing",null,"% Passing",null,"% Passing",null,"% Passing"]
["End Wt. After Wash",null,null,{"$f":"IF(ISBLANK(C61),\"\",IF(ISBLANK(C62),\"\",((C61-C62)/C61)*100))","v":""},null,{"$f":"IF(ISBLANK(E61),\"\",IF(ISBLANK(E62),\"\",((E61-E62)/E61)*100))","v":""},null,{"$f":"IF(ISBLANK(G61),\"\",IF(ISBLANK(G62),\"\",((G61-G62)/G61)*100))","v":""},null,{"$f":"IF(ISBLANK(I61),\"\",IF(ISBLANK(I62),\"\",((I61-I62)/I61)*100))","v":""},null,{"$f":"IF(ISBLANK(K61),\"\",IF(ISBLANK(K62),\"\",((K61-K62)/K61)*100))","v":""},null,{"$f":"IF(ISBLANK(M61),\"\",IF(ISBLANK(M62),\"\",((M61-M62)/M61)*100))","v":""}]
["Tested By"]
["Remarks"]
[]
[]
[]
[null,null,{"$f":"MAX(C43:C58)","v":0},null,{"$f":"MAX(E43:E58)","v":0},null,{"$f":"MAX(G43:G58)","v":0},null,{"$f":"MAX(I43:I58)","v":0},null,{"$f":"MAX(K43:K58)","v":0},null,{"$f":"MAX(M43:M58)","v":0}]

{"sheet":"Split 1-24","index":28,"n_rows":5,"n_cols":35,"rows_kept":5,"cut":false,"hidden":false,"merged":[[3,1,3,5],[3,7,3,8],[3,9,3,10],[4,0,4,1],[0,0,2,0],[1,1,1,5],[1,7,1,8],[1,9,1,10],[2,1,2,5],[2,7,2,8],[2,9,2,10]]}
[null,null,null,null,null,null,null,null,null,null,null,null,null,null,null,null,null,{"$f":"IF(J4=\"Type A\",1,IF(J4=\"B1\",2,IF(J4=\"B3\",3,IF(J4=\"Anti-Skid\",4,IF(J4=3,5,IF(J4=467,6,IF(J4=5,7,IF(J4=57,8,IF(J4=67,9,IF(J4=7,10,IF(J4=8,11,IF(J4=9,12,IF(J4=10,13,IF(J4=\"2A\",14,IF(J4=\"OGS\",15,IF(J4=78,16,IF(J4=\"2RC\",17,IF(J4=\"DSA\",18))))))))))))))))))","v":false}]
[null,"COMMONWEALTH OF PENNSYLVANIA",null,null,null,null,null,"DISTRICT",null,{"$f":"'Split 1'!M2","v":0},null,null,null,null,null,null,null,{"$f":"IF($R1=1,1,0)","v":0},{"$f":"IF($R1=2,1,0)","v":0},{"$f":"IF($R1=3,1,0)","v":0},{"$f":"IF($R1=4,1,0)","v":0},{"$f":"IF($R1=5,1,0)","v":0},{"$f":"IF($R1=6,1,0)","v":0},{"$f":"IF($R1=7,1,0)","v":0},{"$f":"IF($R1=8,1,0)","v":0},{"$f":"IF($R1=9,1,0)","v":0},{"$f":"IF($R1=10,1,0)","v":0},{"$f":"IF($R1=11,1,0)","v":0},{"$f":"IF($R1=12,1,0)","v":0},{"$f":"IF($R1=13,1,0)","v":0},{"$f":"IF($R1=14,1,0)","v":0},{"$f":"IF($R1=15,1,0)","v":0},{"$f":"IF($R1=16,1,0)","v":0},{"$f":"IF($R1=17,1,0)","v":0},{"$f":"IF($R1=18,1,0)","v":0}]
[null,"DEPARTMENT OF TRANSPORTATION",null,null,null,null,null,"PLANT CODE",null,{"$f":"'Split 1'!M3","v":0},null,null,null,null,null,null,null,"Type A","B1","B3","Anti-Skid",3,467,5,57,67,7,8,9,10,"2A","OGS",78,"2RC","DSA"]
[null,"PENNSYLVANIA TURNPIKE COMMISSION",null,null,null,null,null,"AGG SIZE",null,{"$f":"'Split 1'!M4","v":0}]
[{"$f":"'S1'!$A$6:$B$6","v":"Aggregate 2023"}]

{"sheet":"Split 25-48","index":29,"n_rows":5,"n_cols":35,"rows_kept":5,"cut":false,"hidden":true,"merged":[[3,1,3,5],[3,7,3,8],[3,9,3,10],[4,0,4,1],[0,0,2,0],[1,1,1,5],[1,7,1,8],[1,9,1,10],[2,1,2,5],[2,7,2,8],[2,9,2,10]]}
[null,null,null,null,null,null,null,null,null,null,null,null,null,null,null,null,null,{"$f":"IF(J4=\"Type A\",1,IF(J4=\"B1\",2,IF(J4=\"B3\",3,IF(J4=\"Anti-Skid\",4,IF(J4=3,5,IF(J4=467,6,IF(J4=5,7,IF(J4=57,8,IF(J4=67,9,IF(J4=7,10,IF(J4=8,11,IF(J4=9,12,IF(J4=10,13,IF(J4=\"2A\",14,IF(J4=\"OGS\",15,IF(J4=78,16,IF(J4=\"2RC\",17,IF(J4=\"DSA\",18))))))))))))))))))","v":false}]
[null,"COMMONWEALTH OF PENNSYLVANIA",null,null,null,null,null,"DISTRICT",null,{"$f":"'Split 1'!M2","v":0},null,null,null,null,null,null,null,{"$f":"IF($R1=1,1,0)","v":0},{"$f":"IF($R1=2,1,0)","v":0},{"$f":"IF($R1=3,1,0)","v":0},{"$f":"IF($R1=4,1,0)","v":0},{"$f":"IF($R1=5,1,0)","v":0},{"$f":"IF($R1=6,1,0)","v":0},{"$f":"IF($R1=7,1,0)","v":0},{"$f":"IF($R1=8,1,0)","v":0},{"$f":"IF($R1=9,1,0)","v":0},{"$f":"IF($R1=10,1,0)","v":0},{"$f":"IF($R1=11,1,0)","v":0},{"$f":"IF($R1=12,1,0)","v":0},{"$f":"IF($R1=13,1,0)","v":0},{"$f":"IF($R1=14,1,0)","v":0},{"$f":"IF($R1=15,1,0)","v":0},{"$f":"IF($R1=16,1,0)","v":0},{"$f":"IF($R1=17,1,0)","v":0},{"$f":"IF($R1=18,1,0)","v":0}]
[null,"DEPARTMENT OF TRANSPORTATION",null,null,null,null,null,"PLANT CODE",null,{"$f":"'Split 1'!M3","v":0},null,null,null,null,null,null,null,"Type A","B1","B3","Anti-Skid",3,467,5,57,67,7,8,9,10,"2A","OGS",78,"2RC","DSA"]
[null,"PENNSYLVANIA TURNPIKE COMMISSION",null,null,null,null,null,"AGG SIZE",null,{"$f":"'Split 1'!M4","v":0}]
[{"$f":"'S1'!$A$6:$B$6","v":"Aggregate 2023"}]

{"sheet":"Split 49-72","index":30,"n_rows":5,"n_cols":35,"rows_kept":5,"cut":false,"hidden":true,"merged":[[3,1,3,5],[3,7,3,8],[3,9,3,10],[4,0,4,1],[0,0,2,0],[1,1,1,5],[1,7,1,8],[1,9,1,10],[2,1,2,5],[2,7,2,8],[2,9,2,10]]}
[null,null,null,null,null,null,null,null,null,null,null,null,null,null,null,null,null,{"$f":"IF(J4=\"Type A\",1,IF(J4=\"B1\",2,IF(J4=\"B3\",3,IF(J4=\"Anti-Skid\",4,IF(J4=3,5,IF(J4=467,6,IF(J4=5,7,IF(J4=57,8,IF(J4=67,9,IF(J4=7,10,IF(J4=8,11,IF(J4=9,12,IF(J4=10,13,IF(J4=\"2A\",14,IF(J4=\"OGS\",15,IF(J4=78,16,IF(J4=\"2RC\",17,IF(J4=\"DSA\",18))))))))))))))))))","v":false}]
[null,"COMMONWEALTH OF PENNSYLVANIA",null,null,null,null,null,"DISTRICT",null,{"$f":"'Split 1'!M2","v":0},null,null,null,null,null,null,null,{"$f":"IF($R1=1,1,0)","v":0},{"$f":"IF($R1=2,1,0)","v":0},{"$f":"IF($R1=3,1,0)","v":0},{"$f":"IF($R1=4,1,0)","v":0},{"$f":"IF($R1=5,1,0)","v":0},{"$f":"IF($R1=6,1,0)","v":0},{"$f":"IF($R1=7,1,0)","v":0},{"$f":"IF($R1=8,1,0)","v":0},{"$f":"IF($R1=9,1,0)","v":0},{"$f":"IF($R1=10,1,0)","v":0},{"$f":"IF($R1=11,1,0)","v":0},{"$f":"IF($R1=12,1,0)","v":0},{"$f":"IF($R1=13,1,0)","v":0},{"$f":"IF($R1=14,1,0)","v":0},{"$f":"IF($R1=15,1,0)","v":0},{"$f":"IF($R1=16,1,0)","v":0},{"$f":"IF($R1=17,1,0)","v":0},{"$f":"IF($R1=18,1,0)","v":0}]
[null,"DEPARTMENT OF TRANSPORTATION",null,null,null,null,null,"PLANT CODE",null,{"$f":"'Split 1'!M3","v":0},null,null,null,null,null,null,null,"Type A","B1","B3","Anti-Skid",3,467,5,57,67,7,8,9,10,"2A","OGS",78,"2RC","DSA"]
[null,"PENNSYLVANIA TURNPIKE COMMISSION",null,null,null,null,null,"AGG SIZE",null,{"$f":"'Split 1'!M4","v":0}]
[{"$f":"'S1'!$A$6:$B$6","v":"Aggregate 2023"}]

{"sheet":"Split Avg","index":31,"n_rows":7,"n_cols":17,"rows_kept":7,"cut":false,"hidden":false,"merged":[[1,0,1,10],[1,12,1,14]]}
[]
["Average Gradation Sieve Size Averages and Standard Deviations",null,null,null,null,null,null,null,null,null,null,"Agg Size",{"$f":"IF(ISBLANK('Split 1'!M4),\" \",'Split 1'!M4)","v":" "}]
[]
["Sieve",2,1.5,1," 3/4"," 5/8"," 1/2"," 3/8"," 1/4",4,8,16,30,50,100,200,"Wash"]
["Average",{"$f":"'S15'!B75","v":{"$error":"#DIV/0!"}},{"$f":"'S15'!D75","v":{"$error":"#DIV/0!"}},{"$f":"'S15'!F75","v":{"$error":"#DIV/0!"}},{"$f":"'S15'!H75","v":{"$error":"#DIV/0!"}},{"$f":"'S15'!J75","v":{"$error":"#DIV/0!"}},{"$f":"'S15'!L75","v":{"$error":"#DIV/0!"}},{"$f":"'S15'!N75","v":{"$error":"#DIV/0!"}},{"$f":"'S15'!P75","v":{"$error":"#DIV/0!"}},{"$f":"'S15'!R75","v":{"$error":"#DIV/0!"}},{"$f":"'S15'!T75","v":{"$error":"#DIV/0!"}},{"$f":"'S15'!V75","v":{"$error":"#DIV/0!"}},{"$f":"'S15'!X75","v":{"$error":"#DIV/0!"}},{"$f":"'S15'!Z75","v":{"$error":"#DIV/0!"}},{"$f":"'S15'!AB75","v":{"$error":"#DIV/0!"}},{"$f":"'S15'!AD75","v":{"$error":"#DIV/0!"}},{"$f":"'S15'!AF75","v":{"$error":"#DIV/0!"}}]
["Count",{"$f":"'S15'!B76","v":0},{"$f":"'S15'!D76","v":0},{"$f":"'S15'!F76","v":0},{"$f":"'S15'!H76","v":0},{"$f":"'S15'!J76","v":0},{"$f":"'S15'!L76","v":0},{"$f":"'S15'!N76","v":0},{"$f":"'S15'!P76","v":0},{"$f":"'S15'!R76","v":0},{"$f":"'S15'!T76","v":0},{"$f":"'S15'!V76","v":0},{"$f":"'S15'!X76","v":0},{"$f":"'S15'!Z76","v":0},{"$f":"'S15'!AB76","v":0},{"$f":"'S15'!AD76","v":0},{"$f":"'S15'!AF76","v":0}]
["St Dev",{"$f":"'S15'!B77","v":{"$error":"#DIV/0!"}},{"$f":"'S15'!D77","v":{"$error":"#DIV/0!"}},{"$f":"'S15'!F77","v":{"$error":"#DIV/0!"}},{"$f":"'S15'!H77","v":{"$error":"#DIV/0!"}},{"$f":"'S15'!J77","v":{"$error":"#DIV/0!"}},{"$f":"'S15'!L77","v":{"$error":"#DIV/0!"}},{"$f":"'S15'!N77","v":{"$error":"#DIV/0!"}},{"$f":"'S15'!P77","v":{"$error":"#DIV/0!"}},{"$f":"'S15'!R77","v":{"$error":"#DIV/0!"}},{"$f":"'S15'!T77","v":{"$error":"#DIV/0!"}},{"$f":"'S15'!V77","v":{"$error":"#DIV/0!"}},{"$f":"'S15'!X77","v":{"$error":"#DIV/0!"}},{"$f":"'S15'!Z77","v":{"$error":"#DIV/0!"}},{"$f":"'S15'!AB77","v":{"$error":"#DIV/0!"}},{"$f":"'S15'!AD77","v":{"$error":"#DIV/0!"}},{"$f":"'S15'!AF77","v":{"$error":"#DIV/0!"}}]

{"sheet":"S15","index":32,"n_rows":145,"n_cols":35,"rows_kept":145,"cut":false,"hidden":true,"merged":[[0,31,0,32],[0,33,0,34],[0,9,0,10],[0,15,0,16],[0,17,0,18],[0,19,0,20],[0,21,0,22],[0,23,0,24],[0,25,0,26],[0,29,0,30],[0,13,0,14],[0,27,0,28],[0,1,0,2],[0,3,0,4],[0,5,0,6],[0,7,0,8],[0,11,0,12]]}
["Sam. No.",2,null,1.5,null,1,null,0.75,null,0.625,null,0.5,null,0.375,null,0.25,null,4,null,8,null,16,null,30,null,"#50",null,"#100",null,"#200",null,"Wash",null,"Wash"]
[{"$f":"IF(ISBLANK('Split 1'!C$8),\" \",'Split 1'!C$8)","v":1},{"$f":"IF(ISTEXT('Split 1'!$D$14),NA(),'Split 1'!$D$14)","v":{"$error":"#N/A"}},{"$f":"B2","v":{"$error":"#N/A"}},{"$f":"IF(ISTEXT('Split 1'!$D$15),NA(),'Split 1'!$D$15)","v":{"$error":"#N/A"}},{"$f":"D2","v":{"$error":"#N/A"}},{"$f":"IF(ISTEXT('Split 1'!$D$16),NA(),'Split 1'!$D$16)","v":{"$error":"#N/A"}},{"$f":"F2","v":{"$error":"#N/A"}},{"$f":"IF(ISTEXT('Split 1'!$D$17),NA(),'Split 1'!$D$17)","v":{"$error":"#N/A"}},{"$f":"H2","v":{"$error":"#N/A"}},{"$f":"IF(ISTEXT('Split 1'!$D$18),NA(),'Split 1'!$D$18)","v":{"$error":"#N/A"}},{"$f":"J2","v":{"$error":"#N/A"}},{"$f":"IF(ISTEXT('Split 1'!$D$19),NA(),'Split 1'!$D$19)","v":{"$error":"#N/A"}},{"$f":"L2","v":{"$error":"#N/A"}},{"$f":"IF(ISTEXT('Split 1'!$D$20),NA(),'Split 1'!$D$20)","v":{"$error":"#N/A"}},{"$f":"N2","v":{"$error":"#N/A"}},{"$f":"IF(ISTEXT('Split 1'!$D$21),NA(),'Split 1'!$D$21)","v":{"$error":"#N/A"}},{"$f":"P2","v":{"$error":"#N/A"}},{"$f":"IF(ISTEXT('Split 1'!$D$22),NA(),'Split 1'!$D$22)","v":{"$error":"#N/A"}},{"$f":"R2","v":{"$error":"#N/A"}},{"$f":"IF(ISTEXT('Split 1'!$D$25),NA(),'Split 1'!$D$25)","v":{"$error":"#N/A"}},{"$f":"T2","v":{"$error":"#N/A"}},{"$f":"IF(ISTEXT('Split 1'!$D$26),NA(),'Split 1'!$D$26)","v":{"$error":"#N/A"}},{"$f":"V2","v":{"$error":"#N/A"}},{"$f":"IF(ISTEXT('Split 1'!$D$27),NA(),'Split 1'!$D$27)","v":{"$error":"#N/A"}},{"$f":"X2","v":{"$error":"#N/A"}},{"$f":"IF(ISTEXT('Split 1'!$D$28),NA(),'Split 1'!$D$28)","v":{"$error":"#N/A"}},{"$f":"Z2","v":{"$error":"#N/A"}},{"$f":"IF(ISTEXT('Split 1'!$D$29),NA(),'Split 1'!$D$29)","v":{"$error":"#N/A"}},{"$f":"AB2","v":{"$error":"#N/A"}},{"$f":"IF(ISTEXT('Split 1'!$D$30),NA(),'Split 1'!$D$30)","v":{"$error":"#N/A"}},{"$f":"AD2","v":{"$error":"#N/A"}},{"$f":"IF(ISTEXT('Split 1'!$D$32),NA(),'Split 1'!$D$32)","v":{"$error":"#N/A"}},{"$f":"AF2","v":{"$error":"#N/A"}},{"$f":"IF(ISTEXT('Split 1'!$D$34),NA(),'Split 1'!$D$34)","v":0},{"$f":"AH2","v":0}]
[{"$f":"IF(ISBLANK('Split 1'!E$8),\" \",'Split 1'!E$8)","v":2},{"$f":"IF(ISTEXT('Split 1'!$F$14),NA(),'Split 1'!$F$14)","v":{"$error":"#N/A"}},{"$f":"(B2+B3)/2","v":{"$error":"#N/A"}},{"$f":"IF(ISTEXT('Split 1'!$F$15),NA(),'Split 1'!$F$15)","v":{"$error":"#N/A"}},{"$f":"(D2+D3)/2","v":{"$error":"#N/A"}},{"$f":"IF(ISTEXT('Split 1'!$F$16),NA(),'Split 1'!$F$16)","v":{"$error":"#N/A"}},{"$f":"(F2+F3)/2","v":{"$error":"#N/A"}},{"$f":"IF(ISTEXT('Split 1'!$F$17),NA(),'Split 1'!$F$17)","v":{"$error":"#N/A"}},{"$f":"(H2+H3)/2","v":{"$error":"#N/A"}},{"$f":"IF(ISTEXT('Split 1'!$F$18),NA(),'Split 1'!$F$18)","v":{"$error":"#N/A"}},{"$f":"(J2+J3)/2","v":{"$error":"#N/A"}},{"$f":"IF(ISTEXT('Split 1'!$F$19),NA(),'Split 1'!$F$19)","v":{"$error":"#N/A"}},{"$f":"(L2+L3)/2","v":{"$error":"#N/A"}},{"$f":"IF(ISTEXT('Split 1'!$F$20),NA(),'Split 1'!$F$20)","v":{"$error":"#N/A"}},{"$f":"(N2+N3)/2","v":{"$error":"#N/A"}},{"$f":"IF(ISTEXT('Split 1'!$F$21),NA(),'Split 1'!$F$21)","v":{"$error":"#N/A"}},{"$f":"(P2+P3)/2","v":{"$error":"#N/A"}},{"$f":"IF(ISTEXT('Split 1'!$F$22),NA(),'Split 1'!$F$22)","v":{"$error":"#N/A"}},{"$f":"(R2+R3)/2","v":{"$error":"#N/A"}},{"$f":"IF(ISTEXT('Split 1'!$F$25),NA(),'Split 1'!$F$25)","v":{"$error":"#N/A"}},{"$f":"(T2+T3)/2","v":{"$error":"#N/A"}},{"$f":"IF(ISTEXT('Split 1'!$F$26),NA(),'Split 1'!$F$26)","v":{"$error":"#N/A"}},{"$f":"(V2+V3)/2","v":{"$error":"#N/A"}},{"$f":"IF(ISTEXT('Split 1'!$F$27),NA(),'Split 1'!$F$27)","v":{"$error":"#N/A"}},{"$f":"(X2+X3)/2","v":{"$error":"#N/A"}},{"$f":"IF(ISTEXT('Split 1'!$F$28),NA(),'Split 1'!$F$28)","v":{"$error":"#N/A"}},{"$f":"ROUND(AVERAGE(Z2:Z3),0)","v":{"$error":"#N/A"}},{"$f":"IF(ISTEXT('Split 1'!$F$29),NA(),'Split 1'!$F$29)","v":{"$error":"#N/A"}},{"$f":"ROUND(AVERAGE(AB2:AB3),0)","v":{"$error":"#N/A"}},{"$f":"IF(ISTEXT('Split 1'!$F$30),NA(),'Split 1'!$F$30)","v":{"$error":"#N/A"}},{"$f":"ROUND(AVERAGE(AD2:AD3),0)","v":{"$error":"#N/A"}},{"$f":"IF(ISTEXT('Split 1'!$F$32),NA(),'Split 1'!$F$32)","v":{"$error":"#N/A"}},{"$f":"ROUND(AVERAGE(AF2:AF3),2)","v":{"$error":"#N/A"}},{"$f":"IF(ISTEXT('Split 1'!$F$34),NA(),'Split 1'!$F$34)","v":0},{"$f":"ROUND(AVERAGE(AH2:AH3),2)","v":0}]
[{"$f":"IF(ISBLANK('Split 1'!G$8),\" \",'Split 1'!G$8)","v":3},{"$f":"IF(ISTEXT('Split 1'!$H$14),NA(),'Split 1'!$H$14)","v":{"$error":"#N/A"}},{"$f":"SUM(B2:B4)/3","v":{"$error":"#N/A"}},{"$f":"IF(ISTEXT('Split 1'!$H$15),NA(),'Split 1'!$H$15)","v":{"$error":"#N/A"}},{"$f":"SUM(D2:D4)/3","v":{"$error":"#N/A"}},{"$f":"IF(ISTEXT('Split 1'!$H$16),NA(),'Split 1'!$H$16)","v":{"$error":"#N/A"}},{"$f":"SUM(F2:F4)/3","v":{"$error":"#N/A"}},{"$f":"IF(ISTEXT('Split 1'!$H$17),NA(),'Split 1'!$H$17)","v":{"$error":"#N/A"}},{"$f":"SUM(H2:H4)/3","v":{"$error":"#N/A"}},{"$f":"IF(ISTEXT('Split 1'!$H$18),NA(),'Split 1'!$H$18)","v":{"$error":"#N/A"}},{"$f":"SUM(J2:J4)/3","v":{"$error":"#N/A"}},{"$f":"IF(ISTEXT('Split 1'!$H$19),NA(),'Split 1'!$H$19)","v":{"$error":"#N/A"}},{"$f":"SUM(L2:L4)/3","v":{"$error":"#N/A"}},{"$f":"IF(ISTEXT('Split 1'!$H$20),NA(),'Split 1'!$H$20)","v":{"$error":"#N/A"}},{"$f":"SUM(N2:N4)/3","v":{"$error":"#N/A"}},{"$f":"IF(ISTEXT('Split 1'!$H$21),NA(),'Split 1'!$H$21)","v":{"$error":"#N/A"}},{"$f":"SUM(P2:P4)/3","v":{"$error":"#N/A"}},{"$f":"IF(ISTEXT('Split 1'!$H$22),NA(),'Split 1'!$H$22)","v":{"$error":"#N/A"}},{"$f":"SUM(R2:R4)/3","v":{"$error":"#N/A"}},{"$f":"IF(ISTEXT('Split 1'!$H$25),NA(),'Split 1'!$H$25)","v":{"$error":"#N/A"}},{"$f":"SUM(T2:T4)/3","v":{"$error":"#N/A"}},{"$f":"IF(ISTEXT('Split 1'!$H$26),NA(),'Split 1'!$H$26)","v":{"$error":"#N/A"}},{"$f":"SUM(V2:V4)/3","v":{"$error":"#N/A"}},{"$f":"IF(ISTEXT('Split 1'!$H$27),NA(),'Split 1'!$H$27)","v":{"$error":"#N/A"}},{"$f":"SUM(X2:X4)/3","v":{"$error":"#N/A"}},{"$f":"IF(ISTEXT('Split 1'!$H$28),NA(),'Split 1'!$H$28)","v":{"$error":"#N/A"}},{"$f":"ROUND(AVERAGE(Z2:Z4),0)","v":{"$error":"#N/A"}},{"$f":"IF(ISTEXT('Split 1'!$H$29),NA(),'Split 1'!$H$29)","v":{"$error":"#N/A"}},{"$f":"ROUND(AVERAGE(AB2:AB4),0)","v":{"$error":"#N/A"}},{"$f":"IF(ISTEXT('Split 1'!$H$30),NA(),'Split 1'!$H$30)","v":{"$error":"#N/A"}},{"$f":"ROUND(AVERAGE(AD2:AD4),0)","v":{"$error":"#N/A"}},{"$f":"IF(ISTEXT('Split 1'!$H$32),NA(),'Split 1'!$H$32)","v":{"$error":"#N/A"}},{"$f":"ROUND(AVERAGE(AF2:AF4),2)","v":{"$error":"#N/A"}},{"$f":"IF(ISTEXT('Split 1'!$H$34),NA(),'Split 1'!$H$34)","v":0},{"$f":"ROUND(AVERAGE(AH2:AH4),2)","v":0}]
[{"$f":"IF(ISBLANK('Split 1'!I$8),\" \",'Split 1'!I$8)","v":4},{"$f":"IF(ISTEXT('Split 1'!$J$14),NA(),'Split 1'!$J$14)","v":{"$error":"#N/A"}},{"$f":"SUM(B3:B5)/3","v":{"$error":"#N/A"}},{"$f":"IF(ISTEXT('Split 1'!$J$15),NA(),'Split 1'!$J$15)","v":{"$error":"#N/A"}},{"$f":"SUM(D3:D5)/3","v":{"$error":"#N/A"}},{"$f":"IF(ISTEXT('Split 1'!$J$16),NA(),'Split 1'!$J$16)","v":{"$error":"#N/A"}},{"$f":"SUM(F3:F5)/3","v":{"$error":"#N/A"}},{"$f":"IF(ISTEXT('Split 1'!$J$17),NA(),'Split 1'!$J$17)","v":{"$error":"#N/A"}},{"$f":"SUM(H3:H5)/3","v":{"$error":"#N/A"}},{"$f":"IF(ISTEXT('Split 1'!$J$18),NA(),'Split 1'!$J$18)","v":{"$error":"#N/A"}},{"$f":"SUM(J3:J5)/3","v":{"$error":"#N/A"}},{"$f":"IF(ISTEXT('Split 1'!$J$19),NA(),'Split 1'!$J$19)","v":{"$error":"#N/A"}},{"$f":"SUM(L3:L5)/3","v":{"$error":"#N/A"}},{"$f":"IF(ISTEXT('Split 1'!$J$20),NA(),'Split 1'!$J$20)","v":{"$error":"#N/A"}},{"$f":"SUM(N3:N5)/3","v":{"$error":"#N/A"}},{"$f":"IF(ISTEXT('Split 1'!$J$21),NA(),'Split 1'!$J$21)","v":{"$error":"#N/A"}},{"$f":"SUM(P3:P5)/3","v":{"$error":"#N/A"}},{"$f":"IF(ISTEXT('Split 1'!$J$22),NA(),'Split 1'!$J$22)","v":{"$error":"#N/A"}},{"$f":"SUM(R3:R5)/3","v":{"$error":"#N/A"}},{"$f":"IF(ISTEXT('Split 1'!$J$25),NA(),'Split 1'!$J$25)","v":{"$error":"#N/A"}},{"$f":"SUM(T3:T5)/3","v":{"$error":"#N/A"}},{"$f":"IF(ISTEXT('Split 1'!$J$26),NA(),'Split 1'!$J$26)","v":{"$error":"#N/A"}},{"$f":"SUM(V3:V5)/3","v":{"$error":"#N/A"}},{"$f":"IF(ISTEXT('Split 1'!$J$27),NA(),'Split 1'!$J$27)","v":{"$error":"#N/A"}},{"$f":"SUM(X3:X5)/3","v":{"$error":"#N/A"}},{"$f":"IF(ISTEXT('Split 1'!$J$28),NA(),'Split 1'!$J$28)","v":{"$error":"#N/A"}},{"$error":"#N/A"},{"$f":"IF(ISTEXT('Split 1'!$J$29),NA(),'Split 1'!$J$29)","v":{"$error":"#N/A"}},{"$error":"#N/A"},{"$f":"IF(ISTEXT('Split 1'!$J$30),NA(),'Split 1'!$J$30)","v":{"$error":"#N/A"}},{"$error":"#N/A"},{"$f":"IF(ISTEXT('Split 1'!$J$32),NA(),'Split 1'!$J$32)","v":{"$error":"#N/A"}},{"$error":"#N/A"},{"$f":"IF(ISTEXT('Split 1'!$J$34),NA(),'Split 1'!$J$34)","v":0},0]
[{"$f":"IF(ISBLANK('Split 1'!K$8),\" \",'Split 1'!K$8)","v":5},{"$f":"IF(ISTEXT('Split 1'!$L$14),NA(),'Split 1'!$L$14)","v":{"$error":"#N/A"}},{"$f":"SUM(B4:B6)/3","v":{"$error":"#N/A"}},{"$f":"IF(ISTEXT('Split 1'!$L$15),NA(),'Split 1'!$L$15)","v":{"$error":"#N/A"}},{"$f":"SUM(D4:D6)/3","v":{"$error":"#N/A"}},{"$f":"IF(ISTEXT('Split 1'!$L$16),NA(),'Split 1'!$L$16)","v":{"$error":"#N/A"}},{"$f":"SUM(F4:F6)/3","v":{"$error":"#N/A"}},{"$f":"IF(ISTEXT('Split 1'!$L$17),NA(),'Split 1'!$L$17)","v":{"$error":"#N/A"}},{"$error":"#N/A"},{"$f":"IF(ISTEXT('Split 1'!$L$18),NA(),'Split 1'!$L$18)","v":{"$error":"#N/A"}},{"$error":"#N/A"},{"$f":"IF(ISTEXT('Split 1'!$L$19),NA(),'Split 1'!$L$19)","v":{"$error":"#N/A"}},{"$error":"#N/A"},{"$f":"IF(ISTEXT('Split 1'!$L$20),NA(),'Split 1'!$L$20)","v":{"$error":"#N/A"}},{"$error":"#N/A"},{"$f":"IF(ISTEXT('Split 1'!$L$21),NA(),'Split 1'!$L$21)","v":{"$error":"#N/A"}},{"$error":"#N/A"},{"$f":"IF(ISTEXT('Split 1'!$L$22),NA(),'Split 1'!$L$22)","v":{"$error":"#N/A"}},{"$error":"#N/A"},{"$f":"IF(ISTEXT('Split 1'!$L$25),NA(),'Split 1'!$L$25)","v":{"$error":"#N/A"}},{"$error":"#N/A"},{"$f":"IF(ISTEXT('Split 1'!$L$26),NA(),'Split 1'!$L$26)","v":{"$error":"#N/A"}},{"$error":"#N/A"},{"$f":"IF(ISTEXT('Split 1'!$L$27),NA(),'Split 1'!$L$27)","v":{"$error":"#N/A"}},{"$error":"#N/A"},{"$f":"IF(ISTEXT('Split 1'!$L$28),NA(),'Split 1'!$L$28)","v":{"$error":"#N/A"}},{"$error":"#N/A"},{"$f":"IF(ISTEXT('Split 1'!$L$29),NA(),'Split 1'!$L$29)","v":{"$error":"#N/A"}},{"$error":"#N/A"},{"$f":"IF(ISTEXT('Split 1'!$L$30),NA(),'Split 1'!$L$30)","v":{"$error":"#N/A"}},{"$error":"#N/A"},{"$f":"IF(ISTEXT('Split 1'!$L$32),NA(),'Split 1'!$L$32)","v":{"$error":"#N/A"}},{"$error":"#N/A"},{"$f":"IF(ISTEXT('Split 1'!$L$34),NA(),'Split 1'!$L$34)","v":0},0]
[{"$f":"IF(ISBLANK('Split 1'!M$8),\" \",'Split 1'!M$8)","v":6},{"$f":"IF(ISTEXT('Split 1'!$N$14),NA(),'Split 1'!$N$14)","v":{"$error":"#N/A"}},{"$error":"#N/A"},{"$f":"IF(ISTEXT('Split 1'!$N$15),NA(),'Split 1'!$N$15)","v":{"$error":"#N/A"}},{"$error":"#N/A"},{"$f":"IF(ISTEXT('Split 1'!$N$16),NA(),'Split 1'!$N$16)","v":{"$error":"#N/A"}},{"$error":"#N/A"},{"$f":"IF(ISTEXT('Split 1'!$N$17),NA(),'Split 1'!$N$17)","v":{"$error":"#N/A"}},{"$error":"#N/A"},{"$f":"IF(ISTEXT('Split 1'!$N$18),NA(),'Split 1'!$N$18)","v":{"$error":"#N/A"}},{"$error":"#N/A"},{"$f":"IF(ISTEXT('Split 1'!$N$19),NA(),'Split 1'!$N$19)","v":{"$error":"#N/A"}},{"$error":"#N/A"},{"$f":"IF(ISTEXT('Split 1'!$N$20),NA(),'Split 1'!$N$20)","v":{"$error":"#N/A"}},{"$error":"#N/A"},{"$f":"IF(ISTEXT('Split 1'!$N$21),NA(),'Split 1'!$N$21)","v":{"$error":"#N/A"}},{"$error":"#N/A"},{"$f":"IF(ISTEXT('Split 1'!$N$22),NA(),'Split 1'!$N$22)","v":{"$error":"#N/A"}},{"$error":"#N/A"},{"$f":"IF(ISTEXT('Split 1'!$N$25),NA(),'Split 1'!$N$25)","v":{"$error":"#N/A"}},{"$error":"#N/A"},{"$f":"IF(ISTEXT('Split 1'!$N$26),NA(),'Split 1'!$N$26)","v":{"$error":"#N/A"}},{"$error":"#N/A"},{"$f":"IF(ISTEXT('Split 1'!$N$27),NA(),'Split 1'!$N$27)","v":{"$error":"#N/A"}},{"$error":"#N/A"},{"$f":"IF(ISTEXT('Split 1'!$N$28),NA(),'Split 1'!$N$28)","v":{"$error":"#N/A"}},{"$error":"#N/A"},{"$f":"IF(ISTEXT('Split 1'!$N$29),NA(),'Split 1'!$N$29)","v":{"$error":"#N/A"}},{"$error":"#N/A"},{"$f":"IF(ISTEXT('Split 1'!$N$30),NA(),'Split 1'!$N$30)","v":{"$error":"#N/A"}},{"$error":"#N/A"},{"$f":"IF(ISTEXT('Split 1'!$N$32),NA(),'Split 1'!$N$32)","v":{"$error":"#N/A"}},{"$error":"#N/A"},{"$f":"IF(ISTEXT('Split 1'!$N$34),NA(),'Split 1'!$N$34)","v":0},0]
[{"$f":"IF(ISBLANK('Split 1'!C$38),\" \",'Split 1'!C$38)","v":7},{"$f":"IF(ISTEXT('Split 1'!$D$44),NA(),'Split 1'!$D$44)","v":{"$error":"#N/A"}},{"$error":"#N/A"},{"$f":"IF(ISTEXT('Split 1'!$D$45),NA(),'Split 1'!$D$45)","v":{"$error":"#N/A"}},{"$error":"#N/A"},{"$f":"IF(ISTEXT('Split 1'!$D$46),NA(),'Split 1'!$D$46)","v":{"$error":"#N/A"}},{"$error":"#N/A"},{"$f":"IF(ISTEXT('Split 1'!$D$47),NA(),'Split 1'!$D$47)","v":{"$error":"#N/A"}},{"$error":"#N/A"},{"$f":"IF(ISTEXT('Split 1'!$D$48),NA(),'Split 1'!$D$48)","v":{"$error":"#N/A"}},{"$error":"#N/A"},{"$f":"IF(ISTEXT('Split 1'!$D$49),NA(),'Split 1'!$D$49)","v":{"$error":"#N/A"}},{"$error":"#N/A"},{"$f":"IF(ISTEXT('Split 1'!$D$50),NA(),'Split 1'!$D$50)","v":{"$error":"#N/A"}},{"$error":"#N/A"},{"$f":"IF(ISTEXT('Split 1'!$D$51),NA(),'Split 1'!$D$51)","v":{"$error":"#N/A"}},{"$error":"#N/A"},{"$f":"IF(ISTEXT('Split 1'!$D$52),NA(),'Split 1'!$D$52)","v":{"$error":"#N/A"}},{"$error":"#N/A"},{"$f":"IF(ISTEXT('Split 1'!$D$55),NA(),'Split 1'!$D$55)","v":{"$error":"#N/A"}},{"$error":"#N/A"},{"$f":"IF(ISTEXT('Split 1'!$D$56),NA(),'Split 1'!$D$56)","v":{"$error":"#N/A"}},{"$error":"#N/A"},{"$f":"IF(ISTEXT('Split 1'!$D$57),NA(),'Split 1'!$D$57)","v":{"$error":"#N/A"}},{"$error":"#N/A"},{"$f":"IF(ISTEXT('Split 1'!$D$58),NA(),'Split 1'!$D$58)","v":{"$error":"#N/A"}},{"$error":"#N/A"},{"$f":"IF(ISTEXT('Split 1'!$D$59),NA(),'Split 1'!$D$59)","v":{"$error":"#N/A"}},{"$error":"#N/A"},{"$f":"IF(ISTEXT('Split 1'!$D$60),NA(),'Split 1'!$D$60)","v":{"$error":"#N/A"}},{"$error":"#N/A"},{"$f":"IF(ISTEXT('Split 1'!$D$62),NA(),'Split 1'!$D$62)","v":{"$error":"#N/A"}},{"$error":"#N/A"},{"$f":"IF(ISTEXT('Split 1'!$D$67),NA(),'Split 1'!$D$67)","v":0},0]
[{"$f":"IF(ISBLANK('Split 1'!E$38),\" \",'Split 1'!E$38)","v":8},{"$f":"IF(ISTEXT('Split 1'!$F$44),NA(),'Split 1'!$F$44)","v":{"$error":"#N/A"}},{"$error":"#N/A"},{"$f":"IF(ISTEXT('Split 1'!$F$45),NA(),'Split 1'!$F$45)","v":{"$error":"#N/A"}},{"$error":"#N/A"},{"$f":"IF(ISTEXT('Split 1'!$F$46),NA(),'Split 1'!$F$46)","v":{"$error":"#N/A"}},{"$error":"#N/A"},{"$f":"IF(ISTEXT('Split 1'!$F$47),NA(),'Split 1'!$F$47)","v":{"$error":"#N/A"}},{"$error":"#N/A"},{"$f":"IF(ISTEXT('Split 1'!$F$48),NA(),'Split 1'!$F$48)","v":{"$error":"#N/A"}},{"$error":"#N/A"},{"$f":"IF(ISTEXT('Split 1'!$F$49),NA(),'Split 1'!$F$49)","v":{"$error":"#N/A"}},{"$error":"#N/A"},{"$f":"IF(ISTEXT('Split 1'!$F$50),NA(),'Split 1'!$F$50)","v":{"$error":"#N/A"}},{"$error":"#N/A"},{"$f":"IF(ISTEXT('Split 1'!$F$51),NA(),'Split 1'!$F$51)","v":{"$error":"#N/A"}},{"$error":"#N/A"},{"$f":"IF(ISTEXT('Split 1'!$F$52),NA(),'Split 1'!$F$52)","v":{"$error":"#N/A"}},{"$error":"#N/A"},{"$f":"IF(ISTEXT('Split 1'!$F$55),NA(),'Split 1'!$F$55)","v":{"$error":"#N/A"}},{"$error":"#N/A"},{"$f":"IF(ISTEXT('Split 1'!$F$56),NA(),'Split 1'!$F$56)","v":{"$error":"#N/A"}},{"$error":"#N/A"},{"$f":"IF(ISTEXT('Split 1'!$F$57),NA(),'Split 1'!$F$57)","v":{"$error":"#N/A"}},{"$error":"#N/A"},{"$f":"IF(ISTEXT('Split 1'!$F$58),NA(),'Split 1'!$F$58)","v":{"$error":"#N/A"}},{"$error":"#N/A"},{"$f":"IF(ISTEXT('Split 1'!$F$59),NA(),'Split 1'!$F$59)","v":{"$error":"#N/A"}},{"$error":"#N/A"},{"$f":"IF(ISTEXT('Split 1'!$F$60),NA(),'Split 1'!$F$60)","v":{"$error":"#N/A"}},{"$error":"#N/A"},{"$f":"IF(ISTEXT('Split 1'!$F$62),NA(),'Split 1'!$F$62)","v":{"$error":"#N/A"}},{"$error":"#N/A"},{"$f":"IF(ISTEXT('Split 1'!$F$67),NA(),'Split 1'!$F$67)","v":0},0]
[{"$f":"IF(ISBLANK('Split 1'!G$38),\" \",'Split 1'!G$38)","v":9},{"$f":"IF(ISTEXT('Split 1'!$H$44),NA(),'Split 1'!$H$44)","v":{"$error":"#N/A"}},{"$error":"#N/A"},{"$f":"IF(ISTEXT('Split 1'!$H$45),NA(),'Split 1'!$H$45)","v":{"$error":"#N/A"}},{"$error":"#N/A"},{"$f":"IF(ISTEXT('Split 1'!$H$46),NA(),'Split 1'!$H$46)","v":{"$error":"#N/A"}},{"$error":"#N/A"},{"$f":"IF(ISTEXT('Split 1'!$H$47),NA(),'Split 1'!$H$47)","v":{"$error":"#N/A"}},{"$error":"#N/A"},{"$f":"IF(ISTEXT('Split 1'!$H$48),NA(),'Split 1'!$H$48)","v":{"$error":"#N/A"}},{"$error":"#N/A"},{"$f":"IF(ISTEXT('Split 1'!$H$49),NA(),'Split 1'!$H$49)","v":{"$error":"#N/A"}},{"$error":"#N/A"},{"$f":"IF(ISTEXT('Split 1'!$H$50),NA(),'Split 1'!$H$50)","v":{"$error":"#N/A"}},{"$error":"#N/A"},{"$f":"IF(ISTEXT('Split 1'!$H$51),NA(),'Split 1'!$H$51)","v":{"$error":"#N/A"}},{"$error":"#N/A"},{"$f":"IF(ISTEXT('Split 1'!$H$52),NA(),'Split 1'!$H$52)","v":{"$error":"#N/A"}},{"$error":"#N/A"},{"$f":"IF(ISTEXT('Split 1'!$H$55),NA(),'Split 1'!$H$55)","v":{"$error":"#N/A"}},{"$error":"#N/A"},{"$f":"IF(ISTEXT('Split 1'!$H$56),NA(),'Split 1'!$H$56)","v":{"$error":"#N/A"}},{"$error":"#N/A"},{"$f":"IF(ISTEXT('Split 1'!$H$57),NA(),'Split 1'!$H$57)","v":{"$error":"#N/A"}},{"$error":"#N/A"},{"$f":"IF(ISTEXT('Split 1'!$H$58),NA(),'Split 1'!$H$58)","v":{"$error":"#N/A"}},{"$error":"#N/A"},{"$f":"IF(ISTEXT('Split 1'!$H$59),NA(),'Split 1'!$H$59)","v":{"$error":"#N/A"}},{"$error":"#N/A"},{"$f":"IF(ISTEXT('Split 1'!$H$60),NA(),'Split 1'!$H$60)","v":{"$error":"#N/A"}},{"$error":"#N/A"},{"$f":"IF(ISTEXT('Split 1'!$H$62),NA(),'Split 1'!$H$62)","v":{"$error":"#N/A"}},{"$error":"#N/A"},{"$f":"IF(ISTEXT('Split 1'!$H$67),NA(),'Split 1'!$H$67)","v":0},0]
[{"$f":"IF(ISBLANK('Split 1'!I$38),\" \",'Split 1'!I$38)","v":10},{"$f":"IF(ISTEXT('Split 1'!$J$44),NA(),'Split 1'!$J$44)","v":{"$error":"#N/A"}},{"$error":"#N/A"},{"$f":"IF(ISTEXT('Split 1'!$J$45),NA(),'Split 1'!$J$45)","v":{"$error":"#N/A"}},{"$error":"#N/A"},{"$f":"IF(ISTEXT('Split 1'!$J$46),NA(),'Split 1'!$J$46)","v":{"$error":"#N/A"}},{"$error":"#N/A"},{"$f":"IF(ISTEXT('Split 1'!$J$47),NA(),'Split 1'!$J$47)","v":{"$error":"#N/A"}},{"$error":"#N/A"},{"$f":"IF(ISTEXT('Split 1'!$J$48),NA(),'Split 1'!$J$48)","v":{"$error":"#N/A"}},{"$error":"#N/A"},{"$f":"IF(ISTEXT('Split 1'!$J$49),NA(),'Split 1'!$J$49)","v":{"$error":"#N/A"}},{"$error":"#N/A"},{"$f":"IF(ISTEXT('Split 1'!$J$50),NA(),'Split 1'!$J$50)","v":{"$error":"#N/A"}},{"$error":"#N/A"},{"$f":"IF(ISTEXT('Split 1'!$J$51),NA(),'Split 1'!$J$51)","v":{"$error":"#N/A"}},{"$error":"#N/A"},{"$f":"IF(ISTEXT('Split 1'!$J$52),NA(),'Split 1'!$J$52)","v":{"$error":"#N/A"}},{"$error":"#N/A"},{"$f":"IF(ISTEXT('Split 1'!$J$55),NA(),'Split 1'!$J$55)","v":{"$error":"#N/A"}},{"$error":"#N/A"},{"$f":"IF(ISTEXT('Split 1'!$J$56),NA(),'Split 1'!$J$56)","v":{"$error":"#N/A"}},{"$error":"#N/A"},{"$f":"IF(ISTEXT('Split 1'!$J$57),NA(),'Split 1'!$J$57)","v":{"$error":"#N/A"}},{"$error":"#N/A"},{"$f":"IF(ISTEXT('Split 1'!$J$58),NA(),'Split 1'!$J$58)","v":{"$error":"#N/A"}},{"$error":"#N/A"},{"$f":"IF(ISTEXT('Split 1'!$J$59),NA(),'Split 1'!$J$59)","v":{"$error":"#N/A"}},{"$error":"#N/A"},{"$f":"IF(ISTEXT('Split 1'!$J$60),NA(),'Split 1'!$J$60)","v":{"$error":"#N/A"}},{"$error":"#N/A"},{"$f":"IF(ISTEXT('Split 1'!$J$62),NA(),'Split 1'!$J$62)","v":{"$error":"#N/A"}},{"$error":"#N/A"},{"$f":"IF(ISTEXT('Split 1'!$J$67),NA(),'Split 1'!$J$67)","v":0},0]
[{"$f":"IF(ISBLANK('Split 1'!K$38),\" \",'Split 1'!K$38)","v":11},{"$f":"IF(ISTEXT('Split 1'!$L$44),NA(),'Split 1'!$L$44)","v":{"$error":"#N/A"}},{"$error":"#N/A"},{"$f":"IF(ISTEXT('Split 1'!$L$45),NA(),'Split 1'!$L$45)","v":{"$error":"#N/A"}},{"$error":"#N/A"},{"$f":"IF(ISTEXT('Split 1'!$L$46),NA(),'Split 1'!$L$46)","v":{"$error":"#N/A"}},{"$error":"#N/A"},{"$f":"IF(ISTEXT('Split 1'!$L$47),NA(),'Split 1'!$L$47)","v":{"$error":"#N/A"}},{"$error":"#N/A"},{"$f":"IF(ISTEXT('Split 1'!$L$48),NA(),'Split 1'!$L$48)","v":{"$error":"#N/A"}},{"$error":"#N/A"},{"$f":"IF(ISTEXT('Split 1'!$L$49),NA(),'Split 1'!$L$49)","v":{"$error":"#N/A"}},{"$error":"#N/A"},{"$f":"IF(ISTEXT('Split 1'!$L$50),NA(),'Split 1'!$L$50)","v":{"$error":"#N/A"}},{"$error":"#N/A"},{"$f":"IF(ISTEXT('Split 1'!$L$51),NA(),'Split 1'!$L$51)","v":{"$error":"#N/A"}},{"$error":"#N/A"},{"$f":"IF(ISTEXT('Split 1'!$L$52),NA(),'Split 1'!$L$52)","v":{"$error":"#N/A"}},{"$error":"#N/A"},{"$f":"IF(ISTEXT('Split 1'!$L$55),NA(),'Split 1'!$L$55)","v":{"$error":"#N/A"}},{"$error":"#N/A"},{"$f":"IF(ISTEXT('Split 1'!$L$56),NA(),'Split 1'!$L$56)","v":{"$error":"#N/A"}},{"$error":"#N/A"},{"$f":"IF(ISTEXT('Split 1'!$L$57),NA(),'Split 1'!$L$57)","v":{"$error":"#N/A"}},{"$error":"#N/A"},{"$f":"IF(ISTEXT('Split 1'!$L$58),NA(),'Split 1'!$L$58)","v":{"$error":"#N/A"}},{"$error":"#N/A"},{"$f":"IF(ISTEXT('Split 1'!$L$59),NA(),'Split 1'!$L$59)","v":{"$error":"#N/A"}},{"$error":"#N/A"},{"$f":"IF(ISTEXT('Split 1'!$L$60),NA(),'Split 1'!$L$60)","v":{"$error":"#N/A"}},{"$error":"#N/A"},{"$f":"IF(ISTEXT('Split 1'!$L$62),NA(),'Split 1'!$L$62)","v":{"$error":"#N/A"}},{"$error":"#N/A"},{"$f":"IF(ISTEXT('Split 1'!$L$67),NA(),'Split 1'!$L$67)","v":0},0]
[{"$f":"IF(ISBLANK('Split 1'!M$38),\" \",'Split 1'!M$38)","v":12},{"$f":"IF(ISTEXT('Split 1'!$N$44),NA(),'Split 1'!$N$44)","v":{"$error":"#N/A"}},{"$error":"#N/A"},{"$f":"IF(ISTEXT('Split 1'!$N$45),NA(),'Split 1'!$N$45)","v":{"$error":"#N/A"}},{"$error":"#N/A"},{"$f":"IF(ISTEXT('Split 1'!$N$46),NA(),'Split 1'!$N$46)","v":{"$error":"#N/A"}},{"$error":"#N/A"},{"$f":"IF(ISTEXT('Split 1'!$N$47),NA(),'Split 1'!$N$47)","v":{"$error":"#N/A"}},{"$error":"#N/A"},{"$f":"IF(ISTEXT('Split 1'!$N$48),NA(),'Split 1'!$N$48)","v":{"$error":"#N/A"}},{"$error":"#N/A"},{"$f":"IF(ISTEXT('Split 1'!$N$49),NA(),'Split 1'!$N$49)","v":{"$error":"#N/A"}},{"$error":"#N/A"},{"$f":"IF(ISTEXT('Split 1'!$N$50),NA(),'Split 1'!$N$50)","v":{"$error":"#N/A"}},{"$error":"#N/A"},{"$f":"IF(ISTEXT('Split 1'!$N$51),NA(),'Split 1'!$N$51)","v":{"$error":"#N/A"}},{"$error":"#N/A"},{"$f":"IF(ISTEXT('Split 1'!$N$52),NA(),'Split 1'!$N$52)","v":{"$error":"#N/A"}},{"$error":"#N/A"},{"$f":"IF(ISTEXT('Split 1'!$N$55),NA(),'Split 1'!$N$55)","v":{"$error":"#N/A"}},{"$error":"#N/A"},{"$f":"IF(ISTEXT('Split 1'!$N$56),NA(),'Split 1'!$N$56)","v":{"$error":"#N/A"}},{"$error":"#N/A"},{"$f":"IF(ISTEXT('Split 1'!$N$57),NA(),'Split 1'!$N$57)","v":{"$error":"#N/A"}},{"$error":"#N/A"},{"$f":"IF(ISTEXT('Split 1'!$N$58),NA(),'Split 1'!$N$58)","v":{"$error":"#N/A"}},{"$error":"#N/A"},{"$f":"IF(ISTEXT('Split 1'!$N$59),NA(),'Split 1'!$N$59)","v":{"$error":"#N/A"}},{"$error":"#N/A"},{"$f":"IF(ISTEXT('Split 1'!$N$60),NA(),'Split 1'!$N$60)","v":{"$error":"#N/A"}},{"$error":"#N/A"},{"$f":"IF(ISTEXT('Split 1'!$N$62),NA(),'Split 1'!$N$62)","v":{"$error":"#N/A"}},{"$error":"#N/A"},{"$f":"IF(ISTEXT('Split 1'!$N$67),NA(),'Split 1'!$N$67)","v":0},0]
[{"$f":"IF(ISBLANK('Split 2'!C$8),\" \",'Split 2'!C$8)","v":13},{"$f":"IF(ISTEXT('Split 2'!$D$14),NA(),'Split 2'!$D$14)","v":{"$error":"#N/A"}},{"$error":"#N/A"},{"$f":"IF(ISTEXT('Split 2'!$D$15),NA(),'Split 2'!$D$15)","v":{"$error":"#N/A"}},{"$f":"D14","v":{"$error":"#N/A"}},{"$f":"IF(ISTEXT('Split 2'!$D$16),NA(),'Split 2'!$D$16)","v":{"$error":"#N/A"}},{"$f":"F14","v":{"$error":"#N/A"}},{"$f":"IF(ISTEXT('Split 2'!$D$17),NA(),'Split 2'!$D$17)","v":{"$error":"#N/A"}},{"$f":"H14","v":{"$error":"#N/A"}},{"$f":"IF(ISTEXT('Split 2'!$D$18),NA(),'Split 2'!$D$18)","v":{"$error":"#N/A"}},{"$f":"J14","v":{"$error":"#N/A"}},{"$f":"IF(ISTEXT('Split 2'!$D$19),NA(),'Split 2'!$D$19)","v":{"$error":"#N/A"}},{"$f":"L14","v":{"$error":"#N/A"}},{"$f":"IF(ISTEXT('Split 2'!$D$20),NA(),'Split 2'!$D$20)","v":{"$error":"#N/A"}},{"$f":"N14","v":{"$error":"#N/A"}},{"$f":"IF(ISTEXT('Split 2'!$D$21),NA(),'Split 2'!$D$21)","v":{"$error":"#N/A"}},{"$f":"P14","v":{"$error":"#N/A"}},{"$f":"IF(ISTEXT('Split 2'!$D$22),NA(),'Split 2'!$D$22)","v":{"$error":"#N/A"}},{"$f":"R14","v":{"$error":"#N/A"}},{"$f":"IF(ISTEXT('Split 2'!$D$25),NA(),'Split 2'!$D$25)","v":{"$error":"#N/A"}},{"$f":"T14","v":{"$error":"#N/A"}},{"$f":"IF(ISTEXT('Split 2'!$D$26),NA(),'Split 2'!$D$26)","v":{"$error":"#N/A"}},{"$f":"V14","v":{"$error":"#N/A"}},{"$f":"IF(ISTEXT('Split 2'!$D$27),NA(),'Split 2'!$D$27)","v":{"$error":"#N/A"}},{"$f":"X14","v":{"$error":"#N/A"}},{"$f":"IF(ISTEXT('Split 2'!$D$28),NA(),'Split 2'!$D$28)","v":{"$error":"#N/A"}},{"$f":"Z14","v":{"$error":"#N/A"}},{"$f":"IF(ISTEXT('Split 2'!$D$29),NA(),'Split 2'!$D$29)","v":{"$error":"#N/A"}},{"$f":"AB14","v":{"$error":"#N/A"}},{"$f":"IF(ISTEXT('Split 2'!$D$30),NA(),'Split 2'!$D$30)","v":{"$error":"#N/A"}},{"$f":"AD14","v":{"$error":"#N/A"}},{"$f":"IF(ISTEXT('Split 2'!$D$32),NA(),'Split 2'!$D$32)","v":{"$error":"#N/A"}},{"$f":"AF14","v":{"$error":"#N/A"}},{"$f":"IF(ISTEXT('S2'!$D$34),NA(),'S2'!$D$34)","v":{"$error":"#N/A"}},{"$error":"#N/A"}]
[{"$f":"IF(ISBLANK('Split 2'!E$8),\" \",'Split 2'!E$8)","v":14},{"$f":"IF(ISTEXT('Split 2'!$F$14),NA(),'Split 2'!$F$14)","v":{"$error":"#N/A"}},{"$error":"#N/A"},{"$f":"IF(ISTEXT('Split 2'!$F$15),NA(),'Split 2'!$F$15)","v":{"$error":"#N/A"}},{"$f":"(D14+D15)/2","v":{"$error":"#N/A"}},{"$f":"IF(ISTEXT('Split 2'!$F$16),NA(),'Split 2'!$F$16)","v":{"$error":"#N/A"}},{"$f":"(F14+F15)/2","v":{"$error":"#N/A"}},{"$f":"IF(ISTEXT('Split 2'!$F$17),NA(),'Split 2'!$F$17)","v":{"$error":"#N/A"}},{"$f":"(H14+H15)/2","v":{"$error":"#N/A"}},{"$f":"IF(ISTEXT('Split 2'!$F$18),NA(),'Split 2'!$F$18)","v":{"$error":"#N/A"}},{"$f":"(J14+J15)/2","v":{"$error":"#N/A"}},{"$f":"IF(ISTEXT('Split 2'!$F$19),NA(),'Split 2'!$F$19)","v":{"$error":"#N/A"}},{"$f":"(L14+L15)/2","v":{"$error":"#N/A"}},{"$f":"IF(ISTEXT('Split 2'!$F$20),NA(),'Split 2'!$F$20)","v":{"$error":"#N/A"}},{"$f":"(N14+N15)/2","v":{"$error":"#N/A"}},{"$f":"IF(ISTEXT('Split 2'!$F$21),NA(),'Split 2'!$F$21)","v":{"$error":"#N/A"}},{"$f":"(P14+P15)/2","v":{"$error":"#N/A"}},{"$f":"IF(ISTEXT('Split 2'!$F$22),NA(),'Split 2'!$F$22)","v":{"$error":"#N/A"}},{"$f":"(R14+R15)/2","v":{"$error":"#N/A"}},{"$f":"IF(ISTEXT('Split 2'!$F$25),NA(),'Split 2'!$F$25)","v":{"$error":"#N/A"}},{"$f":"(T14+T15)/2","v":{"$error":"#N/A"}},{"$f":"IF(ISTEXT('Split 2'!$F$26),NA(),'Split 2'!$F$26)","v":{"$error":"#N/A"}},{"$f":"(V14+V15)/2","v":{"$error":"#N/A"}},{"$f":"IF(ISTEXT('Split 2'!$F$27),NA(),'Split 2'!$F$27)","v":{"$error":"#N/A"}},{"$f":"(X14+X15)/2","v":{"$error":"#N/A"}},{"$f":"IF(ISTEXT('Split 2'!$F$28),NA(),'Split 2'!$F$28)","v":{"$error":"#N/A"}},{"$f":"ROUND(AVERAGE(Z14:Z15),0)","v":{"$error":"#N/A"}},{"$f":"IF(ISTEXT('Split 2'!$F$29),NA(),'Split 2'!$F$29)","v":{"$error":"#N/A"}},{"$f":"ROUND(AVERAGE(AB14:AB15),0)","v":{"$error":"#N/A"}},{"$f":"IF(ISTEXT('Split 2'!$F$30),NA(),'Split 2'!$F$30)","v":{"$error":"#N/A"}},{"$f":"ROUND(AVERAGE(AD14:AD15),0)","v":{"$error":"#N/A"}},{"$f":"IF(ISTEXT('Split 2'!$F$32),NA(),'Split 2'!$F$32)","v":{"$error":"#N/A"}},{"$f":"ROUND(AVERAGE(AF14:AF15),2)","v":{"$error":"#N/A"}},{"$f":"IF(ISTEXT('S2'!$F$34),NA(),'S2'!$F$34)","v":{"$error":"#N/A"}},{"$error":"#N/A"}]
[{"$f":"IF(ISBLANK('Split 2'!G$8),\" \",'Split 2'!G$8)","v":15},{"$f":"IF(ISTEXT('Split 2'!$H$14),NA(),'Split 2'!$H$14)","v":{"$error":"#N/A"}},{"$error":"#N/A"},{"$f":"IF(ISTEXT('Split 2'!$H$15),NA(),'Split 2'!$H$15)","v":{"$error":"#N/A"}},{"$f":"SUM(D14:D16)/3","v":{"$error":"#N/A"}},{"$f":"IF(ISTEXT('Split 2'!$H$16),NA(),'Split 2'!$H$16)","v":{"$error":"#N/A"}},{"$f":"SUM(F14:F16)/3","v":{"$error":"#N/A"}},{"$f":"IF(ISTEXT('Split 2'!$H$17),NA(),'Split 2'!$H$17)","v":{"$error":"#N/A"}},{"$f":"SUM(H14:H16)/3","v":{"$error":"#N/A"}},{"$f":"IF(ISTEXT('Split 2'!$H$18),NA(),'Split 2'!$H$18)","v":{"$error":"#N/A"}},{"$f":"SUM(J14:J16)/3","v":{"$error":"#N/A"}},{"$f":"IF(ISTEXT('Split 2'!$H$19),NA(),'Split 2'!$H$19)","v":{"$error":"#N/A"}},{"$f":"SUM(L14:L16)/3","v":{"$error":"#N/A"}},{"$f":"IF(ISTEXT('Split 2'!$H$20),NA(),'Split 2'!$H$20)","v":{"$error":"#N/A"}},{"$f":"SUM(N14:N16)/3","v":{"$error":"#N/A"}},{"$f":"IF(ISTEXT('Split 2'!$H$21),NA(),'Split 2'!$H$21)","v":{"$error":"#N/A"}},{"$f":"SUM(P14:P16)/3","v":{"$error":"#N/A"}},{"$f":"IF(ISTEXT('Split 2'!$H$22),NA(),'Split 2'!$H$22)","v":{"$error":"#N/A"}},{"$f":"SUM(R14:R16)/3","v":{"$error":"#N/A"}},{"$f":"IF(ISTEXT('Split 2'!$H$25),NA(),'Split 2'!$H$25)","v":{"$error":"#N/A"}},{"$f":"SUM(T14:T16)/3","v":{"$error":"#N/A"}},{"$f":"IF(ISTEXT('Split 2'!$H$26),NA(),'Split 2'!$H$26)","v":{"$error":"#N/A"}},{"$f":"SUM(V14:V16)/3","v":{"$error":"#N/A"}},{"$f":"IF(ISTEXT('Split 2'!$H$27),NA(),'Split 2'!$H$27)","v":{"$error":"#N/A"}},{"$f":"SUM(X14:X16)/3","v":{"$error":"#N/A"}},{"$f":"IF(ISTEXT('Split 2'!$H$28),NA(),'Split 2'!$H$28)","v":{"$error":"#N/A"}},{"$f":"ROUND(AVERAGE(Z14:Z16),0)","v":{"$error":"#N/A"}},{"$f":"IF(ISTEXT('Split 2'!$H$29),NA(),'Split 2'!$H$29)","v":{"$error":"#N/A"}},{"$f":"ROUND(AVERAGE(AB14:AB16),0)","v":{"$error":"#N/A"}},{"$f":"IF(ISTEXT('Split 2'!$H$30),NA(),'Split 2'!$H$30)","v":{"$error":"#N/A"}},{"$f":"ROUND(AVERAGE(AD14:AD16),0)","v":{"$error":"#N/A"}},{"$f":"IF(ISTEXT('Split 2'!$H$32),NA(),'Split 2'!$H$32)","v":{"$error":"#N/A"}},{"$f":"ROUND(AVERAGE(AF14:AF16),2)","v":{"$error":"#N/A"}},{"$f":"IF(ISTEXT('S2'!$H$34),NA(),'S2'!$H$34)","v":{"$error":"#N/A"}},{"$error":"#N/A"}]
[{"$f":"IF(ISBLANK('Split 2'!I$8),\" \",'Split 2'!I$8)","v":16},{"$f":"IF(ISTEXT('Split 2'!$J$14),NA(),'Split 2'!$J$14)","v":{"$error":"#N/A"}},{"$error":"#N/A"},{"$f":"IF(ISTEXT('Split 2'!$J$15),NA(),'Split 2'!$J$15)","v":{"$error":"#N/A"}},{"$f":"SUM(D15:D17)/3","v":{"$error":"#N/A"}},{"$f":"IF(ISTEXT('Split 2'!$J$16),NA(),'Split 2'!$J$16)","v":{"$error":"#N/A"}},{"$f":"SUM(F15:F17)/3","v":{"$error":"#N/A"}},{"$f":"IF(ISTEXT('Split 2'!$J$17),NA(),'Split 2'!$J$17)","v":{"$error":"#N/A"}},{"$f":"SUM(H15:H17)/3","v":{"$error":"#N/A"}},{"$f":"IF(ISTEXT('Split 2'!$J$18),NA(),'Split 2'!$J$18)","v":{"$error":"#N/A"}},{"$f":"SUM(J15:J17)/3","v":{"$error":"#N/A"}},{"$f":"IF(ISTEXT('Split 2'!$J$19),NA(),'Split 2'!$J$19)","v":{"$error":"#N/A"}},{"$f":"SUM(L15:L17)/3","v":{"$error":"#N/A"}},{"$f":"IF(ISTEXT('Split 2'!$J$20),NA(),'Split 2'!$J$20)","v":{"$error":"#N/A"}},{"$f":"SUM(N15:N17)/3","v":{"$error":"#N/A"}},{"$f":"IF(ISTEXT('Split 2'!$J$21),NA(),'Split 2'!$J$21)","v":{"$error":"#N/A"}},{"$f":"SUM(P15:P17)/3","v":{"$error":"#N/A"}},{"$f":"IF(ISTEXT('Split 2'!$J$22),NA(),'Split 2'!$J$22)","v":{"$error":"#N/A"}},{"$f":"SUM(R15:R17)/3","v":{"$error":"#N/A"}},{"$f":"IF(ISTEXT('Split 2'!$J$25),NA(),'Split 2'!$J$25)","v":{"$error":"#N/A"}},{"$f":"SUM(T15:T17)/3","v":{"$error":"#N/A"}},{"$f":"IF(ISTEXT('Split 2'!$J$26),NA(),'Split 2'!$J$26)","v":{"$error":"#N/A"}},{"$f":"SUM(V15:V17)/3","v":{"$error":"#N/A"}},{"$f":"IF(ISTEXT('Split 2'!$J$27),NA(),'Split 2'!$J$27)","v":{"$error":"#N/A"}},{"$f":"SUM(X15:X17)/3","v":{"$error":"#N/A"}},{"$f":"IF(ISTEXT('Split 2'!$J$28),NA(),'Split 2'!$J$28)","v":{"$error":"#N/A"}},{"$error":"#N/A"},{"$f":"IF(ISTEXT('Split 2'!$J$29),NA(),'Split 2'!$J$29)","v":{"$error":"#N/A"}},{"$error":"#N/A"},{"$f":"IF(ISTEXT('Split 2'!$J$30),NA(),'Split 2'!$J$30)","v":{"$error":"#N/A"}},{"$error":"#N/A"},{"$f":"IF(ISTEXT('Split 2'!$J$32),NA(),'Split 2'!$J$32)","v":{"$error":"#N/A"}},{"$error":"#N/A"},{"$f":"IF(ISTEXT('S2'!$J$34),NA(),'S2'!$J$34)","v":{"$error":"#N/A"}},{"$error":"#N/A"}]
[{"$f":"IF(ISBLANK('Split 2'!K$8),\" \",'Split 2'!K$8)","v":17},{"$f":"IF(ISTEXT('Split 2'!$L$14),NA(),'Split 2'!$L$14)","v":{"$error":"#N/A"}},{"$error":"#N/A"},{"$f":"IF(ISTEXT('Split 2'!$L$15),NA(),'Split 2'!$L$15)","v":{"$error":"#N/A"}},{"$f":"SUM(D16:D18)/3","v":{"$error":"#N/A"}},{"$f":"IF(ISTEXT('Split 2'!$L$16),NA(),'Split 2'!$L$16)","v":{"$error":"#N/A"}},{"$f":"SUM(F16:F18)/3","v":{"$error":"#N/A"}},{"$f":"IF(ISTEXT('Split 2'!$L$17),NA(),'Split 2'!$L$17)","v":{"$error":"#N/A"}},{"$error":"#N/A"},{"$f":"IF(ISTEXT('Split 2'!$L$18),NA(),'Split 2'!$L$18)","v":{"$error":"#N/A"}},{"$error":"#N/A"},{"$f":"IF(ISTEXT('Split 2'!$L$19),NA(),'Split 2'!$L$19)","v":{"$error":"#N/A"}},{"$error":"#N/A"},{"$f":"IF(ISTEXT('Split 2'!$L$20),NA(),'Split 2'!$L$20)","v":{"$error":"#N/A"}},{"$error":"#N/A"},{"$f":"IF(ISTEXT('Split 2'!$L$21),NA(),'Split 2'!$L$21)","v":{"$error":"#N/A"}},{"$error":"#N/A"},{"$f":"IF(ISTEXT('Split 2'!$L$22),NA(),'Split 2'!$L$22)","v":{"$error":"#N/A"}},{"$error":"#N/A"},{"$f":"IF(ISTEXT('Split 2'!$L$25),NA(),'Split 2'!$L$25)","v":{"$error":"#N/A"}},{"$error":"#N/A"},{"$f":"IF(ISTEXT('Split 2'!$L$26),NA(),'Split 2'!$L$26)","v":{"$error":"#N/A"}},{"$error":"#N/A"},{"$f":"IF(ISTEXT('Split 2'!$L$27),NA(),'Split 2'!$L$27)","v":{"$error":"#N/A"}},{"$error":"#N/A"},{"$f":"IF(ISTEXT('Split 2'!$L$28),NA(),'Split 2'!$L$28)","v":{"$error":"#N/A"}},{"$error":"#N/A"},{"$f":"IF(ISTEXT('Split 2'!$L$29),NA(),'Split 2'!$L$29)","v":{"$error":"#N/A"}},{"$error":"#N/A"},{"$f":"IF(ISTEXT('Split 2'!$L$30),NA(),'Split 2'!$L$30)","v":{"$error":"#N/A"}},{"$error":"#N/A"},{"$f":"IF(ISTEXT('Split 2'!$L$32),NA(),'Split 2'!$L$32)","v":{"$error":"#N/A"}},{"$error":"#N/A"},{"$f":"IF(ISTEXT('S2'!$L$34),NA(),'S2'!$L$34)","v":{"$error":"#N/A"}},{"$error":"#N/A"}]
[{"$f":"IF(ISBLANK('Split 2'!M$8),\" \",'Split 2'!M$8)","v":18},{"$f":"IF(ISTEXT('Split 2'!$N$14),NA(),'Split 2'!$N$14)","v":{"$error":"#N/A"}},{"$f":"SUM(B17:B19)/3","v":{"$error":"#N/A"}},{"$f":"IF(ISTEXT('Split 2'!$N$15),NA(),'Split 2'!$N$15)","v":{"$error":"#N/A"}},{"$error":"#N/A"},{"$f":"IF(ISTEXT('Split 2'!$N$16),NA(),'Split 2'!$N$16)","v":{"$error":"#N/A"}},{"$error":"#N/A"},{"$f":"IF(ISTEXT('Split 2'!$N$17),NA(),'Split 2'!$N$17)","v":{"$error":"#N/A"}},{"$error":"#N/A"},{"$f":"IF(ISTEXT('Split 2'!$N$18),NA(),'Split 2'!$N$18)","v":{"$error":"#N/A"}},{"$error":"#N/A"},{"$f":"IF(ISTEXT('Split 2'!$N$19),NA(),'Split 2'!$N$19)","v":{"$error":"#N/A"}},{"$error":"#N/A"},{"$f":"IF(ISTEXT('Split 2'!$N$20),NA(),'Split 2'!$N$20)","v":{"$error":"#N/A"}},{"$error":"#N/A"},{"$f":"IF(ISTEXT('Split 2'!$N$21),NA(),'Split 2'!$N$21)","v":{"$error":"#N/A"}},{"$error":"#N/A"},{"$f":"IF(ISTEXT('Split 2'!$N$22),NA(),'Split 2'!$N$22)","v":{"$error":"#N/A"}},{"$error":"#N/A"},{"$f":"IF(ISTEXT('Split 2'!$N$25),NA(),'Split 2'!$N$25)","v":{"$error":"#N/A"}},{"$error":"#N/A"},{"$f":"IF(ISTEXT('Split 2'!$N$26),NA(),'Split 2'!$N$26)","v":{"$error":"#N/A"}},{"$error":"#N/A"},{"$f":"IF(ISTEXT('Split 2'!$N$27),NA(),'Split 2'!$N$27)","v":{"$error":"#N/A"}},{"$error":"#N/A"},{"$f":"IF(ISTEXT('Split 2'!$N$28),NA(),'Split 2'!$N$28)","v":{"$error":"#N/A"}},{"$error":"#N/A"},{"$f":"IF(ISTEXT('Split 2'!$N$29),NA(),'Split 2'!$N$29)","v":{"$error":"#N/A"}},{"$error":"#N/A"},{"$f":"IF(ISTEXT('Split 2'!$N$30),NA(),'Split 2'!$N$30)","v":{"$error":"#N/A"}},{"$error":"#N/A"},{"$f":"IF(ISTEXT('Split 2'!$N$32),NA(),'Split 2'!$N$32)","v":{"$error":"#N/A"}},{"$error":"#N/A"},{"$f":"IF(ISTEXT('S2'!$N$34),NA(),'S2'!$N$34)","v":{"$error":"#N/A"}},{"$error":"#N/A"}]
[{"$f":"IF(ISBLANK('Split 2'!C$38),\" \",'Split 2'!C$38)","v":19},{"$f":"IF(ISTEXT('Split 2'!$D$44),NA(),'Split 2'!$D$44)","v":{"$error":"#N/A"}},{"$error":"#N/A"},{"$f":"IF(ISTEXT('Split 2'!$D$45),NA(),'Split 2'!$D$45)","v":{"$error":"#N/A"}},{"$error":"#N/A"},{"$f":"IF(ISTEXT('Split 2'!$D$46),NA(),'Split 2'!$D$46)","v":{"$error":"#N/A"}},{"$error":"#N/A"},{"$f":"IF(ISTEXT('Split 2'!$D$47),NA(),'Split 2'!$D$47)","v":{"$error":"#N/A"}},{"$error":"#N/A"},{"$f":"IF(ISTEXT('Split 2'!$D$48),NA(),'Split 2'!$D$48)","v":{"$error":"#N/A"}},{"$error":"#N/A"},{"$f":"IF(ISTEXT('Split 2'!$D$49),NA(),'Split 2'!$D$49)","v":{"$error":"#N/A"}},{"$error":"#N/A"},{"$f":"IF(ISTEXT('Split 2'!$D$50),NA(),'Split 2'!$D$50)","v":{"$error":"#N/A"}},{"$error":"#N/A"},{"$f":"IF(ISTEXT('Split 2'!$D$51),NA(),'Split 2'!$D$51)","v":{"$error":"#N/A"}},{"$error":"#N/A"},{"$f":"IF(ISTEXT('Split 2'!$D$52),NA(),'Split 2'!$D$52)","v":{"$error":"#N/A"}},{"$error":"#N/A"},{"$f":"IF(ISTEXT('Split 2'!$D$55),NA(),'Split 2'!$D$55)","v":{"$error":"#N/A"}},{"$error":"#N/A"},{"$f":"IF(ISTEXT('Split 2'!$D$56),NA(),'Split 2'!$D$56)","v":{"$error":"#N/A"}},{"$error":"#N/A"},{"$f":"IF(ISTEXT('Split 2'!$D$57),NA(),'Split 2'!$D$57)","v":{"$error":"#N/A"}},{"$error":"#N/A"},{"$f":"IF(ISTEXT('Split 2'!$D$58),NA(),'Split 2'!$D$58)","v":{"$error":"#N/A"}},{"$error":"#N/A"},{"$f":"IF(ISTEXT('Split 2'!$D$59),NA(),'Split 2'!$D$59)","v":{"$error":"#N/A"}},{"$error":"#N/A"},{"$f":"IF(ISTEXT('Split 2'!$D$60),NA(),'Split 2'!$D$60)","v":{"$error":"#N/A"}},{"$error":"#N/A"},{"$f":"IF(ISTEXT('Split 2'!$D$62),NA(),'Split 2'!$D$62)","v":{"$error":"#N/A"}},{"$error":"#N/A"},{"$f":"IF(ISTEXT('S2'!$D$67),NA(),'S2'!$D$67)","v":{"$error":"#N/A"}},{"$error":"#N/A"}]
[{"$f":"IF(ISBLANK('Split 2'!E$38),\" \",'Split 2'!E$38)","v":20},{"$f":"IF(ISTEXT('Split 2'!$F$44),NA(),'Split 2'!$F$44)","v":{"$error":"#N/A"}},{"$error":"#N/A"},{"$f":"IF(ISTEXT('Split 2'!$F$45),NA(),'Split 2'!$F$45)","v":{"$error":"#N/A"}},{"$error":"#N/A"},{"$f":"IF(ISTEXT('Split 2'!$F$46),NA(),'Split 2'!$F$46)","v":{"$error":"#N/A"}},{"$error":"#N/A"},{"$f":"IF(ISTEXT('Split 2'!$F$47),NA(),'Split 2'!$F$47)","v":{"$error":"#N/A"}},{"$error":"#N/A"},{"$f":"IF(ISTEXT('Split 2'!$F$48),NA(),'Split 2'!$F$48)","v":{"$error":"#N/A"}},{"$error":"#N/A"},{"$f":"IF(ISTEXT('Split 2'!$F$49),NA(),'Split 2'!$F$49)","v":{"$error":"#N/A"}},{"$error":"#N/A"},{"$f":"IF(ISTEXT('Split 2'!$F$50),NA(),'Split 2'!$F$50)","v":{"$error":"#N/A"}},{"$error":"#N/A"},{"$f":"IF(ISTEXT('Split 2'!$F$51),NA(),'Split 2'!$F$51)","v":{"$error":"#N/A"}},{"$error":"#N/A"},{"$f":"IF(ISTEXT('Split 2'!$F$52),NA(),'Split 2'!$F$52)","v":{"$error":"#N/A"}},{"$error":"#N/A"},{"$f":"IF(ISTEXT('Split 2'!$F$55),NA(),'Split 2'!$F$55)","v":{"$error":"#N/A"}},{"$error":"#N/A"},{"$f":"IF(ISTEXT('Split 2'!$F$56),NA(),'Split 2'!$F$56)","v":{"$error":"#N/A"}},{"$error":"#N/A"},{"$f":"IF(ISTEXT('Split 2'!$F$57),NA(),'Split 2'!$F$57)","v":{"$error":"#N/A"}},{"$error":"#N/A"},{"$f":"IF(ISTEXT('Split 2'!$F$58),NA(),'Split 2'!$F$58)","v":{"$error":"#N/A"}},{"$error":"#N/A"},{"$f":"IF(ISTEXT('Split 2'!$F$59),NA(),'Split 2'!$F$59)","v":{"$error":"#N/A"}},{"$error":"#N/A"},{"$f":"IF(ISTEXT('Split 2'!$F$60),NA(),'Split 2'!$F$60)","v":{"$error":"#N/A"}},{"$error":"#N/A"},{"$f":"IF(ISTEXT('Split 2'!$F$62),NA(),'Split 2'!$F$62)","v":{"$error":"#N/A"}},{"$error":"#N/A"},{"$f":"IF(ISTEXT('S2'!$F$67),NA(),'S2'!$F$67)","v":{"$error":"#N/A"}},{"$error":"#N/A"}]
[{"$f":"IF(ISBLANK('Split 2'!G$38),\" \",'Split 2'!G$38)","v":21},{"$f":"IF(ISTEXT('Split 2'!$H$44),NA(),'Split 2'!$H$44)","v":{"$error":"#N/A"}},{"$error":"#N/A"},{"$f":"IF(ISTEXT('Split 2'!$H$45),NA(),'Split 2'!$H$45)","v":{"$error":"#N/A"}},{"$error":"#N/A"},{"$f":"IF(ISTEXT('Split 2'!$H$46),NA(),'Split 2'!$H$46)","v":{"$error":"#N/A"}},{"$error":"#N/A"},{"$f":"IF(ISTEXT('Split 2'!$H$47),NA(),'Split 2'!$H$47)","v":{"$error":"#N/A"}},{"$error":"#N/A"},{"$f":"IF(ISTEXT('Split 2'!$H$48),NA(),'Split 2'!$H$48)","v":{"$error":"#N/A"}},{"$error":"#N/A"},{"$f":"IF(ISTEXT('Split 2'!$H$49),NA(),'Split 2'!$H$49)","v":{"$error":"#N/A"}},{"$error":"#N/A"},{"$f":"IF(ISTEXT('Split 2'!$H$50),NA(),'Split 2'!$H$50)","v":{"$error":"#N/A"}},{"$error":"#N/A"},{"$f":"IF(ISTEXT('Split 2'!$H$51),NA(),'Split 2'!$H$51)","v":{"$error":"#N/A"}},{"$error":"#N/A"},{"$f":"IF(ISTEXT('Split 2'!$H$52),NA(),'Split 2'!$H$52)","v":{"$error":"#N/A"}},{"$error":"#N/A"},{"$f":"IF(ISTEXT('Split 2'!$H$55),NA(),'Split 2'!$H$55)","v":{"$error":"#N/A"}},{"$error":"#N/A"},{"$f":"IF(ISTEXT('Split 2'!$H$56),NA(),'Split 2'!$H$56)","v":{"$error":"#N/A"}},{"$error":"#N/A"},{"$f":"IF(ISTEXT('Split 2'!$H$57),NA(),'Split 2'!$H$57)","v":{"$error":"#N/A"}},{"$error":"#N/A"},{"$f":"IF(ISTEXT('Split 2'!$H$58),NA(),'Split 2'!$H$58)","v":{"$error":"#N/A"}},{"$error":"#N/A"},{"$f":"IF(ISTEXT('Split 2'!$H$59),NA(),'Split 2'!$H$59)","v":{"$error":"#N/A"}},{"$error":"#N/A"},{"$f":"IF(ISTEXT('Split 2'!$H$60),NA(),'Split 2'!$H$60)","v":{"$error":"#N/A"}},{"$error":"#N/A"},{"$f":"IF(ISTEXT('Split 2'!$H$62),NA(),'Split 2'!$H$62)","v":{"$error":"#N/A"}},{"$error":"#N/A"},{"$f":"IF(ISTEXT('S2'!$H$67),NA(),'S2'!$H$67)","v":{"$error":"#N/A"}},{"$error":"#N/A"}]
[{"$f":"IF(ISBLANK('Split 2'!I$38),\" \",'Split 2'!I$38)","v":22},{"$f":"IF(ISTEXT('Split 2'!$J$44),NA(),'Split 2'!$J$44)","v":{"$error":"#N/A"}},{"$error":"#N/A"},{"$f":"IF(ISTEXT('Split 2'!$J$45),NA(),'Split 2'!$J$45)","v":{"$error":"#N/A"}},{"$error":"#N/A"},{"$f":"IF(ISTEXT('Split 2'!$J$46),NA(),'Split 2'!$J$46)","v":{"$error":"#N/A"}},{"$error":"#N/A"},{"$f":"IF(ISTEXT('Split 2'!$J$47),NA(),'Split 2'!$J$47)","v":{"$error":"#N/A"}},{"$error":"#N/A"},{"$f":"IF(ISTEXT('Split 2'!$J$48),NA(),'Split 2'!$J$48)","v":{"$error":"#N/A"}},{"$error":"#N/A"},{"$f":"IF(ISTEXT('Split 2'!$J$49),NA(),'Split 2'!$J$49)","v":{"$error":"#N/A"}},{"$error":"#N/A"},{"$f":"IF(ISTEXT('Split 2'!$J$50),NA(),'Split 2'!$J$50)","v":{"$error":"#N/A"}},{"$error":"#N/A"},{"$f":"IF(ISTEXT('Split 2'!$J$51),NA(),'Split 2'!$J$51)","v":{"$error":"#N/A"}},{"$error":"#N/A"},{"$f":"IF(ISTEXT('Split 2'!$J$52),NA(),'Split 2'!$J$52)","v":{"$error":"#N/A"}},{"$error":"#N/A"},{"$f":"IF(ISTEXT('Split 2'!$J$55),NA(),'Split 2'!$J$55)","v":{"$error":"#N/A"}},{"$error":"#N/A"},{"$f":"IF(ISTEXT('Split 2'!$J$56),NA(),'Split 2'!$J$56)","v":{"$error":"#N/A"}},{"$error":"#N/A"},{"$f":"IF(ISTEXT('Split 2'!$J$57),NA(),'Split 2'!$J$57)","v":{"$error":"#N/A"}},{"$error":"#N/A"},{"$f":"IF(ISTEXT('Split 2'!$J$58),NA(),'Split 2'!$J$58)","v":{"$error":"#N/A"}},{"$error":"#N/A"},{"$f":"IF(ISTEXT('Split 2'!$J$59),NA(),'Split 2'!$J$59)","v":{"$error":"#N/A"}},{"$error":"#N/A"},{"$f":"IF(ISTEXT('Split 2'!$J$60),NA(),'Split 2'!$J$60)","v":{"$error":"#N/A"}},{"$error":"#N/A"},{"$f":"IF(ISTEXT('Split 2'!$J$62),NA(),'Split 2'!$J$62)","v":{"$error":"#N/A"}},{"$error":"#N/A"},{"$f":"IF(ISTEXT('S2'!$J$67),NA(),'S2'!$J$67)","v":{"$error":"#N/A"}},{"$error":"#N/A"}]
[{"$f":"IF(ISBLANK('Split 2'!K$38),\" \",'Split 2'!K$38)","v":23},{"$f":"IF(ISTEXT('Split 2'!$L$44),NA(),'Split 2'!$L$44)","v":{"$error":"#N/A"}},{"$error":"#N/A"},{"$f":"IF(ISTEXT('Split 2'!$L$45),NA(),'Split 2'!$L$45)","v":{"$error":"#N/A"}},{"$error":"#N/A"},{"$f":"IF(ISTEXT('Split 2'!$L$46),NA(),'Split 2'!$L$46)","v":{"$error":"#N/A"}},{"$error":"#N/A"},{"$f":"IF(ISTEXT('Split 2'!$L$47),NA(),'Split 2'!$L$47)","v":{"$error":"#N/A"}},{"$error":"#N/A"},{"$f":"IF(ISTEXT('Split 2'!$L$48),NA(),'Split 2'!$L$48)","v":{"$error":"#N/A"}},{"$error":"#N/A"},{"$f":"IF(ISTEXT('Split 2'!$L$49),NA(),'Split 2'!$L$49)","v":{"$error":"#N/A"}},{"$error":"#N/A"},{"$f":"IF(ISTEXT('Split 2'!$L$50),NA(),'Split 2'!$L$50)","v":{"$error":"#N/A"}},{"$error":"#N/A"},{"$f":"IF(ISTEXT('Split 2'!$L$51),NA(),'Split 2'!$L$51)","v":{"$error":"#N/A"}},{"$error":"#N/A"},{"$f":"IF(ISTEXT('Split 2'!$L$52),NA(),'Split 2'!$L$52)","v":{"$error":"#N/A"}},{"$error":"#N/A"},{"$f":"IF(ISTEXT('Split 2'!$L$55),NA(),'Split 2'!$L$55)","v":{"$error":"#N/A"}},{"$error":"#N/A"},{"$f":"IF(ISTEXT('Split 2'!$L$56),NA(),'Split 2'!$L$56)","v":{"$error":"#N/A"}},{"$error":"#N/A"},{"$f":"IF(ISTEXT('Split 2'!$L$57),NA(),'Split 2'!$L$57)","v":{"$error":"#N/A"}},{"$error":"#N/A"},{"$f":"IF(ISTEXT('Split 2'!$L$58),NA(),'Split 2'!$L$58)","v":{"$error":"#N/A"}},{"$error":"#N/A"},{"$f":"IF(ISTEXT('Split 2'!$L$59),NA(),'Split 2'!$L$59)","v":{"$error":"#N/A"}},{"$error":"#N/A"},{"$f":"IF(ISTEXT('Split 2'!$L$60),NA(),'Split 2'!$L$60)","v":{"$error":"#N/A"}},{"$error":"#N/A"},{"$f":"IF(ISTEXT('Split 2'!$L$62),NA(),'Split 2'!$L$62)","v":{"$error":"#N/A"}},{"$error":"#N/A"},{"$f":"IF(ISTEXT('S2'!$L$67),NA(),'S2'!$L$67)","v":{"$error":"#N/A"}},{"$error":"#N/A"}]
[{"$f":"IF(ISBLANK('Split 2'!M$38),\" \",'Split 2'!M$38)","v":24},{"$f":"IF(ISTEXT('Split 2'!$N$44),NA(),'Split 2'!$N$44)","v":{"$error":"#N/A"}},{"$error":"#N/A"},{"$f":"IF(ISTEXT('Split 2'!$N$45),NA(),'Split 2'!$N$45)","v":{"$error":"#N/A"}},{"$error":"#N/A"},{"$f":"IF(ISTEXT('Split 2'!$N$46),NA(),'Split 2'!$N$46)","v":{"$error":"#N/A"}},{"$error":"#N/A"},{"$f":"IF(ISTEXT('Split 2'!$N$47),NA(),'Split 2'!$N$47)","v":{"$error":"#N/A"}},{"$error":"#N/A"},{"$f":"IF(ISTEXT('Split 2'!$N$48),NA(),'Split 2'!$N$48)","v":{"$error":"#N/A"}},{"$error":"#N/A"},{"$f":"IF(ISTEXT('Split 2'!$N$49),NA(),'Split 2'!$N$49)","v":{"$error":"#N/A"}},{"$error":"#N/A"},{"$f":"IF(ISTEXT('Split 2'!$N$50),NA(),'Split 2'!$N$50)","v":{"$error":"#N/A"}},{"$error":"#N/A"},{"$f":"IF(ISTEXT('Split 2'!$N$51),NA(),'Split 2'!$N$51)","v":{"$error":"#N/A"}},{"$error":"#N/A"},{"$f":"IF(ISTEXT('Split 2'!$N$52),NA(),'Split 2'!$N$52)","v":{"$error":"#N/A"}},{"$error":"#N/A"},{"$f":"IF(ISTEXT('Split 2'!$N$55),NA(),'Split 2'!$N$55)","v":{"$error":"#N/A"}},{"$error":"#N/A"},{"$f":"IF(ISTEXT('Split 2'!$N$56),NA(),'Split 2'!$N$56)","v":{"$error":"#N/A"}},{"$error":"#N/A"},{"$f":"IF(ISTEXT('Split 2'!$N$57),NA(),'Split 2'!$N$57)","v":{"$error":"#N/A"}},{"$error":"#N/A"},{"$f":"IF(ISTEXT('Split 2'!$N$58),NA(),'Split 2'!$N$58)","v":{"$error":"#N/A"}},{"$error":"#N/A"},{"$f":"IF(ISTEXT('Split 2'!$N$59),NA(),'Split 2'!$N$59)","v":{"$error":"#N/A"}},{"$error":"#N/A"},{"$f":"IF(ISTEXT('Split 2'!$N$60),NA(),'Split 2'!$N$60)","v":{"$error":"#N/A"}},{"$error":"#N/A"},{"$f":"IF(ISTEXT('Split 2'!$N$62),NA(),'Split 2'!$N$62)","v":{"$error":"#N/A"}},{"$error":"#N/A"},{"$f":"IF(ISTEXT('S2'!$N$67),NA(),'S2'!$N$67)","v":{"$error":"#N/A"}},{"$error":"#N/A"}]
[{"$f":"IF(ISBLANK('Split 3'!C$8),\" \",'Split 3'!C$8)","v":25},{"$f":"IF(ISTEXT('Split 3'!$D$14),NA(),'Split 3'!$D$14)","v":{"$error":"#N/A"}},{"$f":"SUM(B24:B26)/3","v":{"$error":"#N/A"}},{"$f":"IF(ISTEXT('Split 3'!$D$15),NA(),'Split 3'!$D$15)","v":{"$error":"#N/A"}},{"$f":"D26","v":{"$error":"#N/A"}},{"$f":"IF(ISTEXT('Split 3'!$D$16),NA(),'Split 3'!$D$16)","v":{"$error":"#N/A"}},{"$f":"F26","v":{"$error":"#N/A"}},{"$f":"IF(ISTEXT('Split 3'!$D$17),NA(),'Split 3'!$D$17)","v":{"$error":"#N/A"}},{"$f":"H26","v":{"$error":"#N/A"}},{"$f":"IF(ISTEXT('Split 3'!$D$18),NA(),'Split 3'!$D$18)","v":{"$error":"#N/A"}},{"$f":"J26","v":{"$error":"#N/A"}},{"$f":"IF(ISTEXT('Split 3'!$D$19),NA(),'Split 3'!$D$19)","v":{"$error":"#N/A"}},{"$f":"L26","v":{"$error":"#N/A"}},{"$f":"IF(ISTEXT('Split 3'!$D$20),NA(),'Split 3'!$D$20)","v":{"$error":"#N/A"}},{"$f":"N26","v":{"$error":"#N/A"}},{"$f":"IF(ISTEXT('Split 3'!$D$21),NA(),'Split 3'!$D$21)","v":{"$error":"#N/A"}},{"$f":"P26","v":{"$error":"#N/A"}},{"$f":"IF(ISTEXT('Split 3'!$D$22),NA(),'Split 3'!$D$22)","v":{"$error":"#N/A"}},{"$f":"R26","v":{"$error":"#N/A"}},{"$f":"IF(ISTEXT('Split 3'!$D$25),NA(),'Split 3'!$D$25)","v":{"$error":"#N/A"}},{"$f":"T26","v":{"$error":"#N/A"}},{"$f":"IF(ISTEXT('Split 3'!$D$26),NA(),'Split 3'!$D$26)","v":{"$error":"#N/A"}},{"$f":"V26","v":{"$error":"#N/A"}},{"$f":"IF(ISTEXT('Split 3'!$D$27),NA(),'Split 3'!$D$27)","v":{"$error":"#N/A"}},{"$f":"X26","v":{"$error":"#N/A"}},{"$f":"IF(ISTEXT('Split 3'!$D$28),NA(),'Split 3'!$D$28)","v":{"$error":"#N/A"}},{"$f":"Z26","v":{"$error":"#N/A"}},{"$f":"IF(ISTEXT('Split 3'!$D$29),NA(),'Split 3'!$D$29)","v":{"$error":"#N/A"}},{"$f":"AB26","v":{"$error":"#N/A"}},{"$f":"IF(ISTEXT('Split 3'!$D$30),NA(),'Split 3'!$D$30)","v":{"$error":"#N/A"}},{"$f":"AD26","v":{"$error":"#N/A"}},{"$f":"IF(ISTEXT('Split 3'!$D$32),NA(),'Split 3'!$D$32)","v":{"$error":"#N/A"}},{"$f":"AF26","v":{"$error":"#N/A"}},{"$f":"IF(ISTEXT('S3'!$D$34),NA(),'S3'!$D$34)","v":{"$error":"#N/A"}},{"$f":"ROUND(AVERAGE(AH24:AH26),2)","v":{"$error":"#N/A"}}]
[{"$f":"IF(ISBLANK('Split 3'!E$8),\" \",'Split 3'!E$8)","v":26},{"$f":"IF(ISTEXT('Split 3'!$F$14),NA(),'Split 3'!$F$14)","v":{"$error":"#N/A"}},{"$error":"#N/A"},{"$f":"IF(ISTEXT('Split 3'!$F$15),NA(),'Split 3'!$F$15)","v":{"$error":"#N/A"}},{"$f":"(D26+D27)/2","v":{"$error":"#N/A"}},{"$f":"IF(ISTEXT('Split 3'!$F$16),NA(),'Split 3'!$F$16)","v":{"$error":"#N/A"}},{"$f":"(F26+F27)/2","v":{"$error":"#N/A"}},{"$f":"IF(ISTEXT('Split 3'!$F$17),NA(),'Split 3'!$F$17)","v":{"$error":"#N/A"}},{"$f":"(H26+H27)/2","v":{"$error":"#N/A"}},{"$f":"IF(ISTEXT('Split 3'!$F$18),NA(),'Split 3'!$F$18)","v":{"$error":"#N/A"}},{"$f":"(J26+J27)/2","v":{"$error":"#N/A"}},{"$f":"IF(ISTEXT('Split 3'!$F$19),NA(),'Split 3'!$F$19)","v":{"$error":"#N/A"}},{"$f":"(L26+L27)/2","v":{"$error":"#N/A"}},{"$f":"IF(ISTEXT('Split 3'!$F$20),NA(),'Split 3'!$F$20)","v":{"$error":"#N/A"}},{"$f":"(N26+N27)/2","v":{"$error":"#N/A"}},{"$f":"IF(ISTEXT('Split 3'!$F$21),NA(),'Split 3'!$F$21)","v":{"$error":"#N/A"}},{"$f":"(P26+P27)/2","v":{"$error":"#N/A"}},{"$f":"IF(ISTEXT('Split 3'!$F$22),NA(),'Split 3'!$F$22)","v":{"$error":"#N/A"}},{"$f":"(R26+R27)/2","v":{"$error":"#N/A"}},{"$f":"IF(ISTEXT('Split 3'!$F$25),NA(),'Split 3'!$F$25)","v":{"$error":"#N/A"}},{"$f":"(T26+T27)/2","v":{"$error":"#N/A"}},{"$f":"IF(ISTEXT('Split 3'!$F$26),NA(),'Split 3'!$F$26)","v":{"$error":"#N/A"}},{"$f":"(V26+V27)/2","v":{"$error":"#N/A"}},{"$f":"IF(ISTEXT('Split 3'!$F$27),NA(),'Split 3'!$F$27)","v":{"$error":"#N/A"}},{"$f":"(X26+X27)/2","v":{"$error":"#N/A"}},{"$f":"IF(ISTEXT('Split 3'!$F$28),NA(),'Split 3'!$F$28)","v":{"$error":"#N/A"}},{"$f":"ROUND(AVERAGE(Z26:Z27),0)","v":{"$error":"#N/A"}},{"$f":"IF(ISTEXT('Split 3'!$F$29),NA(),'Split 3'!$F$29)","v":{"$error":"#N/A"}},{"$f":"ROUND(AVERAGE(AB26:AB27),0)","v":{"$error":"#N/A"}},{"$f":"IF(ISTEXT('Split 3'!$F$30),NA(),'Split 3'!$F$30)","v":{"$error":"#N/A"}},{"$f":"ROUND(AVERAGE(AD26:AD27),0)","v":{"$error":"#N/A"}},{"$f":"IF(ISTEXT('Split 3'!$F$32),NA(),'Split 3'!$F$32)","v":{"$error":"#N/A"}},{"$f":"ROUND(AVERAGE(AF26:AF27),2)","v":{"$error":"#N/A"}},{"$f":"IF(ISTEXT('S3'!$F$34),NA(),'S3'!$F$34)","v":{"$error":"#N/A"}},{"$f":"ROUND(AVERAGE(AH25:AH27),2)","v":{"$error":"#N/A"}}]
[{"$f":"IF(ISBLANK('Split 3'!G$8),\" \",'Split 3'!G$8)","v":27},{"$f":"IF(ISTEXT('Split 3'!$H$14),NA(),'Split 3'!$H$14)","v":{"$error":"#N/A"}},{"$error":"#N/A"},{"$f":"IF(ISTEXT('Split 3'!$H$15),NA(),'Split 3'!$H$15)","v":{"$error":"#N/A"}},{"$f":"SUM(D26:D28)/3","v":{"$error":"#N/A"}},{"$f":"IF(ISTEXT('Split 3'!$H$16),NA(),'Split 3'!$H$16)","v":{"$error":"#N/A"}},{"$f":"SUM(F26:F28)/3","v":{"$error":"#N/A"}},{"$f":"IF(ISTEXT('Split 3'!$H$17),NA(),'Split 3'!$H$17)","v":{"$error":"#N/A"}},{"$f":"SUM(H26:H28)/3","v":{"$error":"#N/A"}},{"$f":"IF(ISTEXT('Split 3'!$H$18),NA(),'Split 3'!$H$18)","v":{"$error":"#N/A"}},{"$f":"SUM(J26:J28)/3","v":{"$error":"#N/A"}},{"$f":"IF(ISTEXT('Split 3'!$H$19),NA(),'Split 3'!$H$19)","v":{"$error":"#N/A"}},{"$f":"SUM(L26:L28)/3","v":{"$error":"#N/A"}},{"$f":"IF(ISTEXT('Split 3'!$H$20),NA(),'Split 3'!$H$20)","v":{"$error":"#N/A"}},{"$f":"SUM(N26:N28)/3","v":{"$error":"#N/A"}},{"$f":"IF(ISTEXT('Split 3'!$H$21),NA(),'Split 3'!$H$21)","v":{"$error":"#N/A"}},{"$f":"SUM(P26:P28)/3","v":{"$error":"#N/A"}},{"$f":"IF(ISTEXT('Split 3'!$H$22),NA(),'Split 3'!$H$22)","v":{"$error":"#N/A"}},{"$f":"SUM(R26:R28)/3","v":{"$error":"#N/A"}},{"$f":"IF(ISTEXT('Split 3'!$H$25),NA(),'Split 3'!$H$25)","v":{"$error":"#N/A"}},{"$f":"SUM(T26:T28)/3","v":{"$error":"#N/A"}},{"$f":"IF(ISTEXT('Split 3'!$H$26),NA(),'Split 3'!$H$26)","v":{"$error":"#N/A"}},{"$f":"SUM(V26:V28)/3","v":{"$error":"#N/A"}},{"$f":"IF(ISTEXT('Split 3'!$H$27),NA(),'Split 3'!$H$27)","v":{"$error":"#N/A"}},{"$f":"SUM(X26:X28)/3","v":{"$error":"#N/A"}},{"$f":"IF(ISTEXT('Split 3'!$H$28),NA(),'Split 3'!$H$28)","v":{"$error":"#N/A"}},{"$f":"ROUND(AVERAGE(Z26:Z28),0)","v":{"$error":"#N/A"}},{"$f":"IF(ISTEXT('Split 3'!$H$29),NA(),'Split 3'!$H$29)","v":{"$error":"#N/A"}},{"$f":"ROUND(AVERAGE(AB26:AB28),0)","v":{"$error":"#N/A"}},{"$f":"IF(ISTEXT('Split 3'!$H$30),NA(),'Split 3'!$H$30)","v":{"$error":"#N/A"}},{"$f":"ROUND(AVERAGE(AD26:AD28),0)","v":{"$error":"#N/A"}},{"$f":"IF(ISTEXT('Split 3'!$H$32),NA(),'Split 3'!$H$32)","v":{"$error":"#N/A"}},{"$f":"ROUND(AVERAGE(AF26:AF28),2)","v":{"$error":"#N/A"}},{"$f":"IF(ISTEXT('S3'!$H$34),NA(),'S3'!$H$34)","v":{"$error":"#N/A"}},{"$f":"ROUND(AVERAGE(AH26:AH28),2)","v":{"$error":"#N/A"}}]
[{"$f":"IF(ISBLANK('Split 3'!I$8),\" \",'Split 3'!I$8)","v":28},{"$f":"IF(ISTEXT('Split 3'!$J$14),NA(),'Split 3'!$J$14)","v":{"$error":"#N/A"}},{"$error":"#N/A"},{"$f":"IF(ISTEXT('Split 3'!$J$15),NA(),'Split 3'!$J$15)","v":{"$error":"#N/A"}},{"$f":"SUM(D27:D29)/3","v":{"$error":"#N/A"}},{"$f":"IF(ISTEXT('Split 3'!$J$16),NA(),'Split 3'!$J$16)","v":{"$error":"#N/A"}},{"$f":"SUM(F27:F29)/3","v":{"$error":"#N/A"}},{"$f":"IF(ISTEXT('Split 3'!$J$17),NA(),'Split 3'!$J$17)","v":{"$error":"#N/A"}},{"$f":"SUM(H27:H29)/3","v":{"$error":"#N/A"}},{"$f":"IF(ISTEXT('Split 3'!$J$18),NA(),'Split 3'!$J$18)","v":{"$error":"#N/A"}},{"$f":"SUM(J27:J29)/3","v":{"$error":"#N/A"}},{"$f":"IF(ISTEXT('Split 3'!$J$19),NA(),'Split 3'!$J$19)","v":{"$error":"#N/A"}},{"$f":"SUM(L27:L29)/3","v":{"$error":"#N/A"}},{"$f":"IF(ISTEXT('Split 3'!$J$20),NA(),'Split 3'!$J$20)","v":{"$error":"#N/A"}},{"$f":"SUM(N27:N29)/3","v":{"$error":"#N/A"}},{"$f":"IF(ISTEXT('Split 3'!$J$21),NA(),'Split 3'!$J$21)","v":{"$error":"#N/A"}},{"$f":"SUM(P27:P29)/3","v":{"$error":"#N/A"}},{"$f":"IF(ISTEXT('Split 3'!$J$22),NA(),'Split 3'!$J$22)","v":{"$error":"#N/A"}},{"$f":"SUM(R27:R29)/3","v":{"$error":"#N/A"}},{"$f":"IF(ISTEXT('Split 3'!$J$25),NA(),'Split 3'!$J$25)","v":{"$error":"#N/A"}},{"$f":"SUM(T27:T29)/3","v":{"$error":"#N/A"}},{"$f":"IF(ISTEXT('Split 3'!$J$26),NA(),'Split 3'!$J$26)","v":{"$error":"#N/A"}},{"$f":"SUM(V27:V29)/3","v":{"$error":"#N/A"}},{"$f":"IF(ISTEXT('Split 3'!$J$27),NA(),'Split 3'!$J$27)","v":{"$error":"#N/A"}},{"$f":"SUM(X27:X29)/3","v":{"$error":"#N/A"}},{"$f":"IF(ISTEXT('Split 3'!$J$28),NA(),'Split 3'!$J$28)","v":{"$error":"#N/A"}},{"$error":"#N/A"},{"$f":"IF(ISTEXT('Split 3'!$J$29),NA(),'Split 3'!$J$29)","v":{"$error":"#N/A"}},{"$error":"#N/A"},{"$f":"IF(ISTEXT('Split 3'!$J$30),NA(),'Split 3'!$J$30)","v":{"$error":"#N/A"}},{"$error":"#N/A"},{"$f":"IF(ISTEXT('Split 3'!$J$32),NA(),'Split 3'!$J$32)","v":{"$error":"#N/A"}},{"$error":"#N/A"},{"$f":"IF(ISTEXT('S3'!$J$34),NA(),'S3'!$J$34)","v":{"$error":"#N/A"}},{"$error":"#N/A"}]
[{"$f":"IF(ISBLANK('Split 3'!K$8),\" \",'Split 3'!K$8)","v":29},{"$f":"IF(ISTEXT('Split 3'!$L$14),NA(),'Split 3'!$L$14)","v":{"$error":"#N/A"}},{"$error":"#N/A"},{"$f":"IF(ISTEXT('Split 3'!$L$15),NA(),'Split 3'!$L$15)","v":{"$error":"#N/A"}},{"$f":"SUM(D28:D30)/3","v":{"$error":"#N/A"}},{"$f":"IF(ISTEXT('Split 3'!$L$16),NA(),'Split 3'!$L$16)","v":{"$error":"#N/A"}},{"$f":"SUM(F28:F30)/3","v":{"$error":"#N/A"}},{"$f":"IF(ISTEXT('Split 3'!$L$17),NA(),'Split 3'!$L$17)","v":{"$error":"#N/A"}},{"$error":"#N/A"},{"$f":"IF(ISTEXT('Split 3'!$L$18),NA(),'Split 3'!$L$18)","v":{"$error":"#N/A"}},{"$error":"#N/A"},{"$f":"IF(ISTEXT('Split 3'!$L$19),NA(),'Split 3'!$L$19)","v":{"$error":"#N/A"}},{"$error":"#N/A"},{"$f":"IF(ISTEXT('Split 3'!$L$20),NA(),'Split 3'!$L$20)","v":{"$error":"#N/A"}},{"$error":"#N/A"},{"$f":"IF(ISTEXT('Split 3'!$L$21),NA(),'Split 3'!$L$21)","v":{"$error":"#N/A"}},{"$error":"#N/A"},{"$f":"IF(ISTEXT('Split 3'!$L$22),NA(),'Split 3'!$L$22)","v":{"$error":"#N/A"}},{"$error":"#N/A"},{"$f":"IF(ISTEXT('Split 3'!$L$25),NA(),'Split 3'!$L$25)","v":{"$error":"#N/A"}},{"$error":"#N/A"},{"$f":"IF(ISTEXT('Split 3'!$L$26),NA(),'Split 3'!$L$26)","v":{"$error":"#N/A"}},{"$error":"#N/A"},{"$f":"IF(ISTEXT('Split 3'!$L$27),NA(),'Split 3'!$L$27)","v":{"$error":"#N/A"}},{"$error":"#N/A"},{"$f":"IF(ISTEXT('Split 3'!$L$28),NA(),'Split 3'!$L$28)","v":{"$error":"#N/A"}},{"$error":"#N/A"},{"$f":"IF(ISTEXT('Split 3'!$L$29),NA(),'Split 3'!$L$29)","v":{"$error":"#N/A"}},{"$error":"#N/A"},{"$f":"IF(ISTEXT('Split 3'!$L$30),NA(),'Split 3'!$L$30)","v":{"$error":"#N/A"}},{"$error":"#N/A"},{"$f":"IF(ISTEXT('Split 3'!$L$32),NA(),'Split 3'!$L$32)","v":{"$error":"#N/A"}},{"$error":"#N/A"},{"$f":"IF(ISTEXT('S3'!$L$34),NA(),'S3'!$L$34)","v":{"$error":"#N/A"}},{"$error":"#N/A"}]
[{"$f":"IF(ISBLANK('Split 3'!M$8),\" \",'Split 3'!M$8)","v":30},{"$f":"IF(ISTEXT('Split 3'!$N$14),NA(),'Split 3'!$N$14)","v":{"$error":"#N/A"}},{"$f":"SUM(B29:B31)/3","v":{"$error":"#N/A"}},{"$f":"IF(ISTEXT('Split 3'!$N$15),NA(),'Split 3'!$N$15)","v":{"$error":"#N/A"}},{"$error":"#N/A"},{"$f":"IF(ISTEXT('Split 3'!$N$16),NA(),'Split 3'!$N$16)","v":{"$error":"#N/A"}},{"$error":"#N/A"},{"$f":"IF(ISTEXT('Split 3'!$N$17),NA(),'Split 3'!$N$17)","v":{"$error":"#N/A"}},{"$error":"#N/A"},{"$f":"IF(ISTEXT('Split 3'!$N$18),NA(),'Split 3'!$N$18)","v":{"$error":"#N/A"}},{"$error":"#N/A"},{"$f":"IF(ISTEXT('Split 3'!$N$19),NA(),'Split 3'!$N$19)","v":{"$error":"#N/A"}},{"$error":"#N/A"},{"$f":"IF(ISTEXT('Split 3'!$N$20),NA(),'Split 3'!$N$20)","v":{"$error":"#N/A"}},{"$error":"#N/A"},{"$f":"IF(ISTEXT('Split 3'!$N$21),NA(),'Split 3'!$N$21)","v":{"$error":"#N/A"}},{"$error":"#N/A"},{"$f":"IF(ISTEXT('Split 3'!$N$22),NA(),'Split 3'!$N$22)","v":{"$error":"#N/A"}},{"$error":"#N/A"},{"$f":"IF(ISTEXT('Split 3'!$N$25),NA(),'Split 3'!$N$25)","v":{"$error":"#N/A"}},{"$error":"#N/A"},{"$f":"IF(ISTEXT('Split 3'!$N$26),NA(),'Split 3'!$N$26)","v":{"$error":"#N/A"}},{"$error":"#N/A"},{"$f":"IF(ISTEXT('Split 3'!$N$27),NA(),'Split 3'!$N$27)","v":{"$error":"#N/A"}},{"$error":"#N/A"},{"$f":"IF(ISTEXT('Split 3'!$N$28),NA(),'Split 3'!$N$28)","v":{"$error":"#N/A"}},{"$error":"#N/A"},{"$f":"IF(ISTEXT('Split 3'!$N$29),NA(),'Split 3'!$N$29)","v":{"$error":"#N/A"}},{"$error":"#N/A"},{"$f":"IF(ISTEXT('Split 3'!$N$30),NA(),'Split 3'!$N$30)","v":{"$error":"#N/A"}},{"$error":"#N/A"},{"$f":"IF(ISTEXT('Split 3'!$N$32),NA(),'Split 3'!$N$32)","v":{"$error":"#N/A"}},{"$error":"#N/A"},{"$f":"IF(ISTEXT('S3'!$N$34),NA(),'S3'!$N$34)","v":{"$error":"#N/A"}},{"$error":"#N/A"}]
[{"$f":"IF(ISBLANK('Split 3'!C$38),\" \",'Split 3'!C$38)","v":31},{"$f":"IF(ISTEXT('Split 3'!$D$44),NA(),'Split 3'!$D$44)","v":{"$error":"#N/A"}},{"$f":"SUM(B30:B32)/3","v":{"$error":"#N/A"}},{"$f":"IF(ISTEXT('Split 3'!$D$45),NA(),'Split 3'!$D$45)","v":{"$error":"#N/A"}},{"$error":"#N/A"},{"$f":"IF(ISTEXT('Split 3'!$D$46),NA(),'Split 3'!$D$46)","v":{"$error":"#N/A"}},{"$error":"#N/A"},{"$f":"IF(ISTEXT('Split 3'!$D$47),NA(),'Split 3'!$D$47)","v":{"$error":"#N/A"}},{"$error":"#N/A"},{"$f":"IF(ISTEXT('Split 3'!$D$48),NA(),'Split 3'!$D$48)","v":{"$error":"#N/A"}},{"$error":"#N/A"},{"$f":"IF(ISTEXT('Split 3'!$D$49),NA(),'Split 3'!$D$49)","v":{"$error":"#N/A"}},{"$error":"#N/A"},{"$f":"IF(ISTEXT('Split 3'!$D$50),NA(),'Split 3'!$D$50)","v":{"$error":"#N/A"}},{"$error":"#N/A"},{"$f":"IF(ISTEXT('Split 3'!$D$51),NA(),'Split 3'!$D$51)","v":{"$error":"#N/A"}},{"$error":"#N/A"},{"$f":"IF(ISTEXT('Split 3'!$D$52),NA(),'Split 3'!$D$52)","v":{"$error":"#N/A"}},{"$error":"#N/A"},{"$f":"IF(ISTEXT('Split 3'!$D$55),NA(),'Split 3'!$D$55)","v":{"$error":"#N/A"}},{"$error":"#N/A"},{"$f":"IF(ISTEXT('Split 3'!$D$56),NA(),'Split 3'!$D$56)","v":{"$error":"#N/A"}},{"$error":"#N/A"},{"$f":"IF(ISTEXT('Split 3'!$D$57),NA(),'Split 3'!$D$57)","v":{"$error":"#N/A"}},{"$error":"#N/A"},{"$f":"IF(ISTEXT('Split 3'!$D$58),NA(),'Split 3'!$D$58)","v":{"$error":"#N/A"}},{"$error":"#N/A"},{"$f":"IF(ISTEXT('Split 3'!$D$59),NA(),'Split 3'!$D$59)","v":{"$error":"#N/A"}},{"$error":"#N/A"},{"$f":"IF(ISTEXT('Split 3'!$D$60),NA(),'Split 3'!$D$60)","v":{"$error":"#N/A"}},{"$error":"#N/A"},{"$f":"IF(ISTEXT('Split 3'!$D$62),NA(),'Split 3'!$D$62)","v":{"$error":"#N/A"}},{"$error":"#N/A"},{"$f":"IF(ISTEXT('S3'!$D$67),NA(),'S3'!$D$67)","v":{"$error":"#N/A"}},{"$error":"#N/A"}]
[{"$f":"IF(ISBLANK('Split 3'!E$38),\" \",'Split 3'!E$38)","v":32},{"$f":"IF(ISTEXT('Split 3'!$F$44),NA(),'Split 3'!$F$44)","v":{"$error":"#N/A"}},{"$error":"#N/A"},{"$f":"IF(ISTEXT('Split 3'!$F$45),NA(),'Split 3'!$F$45)","v":{"$error":"#N/A"}},{"$error":"#N/A"},{"$f":"IF(ISTEXT('Split 3'!$F$46),NA(),'Split 3'!$F$46)","v":{"$error":"#N/A"}},{"$error":"#N/A"},{"$f":"IF(ISTEXT('Split 3'!$F$47),NA(),'Split 3'!$F$47)","v":{"$error":"#N/A"}},{"$error":"#N/A"},{"$f":"IF(ISTEXT('Split 3'!$F$48),NA(),'Split 3'!$F$48)","v":{"$error":"#N/A"}},{"$error":"#N/A"},{"$f":"IF(ISTEXT('Split 3'!$F$49),NA(),'Split 3'!$F$49)","v":{"$error":"#N/A"}},{"$error":"#N/A"},{"$f":"IF(ISTEXT('Split 3'!$F$50),NA(),'Split 3'!$F$50)","v":{"$error":"#N/A"}},{"$error":"#N/A"},{"$f":"IF(ISTEXT('Split 3'!$F$51),NA(),'Split 3'!$F$51)","v":{"$error":"#N/A"}},{"$error":"#N/A"},{"$f":"IF(ISTEXT('Split 3'!$F$52),NA(),'Split 3'!$F$52)","v":{"$error":"#N/A"}},{"$error":"#N/A"},{"$f":"IF(ISTEXT('Split 3'!$F$55),NA(),'Split 3'!$F$55)","v":{"$error":"#N/A"}},{"$error":"#N/A"},{"$f":"IF(ISTEXT('Split 3'!$F$56),NA(),'Split 3'!$F$56)","v":{"$error":"#N/A"}},{"$error":"#N/A"},{"$f":"IF(ISTEXT('Split 3'!$F$57),NA(),'Split 3'!$F$57)","v":{"$error":"#N/A"}},{"$error":"#N/A"},{"$f":"IF(ISTEXT('Split 3'!$F$58),NA(),'Split 3'!$F$58)","v":{"$error":"#N/A"}},{"$error":"#N/A"},{"$f":"IF(ISTEXT('Split 3'!$F$59),NA(),'Split 3'!$F$59)","v":{"$error":"#N/A"}},{"$error":"#N/A"},{"$f":"IF(ISTEXT('Split 3'!$F$60),NA(),'Split 3'!$F$60)","v":{"$error":"#N/A"}},{"$error":"#N/A"},{"$f":"IF(ISTEXT('Split 3'!$F$62),NA(),'Split 3'!$F$62)","v":{"$error":"#N/A"}},{"$error":"#N/A"},{"$f":"IF(ISTEXT('S3'!$F$67),NA(),'S3'!$F$67)","v":{"$error":"#N/A"}},{"$error":"#N/A"}]
[{"$f":"IF(ISBLANK('Split 3'!G$38),\" \",'Split 3'!G$38)","v":33},{"$f":"IF(ISTEXT('Split 3'!$H$44),NA(),'Split 3'!$H$44)","v":{"$error":"#N/A"}},{"$error":"#N/A"},{"$f":"IF(ISTEXT('Split 3'!$H$45),NA(),'Split 3'!$H$45)","v":{"$error":"#N/A"}},{"$error":"#N/A"},{"$f":"IF(ISTEXT('Split 3'!$H$46),NA(),'Split 3'!$H$46)","v":{"$error":"#N/A"}},{"$error":"#N/A"},{"$f":"IF(ISTEXT('Split 3'!$H$47),NA(),'Split 3'!$H$47)","v":{"$error":"#N/A"}},{"$error":"#N/A"},{"$f":"IF(ISTEXT('Split 3'!$H$48),NA(),'Split 3'!$H$48)","v":{"$error":"#N/A"}},{"$error":"#N/A"},{"$f":"IF(ISTEXT('Split 3'!$H$49),NA(),'Split 3'!$H$49)","v":{"$error":"#N/A"}},{"$error":"#N/A"},{"$f":"IF(ISTEXT('Split 3'!$H$50),NA(),'Split 3'!$H$50)","v":{"$error":"#N/A"}},{"$error":"#N/A"},{"$f":"IF(ISTEXT('Split 3'!$H$51),NA(),'Split 3'!$H$51)","v":{"$error":"#N/A"}},{"$error":"#N/A"},{"$f":"IF(ISTEXT('Split 3'!$H$52),NA(),'Split 3'!$H$52)","v":{"$error":"#N/A"}},{"$error":"#N/A"},{"$f":"IF(ISTEXT('Split 3'!$H$55),NA(),'Split 3'!$H$55)","v":{"$error":"#N/A"}},{"$error":"#N/A"},{"$f":"IF(ISTEXT('Split 3'!$H$56),NA(),'Split 3'!$H$56)","v":{"$error":"#N/A"}},{"$error":"#N/A"},{"$f":"IF(ISTEXT('Split 3'!$H$57),NA(),'Split 3'!$H$57)","v":{"$error":"#N/A"}},{"$error":"#N/A"},{"$f":"IF(ISTEXT('Split 3'!$H$58),NA(),'Split 3'!$H$58)","v":{"$error":"#N/A"}},{"$error":"#N/A"},{"$f":"IF(ISTEXT('Split 3'!$H$59),NA(),'Split 3'!$H$59)","v":{"$error":"#N/A"}},{"$error":"#N/A"},{"$f":"IF(ISTEXT('Split 3'!$H$60),NA(),'Split 3'!$H$60)","v":{"$error":"#N/A"}},{"$error":"#N/A"},{"$f":"IF(ISTEXT('Split 3'!$H$62),NA(),'Split 3'!$H$62)","v":{"$error":"#N/A"}},{"$error":"#N/A"},{"$f":"IF(ISTEXT('S3'!$H$67),NA(),'S3'!$H$67)","v":{"$error":"#N/A"}},{"$error":"#N/A"}]
[{"$f":"IF(ISBLANK('Split 3'!I$38),\" \",'Split 3'!I$38)","v":34},{"$f":"IF(ISTEXT('Split 3'!$J$44),NA(),'Split 3'!$J$44)","v":{"$error":"#N/A"}},{"$error":"#N/A"},{"$f":"IF(ISTEXT('Split 3'!$J$45),NA(),'Split 3'!$J$45)","v":{"$error":"#N/A"}},{"$error":"#N/A"},{"$f":"IF(ISTEXT('Split 3'!$J$46),NA(),'Split 3'!$J$46)","v":{"$error":"#N/A"}},{"$error":"#N/A"},{"$f":"IF(ISTEXT('Split 3'!$J$47),NA(),'Split 3'!$J$47)","v":{"$error":"#N/A"}},{"$error":"#N/A"},{"$f":"IF(ISTEXT('Split 3'!$J$48),NA(),'Split 3'!$J$48)","v":{"$error":"#N/A"}},{"$error":"#N/A"},{"$f":"IF(ISTEXT('Split 3'!$J$49),NA(),'Split 3'!$J$49)","v":{"$error":"#N/A"}},{"$error":"#N/A"},{"$f":"IF(ISTEXT('Split 3'!$J$50),NA(),'Split 3'!$J$50)","v":{"$error":"#N/A"}},{"$error":"#N/A"},{"$f":"IF(ISTEXT('Split 3'!$J$51),NA(),'Split 3'!$J$51)","v":{"$error":"#N/A"}},{"$error":"#N/A"},{"$f":"IF(ISTEXT('Split 3'!$J$52),NA(),'Split 3'!$J$52)","v":{"$error":"#N/A"}},{"$error":"#N/A"},{"$f":"IF(ISTEXT('Split 3'!$J$55),NA(),'Split 3'!$J$55)","v":{"$error":"#N/A"}},{"$error":"#N/A"},{"$f":"IF(ISTEXT('Split 3'!$J$56),NA(),'Split 3'!$J$56)","v":{"$error":"#N/A"}},{"$error":"#N/A"},{"$f":"IF(ISTEXT('Split 3'!$J$57),NA(),'Split 3'!$J$57)","v":{"$error":"#N/A"}},{"$error":"#N/A"},{"$f":"IF(ISTEXT('Split 3'!$J$58),NA(),'Split 3'!$J$58)","v":{"$error":"#N/A"}},{"$error":"#N/A"},{"$f":"IF(ISTEXT('Split 3'!$J$59),NA(),'Split 3'!$J$59)","v":{"$error":"#N/A"}},{"$error":"#N/A"},{"$f":"IF(ISTEXT('Split 3'!$J$60),NA(),'Split 3'!$J$60)","v":{"$error":"#N/A"}},{"$error":"#N/A"},{"$f":"IF(ISTEXT('Split 3'!$J$62),NA(),'Split 3'!$J$62)","v":{"$error":"#N/A"}},{"$error":"#N/A"},{"$f":"IF(ISTEXT('S3'!$J$67),NA(),'S3'!$J$67)","v":{"$error":"#N/A"}},{"$error":"#N/A"}]
[{"$f":"IF(ISBLANK('Split 3'!K$38),\" \",'Split 3'!K$38)","v":35},{"$f":"IF(ISTEXT('Split 3'!$L$44),NA(),'Split 3'!$L$44)","v":{"$error":"#N/A"}},{"$error":"#N/A"},{"$f":"IF(ISTEXT('Split 3'!$L$45),NA(),'Split 3'!$L$45)","v":{"$error":"#N/A"}},{"$error":"#N/A"},{"$f":"IF(ISTEXT('Split 3'!$L$46),NA(),'Split 3'!$L$46)","v":{"$error":"#N/A"}},{"$error":"#N/A"},{"$f":"IF(ISTEXT('Split 3'!$L$47),NA(),'Split 3'!$L$47)","v":{"$error":"#N/A"}},{"$error":"#N/A"},{"$f":"IF(ISTEXT('Split 3'!$L$48),NA(),'Split 3'!$L$48)","v":{"$error":"#N/A"}},{"$error":"#N/A"},{"$f":"IF(ISTEXT('Split 3'!$L$49),NA(),'Split 3'!$L$49)","v":{"$error":"#N/A"}},{"$error":"#N/A"},{"$f":"IF(ISTEXT('Split 3'!$L$50),NA(),'Split 3'!$L$50)","v":{"$error":"#N/A"}},{"$error":"#N/A"},{"$f":"IF(ISTEXT('Split 3'!$L$51),NA(),'Split 3'!$L$51)","v":{"$error":"#N/A"}},{"$error":"#N/A"},{"$f":"IF(ISTEXT('Split 3'!$L$52),NA(),'Split 3'!$L$52)","v":{"$error":"#N/A"}},{"$error":"#N/A"},{"$f":"IF(ISTEXT('Split 3'!$L$55),NA(),'Split 3'!$L$55)","v":{"$error":"#N/A"}},{"$error":"#N/A"},{"$f":"IF(ISTEXT('Split 3'!$L$56),NA(),'Split 3'!$L$56)","v":{"$error":"#N/A"}},{"$error":"#N/A"},{"$f":"IF(ISTEXT('Split 3'!$L$57),NA(),'Split 3'!$L$57)","v":{"$error":"#N/A"}},{"$error":"#N/A"},{"$f":"IF(ISTEXT('Split 3'!$L$58),NA(),'Split 3'!$L$58)","v":{"$error":"#N/A"}},{"$error":"#N/A"},{"$f":"IF(ISTEXT('Split 3'!$L$59),NA(),'Split 3'!$L$59)","v":{"$error":"#N/A"}},{"$error":"#N/A"},{"$f":"IF(ISTEXT('Split 3'!$L$60),NA(),'Split 3'!$L$60)","v":{"$error":"#N/A"}},{"$error":"#N/A"},{"$f":"IF(ISTEXT('Split 3'!$L$62),NA(),'Split 3'!$L$62)","v":{"$error":"#N/A"}},{"$error":"#N/A"},{"$f":"IF(ISTEXT('S3'!$L$67),NA(),'S3'!$L$67)","v":{"$error":"#N/A"}},{"$error":"#N/A"}]
[{"$f":"IF(ISBLANK('Split 3'!M$38),\" \",'Split 3'!M$38)","v":36},{"$f":"IF(ISTEXT('Split 3'!$N$44),NA(),'Split 3'!$N$44)","v":{"$error":"#N/A"}},{"$error":"#N/A"},{"$f":"IF(ISTEXT('Split 3'!$N$45),NA(),'Split 3'!$N$45)","v":{"$error":"#N/A"}},{"$error":"#N/A"},{"$f":"IF(ISTEXT('Split 3'!$N$46),NA(),'Split 3'!$N$46)","v":{"$error":"#N/A"}},{"$error":"#N/A"},{"$f":"IF(ISTEXT('Split 3'!$N$47),NA(),'Split 3'!$N$47)","v":{"$error":"#N/A"}},{"$error":"#N/A"},{"$f":"IF(ISTEXT('Split 3'!$N$48),NA(),'Split 3'!$N$48)","v":{"$error":"#N/A"}},{"$error":"#N/A"},{"$f":"IF(ISTEXT('Split 3'!$N$49),NA(),'Split 3'!$N$49)","v":{"$error":"#N/A"}},{"$error":"#N/A"},{"$f":"IF(ISTEXT('Split 3'!$N$50),NA(),'Split 3'!$N$50)","v":{"$error":"#N/A"}},{"$error":"#N/A"},{"$f":"IF(ISTEXT('Split 3'!$N$51),NA(),'Split 3'!$N$51)","v":{"$error":"#N/A"}},{"$error":"#N/A"},{"$f":"IF(ISTEXT('Split 3'!$N$52),NA(),'Split 3'!$N$52)","v":{"$error":"#N/A"}},{"$error":"#N/A"},{"$f":"IF(ISTEXT('Split 3'!$N$55),NA(),'Split 3'!$N$55)","v":{"$error":"#N/A"}},{"$error":"#N/A"},{"$f":"IF(ISTEXT('Split 3'!$N$56),NA(),'Split 3'!$N$56)","v":{"$error":"#N/A"}},{"$error":"#N/A"},{"$f":"IF(ISTEXT('Split 3'!$N$57),NA(),'Split 3'!$N$57)","v":{"$error":"#N/A"}},{"$error":"#N/A"},{"$f":"IF(ISTEXT('Split 3'!$N$58),NA(),'Split 3'!$N$58)","v":{"$error":"#N/A"}},{"$error":"#N/A"},{"$f":"IF(ISTEXT('Split 3'!$N$59),NA(),'Split 3'!$N$59)","v":{"$error":"#N/A"}},{"$error":"#N/A"},{"$f":"IF(ISTEXT('Split 3'!$N$60),NA(),'Split 3'!$N$60)","v":{"$error":"#N/A"}},{"$error":"#N/A"},{"$f":"IF(ISTEXT('Split 3'!$N$62),NA(),'Split 3'!$N$62)","v":{"$error":"#N/A"}},{"$error":"#N/A"},{"$f":"IF(ISTEXT('S3'!$N$67),NA(),'S3'!$N$67)","v":{"$error":"#N/A"}},{"$error":"#N/A"}]
[{"$f":"IF(ISBLANK('Split 4'!C$8),\" \",'Split 4'!C$8)","v":37},{"$f":"IF(ISTEXT('Split 4'!$D$14),NA(),'Split 4'!$D$14)","v":{"$error":"#N/A"}},{"$error":"#N/A"},{"$f":"IF(ISTEXT('Split 4'!$D$15),NA(),'Split 4'!$D$15)","v":{"$error":"#N/A"}},{"$f":"D38","v":{"$error":"#N/A"}},{"$f":"IF(ISTEXT('Split 4'!$D$16),NA(),'Split 4'!$D$16)","v":{"$error":"#N/A"}},{"$f":"F38","v":{"$error":"#N/A"}},{"$f":"IF(ISTEXT('Split 4'!$D$17),NA(),'Split 4'!$D$17)","v":{"$error":"#N/A"}},{"$f":"H38","v":{"$error":"#N/A"}},{"$f":"IF(ISTEXT('Split 4'!$D$18),NA(),'Split 4'!$D$18)","v":{"$error":"#N/A"}},{"$f":"J38","v":{"$error":"#N/A"}},{"$f":"IF(ISTEXT('Split 4'!$D$19),NA(),'Split 4'!$D$19)","v":{"$error":"#N/A"}},{"$f":"L38","v":{"$error":"#N/A"}},{"$f":"IF(ISTEXT('Split 4'!$D$20),NA(),'Split 4'!$D$20)","v":{"$error":"#N/A"}},{"$f":"N38","v":{"$error":"#N/A"}},{"$f":"IF(ISTEXT('Split 4'!$D$21),NA(),'Split 4'!$D$21)","v":{"$error":"#N/A"}},{"$f":"P38","v":{"$error":"#N/A"}},{"$f":"IF(ISTEXT('Split 4'!$D$22),NA(),'Split 4'!$D$22)","v":{"$error":"#N/A"}},{"$f":"R38","v":{"$error":"#N/A"}},{"$f":"IF(ISTEXT('Split 4'!$D$25),NA(),'Split 4'!$D$25)","v":{"$error":"#N/A"}},{"$f":"T38","v":{"$error":"#N/A"}},{"$f":"IF(ISTEXT('Split 4'!$D$26),NA(),'Split 4'!$D$26)","v":{"$error":"#N/A"}},{"$f":"V38","v":{"$error":"#N/A"}},{"$f":"IF(ISTEXT('Split 4'!$D$27),NA(),'Split 4'!$D$27)","v":{"$error":"#N/A"}},{"$f":"X38","v":{"$error":"#N/A"}},{"$f":"IF(ISTEXT('Split 4'!$D$28),NA(),'Split 4'!$D$28)","v":{"$error":"#N/A"}},{"$f":"Z38","v":{"$error":"#N/A"}},{"$f":"IF(ISTEXT('Split 4'!$D$29),NA(),'Split 4'!$D$29)","v":{"$error":"#N/A"}},{"$f":"AB38","v":{"$error":"#N/A"}},{"$f":"IF(ISTEXT('Split 4'!$D$30),NA(),'Split 4'!$D$30)","v":{"$error":"#N/A"}},{"$f":"AD38","v":{"$error":"#N/A"}},{"$f":"IF(ISTEXT('Split 4'!$D$32),NA(),'Split 4'!$D$32)","v":{"$error":"#N/A"}},{"$f":"AF38","v":{"$error":"#N/A"}},{"$f":"IF(ISTEXT('S4'!$D$34),NA(),'S4'!$D$34)","v":{"$error":"#N/A"}},{"$error":"#N/A"}]
[{"$f":"IF(ISBLANK('Split 4'!E$8),\" \",'Split 4'!E$8)","v":38},{"$f":"IF(ISTEXT('Split 4'!$F$14),NA(),'Split 4'!$F$14)","v":{"$error":"#N/A"}},{"$error":"#N/A"},{"$f":"IF(ISTEXT('Split 4'!$F$15),NA(),'Split 4'!$F$15)","v":{"$error":"#N/A"}},{"$f":"(D38+D39)/2","v":{"$error":"#N/A"}},{"$f":"IF(ISTEXT('Split 4'!$F$16),NA(),'Split 4'!$F$16)","v":{"$error":"#N/A"}},{"$f":"(F38+F39)/2","v":{"$error":"#N/A"}},{"$f":"IF(ISTEXT('Split 4'!$F$17),NA(),'Split 4'!$F$17)","v":{"$error":"#N/A"}},{"$f":"(H38+H39)/2","v":{"$error":"#N/A"}},{"$f":"IF(ISTEXT('Split 4'!$F$18),NA(),'Split 4'!$F$18)","v":{"$error":"#N/A"}},{"$f":"(J38+J39)/2","v":{"$error":"#N/A"}},{"$f":"IF(ISTEXT('Split 4'!$F$19),NA(),'Split 4'!$F$19)","v":{"$error":"#N/A"}},{"$f":"(L38+L39)/2","v":{"$error":"#N/A"}},{"$f":"IF(ISTEXT('Split 4'!$F$20),NA(),'Split 4'!$F$20)","v":{"$error":"#N/A"}},{"$f":"(N38+N39)/2","v":{"$error":"#N/A"}},{"$f":"IF(ISTEXT('Split 4'!$F$21),NA(),'Split 4'!$F$21)","v":{"$error":"#N/A"}},{"$f":"(P38+P39)/2","v":{"$error":"#N/A"}},{"$f":"IF(ISTEXT('Split 4'!$F$22),NA(),'Split 4'!$F$22)","v":{"$error":"#N/A"}},{"$f":"(R38+R39)/2","v":{"$error":"#N/A"}},{"$f":"IF(ISTEXT('Split 4'!$F$25),NA(),'Split 4'!$F$25)","v":{"$error":"#N/A"}},{"$f":"(T38+T39)/2","v":{"$error":"#N/A"}},{"$f":"IF(ISTEXT('Split 4'!$F$26),NA(),'Split 4'!$F$26)","v":{"$error":"#N/A"}},{"$f":"(V38+V39)/2","v":{"$error":"#N/A"}},{"$f":"IF(ISTEXT('Split 4'!$F$27),NA(),'Split 4'!$F$27)","v":{"$error":"#N/A"}},{"$f":"(X38+X39)/2","v":{"$error":"#N/A"}},{"$f":"IF(ISTEXT('Split 4'!$F$28),NA(),'Split 4'!$F$28)","v":{"$error":"#N/A"}},{"$f":"ROUND(AVERAGE(Z38:Z39),0)","v":{"$error":"#N/A"}},{"$f":"IF(ISTEXT('Split 4'!$F$29),NA(),'Split 4'!$F$29)","v":{"$error":"#N/A"}},{"$f":"ROUND(AVERAGE(AB38:AB39),0)","v":{"$error":"#N/A"}},{"$f":"IF(ISTEXT('Split 4'!$F$30),NA(),'Split 4'!$F$30)","v":{"$error":"#N/A"}},{"$f":"ROUND(AVERAGE(AD38:AD39),0)","v":{"$error":"#N/A"}},{"$f":"IF(ISTEXT('Split 4'!$F$32),NA(),'Split 4'!$F$32)","v":{"$error":"#N/A"}},{"$f":"ROUND(AVERAGE(AF38:AF39),2)","v":{"$error":"#N/A"}},{"$f":"IF(ISTEXT('S4'!$F$34),NA(),'S4'!$F$34)","v":{"$error":"#N/A"}},{"$error":"#N/A"}]
[{"$f":"IF(ISBLANK('Split 4'!G$8),\" \",'Split 4'!G$8)","v":39},{"$f":"IF(ISTEXT('Split 4'!$H$14),NA(),'Split 4'!$H$14)","v":{"$error":"#N/A"}},{"$error":"#N/A"},{"$f":"IF(ISTEXT('Split 4'!$H$15),NA(),'Split 4'!$H$15)","v":{"$error":"#N/A"}},{"$f":"SUM(D38:D40)/3","v":{"$error":"#N/A"}},{"$f":"IF(ISTEXT('Split 4'!$H$16),NA(),'Split 4'!$H$16)","v":{"$error":"#N/A"}},{"$f":"SUM(F38:F40)/3","v":{"$error":"#N/A"}},{"$f":"IF(ISTEXT('Split 4'!$H$17),NA(),'Split 4'!$H$17)","v":{"$error":"#N/A"}},{"$f":"SUM(H38:H40)/3","v":{"$error":"#N/A"}},{"$f":"IF(ISTEXT('Split 4'!$H$18),NA(),'Split 4'!$H$18)","v":{"$error":"#N/A"}},{"$f":"SUM(J38:J40)/3","v":{"$error":"#N/A"}},{"$f":"IF(ISTEXT('Split 4'!$H$19),NA(),'Split 4'!$H$19)","v":{"$error":"#N/A"}},{"$f":"SUM(L38:L40)/3","v":{"$error":"#N/A"}},{"$f":"IF(ISTEXT('Split 4'!$H$20),NA(),'Split 4'!$H$20)","v":{"$error":"#N/A"}},{"$f":"SUM(N38:N40)/3","v":{"$error":"#N/A"}},{"$f":"IF(ISTEXT('Split 4'!$H$21),NA(),'Split 4'!$H$21)","v":{"$error":"#N/A"}},{"$f":"SUM(P38:P40)/3","v":{"$error":"#N/A"}},{"$f":"IF(ISTEXT('Split 4'!$H$22),NA(),'Split 4'!$H$22)","v":{"$error":"#N/A"}},{"$f":"SUM(R38:R40)/3","v":{"$error":"#N/A"}},{"$f":"IF(ISTEXT('Split 4'!$H$25),NA(),'Split 4'!$H$25)","v":{"$error":"#N/A"}},{"$f":"SUM(T38:T40)/3","v":{"$error":"#N/A"}},{"$f":"IF(ISTEXT('Split 4'!$H$26),NA(),'Split 4'!$H$26)","v":{"$error":"#N/A"}},{"$f":"SUM(V38:V40)/3","v":{"$error":"#N/A"}},{"$f":"IF(ISTEXT('Split 4'!$H$27),NA(),'Split 4'!$H$27)","v":{"$error":"#N/A"}},{"$f":"SUM(X38:X40)/3","v":{"$error":"#N/A"}},{"$f":"IF(ISTEXT('Split 4'!$H$28),NA(),'Split 4'!$H$28)","v":{"$error":"#N/A"}},{"$f":"ROUND(AVERAGE(Z38:Z40),0)","v":{"$error":"#N/A"}},{"$f":"IF(ISTEXT('Split 4'!$H$29),NA(),'Split 4'!$H$29)","v":{"$error":"#N/A"}},{"$f":"ROUND(AVERAGE(AB38:AB40),0)","v":{"$error":"#N/A"}},{"$f":"IF(ISTEXT('Split 4'!$H$30),NA(),'Split 4'!$H$30)","v":{"$error":"#N/A"}},{"$f":"ROUND(AVERAGE(AD38:AD40),0)","v":{"$error":"#N/A"}},{"$f":"IF(ISTEXT('Split 4'!$H$32),NA(),'Split 4'!$H$32)","v":{"$error":"#N/A"}},{"$f":"ROUND(AVERAGE(AF38:AF40),2)","v":{"$error":"#N/A"}},{"$f":"IF(ISTEXT('S4'!$H$34),NA(),'S4'!$H$34)","v":{"$error":"#N/A"}},{"$error":"#N/A"}]
[{"$f":"IF(ISBLANK('Split 4'!I$8),\" \",'Split 4'!I$8)","v":40},{"$f":"IF(ISTEXT('Split 4'!$J$14),NA(),'Split 4'!$J$14)","v":{"$error":"#N/A"}},{"$error":"#N/A"},{"$f":"IF(ISTEXT('Split 4'!$J$15),NA(),'Split 4'!$J$15)","v":{"$error":"#N/A"}},{"$f":"SUM(D39:D41)/3","v":{"$error":"#N/A"}},{"$f":"IF(ISTEXT('Split 4'!$J$16),NA(),'Split 4'!$J$16)","v":{"$error":"#N/A"}},{"$f":"SUM(F39:F41)/3","v":{"$error":"#N/A"}},{"$f":"IF(ISTEXT('Split 4'!$J$17),NA(),'Split 4'!$J$17)","v":{"$error":"#N/A"}},{"$f":"SUM(H39:H41)/3","v":{"$error":"#N/A"}},{"$f":"IF(ISTEXT('Split 4'!$J$18),NA(),'Split 4'!$J$18)","v":{"$error":"#N/A"}},{"$f":"SUM(J39:J41)/3","v":{"$error":"#N/A"}},{"$f":"IF(ISTEXT('Split 4'!$J$19),NA(),'Split 4'!$J$19)","v":{"$error":"#N/A"}},{"$f":"SUM(L39:L41)/3","v":{"$error":"#N/A"}},{"$f":"IF(ISTEXT('Split 4'!$J$20),NA(),'Split 4'!$J$20)","v":{"$error":"#N/A"}},{"$f":"SUM(N39:N41)/3","v":{"$error":"#N/A"}},{"$f":"IF(ISTEXT('Split 4'!$J$21),NA(),'Split 4'!$J$21)","v":{"$error":"#N/A"}},{"$f":"SUM(P39:P41)/3","v":{"$error":"#N/A"}},{"$f":"IF(ISTEXT('Split 4'!$J$22),NA(),'Split 4'!$J$22)","v":{"$error":"#N/A"}},{"$f":"SUM(R39:R41)/3","v":{"$error":"#N/A"}},{"$f":"IF(ISTEXT('Split 4'!$J$25),NA(),'Split 4'!$J$25)","v":{"$error":"#N/A"}},{"$f":"SUM(T39:T41)/3","v":{"$error":"#N/A"}},{"$f":"IF(ISTEXT('Split 4'!$J$26),NA(),'Split 4'!$J$26)","v":{"$error":"#N/A"}},{"$f":"SUM(V39:V41)/3","v":{"$error":"#N/A"}},{"$f":"IF(ISTEXT('Split 4'!$J$27),NA(),'Split 4'!$J$27)","v":{"$error":"#N/A"}},{"$f":"SUM(X39:X41)/3","v":{"$error":"#N/A"}},{"$f":"IF(ISTEXT('Split 4'!$J$28),NA(),'Split 4'!$J$28)","v":{"$error":"#N/A"}},{"$error":"#N/A"},{"$f":"IF(ISTEXT('Split 4'!$J$29),NA(),'Split 4'!$J$29)","v":{"$error":"#N/A"}},{"$error":"#N/A"},{"$f":"IF(ISTEXT('Split 4'!$J$30),NA(),'Split 4'!$J$30)","v":{"$error":"#N/A"}},{"$error":"#N/A"},{"$f":"IF(ISTEXT('Split 4'!$J$32),NA(),'Split 4'!$J$32)","v":{"$error":"#N/A"}},{"$error":"#N/A"},{"$f":"IF(ISTEXT('S4'!$J$34),NA(),'S4'!$J$34)","v":{"$error":"#N/A"}},{"$error":"#N/A"}]
[{"$f":"IF(ISBLANK('Split 4'!K$8),\" \",'Split 4'!K$8)","v":41},{"$f":"IF(ISTEXT('Split 4'!$L$14),NA(),'Split 4'!$L$14)","v":{"$error":"#N/A"}},{"$error":"#N/A"},{"$f":"IF(ISTEXT('Split 4'!$L$15),NA(),'Split 4'!$L$15)","v":{"$error":"#N/A"}},{"$f":"SUM(D40:D42)/3","v":{"$error":"#N/A"}},{"$f":"IF(ISTEXT('Split 4'!$L$16),NA(),'Split 4'!$L$16)","v":{"$error":"#N/A"}},{"$f":"SUM(F40:F42)/3","v":{"$error":"#N/A"}},{"$f":"IF(ISTEXT('Split 4'!$L$17),NA(),'Split 4'!$L$17)","v":{"$error":"#N/A"}},{"$error":"#N/A"},{"$f":"IF(ISTEXT('Split 4'!$L$18),NA(),'Split 4'!$L$18)","v":{"$error":"#N/A"}},{"$error":"#N/A"},{"$f":"IF(ISTEXT('Split 4'!$L$19),NA(),'Split 4'!$L$19)","v":{"$error":"#N/A"}},{"$error":"#N/A"},{"$f":"IF(ISTEXT('Split 4'!$L$20),NA(),'Split 4'!$L$20)","v":{"$error":"#N/A"}},{"$error":"#N/A"},{"$f":"IF(ISTEXT('Split 4'!$L$21),NA(),'Split 4'!$L$21)","v":{"$error":"#N/A"}},{"$error":"#N/A"},{"$f":"IF(ISTEXT('Split 4'!$L$22),NA(),'Split 4'!$L$22)","v":{"$error":"#N/A"}},{"$error":"#N/A"},{"$f":"IF(ISTEXT('Split 4'!$L$25),NA(),'Split 4'!$L$25)","v":{"$error":"#N/A"}},{"$error":"#N/A"},{"$f":"IF(ISTEXT('Split 4'!$L$26),NA(),'Split 4'!$L$26)","v":{"$error":"#N/A"}},{"$error":"#N/A"},{"$f":"IF(ISTEXT('Split 4'!$L$27),NA(),'Split 4'!$L$27)","v":{"$error":"#N/A"}},{"$error":"#N/A"},{"$f":"IF(ISTEXT('Split 4'!$L$28),NA(),'Split 4'!$L$28)","v":{"$error":"#N/A"}},{"$error":"#N/A"},{"$f":"IF(ISTEXT('Split 4'!$L$29),NA(),'Split 4'!$L$29)","v":{"$error":"#N/A"}},{"$error":"#N/A"},{"$f":"IF(ISTEXT('Split 4'!$L$30),NA(),'Split 4'!$L$30)","v":{"$error":"#N/A"}},{"$error":"#N/A"},{"$f":"IF(ISTEXT('Split 4'!$L$32),NA(),'Split 4'!$L$32)","v":{"$error":"#N/A"}},{"$error":"#N/A"},{"$f":"IF(ISTEXT('S4'!$L$34),NA(),'S4'!$L$34)","v":{"$error":"#N/A"}},{"$error":"#N/A"}]
[{"$f":"IF(ISBLANK('Split 4'!M$8),\" \",'Split 4'!M$8)","v":42},{"$f":"IF(ISTEXT('Split 4'!$N$14),NA(),'Split 4'!$N$14)","v":{"$error":"#N/A"}},{"$f":"SUM(B41:B43)/3","v":{"$error":"#N/A"}},{"$f":"IF(ISTEXT('Split 4'!$N$15),NA(),'Split 4'!$N$15)","v":{"$error":"#N/A"}},{"$error":"#N/A"},{"$f":"IF(ISTEXT('Split 4'!$N$16),NA(),'Split 4'!$N$16)","v":{"$error":"#N/A"}},{"$error":"#N/A"},{"$f":"IF(ISTEXT('Split 4'!$N$17),NA(),'Split 4'!$N$17)","v":{"$error":"#N/A"}},{"$error":"#N/A"},{"$f":"IF(ISTEXT('Split 4'!$N$18),NA(),'Split 4'!$N$18)","v":{"$error":"#N/A"}},{"$error":"#N/A"},{"$f":"IF(ISTEXT('Split 4'!$N$19),NA(),'Split 4'!$N$19)","v":{"$error":"#N/A"}},{"$error":"#N/A"},{"$f":"IF(ISTEXT('Split 4'!$N$20),NA(),'Split 4'!$N$20)","v":{"$error":"#N/A"}},{"$error":"#N/A"},{"$f":"IF(ISTEXT('Split 4'!$N$21),NA(),'Split 4'!$N$21)","v":{"$error":"#N/A"}},{"$error":"#N/A"},{"$f":"IF(ISTEXT('Split 4'!$N$22),NA(),'Split 4'!$N$22)","v":{"$error":"#N/A"}},{"$error":"#N/A"},{"$f":"IF(ISTEXT('Split 4'!$N$25),NA(),'Split 4'!$N$25)","v":{"$error":"#N/A"}},{"$error":"#N/A"},{"$f":"IF(ISTEXT('Split 4'!$N$26),NA(),'Split 4'!$N$26)","v":{"$error":"#N/A"}},{"$error":"#N/A"},{"$f":"IF(ISTEXT('Split 4'!$N$27),NA(),'Split 4'!$N$27)","v":{"$error":"#N/A"}},{"$error":"#N/A"},{"$f":"IF(ISTEXT('Split 4'!$N$28),NA(),'Split 4'!$N$28)","v":{"$error":"#N/A"}},{"$error":"#N/A"},{"$f":"IF(ISTEXT('Split 4'!$N$29),NA(),'Split 4'!$N$29)","v":{"$error":"#N/A"}},{"$error":"#N/A"},{"$f":"IF(ISTEXT('Split 4'!$N$30),NA(),'Split 4'!$N$30)","v":{"$error":"#N/A"}},{"$error":"#N/A"},{"$f":"IF(ISTEXT('Split 4'!$N$32),NA(),'Split 4'!$N$32)","v":{"$error":"#N/A"}},{"$error":"#N/A"},{"$f":"IF(ISTEXT('S4'!$N$34),NA(),'S4'!$N$34)","v":{"$error":"#N/A"}},{"$error":"#N/A"}]
[{"$f":"IF(ISBLANK('Split 4'!C$38),\" \",'Split 4'!C$38)","v":43},{"$f":"IF(ISTEXT('Split 4'!$D$44),NA(),'Split 4'!$D$44)","v":{"$error":"#N/A"}},{"$f":"SUM(B42:B44)/3","v":{"$error":"#N/A"}},{"$f":"IF(ISTEXT('Split 4'!$D$45),NA(),'Split 4'!$D$45)","v":{"$error":"#N/A"}},{"$error":"#N/A"},{"$f":"IF(ISTEXT('Split 4'!$D$46),NA(),'Split 4'!$D$46)","v":{"$error":"#N/A"}},{"$error":"#N/A"},{"$f":"IF(ISTEXT('Split 4'!$D$47),NA(),'Split 4'!$D$47)","v":{"$error":"#N/A"}},{"$error":"#N/A"},{"$f":"IF(ISTEXT('Split 4'!$D$48),NA(),'Split 4'!$D$48)","v":{"$error":"#N/A"}},{"$error":"#N/A"},{"$f":"IF(ISTEXT('Split 4'!$D$49),NA(),'Split 4'!$D$49)","v":{"$error":"#N/A"}},{"$error":"#N/A"},{"$f":"IF(ISTEXT('Split 4'!$D$50),NA(),'Split 4'!$D$50)","v":{"$error":"#N/A"}},{"$error":"#N/A"},{"$f":"IF(ISTEXT('Split 4'!$D$51),NA(),'Split 4'!$D$51)","v":{"$error":"#N/A"}},{"$error":"#N/A"},{"$f":"IF(ISTEXT('Split 4'!$D$52),NA(),'Split 4'!$D$52)","v":{"$error":"#N/A"}},{"$error":"#N/A"},{"$f":"IF(ISTEXT('Split 4'!$D$55),NA(),'Split 4'!$D$55)","v":{"$error":"#N/A"}},{"$error":"#N/A"},{"$f":"IF(ISTEXT('Split 4'!$D$56),NA(),'Split 4'!$D$56)","v":{"$error":"#N/A"}},{"$error":"#N/A"},{"$f":"IF(ISTEXT('Split 4'!$D$57),NA(),'Split 4'!$D$57)","v":{"$error":"#N/A"}},{"$error":"#N/A"},{"$f":"IF(ISTEXT('Split 4'!$D$58),NA(),'Split 4'!$D$58)","v":{"$error":"#N/A"}},{"$error":"#N/A"},{"$f":"IF(ISTEXT('Split 4'!$D$59),NA(),'Split 4'!$D$59)","v":{"$error":"#N/A"}},{"$error":"#N/A"},{"$f":"IF(ISTEXT('Split 4'!$D$60),NA(),'Split 4'!$D$60)","v":{"$error":"#N/A"}},{"$error":"#N/A"},{"$f":"IF(ISTEXT('Split 4'!$D$62),NA(),'Split 4'!$D$62)","v":{"$error":"#N/A"}},{"$error":"#N/A"},{"$f":"IF(ISTEXT('S4'!$D$67),NA(),'S4'!$D$67)","v":{"$error":"#N/A"}},{"$error":"#N/A"}]
[{"$f":"IF(ISBLANK('Split 4'!E$38),\" \",'Split 4'!E$38)","v":44},{"$f":"IF(ISTEXT('Split 4'!$F$44),NA(),'Split 4'!$F$44)","v":{"$error":"#N/A"}},{"$error":"#N/A"},{"$f":"IF(ISTEXT('Split 4'!$F$45),NA(),'Split 4'!$F$45)","v":{"$error":"#N/A"}},{"$error":"#N/A"},{"$f":"IF(ISTEXT('Split 4'!$F$46),NA(),'Split 4'!$F$46)","v":{"$error":"#N/A"}},{"$error":"#N/A"},{"$f":"IF(ISTEXT('Split 4'!$F$47),NA(),'Split 4'!$F$47)","v":{"$error":"#N/A"}},{"$error":"#N/A"},{"$f":"IF(ISTEXT('Split 4'!$F$48),NA(),'Split 4'!$F$48)","v":{"$error":"#N/A"}},{"$error":"#N/A"},{"$f":"IF(ISTEXT('Split 4'!$F$49),NA(),'Split 4'!$F$49)","v":{"$error":"#N/A"}},{"$error":"#N/A"},{"$f":"IF(ISTEXT('Split 4'!$F$50),NA(),'Split 4'!$F$50)","v":{"$error":"#N/A"}},{"$error":"#N/A"},{"$f":"IF(ISTEXT('Split 4'!$F$51),NA(),'Split 4'!$F$51)","v":{"$error":"#N/A"}},{"$error":"#N/A"},{"$f":"IF(ISTEXT('Split 4'!$F$52),NA(),'Split 4'!$F$52)","v":{"$error":"#N/A"}},{"$error":"#N/A"},{"$f":"IF(ISTEXT('Split 4'!$F$55),NA(),'Split 4'!$F$55)","v":{"$error":"#N/A"}},{"$error":"#N/A"},{"$f":"IF(ISTEXT('Split 4'!$F$56),NA(),'Split 4'!$F$56)","v":{"$error":"#N/A"}},{"$error":"#N/A"},{"$f":"IF(ISTEXT('Split 4'!$F$57),NA(),'Split 4'!$F$57)","v":{"$error":"#N/A"}},{"$error":"#N/A"},{"$f":"IF(ISTEXT('Split 4'!$F$58),NA(),'Split 4'!$F$58)","v":{"$error":"#N/A"}},{"$error":"#N/A"},{"$f":"IF(ISTEXT('Split 4'!$F$59),NA(),'Split 4'!$F$59)","v":{"$error":"#N/A"}},{"$error":"#N/A"},{"$f":"IF(ISTEXT('Split 4'!$F$60),NA(),'Split 4'!$F$60)","v":{"$error":"#N/A"}},{"$error":"#N/A"},{"$f":"IF(ISTEXT('Split 4'!$F$62),NA(),'Split 4'!$F$62)","v":{"$error":"#N/A"}},{"$error":"#N/A"},{"$f":"IF(ISTEXT('S4'!$F$67),NA(),'S4'!$F$67)","v":{"$error":"#N/A"}},{"$error":"#N/A"}]
[{"$f":"IF(ISBLANK('Split 4'!G$38),\" \",'Split 4'!G$38)","v":45},{"$f":"IF(ISTEXT('Split 4'!$H$44),NA(),'Split 4'!$H$44)","v":{"$error":"#N/A"}},{"$error":"#N/A"},{"$f":"IF(ISTEXT('Split 4'!$H$45),NA(),'Split 4'!$H$45)","v":{"$error":"#N/A"}},{"$error":"#N/A"},{"$f":"IF(ISTEXT('Split 4'!$H$46),NA(),'Split 4'!$H$46)","v":{"$error":"#N/A"}},{"$error":"#N/A"},{"$f":"IF(ISTEXT('Split 4'!$H$47),NA(),'Split 4'!$H$47)","v":{"$error":"#N/A"}},{"$error":"#N/A"},{"$f":"IF(ISTEXT('Split 4'!$H$48),NA(),'Split 4'!$H$48)","v":{"$error":"#N/A"}},{"$error":"#N/A"},{"$f":"IF(ISTEXT('Split 4'!$H$49),NA(),'Split 4'!$H$49)","v":{"$error":"#N/A"}},{"$error":"#N/A"},{"$f":"IF(ISTEXT('Split 4'!$H$50),NA(),'Split 4'!$H$50)","v":{"$error":"#N/A"}},{"$error":"#N/A"},{"$f":"IF(ISTEXT('Split 4'!$H$51),NA(),'Split 4'!$H$51)","v":{"$error":"#N/A"}},{"$error":"#N/A"},{"$f":"IF(ISTEXT('Split 4'!$H$52),NA(),'Split 4'!$H$52)","v":{"$error":"#N/A"}},{"$error":"#N/A"},{"$f":"IF(ISTEXT('Split 4'!$H$55),NA(),'Split 4'!$H$55)","v":{"$error":"#N/A"}},{"$error":"#N/A"},{"$f":"IF(ISTEXT('Split 4'!$H$56),NA(),'Split 4'!$H$56)","v":{"$error":"#N/A"}},{"$error":"#N/A"},{"$f":"IF(ISTEXT('Split 4'!$H$57),NA(),'Split 4'!$H$57)","v":{"$error":"#N/A"}},{"$error":"#N/A"},{"$f":"IF(ISTEXT('Split 4'!$H$58),NA(),'Split 4'!$H$58)","v":{"$error":"#N/A"}},{"$error":"#N/A"},{"$f":"IF(ISTEXT('Split 4'!$H$59),NA(),'Split 4'!$H$59)","v":{"$error":"#N/A"}},{"$error":"#N/A"},{"$f":"IF(ISTEXT('Split 4'!$H$60),NA(),'Split 4'!$H$60)","v":{"$error":"#N/A"}},{"$error":"#N/A"},{"$f":"IF(ISTEXT('Split 4'!$H$62),NA(),'Split 4'!$H$62)","v":{"$error":"#N/A"}},{"$error":"#N/A"},{"$f":"IF(ISTEXT('S4'!$H$67),NA(),'S4'!$H$67)","v":{"$error":"#N/A"}},{"$error":"#N/A"}]
[{"$f":"IF(ISBLANK('Split 4'!I$38),\" \",'Split 4'!I$38)","v":46},{"$f":"IF(ISTEXT('Split 4'!$J$44),NA(),'Split 4'!$J$44)","v":{"$error":"#N/A"}},{"$error":"#N/A"},{"$f":"IF(ISTEXT('Split 4'!$J$45),NA(),'Split 4'!$J$45)","v":{"$error":"#N/A"}},{"$error":"#N/A"},{"$f":"IF(ISTEXT('Split 4'!$J$46),NA(),'Split 4'!$J$46)","v":{"$error":"#N/A"}},{"$error":"#N/A"},{"$f":"IF(ISTEXT('Split 4'!$J$47),NA(),'Split 4'!$J$47)","v":{"$error":"#N/A"}},{"$error":"#N/A"},{"$f":"IF(ISTEXT('Split 4'!$J$48),NA(),'Split 4'!$J$48)","v":{"$error":"#N/A"}},{"$error":"#N/A"},{"$f":"IF(ISTEXT('Split 4'!$J$49),NA(),'Split 4'!$J$49)","v":{"$error":"#N/A"}},{"$error":"#N/A"},{"$f":"IF(ISTEXT('Split 4'!$J$50),NA(),'Split 4'!$J$50)","v":{"$error":"#N/A"}},{"$error":"#N/A"},{"$f":"IF(ISTEXT('Split 4'!$J$51),NA(),'Split 4'!$J$51)","v":{"$error":"#N/A"}},{"$error":"#N/A"},{"$f":"IF(ISTEXT('Split 4'!$J$52),NA(),'Split 4'!$J$52)","v":{"$error":"#N/A"}},{"$error":"#N/A"},{"$f":"IF(ISTEXT('Split 4'!$J$55),NA(),'Split 4'!$J$55)","v":{"$error":"#N/A"}},{"$error":"#N/A"},{"$f":"IF(ISTEXT('Split 4'!$J$56),NA(),'Split 4'!$J$56)","v":{"$error":"#N/A"}},{"$error":"#N/A"},{"$f":"IF(ISTEXT('Split 4'!$J$57),NA(),'Split 4'!$J$57)","v":{"$error":"#N/A"}},{"$error":"#N/A"},{"$f":"IF(ISTEXT('Split 4'!$J$58),NA(),'Split 4'!$J$58)","v":{"$error":"#N/A"}},{"$error":"#N/A"},{"$f":"IF(ISTEXT('Split 4'!$J$59),NA(),'Split 4'!$J$59)","v":{"$error":"#N/A"}},{"$error":"#N/A"},{"$f":"IF(ISTEXT('Split 4'!$J$60),NA(),'Split 4'!$J$60)","v":{"$error":"#N/A"}},{"$error":"#N/A"},{"$f":"IF(ISTEXT('Split 4'!$J$62),NA(),'Split 4'!$J$62)","v":{"$error":"#N/A"}},{"$error":"#N/A"},{"$f":"IF(ISTEXT('S4'!$J$67),NA(),'S4'!$J$67)","v":{"$error":"#N/A"}},{"$error":"#N/A"}]
[{"$f":"IF(ISBLANK('Split 4'!K$38),\" \",'Split 4'!K$38)","v":47},{"$f":"IF(ISTEXT('Split 4'!$L$44),NA(),'Split 4'!$L$44)","v":{"$error":"#N/A"}},{"$error":"#N/A"},{"$f":"IF(ISTEXT('Split 4'!$L$45),NA(),'Split 4'!$L$45)","v":{"$error":"#N/A"}},{"$error":"#N/A"},{"$f":"IF(ISTEXT('Split 4'!$L$46),NA(),'Split 4'!$L$46)","v":{"$error":"#N/A"}},{"$error":"#N/A"},{"$f":"IF(ISTEXT('Split 4'!$L$47),NA(),'Split 4'!$L$47)","v":{"$error":"#N/A"}},{"$error":"#N/A"},{"$f":"IF(ISTEXT('Split 4'!$L$48),NA(),'Split 4'!$L$48)","v":{"$error":"#N/A"}},{"$error":"#N/A"},{"$f":"IF(ISTEXT('Split 4'!$L$49),NA(),'Split 4'!$L$49)","v":{"$error":"#N/A"}},{"$error":"#N/A"},{"$f":"IF(ISTEXT('Split 4'!$L$50),NA(),'Split 4'!$L$50)","v":{"$error":"#N/A"}},{"$error":"#N/A"},{"$f":"IF(ISTEXT('Split 4'!$L$51),NA(),'Split 4'!$L$51)","v":{"$error":"#N/A"}},{"$error":"#N/A"},{"$f":"IF(ISTEXT('Split 4'!$L$52),NA(),'Split 4'!$L$52)","v":{"$error":"#N/A"}},{"$error":"#N/A"},{"$f":"IF(ISTEXT('Split 4'!$L$55),NA(),'Split 4'!$L$55)","v":{"$error":"#N/A"}},{"$error":"#N/A"},{"$f":"IF(ISTEXT('Split 4'!$L$56),NA(),'Split 4'!$L$56)","v":{"$error":"#N/A"}},{"$error":"#N/A"},{"$f":"IF(ISTEXT('Split 4'!$L$57),NA(),'Split 4'!$L$57)","v":{"$error":"#N/A"}},{"$error":"#N/A"},{"$f":"IF(ISTEXT('Split 4'!$L$58),NA(),'Split 4'!$L$58)","v":{"$error":"#N/A"}},{"$error":"#N/A"},{"$f":"IF(ISTEXT('Split 4'!$L$59),NA(),'Split 4'!$L$59)","v":{"$error":"#N/A"}},{"$error":"#N/A"},{"$f":"IF(ISTEXT('Split 4'!$L$60),NA(),'Split 4'!$L$60)","v":{"$error":"#N/A"}},{"$error":"#N/A"},{"$f":"IF(ISTEXT('Split 4'!$L$62),NA(),'Split 4'!$L$62)","v":{"$error":"#N/A"}},{"$error":"#N/A"},{"$f":"IF(ISTEXT('S4'!$L$67),NA(),'S4'!$L$67)","v":{"$error":"#N/A"}},{"$error":"#N/A"}]
[{"$f":"IF(ISBLANK('Split 4'!M$38),\" \",'Split 4'!M$38)","v":48},{"$f":"IF(ISTEXT('Split 4'!$N$44),NA(),'Split 4'!$N$44)","v":{"$error":"#N/A"}},{"$error":"#N/A"},{"$f":"IF(ISTEXT('Split 4'!$N$45),NA(),'Split 4'!$N$45)","v":{"$error":"#N/A"}},{"$error":"#N/A"},{"$f":"IF(ISTEXT('Split 4'!$N$46),NA(),'Split 4'!$N$46)","v":{"$error":"#N/A"}},{"$error":"#N/A"},{"$f":"IF(ISTEXT('Split 4'!$N$47),NA(),'Split 4'!$N$47)","v":{"$error":"#N/A"}},{"$error":"#N/A"},{"$f":"IF(ISTEXT('Split 4'!$N$48),NA(),'Split 4'!$N$48)","v":{"$error":"#N/A"}},{"$error":"#N/A"},{"$f":"IF(ISTEXT('Split 4'!$N$49),NA(),'Split 4'!$N$49)","v":{"$error":"#N/A"}},{"$error":"#N/A"},{"$f":"IF(ISTEXT('Split 4'!$N$50),NA(),'Split 4'!$N$50)","v":{"$error":"#N/A"}},{"$error":"#N/A"},{"$f":"IF(ISTEXT('Split 4'!$N$51),NA(),'Split 4'!$N$51)","v":{"$error":"#N/A"}},{"$error":"#N/A"},{"$f":"IF(ISTEXT('Split 4'!$N$52),NA(),'Split 4'!$N$52)","v":{"$error":"#N/A"}},{"$error":"#N/A"},{"$f":"IF(ISTEXT('Split 4'!$N$55),NA(),'Split 4'!$N$55)","v":{"$error":"#N/A"}},{"$error":"#N/A"},{"$f":"IF(ISTEXT('Split 4'!$N$56),NA(),'Split 4'!$N$56)","v":{"$error":"#N/A"}},{"$error":"#N/A"},{"$f":"IF(ISTEXT('Split 4'!$N$57),NA(),'Split 4'!$N$57)","v":{"$error":"#N/A"}},{"$error":"#N/A"},{"$f":"IF(ISTEXT('Split 4'!$N$58),NA(),'Split 4'!$N$58)","v":{"$error":"#N/A"}},{"$error":"#N/A"},{"$f":"IF(ISTEXT('Split 4'!$N$59),NA(),'Split 4'!$N$59)","v":{"$error":"#N/A"}},{"$error":"#N/A"},{"$f":"IF(ISTEXT('Split 4'!$N$60),NA(),'Split 4'!$N$60)","v":{"$error":"#N/A"}},{"$error":"#N/A"},{"$f":"IF(ISTEXT('Split 4'!$N$62),NA(),'Split 4'!$N$62)","v":{"$error":"#N/A"}},{"$error":"#N/A"},{"$f":"IF(ISTEXT('S4'!$N$67),NA(),'S4'!$N$67)","v":{"$error":"#N/A"}},{"$error":"#N/A"}]
[{"$f":"IF(ISBLANK('Split 5'!C$8),\" \",'Split 5'!C$8)","v":49},{"$f":"IF(ISTEXT('Split 5'!$D$14),NA(),'Split 5'!$D$14)","v":{"$error":"#N/A"}},{"$error":"#N/A"},{"$f":"IF(ISTEXT('Split 5'!$D$15),NA(),'Split 5'!$D$15)","v":{"$error":"#N/A"}},{"$f":"D50","v":{"$error":"#N/A"}},{"$f":"IF(ISTEXT('Split 5'!$D$16),NA(),'Split 5'!$D$16)","v":{"$error":"#N/A"}},{"$f":"F50","v":{"$error":"#N/A"}},{"$f":"IF(ISTEXT('Split 5'!$D$17),NA(),'Split 5'!$D$17)","v":{"$error":"#N/A"}},{"$f":"H50","v":{"$error":"#N/A"}},{"$f":"IF(ISTEXT('Split 5'!$D$18),NA(),'Split 5'!$D$18)","v":{"$error":"#N/A"}},{"$f":"J50","v":{"$error":"#N/A"}},{"$f":"IF(ISTEXT('Split 5'!$D$19),NA(),'Split 5'!$D$19)","v":{"$error":"#N/A"}},{"$f":"L50","v":{"$error":"#N/A"}},{"$f":"IF(ISTEXT('Split 5'!$D$20),NA(),'Split 5'!$D$20)","v":{"$error":"#N/A"}},{"$f":"N50","v":{"$error":"#N/A"}},{"$f":"IF(ISTEXT('Split 5'!$D$21),NA(),'Split 5'!$D$21)","v":{"$error":"#N/A"}},{"$f":"P50","v":{"$error":"#N/A"}},{"$f":"IF(ISTEXT('Split 5'!$D$22),NA(),'Split 5'!$D$22)","v":{"$error":"#N/A"}},{"$f":"R50","v":{"$error":"#N/A"}},{"$f":"IF(ISTEXT('Split 5'!$D$25),NA(),'Split 5'!$D$25)","v":{"$error":"#N/A"}},{"$f":"T50","v":{"$error":"#N/A"}},{"$f":"IF(ISTEXT('Split 5'!$D$26),NA(),'Split 5'!$D$26)","v":{"$error":"#N/A"}},{"$f":"V50","v":{"$error":"#N/A"}},{"$f":"IF(ISTEXT('Split 5'!$D$27),NA(),'Split 5'!$D$27)","v":{"$error":"#N/A"}},{"$f":"X50","v":{"$error":"#N/A"}},{"$f":"IF(ISTEXT('Split 5'!$D$28),NA(),'Split 5'!$D$28)","v":{"$error":"#N/A"}},{"$f":"Z50","v":{"$error":"#N/A"}},{"$f":"IF(ISTEXT('Split 5'!$D$29),NA(),'Split 5'!$D$29)","v":{"$error":"#N/A"}},{"$f":"AB50","v":{"$error":"#N/A"}},{"$f":"IF(ISTEXT('Split 5'!$D$30),NA(),'Split 5'!$D$30)","v":{"$error":"#N/A"}},{"$f":"AD50","v":{"$error":"#N/A"}},{"$f":"IF(ISTEXT('Split 5'!$D$32),NA(),'Split 5'!$D$32)","v":{"$error":"#N/A"}},{"$f":"AF50","v":{"$error":"#N/A"}},{"$f":"IF(ISTEXT('S5'!$D$34),NA(),'S5'!$D$34)","v":{"$error":"#N/A"}},{"$f":"ROUND(AVERAGE(AH48:AH50),2)","v":{"$error":"#N/A"}}]
[{"$f":"IF(ISBLANK('Split 5'!E$8),\" \",'Split 5'!E$8)","v":50},{"$f":"IF(ISTEXT('Split 5'!$F$14),NA(),'Split 5'!$F$14)","v":{"$error":"#N/A"}},{"$error":"#N/A"},{"$f":"IF(ISTEXT('Split 5'!$F$15),NA(),'Split 5'!$F$15)","v":{"$error":"#N/A"}},{"$f":"(D50+D51)/2","v":{"$error":"#N/A"}},{"$f":"IF(ISTEXT('Split 5'!$F$16),NA(),'Split 5'!$F$16)","v":{"$error":"#N/A"}},{"$f":"(F50+F51)/2","v":{"$error":"#N/A"}},{"$f":"IF(ISTEXT('Split 5'!$F$17),NA(),'Split 5'!$F$17)","v":{"$error":"#N/A"}},{"$f":"(H50+H51)/2","v":{"$error":"#N/A"}},{"$f":"IF(ISTEXT('Split 5'!$F$18),NA(),'Split 5'!$F$18)","v":{"$error":"#N/A"}},{"$f":"(J50+J51)/2","v":{"$error":"#N/A"}},{"$f":"IF(ISTEXT('Split 5'!$F$19),NA(),'Split 5'!$F$19)","v":{"$error":"#N/A"}},{"$f":"(L50+L51)/2","v":{"$error":"#N/A"}},{"$f":"IF(ISTEXT('Split 5'!$F$20),NA(),'Split 5'!$F$20)","v":{"$error":"#N/A"}},{"$f":"(N50+N51)/2","v":{"$error":"#N/A"}},{"$f":"IF(ISTEXT('Split 5'!$F$21),NA(),'Split 5'!$F$21)","v":{"$error":"#N/A"}},{"$f":"(P50+P51)/2","v":{"$error":"#N/A"}},{"$f":"IF(ISTEXT('Split 5'!$F$22),NA(),'Split 5'!$F$22)","v":{"$error":"#N/A"}},{"$f":"(R50+R51)/2","v":{"$error":"#N/A"}},{"$f":"IF(ISTEXT('Split 5'!$F$25),NA(),'Split 5'!$F$25)","v":{"$error":"#N/A"}},{"$f":"(T50+T51)/2","v":{"$error":"#N/A"}},{"$f":"IF(ISTEXT('Split 5'!$F$26),NA(),'Split 5'!$F$26)","v":{"$error":"#N/A"}},{"$f":"(V50+V51)/2","v":{"$error":"#N/A"}},{"$f":"IF(ISTEXT('Split 5'!$F$27),NA(),'Split 5'!$F$27)","v":{"$error":"#N/A"}},{"$f":"(X50+X51)/2","v":{"$error":"#N/A"}},{"$f":"IF(ISTEXT('Split 5'!$F$28),NA(),'Split 5'!$F$28)","v":{"$error":"#N/A"}},{"$f":"ROUND(AVERAGE(Z50:Z51),0)","v":{"$error":"#N/A"}},{"$f":"IF(ISTEXT('Split 5'!$F$29),NA(),'Split 5'!$F$29)","v":{"$error":"#N/A"}},{"$f":"ROUND(AVERAGE(AB50:AB51),0)","v":{"$error":"#N/A"}},{"$f":"IF(ISTEXT('Split 5'!$F$30),NA(),'Split 5'!$F$30)","v":{"$error":"#N/A"}},{"$f":"ROUND(AVERAGE(AD50:AD51),0)","v":{"$error":"#N/A"}},{"$f":"IF(ISTEXT('Split 5'!$F$32),NA(),'Split 5'!$F$32)","v":{"$error":"#N/A"}},{"$f":"ROUND(AVERAGE(AF50:AF51),2)","v":{"$error":"#N/A"}},{"$f":"IF(ISTEXT('S5'!$F$34),NA(),'S5'!$F$34)","v":{"$error":"#N/A"}},{"$f":"ROUND(AVERAGE(AH49:AH51),2)","v":{"$error":"#N/A"}}]
[{"$f":"IF(ISBLANK('Split 5'!G$8),\" \",'Split 5'!G$8)","v":51},{"$f":"IF(ISTEXT('Split 5'!$H$14),NA(),'Split 5'!$H$14)","v":{"$error":"#N/A"}},{"$error":"#N/A"},{"$f":"IF(ISTEXT('Split 5'!$H$15),NA(),'Split 5'!$H$15)","v":{"$error":"#N/A"}},{"$f":"SUM(D50:D52)/3","v":{"$error":"#N/A"}},{"$f":"IF(ISTEXT('Split 5'!$H$16),NA(),'Split 5'!$H$16)","v":{"$error":"#N/A"}},{"$f":"SUM(F50:F52)/3","v":{"$error":"#N/A"}},{"$f":"IF(ISTEXT('Split 5'!$H$17),NA(),'Split 5'!$H$17)","v":{"$error":"#N/A"}},{"$f":"SUM(H50:H52)/3","v":{"$error":"#N/A"}},{"$f":"IF(ISTEXT('Split 5'!$H$18),NA(),'Split 5'!$H$18)","v":{"$error":"#N/A"}},{"$f":"SUM(J50:J52)/3","v":{"$error":"#N/A"}},{"$f":"IF(ISTEXT('Split 5'!$H$19),NA(),'Split 5'!$H$19)","v":{"$error":"#N/A"}},{"$f":"SUM(L50:L52)/3","v":{"$error":"#N/A"}},{"$f":"IF(ISTEXT('Split 5'!$H$20),NA(),'Split 5'!$H$20)","v":{"$error":"#N/A"}},{"$f":"SUM(N50:N52)/3","v":{"$error":"#N/A"}},{"$f":"IF(ISTEXT('Split 5'!$H$21),NA(),'Split 5'!$H$21)","v":{"$error":"#N/A"}},{"$f":"SUM(P50:P52)/3","v":{"$error":"#N/A"}},{"$f":"IF(ISTEXT('Split 5'!$H$22),NA(),'Split 5'!$H$22)","v":{"$error":"#N/A"}},{"$f":"SUM(R50:R52)/3","v":{"$error":"#N/A"}},{"$f":"IF(ISTEXT('Split 5'!$H$25),NA(),'Split 5'!$H$25)","v":{"$error":"#N/A"}},{"$f":"SUM(T50:T52)/3","v":{"$error":"#N/A"}},{"$f":"IF(ISTEXT('Split 5'!$H$26),NA(),'Split 5'!$H$26)","v":{"$error":"#N/A"}},{"$f":"SUM(V50:V52)/3","v":{"$error":"#N/A"}},{"$f":"IF(ISTEXT('Split 5'!$H$27),NA(),'Split 5'!$H$27)","v":{"$error":"#N/A"}},{"$f":"SUM(X50:X52)/3","v":{"$error":"#N/A"}},{"$f":"IF(ISTEXT('Split 5'!$H$28),NA(),'Split 5'!$H$28)","v":{"$error":"#N/A"}},{"$f":"ROUND(AVERAGE(Z50:Z52),0)","v":{"$error":"#N/A"}},{"$f":"IF(ISTEXT('Split 5'!$H$29),NA(),'Split 5'!$H$29)","v":{"$error":"#N/A"}},{"$f":"ROUND(AVERAGE(AB50:AB52),0)","v":{"$error":"#N/A"}},{"$f":"IF(ISTEXT('Split 5'!$H$30),NA(),'Split 5'!$H$30)","v":{"$error":"#N/A"}},{"$f":"ROUND(AVERAGE(AD50:AD52),0)","v":{"$error":"#N/A"}},{"$f":"IF(ISTEXT('Split 5'!$H$32),NA(),'Split 5'!$H$32)","v":{"$error":"#N/A"}},{"$f":"ROUND(AVERAGE(AF50:AF52),2)","v":{"$error":"#N/A"}},{"$f":"IF(ISTEXT('S5'!$H$34),NA(),'S5'!$H$34)","v":{"$error":"#N/A"}},{"$f":"ROUND(AVERAGE(AH50:AH52),2)","v":{"$error":"#N/A"}}]
[{"$f":"IF(ISBLANK('Split 5'!I$8),\" \",'Split 5'!I$8)","v":52},{"$f":"IF(ISTEXT('Split 5'!$J$14),NA(),'Split 5'!$J$14)","v":{"$error":"#N/A"}},{"$error":"#N/A"},{"$f":"IF(ISTEXT('Split 5'!$J$15),NA(),'Split 5'!$J$15)","v":{"$error":"#N/A"}},{"$f":"SUM(D51:D53)/3","v":{"$error":"#N/A"}},{"$f":"IF(ISTEXT('Split 5'!$J$16),NA(),'Split 5'!$J$16)","v":{"$error":"#N/A"}},{"$f":"SUM(F51:F53)/3","v":{"$error":"#N/A"}},{"$f":"IF(ISTEXT('Split 5'!$J$17),NA(),'Split 5'!$J$17)","v":{"$error":"#N/A"}},{"$f":"SUM(H51:H53)/3","v":{"$error":"#N/A"}},{"$f":"IF(ISTEXT('Split 5'!$J$18),NA(),'Split 5'!$J$18)","v":{"$error":"#N/A"}},{"$f":"SUM(J51:J53)/3","v":{"$error":"#N/A"}},{"$f":"IF(ISTEXT('Split 5'!$J$19),NA(),'Split 5'!$J$19)","v":{"$error":"#N/A"}},{"$f":"SUM(L51:L53)/3","v":{"$error":"#N/A"}},{"$f":"IF(ISTEXT('Split 5'!$J$20),NA(),'Split 5'!$J$20)","v":{"$error":"#N/A"}},{"$f":"SUM(N51:N53)/3","v":{"$error":"#N/A"}},{"$f":"IF(ISTEXT('Split 5'!$J$21),NA(),'Split 5'!$J$21)","v":{"$error":"#N/A"}},{"$f":"SUM(P51:P53)/3","v":{"$error":"#N/A"}},{"$f":"IF(ISTEXT('Split 5'!$J$22),NA(),'Split 5'!$J$22)","v":{"$error":"#N/A"}},{"$f":"SUM(R51:R53)/3","v":{"$error":"#N/A"}},{"$f":"IF(ISTEXT('Split 5'!$J$25),NA(),'Split 5'!$J$25)","v":{"$error":"#N/A"}},{"$f":"SUM(T51:T53)/3","v":{"$error":"#N/A"}},{"$f":"IF(ISTEXT('Split 5'!$J$26),NA(),'Split 5'!$J$26)","v":{"$error":"#N/A"}},{"$f":"SUM(V51:V53)/3","v":{"$error":"#N/A"}},{"$f":"IF(ISTEXT('Split 5'!$J$27),NA(),'Split 5'!$J$27)","v":{"$error":"#N/A"}},{"$f":"SUM(X51:X53)/3","v":{"$error":"#N/A"}},{"$f":"IF(ISTEXT('Split 5'!$J$28),NA(),'Split 5'!$J$28)","v":{"$error":"#N/A"}},{"$error":"#N/A"},{"$f":"IF(ISTEXT('Split 5'!$J$29),NA(),'Split 5'!$J$29)","v":{"$error":"#N/A"}},{"$error":"#N/A"},{"$f":"IF(ISTEXT('Split 5'!$J$30),NA(),'Split 5'!$J$30)","v":{"$error":"#N/A"}},{"$error":"#N/A"},{"$f":"IF(ISTEXT('Split 5'!$J$32),NA(),'Split 5'!$J$32)","v":{"$error":"#N/A"}},{"$error":"#N/A"},{"$f":"IF(ISTEXT('S5'!$J$34),NA(),'S5'!$J$34)","v":{"$error":"#N/A"}},{"$error":"#N/A"}]
[{"$f":"IF(ISBLANK('Split 5'!K$8),\" \",'Split 5'!K$8)","v":53},{"$f":"IF(ISTEXT('Split 5'!$L$14),NA(),'Split 5'!$L$14)","v":{"$error":"#N/A"}},{"$error":"#N/A"},{"$f":"IF(ISTEXT('Split 5'!$L$15),NA(),'Split 5'!$L$15)","v":{"$error":"#N/A"}},{"$f":"SUM(D52:D54)/3","v":{"$error":"#N/A"}},{"$f":"IF(ISTEXT('Split 5'!$L$16),NA(),'Split 5'!$L$16)","v":{"$error":"#N/A"}},{"$f":"SUM(F52:F54)/3","v":{"$error":"#N/A"}},{"$f":"IF(ISTEXT('Split 5'!$L$17),NA(),'Split 5'!$L$17)","v":{"$error":"#N/A"}},{"$error":"#N/A"},{"$f":"IF(ISTEXT('Split 5'!$L$18),NA(),'Split 5'!$L$18)","v":{"$error":"#N/A"}},{"$error":"#N/A"},{"$f":"IF(ISTEXT('Split 5'!$L$19),NA(),'Split 5'!$L$19)","v":{"$error":"#N/A"}},{"$error":"#N/A"},{"$f":"IF(ISTEXT('Split 5'!$L$20),NA(),'Split 5'!$L$20)","v":{"$error":"#N/A"}},{"$error":"#N/A"},{"$f":"IF(ISTEXT('Split 5'!$L$21),NA(),'Split 5'!$L$21)","v":{"$error":"#N/A"}},{"$error":"#N/A"},{"$f":"IF(ISTEXT('Split 5'!$L$22),NA(),'Split 5'!$L$22)","v":{"$error":"#N/A"}},{"$error":"#N/A"},{"$f":"IF(ISTEXT('Split 5'!$L$25),NA(),'Split 5'!$L$25)","v":{"$error":"#N/A"}},{"$error":"#N/A"},{"$f":"IF(ISTEXT('Split 5'!$L$26),NA(),'Split 5'!$L$26)","v":{"$error":"#N/A"}},{"$error":"#N/A"},{"$f":"IF(ISTEXT('Split 5'!$L$27),NA(),'Split 5'!$L$27)","v":{"$error":"#N/A"}},{"$error":"#N/A"},{"$f":"IF(ISTEXT('Split 5'!$L$28),NA(),'Split 5'!$L$28)","v":{"$error":"#N/A"}},{"$error":"#N/A"},{"$f":"IF(ISTEXT('Split 5'!$L$29),NA(),'Split 5'!$L$29)","v":{"$error":"#N/A"}},{"$error":"#N/A"},{"$f":"IF(ISTEXT('Split 5'!$L$30),NA(),'Split 5'!$L$30)","v":{"$error":"#N/A"}},{"$error":"#N/A"},{"$f":"IF(ISTEXT('Split 5'!$L$32),NA(),'Split 5'!$L$32)","v":{"$error":"#N/A"}},{"$error":"#N/A"},{"$f":"IF(ISTEXT('S5'!$L$34),NA(),'S5'!$L$34)","v":{"$error":"#N/A"}},{"$error":"#N/A"}]
[{"$f":"IF(ISBLANK('Split 5'!M$8),\" \",'Split 5'!M$8)","v":54},{"$f":"IF(ISTEXT('Split 5'!$N$14),NA(),'Split 5'!$N$14)","v":{"$error":"#N/A"}},{"$f":"SUM(B53:B55)/3","v":{"$error":"#N/A"}},{"$f":"IF(ISTEXT('Split 5'!$N$15),NA(),'Split 5'!$N$15)","v":{"$error":"#N/A"}},{"$error":"#N/A"},{"$f":"IF(ISTEXT('Split 5'!$N$16),NA(),'Split 5'!$N$16)","v":{"$error":"#N/A"}},{"$error":"#N/A"},{"$f":"IF(ISTEXT('Split 5'!$N$17),NA(),'Split 5'!$N$17)","v":{"$error":"#N/A"}},{"$error":"#N/A"},{"$f":"IF(ISTEXT('Split 5'!$N$18),NA(),'Split 5'!$N$18)","v":{"$error":"#N/A"}},{"$error":"#N/A"},{"$f":"IF(ISTEXT('Split 5'!$N$19),NA(),'Split 5'!$N$19)","v":{"$error":"#N/A"}},{"$error":"#N/A"},{"$f":"IF(ISTEXT('Split 5'!$N$20),NA(),'Split 5'!$N$20)","v":{"$error":"#N/A"}},{"$error":"#N/A"},{"$f":"IF(ISTEXT('Split 5'!$N$21),NA(),'Split 5'!$N$21)","v":{"$error":"#N/A"}},{"$error":"#N/A"},{"$f":"IF(ISTEXT('Split 5'!$N$22),NA(),'Split 5'!$N$22)","v":{"$error":"#N/A"}},{"$error":"#N/A"},{"$f":"IF(ISTEXT('Split 5'!$N$25),NA(),'Split 5'!$N$25)","v":{"$error":"#N/A"}},{"$error":"#N/A"},{"$f":"IF(ISTEXT('Split 5'!$N$26),NA(),'Split 5'!$N$26)","v":{"$error":"#N/A"}},{"$error":"#N/A"},{"$f":"IF(ISTEXT('Split 5'!$N$27),NA(),'Split 5'!$N$27)","v":{"$error":"#N/A"}},{"$error":"#N/A"},{"$f":"IF(ISTEXT('Split 5'!$N$28),NA(),'Split 5'!$N$28)","v":{"$error":"#N/A"}},{"$error":"#N/A"},{"$f":"IF(ISTEXT('Split 5'!$N$29),NA(),'Split 5'!$N$29)","v":{"$error":"#N/A"}},{"$error":"#N/A"},{"$f":"IF(ISTEXT('Split 5'!$N$30),NA(),'Split 5'!$N$30)","v":{"$error":"#N/A"}},{"$error":"#N/A"},{"$f":"IF(ISTEXT('Split 5'!$N$32),NA(),'Split 5'!$N$32)","v":{"$error":"#N/A"}},{"$error":"#N/A"},{"$f":"IF(ISTEXT('S5'!$N$34),NA(),'S5'!$N$34)","v":{"$error":"#N/A"}},{"$error":"#N/A"}]
[{"$f":"IF(ISBLANK('Split 5'!C$38),\" \",'Split 5'!C$38)","v":55},{"$f":"IF(ISTEXT('Split 5'!$D$44),NA(),'Split 5'!$D$44)","v":{"$error":"#N/A"}},{"$f":"SUM(B54:B56)/3","v":{"$error":"#N/A"}},{"$f":"IF(ISTEXT('Split 5'!$D$45),NA(),'Split 5'!$D$45)","v":{"$error":"#N/A"}},{"$error":"#N/A"},{"$f":"IF(ISTEXT('Split 5'!$D$46),NA(),'Split 5'!$D$46)","v":{"$error":"#N/A"}},{"$error":"#N/A"},{"$f":"IF(ISTEXT('Split 5'!$D$47),NA(),'Split 5'!$D$47)","v":{"$error":"#N/A"}},{"$error":"#N/A"},{"$f":"IF(ISTEXT('Split 5'!$D$48),NA(),'Split 5'!$D$48)","v":{"$error":"#N/A"}},{"$error":"#N/A"},{"$f":"IF(ISTEXT('Split 5'!$D$49),NA(),'Split 5'!$D$49)","v":{"$error":"#N/A"}},{"$error":"#N/A"},{"$f":"IF(ISTEXT('Split 5'!$D$50),NA(),'Split 5'!$D$50)","v":{"$error":"#N/A"}},{"$error":"#N/A"},{"$f":"IF(ISTEXT('Split 5'!$D$51),NA(),'Split 5'!$D$51)","v":{"$error":"#N/A"}},{"$error":"#N/A"},{"$f":"IF(ISTEXT('Split 5'!$D$52),NA(),'Split 5'!$D$52)","v":{"$error":"#N/A"}},{"$error":"#N/A"},{"$f":"IF(ISTEXT('Split 5'!$D$55),NA(),'Split 5'!$D$55)","v":{"$error":"#N/A"}},{"$error":"#N/A"},{"$f":"IF(ISTEXT('Split 5'!$D$56),NA(),'Split 5'!$D$56)","v":{"$error":"#N/A"}},{"$error":"#N/A"},{"$f":"IF(ISTEXT('Split 5'!$D$57),NA(),'Split 5'!$D$57)","v":{"$error":"#N/A"}},{"$error":"#N/A"},{"$f":"IF(ISTEXT('Split 5'!$D$58),NA(),'Split 5'!$D$58)","v":{"$error":"#N/A"}},{"$error":"#N/A"},{"$f":"IF(ISTEXT('Split 5'!$D$59),NA(),'Split 5'!$D$59)","v":{"$error":"#N/A"}},{"$error":"#N/A"},{"$f":"IF(ISTEXT('Split 5'!$D$60),NA(),'Split 5'!$D$60)","v":{"$error":"#N/A"}},{"$error":"#N/A"},{"$f":"IF(ISTEXT('Split 5'!$D$62),NA(),'Split 5'!$D$62)","v":{"$error":"#N/A"}},{"$error":"#N/A"},{"$f":"IF(ISTEXT('S5'!$D$67),NA(),'S5'!$D$67)","v":{"$error":"#N/A"}},{"$error":"#N/A"}]
[{"$f":"IF(ISBLANK('Split 5'!E$38),\" \",'Split 5'!E$38)","v":56},{"$f":"IF(ISTEXT('Split 5'!$F$44),NA(),'Split 5'!$F$44)","v":{"$error":"#N/A"}},{"$error":"#N/A"},{"$f":"IF(ISTEXT('Split 5'!$F$45),NA(),'Split 5'!$F$45)","v":{"$error":"#N/A"}},{"$error":"#N/A"},{"$f":"IF(ISTEXT('Split 5'!$F$46),NA(),'Split 5'!$F$46)","v":{"$error":"#N/A"}},{"$error":"#N/A"},{"$f":"IF(ISTEXT('Split 5'!$F$47),NA(),'Split 5'!$F$47)","v":{"$error":"#N/A"}},{"$error":"#N/A"},{"$f":"IF(ISTEXT('Split 5'!$F$48),NA(),'Split 5'!$F$48)","v":{"$error":"#N/A"}},{"$error":"#N/A"},{"$f":"IF(ISTEXT('Split 5'!$F$49),NA(),'Split 5'!$F$49)","v":{"$error":"#N/A"}},{"$error":"#N/A"},{"$f":"IF(ISTEXT('Split 5'!$F$50),NA(),'Split 5'!$F$50)","v":{"$error":"#N/A"}},{"$error":"#N/A"},{"$f":"IF(ISTEXT('Split 5'!$F$51),NA(),'Split 5'!$F$51)","v":{"$error":"#N/A"}},{"$error":"#N/A"},{"$f":"IF(ISTEXT('Split 5'!$F$52),NA(),'Split 5'!$F$52)","v":{"$error":"#N/A"}},{"$error":"#N/A"},{"$f":"IF(ISTEXT('Split 5'!$F$55),NA(),'Split 5'!$F$55)","v":{"$error":"#N/A"}},{"$error":"#N/A"},{"$f":"IF(ISTEXT('Split 5'!$F$56),NA(),'Split 5'!$F$56)","v":{"$error":"#N/A"}},{"$error":"#N/A"},{"$f":"IF(ISTEXT('Split 5'!$F$57),NA(),'Split 5'!$F$57)","v":{"$error":"#N/A"}},{"$error":"#N/A"},{"$f":"IF(ISTEXT('Split 5'!$F$58),NA(),'Split 5'!$F$58)","v":{"$error":"#N/A"}},{"$error":"#N/A"},{"$f":"IF(ISTEXT('Split 5'!$F$59),NA(),'Split 5'!$F$59)","v":{"$error":"#N/A"}},{"$error":"#N/A"},{"$f":"IF(ISTEXT('Split 5'!$F$60),NA(),'Split 5'!$F$60)","v":{"$error":"#N/A"}},{"$error":"#N/A"},{"$f":"IF(ISTEXT('Split 5'!$F$62),NA(),'Split 5'!$F$62)","v":{"$error":"#N/A"}},{"$error":"#N/A"},{"$f":"IF(ISTEXT('S5'!$F$67),NA(),'S5'!$F$67)","v":{"$error":"#N/A"}},{"$error":"#N/A"}]
[{"$f":"IF(ISBLANK('Split 5'!G$38),\" \",'Split 5'!G$38)","v":57},{"$f":"IF(ISTEXT('Split 5'!$H$44),NA(),'Split 5'!$H$44)","v":{"$error":"#N/A"}},{"$error":"#N/A"},{"$f":"IF(ISTEXT('Split 5'!$H$45),NA(),'Split 5'!$H$45)","v":{"$error":"#N/A"}},{"$error":"#N/A"},{"$f":"IF(ISTEXT('Split 5'!$H$46),NA(),'Split 5'!$H$46)","v":{"$error":"#N/A"}},{"$error":"#N/A"},{"$f":"IF(ISTEXT('Split 5'!$H$47),NA(),'Split 5'!$H$47)","v":{"$error":"#N/A"}},{"$error":"#N/A"},{"$f":"IF(ISTEXT('Split 5'!$H$48),NA(),'Split 5'!$H$48)","v":{"$error":"#N/A"}},{"$error":"#N/A"},{"$f":"IF(ISTEXT('Split 5'!$H$49),NA(),'Split 5'!$H$49)","v":{"$error":"#N/A"}},{"$error":"#N/A"},{"$f":"IF(ISTEXT('Split 5'!$H$50),NA(),'Split 5'!$H$50)","v":{"$error":"#N/A"}},{"$error":"#N/A"},{"$f":"IF(ISTEXT('Split 5'!$H$51),NA(),'Split 5'!$H$51)","v":{"$error":"#N/A"}},{"$error":"#N/A"},{"$f":"IF(ISTEXT('Split 5'!$H$52),NA(),'Split 5'!$H$52)","v":{"$error":"#N/A"}},{"$error":"#N/A"},{"$f":"IF(ISTEXT('Split 5'!$H$55),NA(),'Split 5'!$H$55)","v":{"$error":"#N/A"}},{"$error":"#N/A"},{"$f":"IF(ISTEXT('Split 5'!$H$56),NA(),'Split 5'!$H$56)","v":{"$error":"#N/A"}},{"$error":"#N/A"},{"$f":"IF(ISTEXT('Split 5'!$H$57),NA(),'Split 5'!$H$57)","v":{"$error":"#N/A"}},{"$error":"#N/A"},{"$f":"IF(ISTEXT('Split 5'!$H$58),NA(),'Split 5'!$H$58)","v":{"$error":"#N/A"}},{"$error":"#N/A"},{"$f":"IF(ISTEXT('Split 5'!$H$59),NA(),'Split 5'!$H$59)","v":{"$error":"#N/A"}},{"$error":"#N/A"},{"$f":"IF(ISTEXT('Split 5'!$H$60),NA(),'Split 5'!$H$60)","v":{"$error":"#N/A"}},{"$error":"#N/A"},{"$f":"IF(ISTEXT('Split 5'!$H$62),NA(),'Split 5'!$H$62)","v":{"$error":"#N/A"}},{"$error":"#N/A"},{"$f":"IF(ISTEXT('S5'!$H$67),NA(),'S5'!$H$67)","v":{"$error":"#N/A"}},{"$error":"#N/A"}]
[{"$f":"IF(ISBLANK('Split 5'!I$38),\" \",'Split 5'!I$38)","v":58},{"$f":"IF(ISTEXT('Split 5'!$J$44),NA(),'Split 5'!$J$44)","v":{"$error":"#N/A"}},{"$error":"#N/A"},{"$f":"IF(ISTEXT('Split 5'!$J$45),NA(),'Split 5'!$J$45)","v":{"$error":"#N/A"}},{"$error":"#N/A"},{"$f":"IF(ISTEXT('Split 5'!$J$46),NA(),'Split 5'!$J$46)","v":{"$error":"#N/A"}},{"$error":"#N/A"},{"$f":"IF(ISTEXT('Split 5'!$J$47),NA(),'Split 5'!$J$47)","v":{"$error":"#N/A"}},{"$error":"#N/A"},{"$f":"IF(ISTEXT('Split 5'!$J$48),NA(),'Split 5'!$J$48)","v":{"$error":"#N/A"}},{"$error":"#N/A"},{"$f":"IF(ISTEXT('Split 5'!$J$49),NA(),'Split 5'!$J$49)","v":{"$error":"#N/A"}},{"$error":"#N/A"},{"$f":"IF(ISTEXT('Split 5'!$J$50),NA(),'Split 5'!$J$50)","v":{"$error":"#N/A"}},{"$error":"#N/A"},{"$f":"IF(ISTEXT('Split 5'!$J$51),NA(),'Split 5'!$J$51)","v":{"$error":"#N/A"}},{"$error":"#N/A"},{"$f":"IF(ISTEXT('Split 5'!$J$52),NA(),'Split 5'!$J$52)","v":{"$error":"#N/A"}},{"$error":"#N/A"},{"$f":"IF(ISTEXT('Split 5'!$J$55),NA(),'Split 5'!$J$55)","v":{"$error":"#N/A"}},{"$error":"#N/A"},{"$f":"IF(ISTEXT('Split 5'!$J$56),NA(),'Split 5'!$J$56)","v":{"$error":"#N/A"}},{"$error":"#N/A"},{"$f":"IF(ISTEXT('Split 5'!$J$57),NA(),'Split 5'!$J$57)","v":{"$error":"#N/A"}},{"$error":"#N/A"},{"$f":"IF(ISTEXT('Split 5'!$J$58),NA(),'Split 5'!$J$58)","v":{"$error":"#N/A"}},{"$error":"#N/A"},{"$f":"IF(ISTEXT('Split 5'!$J$59),NA(),'Split 5'!$J$59)","v":{"$error":"#N/A"}},{"$error":"#N/A"},{"$f":"IF(ISTEXT('Split 5'!$J$60),NA(),'Split 5'!$J$60)","v":{"$error":"#N/A"}},{"$error":"#N/A"},{"$f":"IF(ISTEXT('Split 5'!$J$62),NA(),'Split 5'!$J$62)","v":{"$error":"#N/A"}},{"$error":"#N/A"},{"$f":"IF(ISTEXT('S5'!$J$67),NA(),'S5'!$J$67)","v":{"$error":"#N/A"}},{"$error":"#N/A"}]
[{"$f":"IF(ISBLANK('Split 5'!K$38),\" \",'Split 5'!K$38)","v":59},{"$f":"IF(ISTEXT('Split 5'!$L$44),NA(),'Split 5'!$L$44)","v":{"$error":"#N/A"}},{"$error":"#N/A"},{"$f":"IF(ISTEXT('Split 5'!$L$45),NA(),'Split 5'!$L$45)","v":{"$error":"#N/A"}},{"$error":"#N/A"},{"$f":"IF(ISTEXT('Split 5'!$L$46),NA(),'Split 5'!$L$46)","v":{"$error":"#N/A"}},{"$error":"#N/A"},{"$f":"IF(ISTEXT('Split 5'!$L$47),NA(),'Split 5'!$L$47)","v":{"$error":"#N/A"}},{"$error":"#N/A"},{"$f":"IF(ISTEXT('Split 5'!$L$48),NA(),'Split 5'!$L$48)","v":{"$error":"#N/A"}},{"$error":"#N/A"},{"$f":"IF(ISTEXT('Split 5'!$L$49),NA(),'Split 5'!$L$49)","v":{"$error":"#N/A"}},{"$error":"#N/A"},{"$f":"IF(ISTEXT('Split 5'!$L$50),NA(),'Split 5'!$L$50)","v":{"$error":"#N/A"}},{"$error":"#N/A"},{"$f":"IF(ISTEXT('Split 5'!$L$51),NA(),'Split 5'!$L$51)","v":{"$error":"#N/A"}},{"$error":"#N/A"},{"$f":"IF(ISTEXT('Split 5'!$L$52),NA(),'Split 5'!$L$52)","v":{"$error":"#N/A"}},{"$error":"#N/A"},{"$f":"IF(ISTEXT('Split 5'!$L$55),NA(),'Split 5'!$L$55)","v":{"$error":"#N/A"}},{"$error":"#N/A"},{"$f":"IF(ISTEXT('Split 5'!$L$56),NA(),'Split 5'!$L$56)","v":{"$error":"#N/A"}},{"$error":"#N/A"},{"$f":"IF(ISTEXT('Split 5'!$L$57),NA(),'Split 5'!$L$57)","v":{"$error":"#N/A"}},{"$error":"#N/A"},{"$f":"IF(ISTEXT('Split 5'!$L$58),NA(),'Split 5'!$L$58)","v":{"$error":"#N/A"}},{"$error":"#N/A"},{"$f":"IF(ISTEXT('Split 5'!$L$59),NA(),'Split 5'!$L$59)","v":{"$error":"#N/A"}},{"$error":"#N/A"},{"$f":"IF(ISTEXT('Split 5'!$L$60),NA(),'Split 5'!$L$60)","v":{"$error":"#N/A"}},{"$error":"#N/A"},{"$f":"IF(ISTEXT('Split 5'!$L$62),NA(),'Split 5'!$L$62)","v":{"$error":"#N/A"}},{"$error":"#N/A"},{"$f":"IF(ISTEXT('S5'!$L$67),NA(),'S5'!$L$67)","v":{"$error":"#N/A"}},{"$error":"#N/A"}]
[{"$f":"IF(ISBLANK('Split 5'!M$38),\" \",'Split 5'!M$38)","v":60},{"$f":"IF(ISTEXT('Split 5'!$N$44),NA(),'Split 5'!$N$44)","v":{"$error":"#N/A"}},{"$error":"#N/A"},{"$f":"IF(ISTEXT('Split 5'!$N$45),NA(),'Split 5'!$N$45)","v":{"$error":"#N/A"}},{"$error":"#N/A"},{"$f":"IF(ISTEXT('Split 5'!$N$46),NA(),'Split 5'!$N$46)","v":{"$error":"#N/A"}},{"$error":"#N/A"},{"$f":"IF(ISTEXT('Split 5'!$N$47),NA(),'Split 5'!$N$47)","v":{"$error":"#N/A"}},{"$error":"#N/A"},{"$f":"IF(ISTEXT('Split 5'!$N$48),NA(),'Split 5'!$N$48)","v":{"$error":"#N/A"}},{"$error":"#N/A"},{"$f":"IF(ISTEXT('Split 5'!$N$49),NA(),'Split 5'!$N$49)","v":{"$error":"#N/A"}},{"$error":"#N/A"},{"$f":"IF(ISTEXT('Split 5'!$N$50),NA(),'Split 5'!$N$50)","v":{"$error":"#N/A"}},{"$error":"#N/A"},{"$f":"IF(ISTEXT('Split 5'!$N$51),NA(),'Split 5'!$N$51)","v":{"$error":"#N/A"}},{"$error":"#N/A"},{"$f":"IF(ISTEXT('Split 5'!$N$52),NA(),'Split 5'!$N$52)","v":{"$error":"#N/A"}},{"$error":"#N/A"},{"$f":"IF(ISTEXT('Split 5'!$N$55),NA(),'Split 5'!$N$55)","v":{"$error":"#N/A"}},{"$error":"#N/A"},{"$f":"IF(ISTEXT('Split 5'!$N$56),NA(),'Split 5'!$N$56)","v":{"$error":"#N/A"}},{"$error":"#N/A"},{"$f":"IF(ISTEXT('Split 5'!$N$57),NA(),'Split 5'!$N$57)","v":{"$error":"#N/A"}},{"$error":"#N/A"},{"$f":"IF(ISTEXT('Split 5'!$N$58),NA(),'Split 5'!$N$58)","v":{"$error":"#N/A"}},{"$error":"#N/A"},{"$f":"IF(ISTEXT('Split 5'!$N$59),NA(),'Split 5'!$N$59)","v":{"$error":"#N/A"}},{"$error":"#N/A"},{"$f":"IF(ISTEXT('Split 5'!$N$60),NA(),'Split 5'!$N$60)","v":{"$error":"#N/A"}},{"$error":"#N/A"},{"$f":"IF(ISTEXT('Split 5'!$N$62),NA(),'Split 5'!$N$62)","v":{"$error":"#N/A"}},{"$error":"#N/A"},{"$f":"IF(ISTEXT('S5'!$N$67),NA(),'S5'!$N$67)","v":{"$error":"#N/A"}},{"$error":"#N/A"}]
[{"$f":"IF(ISBLANK('Split 6'!C$8),\" \",'Split 6'!C$8)","v":61},{"$f":"IF(ISTEXT('Split 6'!$D$14),NA(),'Split 6'!$D$14)","v":{"$error":"#N/A"}},{"$error":"#N/A"},{"$f":"IF(ISTEXT('Split 6'!$D$15),NA(),'Split 6'!$D$15)","v":{"$error":"#N/A"}},{"$f":"D62","v":{"$error":"#N/A"}},{"$f":"IF(ISTEXT('Split 6'!$D$16),NA(),'Split 6'!$D$16)","v":{"$error":"#N/A"}},{"$f":"F62","v":{"$error":"#N/A"}},{"$f":"IF(ISTEXT('Split 6'!$D$17),NA(),'Split 6'!$D$17)","v":{"$error":"#N/A"}},{"$f":"H62","v":{"$error":"#N/A"}},{"$f":"IF(ISTEXT('Split 6'!$D$18),NA(),'Split 6'!$D$18)","v":{"$error":"#N/A"}},{"$f":"J62","v":{"$error":"#N/A"}},{"$f":"IF(ISTEXT('Split 6'!$D$19),NA(),'Split 6'!$D$19)","v":{"$error":"#N/A"}},{"$f":"L62","v":{"$error":"#N/A"}},{"$f":"IF(ISTEXT('Split 6'!$D$20),NA(),'Split 6'!$D$20)","v":{"$error":"#N/A"}},{"$f":"N62","v":{"$error":"#N/A"}},{"$f":"IF(ISTEXT('Split 6'!$D$21),NA(),'Split 6'!$D$21)","v":{"$error":"#N/A"}},{"$f":"P62","v":{"$error":"#N/A"}},{"$f":"IF(ISTEXT('Split 6'!$D$22),NA(),'Split 6'!$D$22)","v":{"$error":"#N/A"}},{"$f":"R62","v":{"$error":"#N/A"}},{"$f":"IF(ISTEXT('Split 6'!$D$25),NA(),'Split 6'!$D$25)","v":{"$error":"#N/A"}},{"$f":"T62","v":{"$error":"#N/A"}},{"$f":"IF(ISTEXT('Split 6'!$D$26),NA(),'Split 6'!$D$26)","v":{"$error":"#N/A"}},{"$f":"V62","v":{"$error":"#N/A"}},{"$f":"IF(ISTEXT('Split 6'!$D$27),NA(),'Split 6'!$D$27)","v":{"$error":"#N/A"}},{"$f":"X62","v":{"$error":"#N/A"}},{"$f":"IF(ISTEXT('Split 6'!$D$28),NA(),'Split 6'!$D$28)","v":{"$error":"#N/A"}},{"$f":"Z62","v":{"$error":"#N/A"}},{"$f":"IF(ISTEXT('Split 6'!$D$29),NA(),'Split 6'!$D$29)","v":{"$error":"#N/A"}},{"$f":"AB62","v":{"$error":"#N/A"}},{"$f":"IF(ISTEXT('Split 6'!$D$30),NA(),'Split 6'!$D$30)","v":{"$error":"#N/A"}},{"$f":"AD62","v":{"$error":"#N/A"}},{"$f":"IF(ISTEXT('Split 6'!$D$32),NA(),'Split 6'!$D$32)","v":{"$error":"#N/A"}},{"$f":"AF62","v":{"$error":"#N/A"}},{"$f":"IF(ISTEXT('S6'!$D$34),NA(),'S6'!$D$34)","v":{"$error":"#N/A"}},{"$error":"#N/A"}]
[{"$f":"IF(ISBLANK('Split 6'!E$8),\" \",'Split 6'!E$8)","v":62},{"$f":"IF(ISTEXT('Split 6'!$F$14),NA(),'Split 6'!$F$14)","v":{"$error":"#N/A"}},{"$error":"#N/A"},{"$f":"IF(ISTEXT('Split 6'!$F$15),NA(),'Split 6'!$F$15)","v":{"$error":"#N/A"}},{"$f":"(D62+D63)/2","v":{"$error":"#N/A"}},{"$f":"IF(ISTEXT('Split 6'!$F$16),NA(),'Split 6'!$F$16)","v":{"$error":"#N/A"}},{"$f":"(F62+F63)/2","v":{"$error":"#N/A"}},{"$f":"IF(ISTEXT('Split 6'!$F$17),NA(),'Split 6'!$F$17)","v":{"$error":"#N/A"}},{"$f":"(H62+H63)/2","v":{"$error":"#N/A"}},{"$f":"IF(ISTEXT('Split 6'!$F$18),NA(),'Split 6'!$F$18)","v":{"$error":"#N/A"}},{"$f":"(J62+J63)/2","v":{"$error":"#N/A"}},{"$f":"IF(ISTEXT('Split 6'!$F$19),NA(),'Split 6'!$F$19)","v":{"$error":"#N/A"}},{"$f":"(L62+L63)/2","v":{"$error":"#N/A"}},{"$f":"IF(ISTEXT('Split 6'!$F$20),NA(),'Split 6'!$F$20)","v":{"$error":"#N/A"}},{"$f":"(N62+N63)/2","v":{"$error":"#N/A"}},{"$f":"IF(ISTEXT('Split 6'!$F$21),NA(),'Split 6'!$F$21)","v":{"$error":"#N/A"}},{"$f":"(P62+P63)/2","v":{"$error":"#N/A"}},{"$f":"IF(ISTEXT('Split 6'!$F$22),NA(),'Split 6'!$F$22)","v":{"$error":"#N/A"}},{"$f":"(R62+R63)/2","v":{"$error":"#N/A"}},{"$f":"IF(ISTEXT('Split 6'!$F$25),NA(),'Split 6'!$F$25)","v":{"$error":"#N/A"}},{"$f":"(T62+T63)/2","v":{"$error":"#N/A"}},{"$f":"IF(ISTEXT('Split 6'!$F$26),NA(),'Split 6'!$F$26)","v":{"$error":"#N/A"}},{"$f":"(V62+V63)/2","v":{"$error":"#N/A"}},{"$f":"IF(ISTEXT('Split 6'!$F$27),NA(),'Split 6'!$F$27)","v":{"$error":"#N/A"}},{"$f":"(X62+X63)/2","v":{"$error":"#N/A"}},{"$f":"IF(ISTEXT('Split 6'!$F$28),NA(),'Split 6'!$F$28)","v":{"$error":"#N/A"}},{"$f":"ROUND(AVERAGE(Z62:Z63),0)","v":{"$error":"#N/A"}},{"$f":"IF(ISTEXT('Split 6'!$F$29),NA(),'Split 6'!$F$29)","v":{"$error":"#N/A"}},{"$f":"ROUND(AVERAGE(AB62:AB63),0)","v":{"$error":"#N/A"}},{"$f":"IF(ISTEXT('Split 6'!$F$30),NA(),'Split 6'!$F$30)","v":{"$error":"#N/A"}},{"$f":"ROUND(AVERAGE(AD62:AD63),0)","v":{"$error":"#N/A"}},{"$f":"IF(ISTEXT('Split 6'!$F$32),NA(),'Split 6'!$F$32)","v":{"$error":"#N/A"}},{"$f":"ROUND(AVERAGE(AF62:AF63),2)","v":{"$error":"#N/A"}},{"$f":"IF(ISTEXT('S6'!$F$34),NA(),'S6'!$F$34)","v":{"$error":"#N/A"}},{"$error":"#N/A"}]
[{"$f":"IF(ISBLANK('Split 6'!G$8),\" \",'Split 6'!G$8)","v":63},{"$f":"IF(ISTEXT('Split 6'!$H$14),NA(),'Split 6'!$H$14)","v":{"$error":"#N/A"}},{"$error":"#N/A"},{"$f":"IF(ISTEXT('Split 6'!$H$15),NA(),'Split 6'!$H$15)","v":{"$error":"#N/A"}},{"$f":"SUM(D62:D64)/3","v":{"$error":"#N/A"}},{"$f":"IF(ISTEXT('Split 6'!$H$16),NA(),'Split 6'!$H$16)","v":{"$error":"#N/A"}},{"$f":"SUM(F62:F64)/3","v":{"$error":"#N/A"}},{"$f":"IF(ISTEXT('Split 6'!$H$17),NA(),'Split 6'!$H$17)","v":{"$error":"#N/A"}},{"$f":"SUM(H62:H64)/3","v":{"$error":"#N/A"}},{"$f":"IF(ISTEXT('Split 6'!$H$18),NA(),'Split 6'!$H$18)","v":{"$error":"#N/A"}},{"$f":"SUM(J62:J64)/3","v":{"$error":"#N/A"}},{"$f":"IF(ISTEXT('Split 6'!$H$19),NA(),'Split 6'!$H$19)","v":{"$error":"#N/A"}},{"$f":"SUM(L62:L64)/3","v":{"$error":"#N/A"}},{"$f":"IF(ISTEXT('Split 6'!$H$20),NA(),'Split 6'!$H$20)","v":{"$error":"#N/A"}},{"$f":"SUM(N62:N64)/3","v":{"$error":"#N/A"}},{"$f":"IF(ISTEXT('Split 6'!$H$21),NA(),'Split 6'!$H$21)","v":{"$error":"#N/A"}},{"$f":"SUM(P62:P64)/3","v":{"$error":"#N/A"}},{"$f":"IF(ISTEXT('Split 6'!$H$22),NA(),'Split 6'!$H$22)","v":{"$error":"#N/A"}},{"$f":"SUM(R62:R64)/3","v":{"$error":"#N/A"}},{"$f":"IF(ISTEXT('Split 6'!$H$25),NA(),'Split 6'!$H$25)","v":{"$error":"#N/A"}},{"$f":"SUM(T62:T64)/3","v":{"$error":"#N/A"}},{"$f":"IF(ISTEXT('Split 6'!$H$26),NA(),'Split 6'!$H$26)","v":{"$error":"#N/A"}},{"$f":"SUM(V62:V64)/3","v":{"$error":"#N/A"}},{"$f":"IF(ISTEXT('Split 6'!$H$27),NA(),'Split 6'!$H$27)","v":{"$error":"#N/A"}},{"$f":"SUM(X62:X64)/3","v":{"$error":"#N/A"}},{"$f":"IF(ISTEXT('Split 6'!$H$28),NA(),'Split 6'!$H$28)","v":{"$error":"#N/A"}},{"$f":"ROUND(AVERAGE(Z62:Z64),0)","v":{"$error":"#N/A"}},{"$f":"IF(ISTEXT('Split 6'!$H$29),NA(),'Split 6'!$H$29)","v":{"$error":"#N/A"}},{"$f":"ROUND(AVERAGE(AB62:AB64),0)","v":{"$error":"#N/A"}},{"$f":"IF(ISTEXT('Split 6'!$H$30),NA(),'Split 6'!$H$30)","v":{"$error":"#N/A"}},{"$f":"ROUND(AVERAGE(AD62:AD64),0)","v":{"$error":"#N/A"}},{"$f":"IF(ISTEXT('Split 6'!$H$32),NA(),'Split 6'!$H$32)","v":{"$error":"#N/A"}},{"$f":"ROUND(AVERAGE(AF62:AF64),2)","v":{"$error":"#N/A"}},{"$f":"IF(ISTEXT('S6'!$H$34),NA(),'S6'!$H$34)","v":{"$error":"#N/A"}},{"$error":"#N/A"}]
[{"$f":"IF(ISBLANK('Split 6'!I$8),\" \",'Split 6'!I$8)","v":64},{"$f":"IF(ISTEXT('Split 6'!$J$14),NA(),'Split 6'!$J$14)","v":{"$error":"#N/A"}},{"$error":"#N/A"},{"$f":"IF(ISTEXT('Split 6'!$J$15),NA(),'Split 6'!$J$15)","v":{"$error":"#N/A"}},{"$f":"SUM(D63:D65)/3","v":{"$error":"#N/A"}},{"$f":"IF(ISTEXT('Split 6'!$J$16),NA(),'Split 6'!$J$16)","v":{"$error":"#N/A"}},{"$f":"SUM(F63:F65)/3","v":{"$error":"#N/A"}},{"$f":"IF(ISTEXT('Split 6'!$J$17),NA(),'Split 6'!$J$17)","v":{"$error":"#N/A"}},{"$f":"SUM(H63:H65)/3","v":{"$error":"#N/A"}},{"$f":"IF(ISTEXT('Split 6'!$J$18),NA(),'Split 6'!$J$18)","v":{"$error":"#N/A"}},{"$f":"SUM(J63:J65)/3","v":{"$error":"#N/A"}},{"$f":"IF(ISTEXT('Split 6'!$J$19),NA(),'Split 6'!$J$19)","v":{"$error":"#N/A"}},{"$f":"SUM(L63:L65)/3","v":{"$error":"#N/A"}},{"$f":"IF(ISTEXT('Split 6'!$J$20),NA(),'Split 6'!$J$20)","v":{"$error":"#N/A"}},{"$f":"SUM(N63:N65)/3","v":{"$error":"#N/A"}},{"$f":"IF(ISTEXT('Split 6'!$J$21),NA(),'Split 6'!$J$21)","v":{"$error":"#N/A"}},{"$f":"SUM(P63:P65)/3","v":{"$error":"#N/A"}},{"$f":"IF(ISTEXT('Split 6'!$J$22),NA(),'Split 6'!$J$22)","v":{"$error":"#N/A"}},{"$f":"SUM(R63:R65)/3","v":{"$error":"#N/A"}},{"$f":"IF(ISTEXT('Split 6'!$J$25),NA(),'Split 6'!$J$25)","v":{"$error":"#N/A"}},{"$f":"SUM(T63:T65)/3","v":{"$error":"#N/A"}},{"$f":"IF(ISTEXT('Split 6'!$J$26),NA(),'Split 6'!$J$26)","v":{"$error":"#N/A"}},{"$f":"SUM(V63:V65)/3","v":{"$error":"#N/A"}},{"$f":"IF(ISTEXT('Split 6'!$J$27),NA(),'Split 6'!$J$27)","v":{"$error":"#N/A"}},{"$f":"SUM(X63:X65)/3","v":{"$error":"#N/A"}},{"$f":"IF(ISTEXT('Split 6'!$J$28),NA(),'Split 6'!$J$28)","v":{"$error":"#N/A"}},{"$error":"#N/A"},{"$f":"IF(ISTEXT('Split 6'!$J$29),NA(),'Split 6'!$J$29)","v":{"$error":"#N/A"}},{"$error":"#N/A"},{"$f":"IF(ISTEXT('Split 6'!$J$30),NA(),'Split 6'!$J$30)","v":{"$error":"#N/A"}},{"$error":"#N/A"},{"$f":"IF(ISTEXT('Split 6'!$J$32),NA(),'Split 6'!$J$32)","v":{"$error":"#N/A"}},{"$error":"#N/A"},{"$f":"IF(ISTEXT('S6'!$J$34),NA(),'S6'!$J$34)","v":{"$error":"#N/A"}},{"$error":"#N/A"}]
[{"$f":"IF(ISBLANK('Split 6'!K$8),\" \",'Split 6'!K$8)","v":65},{"$f":"IF(ISTEXT('Split 6'!$L$14),NA(),'Split 6'!$L$14)","v":{"$error":"#N/A"}},{"$error":"#N/A"},{"$f":"IF(ISTEXT('Split 6'!$L$15),NA(),'Split 6'!$L$15)","v":{"$error":"#N/A"}},{"$f":"SUM(D64:D66)/3","v":{"$error":"#N/A"}},{"$f":"IF(ISTEXT('Split 6'!$L$16),NA(),'Split 6'!$L$16)","v":{"$error":"#N/A"}},{"$f":"SUM(F64:F66)/3","v":{"$error":"#N/A"}},{"$f":"IF(ISTEXT('Split 6'!$L$17),NA(),'Split 6'!$L$17)","v":{"$error":"#N/A"}},{"$error":"#N/A"},{"$f":"IF(ISTEXT('Split 6'!$L$18),NA(),'Split 6'!$L$18)","v":{"$error":"#N/A"}},{"$error":"#N/A"},{"$f":"IF(ISTEXT('Split 6'!$L$19),NA(),'Split 6'!$L$19)","v":{"$error":"#N/A"}},{"$error":"#N/A"},{"$f":"IF(ISTEXT('Split 6'!$L$20),NA(),'Split 6'!$L$20)","v":{"$error":"#N/A"}},{"$error":"#N/A"},{"$f":"IF(ISTEXT('Split 6'!$L$21),NA(),'Split 6'!$L$21)","v":{"$error":"#N/A"}},{"$error":"#N/A"},{"$f":"IF(ISTEXT('Split 6'!$L$22),NA(),'Split 6'!$L$22)","v":{"$error":"#N/A"}},{"$error":"#N/A"},{"$f":"IF(ISTEXT('Split 6'!$L$25),NA(),'Split 6'!$L$25)","v":{"$error":"#N/A"}},{"$error":"#N/A"},{"$f":"IF(ISTEXT('Split 6'!$L$26),NA(),'Split 6'!$L$26)","v":{"$error":"#N/A"}},{"$error":"#N/A"},{"$f":"IF(ISTEXT('Split 6'!$L$27),NA(),'Split 6'!$L$27)","v":{"$error":"#N/A"}},{"$error":"#N/A"},{"$f":"IF(ISTEXT('Split 6'!$L$28),NA(),'Split 6'!$L$28)","v":{"$error":"#N/A"}},{"$error":"#N/A"},{"$f":"IF(ISTEXT('Split 6'!$L$29),NA(),'Split 6'!$L$29)","v":{"$error":"#N/A"}},{"$error":"#N/A"},{"$f":"IF(ISTEXT('Split 6'!$L$30),NA(),'Split 6'!$L$30)","v":{"$error":"#N/A"}},{"$error":"#N/A"},{"$f":"IF(ISTEXT('Split 6'!$L$32),NA(),'Split 6'!$L$32)","v":{"$error":"#N/A"}},{"$error":"#N/A"},{"$f":"IF(ISTEXT('S6'!$L$34),NA(),'S6'!$L$34)","v":{"$error":"#N/A"}},{"$error":"#N/A"}]
[{"$f":"IF(ISBLANK('Split 6'!M$8),\" \",'Split 6'!M$8)","v":66},{"$f":"IF(ISTEXT('Split 6'!$N$14),NA(),'Split 6'!$N$14)","v":{"$error":"#N/A"}},{"$f":"SUM(B65:B67)/3","v":{"$error":"#N/A"}},{"$f":"IF(ISTEXT('Split 6'!$N$15),NA(),'Split 6'!$N$15)","v":{"$error":"#N/A"}},{"$error":"#N/A"},{"$f":"IF(ISTEXT('Split 6'!$N$16),NA(),'Split 6'!$N$16)","v":{"$error":"#N/A"}},{"$error":"#N/A"},{"$f":"IF(ISTEXT('Split 6'!$N$17),NA(),'Split 6'!$N$17)","v":{"$error":"#N/A"}},{"$error":"#N/A"},{"$f":"IF(ISTEXT('Split 6'!$N$18),NA(),'Split 6'!$N$18)","v":{"$error":"#N/A"}},{"$error":"#N/A"},{"$f":"IF(ISTEXT('Split 6'!$N$19),NA(),'Split 6'!$N$19)","v":{"$error":"#N/A"}},{"$error":"#N/A"},{"$f":"IF(ISTEXT('Split 6'!$N$20),NA(),'Split 6'!$N$20)","v":{"$error":"#N/A"}},{"$error":"#N/A"},{"$f":"IF(ISTEXT('Split 6'!$N$21),NA(),'Split 6'!$N$21)","v":{"$error":"#N/A"}},{"$error":"#N/A"},{"$f":"IF(ISTEXT('Split 6'!$N$22),NA(),'Split 6'!$N$22)","v":{"$error":"#N/A"}},{"$error":"#N/A"},{"$f":"IF(ISTEXT('Split 6'!$N$25),NA(),'Split 6'!$N$25)","v":{"$error":"#N/A"}},{"$error":"#N/A"},{"$f":"IF(ISTEXT('Split 6'!$N$26),NA(),'Split 6'!$N$26)","v":{"$error":"#N/A"}},{"$error":"#N/A"},{"$f":"IF(ISTEXT('Split 6'!$N$27),NA(),'Split 6'!$N$27)","v":{"$error":"#N/A"}},{"$error":"#N/A"},{"$f":"IF(ISTEXT('Split 6'!$N$28),NA(),'Split 6'!$N$28)","v":{"$error":"#N/A"}},{"$error":"#N/A"},{"$f":"IF(ISTEXT('Split 6'!$N$29),NA(),'Split 6'!$N$29)","v":{"$error":"#N/A"}},{"$error":"#N/A"},{"$f":"IF(ISTEXT('Split 6'!$N$30),NA(),'Split 6'!$N$30)","v":{"$error":"#N/A"}},{"$error":"#N/A"},{"$f":"IF(ISTEXT('Split 6'!$N$32),NA(),'Split 6'!$N$32)","v":{"$error":"#N/A"}},{"$error":"#N/A"},{"$f":"IF(ISTEXT('S6'!$N$34),NA(),'S6'!$N$34)","v":{"$error":"#N/A"}},{"$error":"#N/A"}]
[{"$f":"IF(ISBLANK('Split 6'!C$38),\" \",'Split 6'!C$38)","v":67},{"$f":"IF(ISTEXT('Split 6'!$D$44),NA(),'Split 6'!$D$44)","v":{"$error":"#N/A"}},{"$f":"SUM(B66:B68)/3","v":{"$error":"#N/A"}},{"$f":"IF(ISTEXT('Split 6'!$D$45),NA(),'Split 6'!$D$45)","v":{"$error":"#N/A"}},{"$error":"#N/A"},{"$f":"IF(ISTEXT('Split 6'!$D$46),NA(),'Split 6'!$D$46)","v":{"$error":"#N/A"}},{"$error":"#N/A"},{"$f":"IF(ISTEXT('Split 6'!$D$47),NA(),'Split 6'!$D$47)","v":{"$error":"#N/A"}},{"$error":"#N/A"},{"$f":"IF(ISTEXT('Split 6'!$D$48),NA(),'Split 6'!$D$48)","v":{"$error":"#N/A"}},{"$error":"#N/A"},{"$f":"IF(ISTEXT('Split 6'!$D$49),NA(),'Split 6'!$D$49)","v":{"$error":"#N/A"}},{"$error":"#N/A"},{"$f":"IF(ISTEXT('Split 6'!$D$50),NA(),'Split 6'!$D$50)","v":{"$error":"#N/A"}},{"$error":"#N/A"},{"$f":"IF(ISTEXT('Split 6'!$D$51),NA(),'Split 6'!$D$51)","v":{"$error":"#N/A"}},{"$error":"#N/A"},{"$f":"IF(ISTEXT('Split 6'!$D$52),NA(),'Split 6'!$D$52)","v":{"$error":"#N/A"}},{"$error":"#N/A"},{"$f":"IF(ISTEXT('Split 6'!$D$55),NA(),'Split 6'!$D$55)","v":{"$error":"#N/A"}},{"$error":"#N/A"},{"$f":"IF(ISTEXT('Split 6'!$D$56),NA(),'Split 6'!$D$56)","v":{"$error":"#N/A"}},{"$error":"#N/A"},{"$f":"IF(ISTEXT('Split 6'!$D$57),NA(),'Split 6'!$D$57)","v":{"$error":"#N/A"}},{"$error":"#N/A"},{"$f":"IF(ISTEXT('Split 6'!$D$58),NA(),'Split 6'!$D$58)","v":{"$error":"#N/A"}},{"$error":"#N/A"},{"$f":"IF(ISTEXT('Split 6'!$D$59),NA(),'Split 6'!$D$59)","v":{"$error":"#N/A"}},{"$error":"#N/A"},{"$f":"IF(ISTEXT('Split 6'!$D$60),NA(),'Split 6'!$D$60)","v":{"$error":"#N/A"}},{"$error":"#N/A"},{"$f":"IF(ISTEXT('Split 6'!$D$62),NA(),'Split 6'!$D$62)","v":{"$error":"#N/A"}},{"$error":"#N/A"},{"$f":"IF(ISTEXT('S6'!$D$67),NA(),'S6'!$D$67)","v":{"$error":"#N/A"}},{"$error":"#N/A"}]
[{"$f":"IF(ISBLANK('Split 6'!E$38),\" \",'Split 6'!E$38)","v":68},{"$f":"IF(ISTEXT('Split 6'!$F$44),NA(),'Split 6'!$F$44)","v":{"$error":"#N/A"}},{"$error":"#N/A"},{"$f":"IF(ISTEXT('Split 6'!$F$45),NA(),'Split 6'!$F$45)","v":{"$error":"#N/A"}},{"$error":"#N/A"},{"$f":"IF(ISTEXT('Split 6'!$F$46),NA(),'Split 6'!$F$46)","v":{"$error":"#N/A"}},{"$error":"#N/A"},{"$f":"IF(ISTEXT('Split 6'!$F$47),NA(),'Split 6'!$F$47)","v":{"$error":"#N/A"}},{"$error":"#N/A"},{"$f":"IF(ISTEXT('Split 6'!$F$48),NA(),'Split 6'!$F$48)","v":{"$error":"#N/A"}},{"$error":"#N/A"},{"$f":"IF(ISTEXT('Split 6'!$F$49),NA(),'Split 6'!$F$49)","v":{"$error":"#N/A"}},{"$error":"#N/A"},{"$f":"IF(ISTEXT('Split 6'!$F$50),NA(),'Split 6'!$F$50)","v":{"$error":"#N/A"}},{"$error":"#N/A"},{"$f":"IF(ISTEXT('Split 6'!$F$51),NA(),'Split 6'!$F$51)","v":{"$error":"#N/A"}},{"$error":"#N/A"},{"$f":"IF(ISTEXT('Split 6'!$F$52),NA(),'Split 6'!$F$52)","v":{"$error":"#N/A"}},{"$error":"#N/A"},{"$f":"IF(ISTEXT('Split 6'!$F$55),NA(),'Split 6'!$F$55)","v":{"$error":"#N/A"}},{"$error":"#N/A"},{"$f":"IF(ISTEXT('Split 6'!$F$56),NA(),'Split 6'!$F$56)","v":{"$error":"#N/A"}},{"$error":"#N/A"},{"$f":"IF(ISTEXT('Split 6'!$F$57),NA(),'Split 6'!$F$57)","v":{"$error":"#N/A"}},{"$error":"#N/A"},{"$f":"IF(ISTEXT('Split 6'!$F$58),NA(),'Split 6'!$F$58)","v":{"$error":"#N/A"}},{"$error":"#N/A"},{"$f":"IF(ISTEXT('Split 6'!$F$59),NA(),'Split 6'!$F$59)","v":{"$error":"#N/A"}},{"$error":"#N/A"},{"$f":"IF(ISTEXT('Split 6'!$F$60),NA(),'Split 6'!$F$60)","v":{"$error":"#N/A"}},{"$error":"#N/A"},{"$f":"IF(ISTEXT('Split 6'!$F$62),NA(),'Split 6'!$F$62)","v":{"$error":"#N/A"}},{"$error":"#N/A"},{"$f":"IF(ISTEXT('S6'!$F$67),NA(),'S6'!$F$67)","v":{"$error":"#N/A"}},{"$error":"#N/A"}]
[{"$f":"IF(ISBLANK('Split 6'!G$38),\" \",'Split 6'!G$38)","v":69},{"$f":"IF(ISTEXT('Split 6'!$H$44),NA(),'Split 6'!$H$44)","v":{"$error":"#N/A"}},{"$error":"#N/A"},{"$f":"IF(ISTEXT('Split 6'!$H$45),NA(),'Split 6'!$H$45)","v":{"$error":"#N/A"}},{"$error":"#N/A"},{"$f":"IF(ISTEXT('Split 6'!$H$46),NA(),'Split 6'!$H$46)","v":{"$error":"#N/A"}},{"$error":"#N/A"},{"$f":"IF(ISTEXT('Split 6'!$H$47),NA(),'Split 6'!$H$47)","v":{"$error":"#N/A"}},{"$error":"#N/A"},{"$f":"IF(ISTEXT('Split 6'!$H$48),NA(),'Split 6'!$H$48)","v":{"$error":"#N/A"}},{"$error":"#N/A"},{"$f":"IF(ISTEXT('Split 6'!$H$49),NA(),'Split 6'!$H$49)","v":{"$error":"#N/A"}},{"$error":"#N/A"},{"$f":"IF(ISTEXT('Split 6'!$H$50),NA(),'Split 6'!$H$50)","v":{"$error":"#N/A"}},{"$error":"#N/A"},{"$f":"IF(ISTEXT('Split 6'!$H$51),NA(),'Split 6'!$H$51)","v":{"$error":"#N/A"}},{"$error":"#N/A"},{"$f":"IF(ISTEXT('Split 6'!$H$52),NA(),'Split 6'!$H$52)","v":{"$error":"#N/A"}},{"$error":"#N/A"},{"$f":"IF(ISTEXT('Split 6'!$H$55),NA(),'Split 6'!$H$55)","v":{"$error":"#N/A"}},{"$error":"#N/A"},{"$f":"IF(ISTEXT('Split 6'!$H$56),NA(),'Split 6'!$H$56)","v":{"$error":"#N/A"}},{"$error":"#N/A"},{"$f":"IF(ISTEXT('Split 6'!$H$57),NA(),'Split 6'!$H$57)","v":{"$error":"#N/A"}},{"$error":"#N/A"},{"$f":"IF(ISTEXT('Split 6'!$H$58),NA(),'Split 6'!$H$58)","v":{"$error":"#N/A"}},{"$error":"#N/A"},{"$f":"IF(ISTEXT('Split 6'!$H$59),NA(),'Split 6'!$H$59)","v":{"$error":"#N/A"}},{"$error":"#N/A"},{"$f":"IF(ISTEXT('Split 6'!$H$60),NA(),'Split 6'!$H$60)","v":{"$error":"#N/A"}},{"$error":"#N/A"},{"$f":"IF(ISTEXT('Split 6'!$H$62),NA(),'Split 6'!$H$62)","v":{"$error":"#N/A"}},{"$error":"#N/A"},{"$f":"IF(ISTEXT('S6'!$H$67),NA(),'S6'!$H$67)","v":{"$error":"#N/A"}},{"$error":"#N/A"}]
[{"$f":"IF(ISBLANK('Split 6'!I$38),\" \",'Split 6'!I$38)","v":70},{"$f":"IF(ISTEXT('Split 6'!$J$44),NA(),'Split 6'!$J$44)","v":{"$error":"#N/A"}},{"$error":"#N/A"},{"$f":"IF(ISTEXT('Split 6'!$J$45),NA(),'Split 6'!$J$45)","v":{"$error":"#N/A"}},{"$error":"#N/A"},{"$f":"IF(ISTEXT('Split 6'!$J$46),NA(),'Split 6'!$J$46)","v":{"$error":"#N/A"}},{"$error":"#N/A"},{"$f":"IF(ISTEXT('Split 6'!$J$47),NA(),'Split 6'!$J$47)","v":{"$error":"#N/A"}},{"$error":"#N/A"},{"$f":"IF(ISTEXT('Split 6'!$J$48),NA(),'Split 6'!$J$48)","v":{"$error":"#N/A"}},{"$error":"#N/A"},{"$f":"IF(ISTEXT('Split 6'!$J$49),NA(),'Split 6'!$J$49)","v":{"$error":"#N/A"}},{"$error":"#N/A"},{"$f":"IF(ISTEXT('Split 6'!$J$50),NA(),'Split 6'!$J$50)","v":{"$error":"#N/A"}},{"$error":"#N/A"},{"$f":"IF(ISTEXT('Split 6'!$J$51),NA(),'Split 6'!$J$51)","v":{"$error":"#N/A"}},{"$error":"#N/A"},{"$f":"IF(ISTEXT('Split 6'!$J$52),NA(),'Split 6'!$J$52)","v":{"$error":"#N/A"}},{"$error":"#N/A"},{"$f":"IF(ISTEXT('Split 6'!$J$55),NA(),'Split 6'!$J$55)","v":{"$error":"#N/A"}},{"$error":"#N/A"},{"$f":"IF(ISTEXT('Split 6'!$J$56),NA(),'Split 6'!$J$56)","v":{"$error":"#N/A"}},{"$error":"#N/A"},{"$f":"IF(ISTEXT('Split 6'!$J$57),NA(),'Split 6'!$J$57)","v":{"$error":"#N/A"}},{"$error":"#N/A"},{"$f":"IF(ISTEXT('Split 6'!$J$58),NA(),'Split 6'!$J$58)","v":{"$error":"#N/A"}},{"$error":"#N/A"},{"$f":"IF(ISTEXT('Split 6'!$J$59),NA(),'Split 6'!$J$59)","v":{"$error":"#N/A"}},{"$error":"#N/A"},{"$f":"IF(ISTEXT('Split 6'!$J$60),NA(),'Split 6'!$J$60)","v":{"$error":"#N/A"}},{"$error":"#N/A"},{"$f":"IF(ISTEXT('Split 6'!$J$62),NA(),'Split 6'!$J$62)","v":{"$error":"#N/A"}},{"$error":"#N/A"},{"$f":"IF(ISTEXT('S6'!$J$67),NA(),'S6'!$J$67)","v":{"$error":"#N/A"}},{"$error":"#N/A"}]
[{"$f":"IF(ISBLANK('Split 6'!K$38),\" \",'Split 6'!K$38)","v":71},{"$f":"IF(ISTEXT('Split 6'!$L$44),NA(),'Split 6'!$L$44)","v":{"$error":"#N/A"}},{"$error":"#N/A"},{"$f":"IF(ISTEXT('Split 6'!$L$45),NA(),'Split 6'!$L$45)","v":{"$error":"#N/A"}},{"$error":"#N/A"},{"$f":"IF(ISTEXT('Split 6'!$L$46),NA(),'Split 6'!$L$46)","v":{"$error":"#N/A"}},{"$error":"#N/A"},{"$f":"IF(ISTEXT('Split 6'!$L$47),NA(),'Split 6'!$L$47)","v":{"$error":"#N/A"}},{"$error":"#N/A"},{"$f":"IF(ISTEXT('Split 6'!$L$48),NA(),'Split 6'!$L$48)","v":{"$error":"#N/A"}},{"$error":"#N/A"},{"$f":"IF(ISTEXT('Split 6'!$L$49),NA(),'Split 6'!$L$49)","v":{"$error":"#N/A"}},{"$error":"#N/A"},{"$f":"IF(ISTEXT('Split 6'!$L$50),NA(),'Split 6'!$L$50)","v":{"$error":"#N/A"}},{"$error":"#N/A"},{"$f":"IF(ISTEXT('Split 6'!$L$51),NA(),'Split 6'!$L$51)","v":{"$error":"#N/A"}},{"$error":"#N/A"},{"$f":"IF(ISTEXT('Split 6'!$L$52),NA(),'Split 6'!$L$52)","v":{"$error":"#N/A"}},{"$error":"#N/A"},{"$f":"IF(ISTEXT('Split 6'!$L$55),NA(),'Split 6'!$L$55)","v":{"$error":"#N/A"}},{"$error":"#N/A"},{"$f":"IF(ISTEXT('Split 6'!$L$56),NA(),'Split 6'!$L$56)","v":{"$error":"#N/A"}},{"$error":"#N/A"},{"$f":"IF(ISTEXT('Split 6'!$L$57),NA(),'Split 6'!$L$57)","v":{"$error":"#N/A"}},{"$error":"#N/A"},{"$f":"IF(ISTEXT('Split 6'!$L$58),NA(),'Split 6'!$L$58)","v":{"$error":"#N/A"}},{"$error":"#N/A"},{"$f":"IF(ISTEXT('Split 6'!$L$59),NA(),'Split 6'!$L$59)","v":{"$error":"#N/A"}},{"$error":"#N/A"},{"$f":"IF(ISTEXT('Split 6'!$L$60),NA(),'Split 6'!$L$60)","v":{"$error":"#N/A"}},{"$error":"#N/A"},{"$f":"IF(ISTEXT('Split 6'!$L$62),NA(),'Split 6'!$L$62)","v":{"$error":"#N/A"}},{"$error":"#N/A"},{"$f":"IF(ISTEXT('S6'!$L$67),NA(),'S6'!$L$67)","v":{"$error":"#N/A"}},{"$error":"#N/A"}]
[{"$f":"IF(ISBLANK('Split 6'!M$38),\" \",'Split 6'!M$38)","v":72},{"$f":"IF(ISTEXT('Split 6'!$N$44),NA(),'Split 6'!$N$44)","v":{"$error":"#N/A"}},{"$error":"#N/A"},{"$f":"IF(ISTEXT('Split 6'!$N$45),NA(),'Split 6'!$N$45)","v":{"$error":"#N/A"}},{"$error":"#N/A"},{"$f":"IF(ISTEXT('Split 6'!$N$46),NA(),'Split 6'!$N$46)","v":{"$error":"#N/A"}},{"$error":"#N/A"},{"$f":"IF(ISTEXT('Split 6'!$N$47),NA(),'Split 6'!$N$47)","v":{"$error":"#N/A"}},{"$error":"#N/A"},{"$f":"IF(ISTEXT('Split 6'!$N$48),NA(),'Split 6'!$N$48)","v":{"$error":"#N/A"}},{"$error":"#N/A"},{"$f":"IF(ISTEXT('Split 6'!$N$49),NA(),'Split 6'!$N$49)","v":{"$error":"#N/A"}},{"$error":"#N/A"},{"$f":"IF(ISTEXT('Split 6'!$N$50),NA(),'Split 6'!$N$50)","v":{"$error":"#N/A"}},{"$error":"#N/A"},{"$f":"IF(ISTEXT('Split 6'!$N$51),NA(),'Split 6'!$N$51)","v":{"$error":"#N/A"}},{"$error":"#N/A"},{"$f":"IF(ISTEXT('Split 6'!$N$52),NA(),'Split 6'!$N$52)","v":{"$error":"#N/A"}},{"$error":"#N/A"},{"$f":"IF(ISTEXT('Split 6'!$N$55),NA(),'Split 6'!$N$55)","v":{"$error":"#N/A"}},{"$error":"#N/A"},{"$f":"IF(ISTEXT('Split 6'!$N$56),NA(),'Split 6'!$N$56)","v":{"$error":"#N/A"}},{"$error":"#N/A"},{"$f":"IF(ISTEXT('Split 6'!$N$57),NA(),'Split 6'!$N$57)","v":{"$error":"#N/A"}},{"$error":"#N/A"},{"$f":"IF(ISTEXT('Split 6'!$N$58),NA(),'Split 6'!$N$58)","v":{"$error":"#N/A"}},{"$error":"#N/A"},{"$f":"IF(ISTEXT('Split 6'!$N$59),NA(),'Split 6'!$N$59)","v":{"$error":"#N/A"}},{"$error":"#N/A"},{"$f":"IF(ISTEXT('Split 6'!$N$60),NA(),'Split 6'!$N$60)","v":{"$error":"#N/A"}},{"$error":"#N/A"},{"$f":"IF(ISTEXT('Split 6'!$N$62),NA(),'Split 6'!$N$62)","v":{"$error":"#N/A"}},{"$error":"#N/A"},{"$f":"IF(ISTEXT('S6'!$N$67),NA(),'S6'!$N$67)","v":{"$error":"#N/A"}},{"$error":"#N/A"}]
[null,null,null,null,null,null,null,null,null,null,null,null,null,null,null,null,null,null,null,null,null,null,null,null,null,null,null,null,null,null,null,null,null,{"$f":"IF(ISTEXT('S7'!$D$34),NA(),'S7'!$D$34)","v":{"$error":"#N/A"}},{"$f":"ROUND(AVERAGE(AH72:AH74),2)","v":{"$error":"#N/A"}}]
["Avg",{"$f":"AVERAGE(IF(ISNUMBER(B2:B73),B2:B73))","v":{"$error":"#DIV/0!"}},null,{"$f":"AVERAGE(IF(ISNUMBER(D2:D73),D2:D73))","v":{"$error":"#DIV/0!"}},null,{"$f":"AVERAGE(IF(ISNUMBER(F2:F73),F2:F73))","v":{"$error":"#DIV/0!"}},null,{"$f":"AVERAGE(IF(ISNUMBER(H2:H73),H2:H73))","v":{"$error":"#DIV/0!"}},null,{"$f":"AVERAGE(IF(ISNUMBER(J2:J73),J2:J73))","v":{"$error":"#DIV/0!"}},null,{"$f":"AVERAGE(IF(ISNUMBER(L2:L73),L2:L73))","v":{"$error":"#DIV/0!"}},null,{"$f":"AVERAGE(IF(ISNUMBER(N2:N73),N2:N73))","v":{"$error":"#DIV/0!"}},null,{"$f":"AVERAGE(IF(ISNUMBER(P2:P73),P2:P73))","v":{"$error":"#DIV/0!"}},null,{"$f":"AVERAGE(IF(ISNUMBER(R2:R73),R2:R73))","v":{"$error":"#DIV/0!"}},null,{"$f":"AVERAGE(IF(ISNUMBER(T2:T73),T2:T73))","v":{"$error":"#DIV/0!"}},null,{"$f":"AVERAGE(IF(ISNUMBER(V2:V73),V2:V73))","v":{"$error":"#DIV/0!"}},null,{"$f":"AVERAGE(IF(ISNUMBER(X2:X73),X2:X73))","v":{"$error":"#DIV/0!"}},null,{"$f":"AVERAGE(IF(ISNUMBER(Z2:Z73),Z2:Z73))","v":{"$error":"#DIV/0!"}},null,{"$f":"AVERAGE(IF(ISNUMBER(AB2:AB73),AB2:AB73))","v":{"$error":"#DIV/0!"}},null,{"$f":"AVERAGE(IF(ISNUMBER(AD2:AD73),AD2:AD73))","v":{"$error":"#DIV/0!"}},null,{"$f":"AVERAGE(IF(ISNUMBER(AF2:AF73),AF2:AF73))","v":{"$error":"#DIV/0!"}},null,{"$f":"IF(ISTEXT('S7'!$F$34),NA(),'S7'!$F$34)","v":{"$error":"#N/A"}},{"$f":"ROUND(AVERAGE(AH73:AH75),2)","v":{"$error":"#N/A"}}]
["Count",{"$f":"COUNT(IF(ISNUMBER(B2:B73),B2:B73))","v":0},null,{"$f":"COUNT(IF(ISNUMBER(D2:D73),D2:D73))","v":0},null,{"$f":"COUNT(IF(ISNUMBER(F2:F73),F2:F73))","v":0},null,{"$f":"COUNT(IF(ISNUMBER(H2:H73),H2:H73))","v":0},null,{"$f":"COUNT(IF(ISNUMBER(J2:J73),J2:J73))","v":0},null,{"$f":"COUNT(IF(ISNUMBER(L2:L73),L2:L73))","v":0},null,{"$f":"COUNT(IF(ISNUMBER(N2:N73),N2:N73))","v":0},null,{"$f":"COUNT(IF(ISNUMBER(P2:P73),P2:P73))","v":0},null,{"$f":"COUNT(IF(ISNUMBER(R2:R73),R2:R73))","v":0},null,{"$f":"COUNT(IF(ISNUMBER(T2:T73),T2:T73))","v":0},null,{"$f":"COUNT(IF(ISNUMBER(V2:V73),V2:V73))","v":0},null,{"$f":"COUNT(IF(ISNUMBER(X2:X73),X2:X73))","v":0},null,{"$f":"COUNT(IF(ISNUMBER(Z2:Z73),Z2:Z73))","v":0},null,{"$f":"COUNT(IF(ISNUMBER(AB2:AB73),AB2:AB73))","v":0},null,{"$f":"COUNT(IF(ISNUMBER(AD2:AD73),AD2:AD73))","v":0},null,{"$f":"COUNT(IF(ISNUMBER(AF2:AF73),AF2:AF73))","v":0},null,{"$f":"IF(ISTEXT('S7'!$H$34),NA(),'S7'!$H$34)","v":{"$error":"#N/A"}},{"$f":"ROUND(AVERAGE(AH74:AH76),2)","v":{"$error":"#N/A"}}]
["Stdev",{"$f":"STDEV(IF(ISNUMBER(B2:B73),B2:B73))","v":{"$error":"#DIV/0!"}},null,{"$f":"STDEV(IF(ISNUMBER(D2:D73),D2:D73))","v":{"$error":"#DIV/0!"}},null,{"$f":"STDEV(IF(ISNUMBER(F2:F73),F2:F73))","v":{"$error":"#DIV/0!"}},null,{"$f":"STDEV(IF(ISNUMBER(H2:H73),H2:H73))","v":{"$error":"#DIV/0!"}},null,{"$f":"STDEV(IF(ISNUMBER(J2:J73),J2:J73))","v":{"$error":"#DIV/0!"}},null,{"$f":"STDEV(IF(ISNUMBER(L2:L73),L2:L73))","v":{"$error":"#DIV/0!"}},null,{"$f":"STDEV(IF(ISNUMBER(N2:N73),N2:N73))","v":{"$error":"#DIV/0!"}},null,{"$f":"STDEV(IF(ISNUMBER(P2:P73),P2:P73))","v":{"$error":"#DIV/0!"}},null,{"$f":"STDEV(IF(ISNUMBER(R2:R73),R2:R73))","v":{"$error":"#DIV/0!"}},null,{"$f":"STDEV(IF(ISNUMBER(T2:T73),T2:T73))","v":{"$error":"#DIV/0!"}},null,{"$f":"STDEV(IF(ISNUMBER(V2:V73),V2:V73))","v":{"$error":"#DIV/0!"}},null,{"$f":"STDEV(IF(ISNUMBER(X2:X73),X2:X73))","v":{"$error":"#DIV/0!"}},null,{"$f":"STDEV(IF(ISNUMBER(Z2:Z73),Z2:Z73))","v":{"$error":"#DIV/0!"}},null,{"$f":"STDEV(IF(ISNUMBER(AB2:AB73),AB2:AB73))","v":{"$error":"#DIV/0!"}},null,{"$f":"STDEV(IF(ISNUMBER(AD2:AD73),AD2:AD73))","v":{"$error":"#DIV/0!"}},null,{"$f":"STDEV(IF(ISNUMBER(AF2:AF73),AF2:AF73))","v":{"$error":"#DIV/0!"}},null,{"$f":"IF(ISTEXT('S7'!$J$34),NA(),'S7'!$J$34)","v":{"$error":"#N/A"}},{"$error":"#N/A"}]
[null,null,null,null,null,null,null,null,null,null,null,null,null,null,null,null,null,null,null,null,null,null,null,null,null,null,null,null,null,null,null,null,null,{"$f":"IF(ISTEXT('S7'!$L$34),NA(),'S7'!$L$34)","v":{"$error":"#N/A"}},{"$error":"#N/A"}]
[null,null,null,null,null,null,null,null,null,null,null,null,null,null,null,null,null,null,null,null,null,null,null,null,null,null,null,null,null,null,null,null,null,{"$f":"IF(ISTEXT('S7'!$N$34),NA(),'S7'!$N$34)","v":{"$error":"#N/A"}},{"$error":"#N/A"}]
[null,null,null,null,null,null,null,null,null,null,null,null,null,null,null,null,null,null,null,null,null,null,null,null,null,null,null,null,null,null,null,null,null,{"$f":"IF(ISTEXT('S7'!$D$67),NA(),'S7'!$D$67)","v":{"$error":"#N/A"}},{"$error":"#N/A"}]
[null,null,null,null,null,null,null,null,null,null,null,null,null,null,null,null,null,null,null,null,null,null,null,null,null,null,null,null,null,null,null,null,null,{"$f":"IF(ISTEXT('S7'!$F$67),NA(),'S7'!$F$67)","v":{"$error":"#N/A"}},{"$error":"#N/A"}]
[null,null,null,null,null,null,null,null,null,null,null,null,null,null,null,null,null,null,null,null,null,null,null,null,null,null,null,null,null,null,null,null,null,{"$f":"IF(ISTEXT('S7'!$H$67),NA(),'S7'!$H$67)","v":{"$error":"#N/A"}},{"$error":"#N/A"}]
[null,null,null,null,null,null,null,null,null,null,null,null,null,null,null,null,null,null,null,null,null,null,null,null,null,null,null,null,null,null,null,null,null,{"$f":"IF(ISTEXT('S7'!$J$67),NA(),'S7'!$J$67)","v":{"$error":"#N/A"}},{"$error":"#N/A"}]
[null,null,null,null,null,null,null,null,null,null,null,null,null,null,null,null,null,null,null,null,null,null,null,null,null,null,null,null,null,null,null,null,null,{"$f":"IF(ISTEXT('S7'!$L$67),NA(),'S7'!$L$67)","v":{"$error":"#N/A"}},{"$error":"#N/A"}]
[null,null,null,null,null,null,null,null,null,null,null,null,null,null,null,null,null,null,null,null,null,null,null,null,null,null,null,null,null,null,null,null,null,{"$f":"IF(ISTEXT('S7'!$N$67),NA(),'S7'!$N$67)","v":{"$error":"#N/A"}},{"$error":"#N/A"}]
[null,null,null,null,null,null,null,null,null,null,null,null,null,null,null,null,null,null,null,null,null,null,null,null,null,null,null,null,null,null,null,null,null,{"$f":"IF(ISTEXT('S8'!$D$34),NA(),'S8'!$D$34)","v":{"$error":"#N/A"}},{"$error":"#N/A"}]
[null,null,null,null,null,null,null,null,null,null,null,null,null,null,null,null,null,null,null,null,null,null,null,null,null,null,null,null,null,null,null,null,null,{"$f":"IF(ISTEXT('S8'!$F$34),NA(),'S8'!$F$34)","v":{"$error":"#N/A"}},{"$error":"#N/A"}]
[null,null,null,null,null,null,null,null,null,null,null,null,null,null,null,null,null,null,null,null,null,null,null,null,null,null,null,null,null,null,null,null,null,{"$f":"IF(ISTEXT('S8'!$H$34),NA(),'S8'!$H$34)","v":{"$error":"#N/A"}},{"$error":"#N/A"}]
[null,null,null,null,null,null,null,null,null,null,null,null,null,null,null,null,null,null,null,null,null,null,null,null,null,null,null,null,null,null,null,null,null,{"$f":"IF(ISTEXT('S8'!$J$34),NA(),'S8'!$J$34)","v":{"$error":"#N/A"}},{"$error":"#N/A"}]
[null,null,null,null,null,null,null,null,null,null,null,null,null,null,null,null,null,null,null,null,null,null,null,null,null,null,null,null,null,null,null,null,null,{"$f":"IF(ISTEXT('S8'!$L$34),NA(),'S8'!$L$34)","v":{"$error":"#N/A"}},{"$error":"#N/A"}]
[null,null,null,null,null,null,null,null,null,null,null,null,null,null,null,null,null,null,null,null,null,null,null,null,null,null,null,null,null,null,null,null,null,{"$f":"IF(ISTEXT('S8'!$N$34),NA(),'S8'!$N$34)","v":{"$error":"#N/A"}},{"$error":"#N/A"}]
[null,null,null,null,null,null,null,null,null,null,null,null,null,null,null,null,null,null,null,null,null,null,null,null,null,null,null,null,null,null,null,null,null,{"$f":"IF(ISTEXT('S8'!$D$67),NA(),'S8'!$D$67)","v":{"$error":"#N/A"}},{"$error":"#N/A"}]
[null,null,null,null,null,null,null,null,null,null,null,null,null,null,null,null,null,null,null,null,null,null,null,null,null,null,null,null,null,null,null,null,null,{"$f":"IF(ISTEXT('S8'!$F$67),NA(),'S8'!$F$67)","v":{"$error":"#N/A"}},{"$error":"#N/A"}]
[null,null,null,null,null,null,null,null,null,null,null,null,null,null,null,null,null,null,null,null,null,null,null,null,null,null,null,null,null,null,null,null,null,{"$f":"IF(ISTEXT('S8'!$H$67),NA(),'S8'!$H$67)","v":{"$error":"#N/A"}},{"$error":"#N/A"}]
[null,null,null,null,null,null,null,null,null,null,null,null,null,null,null,null,null,null,null,null,null,null,null,null,null,null,null,null,null,null,null,null,null,{"$f":"IF(ISTEXT('S8'!$J$67),NA(),'S8'!$J$67)","v":{"$error":"#N/A"}},{"$error":"#N/A"}]
[null,null,null,null,null,null,null,null,null,null,null,null,null,null,null,null,null,null,null,null,null,null,null,null,null,null,null,null,null,null,null,null,null,{"$f":"IF(ISTEXT('S8'!$L$67),NA(),'S8'!$L$67)","v":{"$error":"#N/A"}},{"$error":"#N/A"}]
[null,null,null,null,null,null,null,null,null,null,null,null,null,null,null,null,null,null,null,null,null,null,null,null,null,null,null,null,null,null,null,null,null,{"$f":"IF(ISTEXT('S8'!$N$67),NA(),'S8'!$N$67)","v":{"$error":"#N/A"}},{"$error":"#N/A"}]
[null,null,null,null,null,null,null,null,null,null,null,null,null,null,null,null,null,null,null,null,null,null,null,null,null,null,null,null,null,null,null,null,null,{"$f":"IF(ISTEXT('S9'!$D$34),NA(),'S9'!$D$34)","v":{"$error":"#N/A"}},{"$f":"ROUND(AVERAGE(AH96:AH98),2)","v":{"$error":"#N/A"}}]
[null,null,null,null,null,null,null,null,null,null,null,null,null,null,null,null,null,null,null,null,null,null,null,null,null,null,null,null,null,null,null,null,null,{"$f":"IF(ISTEXT('S9'!$F$34),NA(),'S9'!$F$34)","v":{"$error":"#N/A"}},{"$f":"ROUND(AVERAGE(AH97:AH99),2)","v":{"$error":"#N/A"}}]
[null,null,null,null,null,null,null,null,null,null,null,null,null,null,null,null,null,null,null,null,null,null,null,null,null,null,null,null,null,null,null,null,null,{"$f":"IF(ISTEXT('S9'!$H$34),NA(),'S9'!$H$34)","v":{"$error":"#N/A"}},{"$f":"ROUND(AVERAGE(AH98:AH100),2)","v":{"$error":"#N/A"}}]
[null,null,null,null,null,null,null,null,null,null,null,null,null,null,null,null,null,null,null,null,null,null,null,null,null,null,null,null,null,null,null,null,null,{"$f":"IF(ISTEXT('S9'!$J$34),NA(),'S9'!$J$34)","v":{"$error":"#N/A"}},{"$error":"#N/A"}]
[null,null,null,null,null,null,null,null,null,null,null,null,null,null,null,null,null,null,null,null,null,null,null,null,null,null,null,null,null,null,null,null,null,{"$f":"IF(ISTEXT('S9'!$L$34),NA(),'S9'!$L$34)","v":{"$error":"#N/A"}},{"$error":"#N/A"}]
[null,null,null,null,null,null,null,null,null,null,null,null,null,null,null,null,null,null,null,null,null,null,null,null,null,null,null,null,null,null,null,null,null,{"$f":"IF(ISTEXT('S9'!$N$34),NA(),'S9'!$N$34)","v":{"$error":"#N/A"}},{"$error":"#N/A"}]
[null,null,null,null,null,null,null,null,null,null,null,null,null,null,null,null,null,null,null,null,null,null,null,null,null,null,null,null,null,null,null,null,null,{"$f":"IF(ISTEXT('S9'!$D$67),NA(),'S9'!$D$67)","v":{"$error":"#N/A"}},{"$error":"#N/A"}]
[null,null,null,null,null,null,null,null,null,null,null,null,null,null,null,null,null,null,null,null,null,null,null,null,null,null,null,null,null,null,null,null,null,{"$f":"IF(ISTEXT('S9'!$F$67),NA(),'S9'!$F$67)","v":{"$error":"#N/A"}},{"$error":"#N/A"}]
[null,null,null,null,null,null,null,null,null,null,null,null,null,null,null,null,null,null,null,null,null,null,null,null,null,null,null,null,null,null,null,null,null,{"$f":"IF(ISTEXT('S9'!$H$67),NA(),'S9'!$H$67)","v":{"$error":"#N/A"}},{"$error":"#N/A"}]
[null,null,null,null,null,null,null,null,null,null,null,null,null,null,null,null,null,null,null,null,null,null,null,null,null,null,null,null,null,null,null,null,null,{"$f":"IF(ISTEXT('S9'!$J$67),NA(),'S9'!$J$67)","v":{"$error":"#N/A"}},{"$error":"#N/A"}]
[null,null,null,null,null,null,null,null,null,null,null,null,null,null,null,null,null,null,null,null,null,null,null,null,null,null,null,null,null,null,null,null,null,{"$f":"IF(ISTEXT('S9'!$L$67),NA(),'S9'!$L$67)","v":{"$error":"#N/A"}},{"$error":"#N/A"}]
[null,null,null,null,null,null,null,null,null,null,null,null,null,null,null,null,null,null,null,null,null,null,null,null,null,null,null,null,null,null,null,null,null,{"$f":"IF(ISTEXT('S9'!$N$67),NA(),'S9'!$N$67)","v":{"$error":"#N/A"}},{"$error":"#N/A"}]
[null,null,null,null,null,null,null,null,null,null,null,null,null,null,null,null,null,null,null,null,null,null,null,null,null,null,null,null,null,null,null,null,null,{"$f":"IF(ISTEXT('S10'!$D$34),NA(),'S10'!$D$34)","v":{"$error":"#N/A"}},{"$error":"#N/A"}]
[null,null,null,null,null,null,null,null,null,null,null,null,null,null,null,null,null,null,null,null,null,null,null,null,null,null,null,null,null,null,null,null,null,{"$f":"IF(ISTEXT('S10'!$F$34),NA(),'S10'!$F$34)","v":{"$error":"#N/A"}},{"$error":"#N/A"}]
[null,null,null,null,null,null,null,null,null,null,null,null,null,null,null,null,null,null,null,null,null,null,null,null,null,null,null,null,null,null,null,null,null,{"$f":"IF(ISTEXT('S10'!$H$34),NA(),'S10'!$H$34)","v":{"$error":"#N/A"}},{"$error":"#N/A"}]
[null,null,null,null,null,null,null,null,null,null,null,null,null,null,null,null,null,null,null,null,null,null,null,null,null,null,null,null,null,null,null,null,null,{"$f":"IF(ISTEXT('S10'!$J$34),NA(),'S10'!$J$34)","v":{"$error":"#N/A"}},{"$error":"#N/A"}]
[null,null,null,null,null,null,null,null,null,null,null,null,null,null,null,null,null,null,null,null,null,null,null,null,null,null,null,null,null,null,null,null,null,{"$f":"IF(ISTEXT('S10'!$L$34),NA(),'S10'!$L$34)","v":{"$error":"#N/A"}},{"$error":"#N/A"}]
[null,null,null,null,null,null,null,null,null,null,null,null,null,null,null,null,null,null,null,null,null,null,null,null,null,null,null,null,null,null,null,null,null,{"$f":"IF(ISTEXT('S10'!$N$34),NA(),'S10'!$N$34)","v":{"$error":"#N/A"}},{"$error":"#N/A"}]
[null,null,null,null,null,null,null,null,null,null,null,null,null,null,null,null,null,null,null,null,null,null,null,null,null,null,null,null,null,null,null,null,null,{"$f":"IF(ISTEXT('S10'!$D$67),NA(),'S10'!$D$67)","v":{"$error":"#N/A"}},{"$error":"#N/A"}]
[null,null,null,null,null,null,null,null,null,null,null,null,null,null,null,null,null,null,null,null,null,null,null,null,null,null,null,null,null,null,null,null,null,{"$f":"IF(ISTEXT('S10'!$F$67),NA(),'S10'!$F$67)","v":{"$error":"#N/A"}},{"$error":"#N/A"}]
[null,null,null,null,null,null,null,null,null,null,null,null,null,null,null,null,null,null,null,null,null,null,null,null,null,null,null,null,null,null,null,null,null,{"$f":"IF(ISTEXT('S10'!$H$67),NA(),'S10'!$H$67)","v":{"$error":"#N/A"}},{"$error":"#N/A"}]
[null,null,null,null,null,null,null,null,null,null,null,null,null,null,null,null,null,null,null,null,null,null,null,null,null,null,null,null,null,null,null,null,null,{"$f":"IF(ISTEXT('S10'!$J$67),NA(),'S10'!$J$67)","v":{"$error":"#N/A"}},{"$error":"#N/A"}]
[null,null,null,null,null,null,null,null,null,null,null,null,null,null,null,null,null,null,null,null,null,null,null,null,null,null,null,null,null,null,null,null,null,{"$f":"IF(ISTEXT('S10'!$L$67),NA(),'S10'!$L$67)","v":{"$error":"#N/A"}},{"$error":"#N/A"}]
[null,null,null,null,null,null,null,null,null,null,null,null,null,null,null,null,null,null,null,null,null,null,null,null,null,null,null,null,null,null,null,null,null,{"$f":"IF(ISTEXT('S10'!$N$67),NA(),'S10'!$N$67)","v":{"$error":"#N/A"}},{"$error":"#N/A"}]
[null,null,null,null,null,null,null,null,null,null,null,null,null,null,null,null,null,null,null,null,null,null,null,null,null,null,null,null,null,null,null,null,null,{"$f":"IF(ISTEXT('S11'!$D$34),NA(),'S11'!$D$34)","v":{"$error":"#N/A"}},{"$f":"ROUND(AVERAGE(AH120:AH122),2)","v":{"$error":"#N/A"}}]
[null,null,null,null,null,null,null,null,null,null,null,null,null,null,null,null,null,null,null,null,null,null,null,null,null,null,null,null,null,null,null,null,null,{"$f":"IF(ISTEXT('S11'!$F$34),NA(),'S11'!$F$34)","v":{"$error":"#N/A"}},{"$f":"ROUND(AVERAGE(AH121:AH123),2)","v":{"$error":"#N/A"}}]
[null,null,null,null,null,null,null,null,null,null,null,null,null,null,null,null,null,null,null,null,null,null,null,null,null,null,null,null,null,null,null,null,null,{"$f":"IF(ISTEXT('S11'!$H$34),NA(),'S11'!$H$34)","v":{"$error":"#N/A"}},{"$f":"ROUND(AVERAGE(AH122:AH124),2)","v":{"$error":"#N/A"}}]
[null,null,null,null,null,null,null,null,null,null,null,null,null,null,null,null,null,null,null,null,null,null,null,null,null,null,null,null,null,null,null,null,null,{"$f":"IF(ISTEXT('S11'!$J$34),NA(),'S11'!$J$34)","v":{"$error":"#N/A"}},{"$error":"#N/A"}]
[null,null,null,null,null,null,null,null,null,null,null,null,null,null,null,null,null,null,null,null,null,null,null,null,null,null,null,null,null,null,null,null,null,{"$f":"IF(ISTEXT('S11'!$L$34),NA(),'S11'!$L$34)","v":{"$error":"#N/A"}},{"$error":"#N/A"}]
[null,null,null,null,null,null,null,null,null,null,null,null,null,null,null,null,null,null,null,null,null,null,null,null,null,null,null,null,null,null,null,null,null,{"$f":"IF(ISTEXT('S11'!$N$34),NA(),'S11'!$N$34)","v":{"$error":"#N/A"}},{"$error":"#N/A"}]
[null,null,null,null,null,null,null,null,null,null,null,null,null,null,null,null,null,null,null,null,null,null,null,null,null,null,null,null,null,null,null,null,null,{"$f":"IF(ISTEXT('S11'!$D$67),NA(),'S11'!$D$67)","v":{"$error":"#N/A"}},{"$f":"ROUND(AVERAGE(AH126:AH128),2)","v":{"$error":"#N/A"}}]
[null,null,null,null,null,null,null,null,null,null,null,null,null,null,null,null,null,null,null,null,null,null,null,null,null,null,null,null,null,null,null,null,null,{"$f":"IF(ISTEXT('S11'!$F$67),NA(),'S11'!$F$67)","v":{"$error":"#N/A"}},{"$error":"#N/A"}]
[null,null,null,null,null,null,null,null,null,null,null,null,null,null,null,null,null,null,null,null,null,null,null,null,null,null,null,null,null,null,null,null,null,{"$f":"IF(ISTEXT('S11'!$H$67),NA(),'S11'!$H$67)","v":{"$error":"#N/A"}},{"$f":"ROUND(AVERAGE(AH128:AH130),2)","v":{"$error":"#N/A"}}]
[null,null,null,null,null,null,null,null,null,null,null,null,null,null,null,null,null,null,null,null,null,null,null,null,null,null,null,null,null,null,null,null,null,{"$f":"IF(ISTEXT('S11'!$J$67),NA(),'S11'!$J$67)","v":{"$error":"#N/A"}},{"$f":"ROUND(AVERAGE(AH129:AH131),2)","v":{"$error":"#N/A"}}]
[null,null,null,null,null,null,null,null,null,null,null,null,null,null,null,null,null,null,null,null,null,null,null,null,null,null,null,null,null,null,null,null,null,{"$f":"IF(ISTEXT('S11'!$L$67),NA(),'S11'!$L$67)","v":{"$error":"#N/A"}},{"$error":"#N/A"}]
[null,null,null,null,null,null,null,null,null,null,null,null,null,null,null,null,null,null,null,null,null,null,null,null,null,null,null,null,null,null,null,null,null,{"$f":"IF(ISTEXT('S11'!$N$67),NA(),'S11'!$N$67)","v":{"$error":"#N/A"}},{"$error":"#N/A"}]
[null,null,null,null,null,null,null,null,null,null,null,null,null,null,null,null,null,null,null,null,null,null,null,null,null,null,null,null,null,null,null,null,null,{"$f":"IF(ISTEXT('S12'!$D$34),NA(),'S12'!$D$34)","v":{"$error":"#N/A"}},{"$error":"#N/A"}]
[null,null,null,null,null,null,null,null,null,null,null,null,null,null,null,null,null,null,null,null,null,null,null,null,null,null,null,null,null,null,null,null,null,{"$f":"IF(ISTEXT('S12'!$F$34),NA(),'S12'!$F$34)","v":{"$error":"#N/A"}},{"$error":"#N/A"}]
[null,null,null,null,null,null,null,null,null,null,null,null,null,null,null,null,null,null,null,null,null,null,null,null,null,null,null,null,null,null,null,null,null,{"$f":"IF(ISTEXT('S12'!$H$34),NA(),'S12'!$H$34)","v":{"$error":"#N/A"}},{"$error":"#N/A"}]
[null,null,null,null,null,null,null,null,null,null,null,null,null,null,null,null,null,null,null,null,null,null,null,null,null,null,null,null,null,null,null,null,null,{"$f":"IF(ISTEXT('S12'!$J$34),NA(),'S12'!$J$34)","v":{"$error":"#N/A"}},{"$error":"#N/A"}]
[null,null,null,null,null,null,null,null,null,null,null,null,null,null,null,null,null,null,null,null,null,null,null,null,null,null,null,null,null,null,null,null,null,{"$f":"IF(ISTEXT('S12'!$L$34),NA(),'S12'!$L$34)","v":{"$error":"#N/A"}},{"$error":"#N/A"}]
[null,null,null,null,null,null,null,null,null,null,null,null,null,null,null,null,null,null,null,null,null,null,null,null,null,null,null,null,null,null,null,null,null,{"$f":"IF(ISTEXT('S12'!$N$34),NA(),'S12'!$N$34)","v":{"$error":"#N/A"}},{"$error":"#N/A"}]
[null,null,null,null,null,null,null,null,null,null,null,null,null,null,null,null,null,null,null,null,null,null,null,null,null,null,null,null,null,null,null,null,null,{"$f":"IF(ISTEXT('S12'!$D$67),NA(),'S12'!$D$67)","v":{"$error":"#N/A"}},{"$error":"#N/A"}]
[null,null,null,null,null,null,null,null,null,null,null,null,null,null,null,null,null,null,null,null,null,null,null,null,null,null,null,null,null,null,null,null,null,{"$f":"IF(ISTEXT('S12'!$F$67),NA(),'S12'!$F$67)","v":{"$error":"#N/A"}},{"$error":"#N/A"}]
[null,null,null,null,null,null,null,null,null,null,null,null,null,null,null,null,null,null,null,null,null,null,null,null,null,null,null,null,null,null,null,null,null,{"$f":"IF(ISTEXT('S12'!$H$67),NA(),'S12'!$H$67)","v":{"$error":"#N/A"}},{"$error":"#N/A"}]
[null,null,null,null,null,null,null,null,null,null,null,null,null,null,null,null,null,null,null,null,null,null,null,null,null,null,null,null,null,null,null,null,null,{"$f":"IF(ISTEXT('S12'!$J$67),NA(),'S12'!$J$67)","v":{"$error":"#N/A"}},{"$error":"#N/A"}]
[null,null,null,null,null,null,null,null,null,null,null,null,null,null,null,null,null,null,null,null,null,null,null,null,null,null,null,null,null,null,null,null,null,{"$f":"IF(ISTEXT('S12'!$L$67),NA(),'S12'!$L$67)","v":{"$error":"#N/A"}},{"$error":"#N/A"}]
[null,null,null,null,null,null,null,null,null,null,null,null,null,null,null,null,null,null,null,null,null,null,null,null,null,null,null,null,null,null,null,null,null,{"$f":"IF(ISTEXT('S12'!$N$67),NA(),'S12'!$N$67)","v":{"$error":"#N/A"}},{"$error":"#N/A"}]

{"sheet":"AP2","index":33,"n_rows":36,"n_cols":28,"rows_kept":36,"cut":false,"hidden":true,"merged":[[21,0,23,0],[5,0,7,0],[9,0,11,0],[1,0,3,0],[13,0,15,0],[17,0,19,0],[25,0,27,0],[29,0,31,0],[33,0,35,0],[26,2,26,3],[30,2,30,3]]}
[]
[0.375,"Max",105]
[]
[null,"Min",95]
[]
[4,"Max",100]
[]
[null,"Min",90]
[]
[8,"Max",100]
[]
[null,"Min",70]
[]
[16,"Max",85]
[]
[null,"Min",45]
[]
[30,"Max",65]
[]
[null,"Min",25]
[]
[50,"Max",30,"Upper",{"$f":"E23+#REF!","v":{"$error":"#VALUE!"}},{"$f":"$E22","v":{"$error":"#VALUE!"}},{"$f":"$E22","v":{"$error":"#VALUE!"}},{"$error":"#VALUE!"},{"$error":"#VALUE!"},{"$error":"#VALUE!"},{"$error":"#VALUE!"},{"$error":"#VALUE!"},{"$error":"#VALUE!"},{"$error":"#VALUE!"},{"$error":"#VALUE!"},{"$error":"#VALUE!"},{"$error":"#VALUE!"},{"$error":"#VALUE!"},{"$error":"#VALUE!"},{"$error":"#VALUE!"},{"$error":"#VALUE!"},{"$error":"#VALUE!"},{"$error":"#VALUE!"},{"$error":"#VALUE!"},{"$error":"#VALUE!"},{"$error":"#VALUE!"},{"$error":"#VALUE!"},{"$error":"#VALUE!"}]
[null,null,null,"Target",{"$f":"'S1'!M6","v":"No"},{"$f":"$E23","v":"No"},"No","No","No","No","No","No","No","No","No","No","No","No","No","No","No","No","No","No","No","No","No","No"]
[null,"Min",10,"Lower",{"$f":"E23-#REF!","v":{"$error":"#VALUE!"}},{"$f":"$E24","v":{"$error":"#VALUE!"}},{"$f":"$E24","v":{"$error":"#VALUE!"}},{"$error":"#VALUE!"},{"$error":"#VALUE!"},{"$error":"#VALUE!"},{"$error":"#VALUE!"},{"$error":"#VALUE!"},{"$error":"#VALUE!"},{"$error":"#VALUE!"},{"$error":"#VALUE!"},{"$error":"#VALUE!"},{"$error":"#VALUE!"},{"$error":"#VALUE!"},{"$error":"#VALUE!"},{"$error":"#VALUE!"},{"$error":"#VALUE!"},{"$error":"#VALUE!"},{"$error":"#VALUE!"},{"$error":"#VALUE!"},{"$error":"#VALUE!"},{"$error":"#VALUE!"},{"$error":"#VALUE!"},{"$error":"#VALUE!"}]
[]
[100,"Max",10]
[null,null,"Upper  Action",null,{"$f":"#REF!","v":{"$error":"#REF!"}},{"$f":"$E27","v":{"$error":"#REF!"}},{"$f":"$E27","v":{"$error":"#REF!"}},{"$error":"#REF!"},{"$error":"#REF!"},{"$error":"#REF!"},{"$error":"#REF!"},{"$error":"#REF!"},{"$error":"#REF!"},{"$error":"#REF!"},{"$error":"#REF!"},{"$error":"#REF!"},{"$error":"#REF!"},{"$error":"#REF!"},{"$error":"#REF!"},{"$error":"#REF!"},{"$error":"#REF!"},{"$error":"#REF!"},{"$error":"#REF!"},{"$error":"#REF!"},{"$error":"#REF!"},{"$error":"#REF!"},{"$error":"#REF!"},{"$error":"#REF!"}]
[null,"Min",0,null,null,null,null,null,null,null,null,null,null,null,null,null,null,null,"`"]
[]
[200,"Max",3.5]
[null,null,"Upper  Action",null,{"$f":"#REF!","v":{"$error":"#REF!"}},{"$f":"$E31","v":{"$error":"#REF!"}},{"$f":"$E31","v":{"$error":"#REF!"}},{"$error":"#REF!"},{"$error":"#REF!"},{"$error":"#REF!"},{"$error":"#REF!"},{"$error":"#REF!"},{"$error":"#REF!"},{"$error":"#REF!"},{"$error":"#REF!"},{"$error":"#REF!"},{"$error":"#REF!"},{"$error":"#REF!"},{"$error":"#REF!"},{"$error":"#REF!"},{"$error":"#REF!"},{"$error":"#REF!"},{"$error":"#REF!"},{"$error":"#REF!"},{"$error":"#REF!"},{"$error":"#REF!"},{"$error":"#REF!"},{"$error":"#REF!"}]
[null,"Min",0]
[]
["FM","Max",{"$f":"E35+0.4","v":0.4},"Upper",{"$f":"E35+#REF!","v":{"$error":"#REF!"}},{"$f":"$E34","v":{"$error":"#REF!"}},{"$f":"$E34","v":{"$error":"#REF!"}},{"$error":"#REF!"},{"$error":"#REF!"},{"$error":"#REF!"},{"$error":"#REF!"},{"$error":"#REF!"},{"$error":"#REF!"},{"$error":"#REF!"},{"$error":"#REF!"},{"$error":"#REF!"},{"$error":"#REF!"},{"$error":"#REF!"},{"$error":"#REF!"},{"$error":"#REF!"},{"$error":"#REF!"},{"$error":"#REF!"},{"$error":"#REF!"},{"$error":"#REF!"},{"$error":"#REF!"},{"$error":"#REF!"},{"$error":"#REF!"},{"$error":"#REF!"}]
[null,null,null,"Target",{"$f":"'S1'!M7","v":0},{"$f":"$E35","v":0},0,0,0,0,0,0,0,0,0,0,0,0,0,0,0,0,0,0,0,0,0,0]
[null,"Min",{"$f":"E35-0.4","v":-0.4},"Lower",{"$f":"E35-#REF!","v":{"$error":"#REF!"}},{"$f":"$E36","v":{"$error":"#REF!"}},{"$error":"#REF!"},{"$error":"#REF!"},{"$error":"#REF!"},{"$error":"#REF!"},{"$error":"#REF!"},{"$error":"#REF!"},{"$error":"#REF!"},{"$error":"#REF!"},{"$error":"#REF!"},{"$error":"#REF!"},{"$error":"#REF!"},{"$error":"#REF!"},{"$error":"#REF!"},{"$error":"#REF!"},{"$error":"#REF!"},{"$error":"#REF!"},{"$error":"#REF!"},{"$error":"#REF!"},{"$error":"#REF!"},{"$error":"#REF!"},{"$error":"#REF!"},{"$error":"#REF!"}]

{"sheet":"AP","index":34,"n_rows":69,"n_cols":5,"rows_kept":69,"cut":false,"hidden":true,"merged":[]}
[{"$f":"'S1'!M4","v":0}]
[]
[null,"Min",{"$f":"IF(A1=\"2A\",95,IF(A1=\"OGS\",95,90))","v":90},"Major",1]
[2]
[null,"Max",100,"Minor",{"$f":"IF(A1=\"2A\",1,IF(A1=\"OGS\",1,2))","v":2}]
[]
[null,"Min",{"$f":"IF(A$1=3,35,95)","v":95},"Major",{"$f":"IF(OR(A$1=3,A$1=467),1,1)","v":1}]
[1.5]
[null,"Max",{"$f":"IF(A$1=3,70,100)","v":100},"Minor",{"$f":"IF(A$1=3,2,IF(A$1=467,1,1))","v":1}]
[]
[null,"Min",{"$f":"IF(A$1=3,0,IF(A1=57,95,IF(A1=67,95,IF(A1=78,95,90))))","v":90},"Major",1]
[1]
[null,"Max",{"$f":"IF(A$1=3,15,100)","v":100},"Minor",{"$f":"IF(A$1=3,3,IF(A1=5,2,IF(A1=57,1,IF(A1=67,1,1))))","v":1}]
[]
[null,"Min",{"$f":"IF(A$1=467,35,IF(A$1=5,20,IF(A$1=67,90,IF(A1=7,95,IF(A1=78,95,IF(A$1=\"2A\",52,IF(A1=\"DSA\",65,IF(A$1=\"OGS\",52,90))))))))","v":90},"Major",{"$f":"IF(A1=\"DSA\",5,1)","v":1}]
[0.75]
[null,"Max",{"$f":"IF(A$1=467,70,IF(A$1=5,55,IF(A$1=67,100,IF(A$1=\"2A\",100,IF(A1=\"DSA\",95,IF(A$1=\"OGS\",100,100))))))","v":100},"Minor",{"$f":"IF(A$1=467,5,IF(A1=5,5,IF(A1=7,1,IF(A1=78,1,IF(A1=67,2,IF(A1=\"2A\",6,IF(A1=\"DSA\",5,IF(A1=\"OGS\",6,1))))))))","v":1}]
[]
[null,"Min",{"$f":"IF(A$1=3,0,IF(A$1=5,0,IF(A$1=57,25,IF(A$1=7,90,IF(A1=\"DSA\",40,IF(A1=78,90,IF(A$1=8,95,90)))))))","v":90},"Major",{"$f":"IF(A1=\"DSA\",5,1)","v":1}]
[0.5]
[null,"Max",{"$f":"IF(A$1=3,5,IF(A$1=5,10,IF(A$1=57,60,IF(A$1=7,100,IF(A1=78,100,IF(A1=\"DSA\",80,IF(A$1=8,100,100)))))))","v":100},"Minor",{"$f":"IF(A$1=3,1,IF(A1=5,2,IF(A1=57,2,IF(A1=7,2,IF(A1=78,2,IF(A8=8,1,1))))))","v":1}]
[]
[null,"Min",{"$f":"IF(A$1=\"Type A\",95,IF(A$1=\"B1\",95,IF(A$1=\"B3\",95,IF(A1=\"Anti-Skid\",95,IF(A$1=467,10,IF(A$1=5,0,IF(A$1=67,20,IF(A1=57,10,IF(A$1=7,40,IF(A$1=8,85,IF(A1=78,40,IF(A$1=\"2A\",36,IF(A$1=\"OGS\",36,IF(A1=9,95,IF(A1=10,100,60)))))))))))))))","v":60},"Major",1]
[0.375]
[null,"Max",{"$f":"IF(A$1=467,30,IF(A$1=5,5,IF(A$1=67,55,IF(A1=57,30,IF(A$1=7,70,IF(A$1=8,100,IF(A1=78,75,IF(A$1=\"2A\",70,IF(A$1=\"OGS\",65,100)))))))))","v":100},"Minor",{"$f":"IF(A$1=\"Type A\",1,IF(A$1=\"B1\",1,IF(A$1=\"B3\",1,IF(A1=\"Anti-Skid\",1,IF(A1=467,5,IF(A1=5,1,IF(A1=57,5,IF(A1=67,5,IF(A1=7,5,IF(A1=78,5,IF(A1=8,3,IF(A1=9,1,IF(A1=10,1,IF(A1=\"2A\",4,IF(A1=\"OGS\",4,2)))))))))))))))","v":2}]
[]
[null,"Min",{"$f":"IF(A$1=\"B3\",80,IF(A$1=\"Type A\",95,IF(A1=\"Anti-Skid\",35,IF(A$1=\"B1\",95,IF(A$1=9,85,IF(A$1=\"2A\",24,IF(A$1=\"OGS\",8,IF(A1=78,5,IF(A$1=8,10,IF(A1=10,85,IF(A1=\"DSA\",30,IF(A1=\"2RC\",15,30))))))))))))","v":30},"Major",1]
[4]
[null,"Max",{"$f":"IF(A$1=7,15,IF(A1=467,5,IF(A1=\"Anti-Skid\",80,IF(A$1=9,100,IF(A1=57,10,IF(A1=67,10,IF(A$1=\"2A\",50,IF(A$1=\"OGS\",40,IF(A1=78,25,IF(A$1=8,30,IF(A1=\"DSA\",65,IF(A1=\"2RC\",60,70))))))))))))","v":70},"Minor",{"$f":"IF(A$1=\"Type A\",1,IF(A$1=\"B1\",1,IF(A$1=\"B3\",4,IF(A1=\"Anti-Skid\",5,IF(A1=467,1,IF(A1=57,2,IF(A1=67,2,IF(A1=7,3,IF(A1=78,4,IF(A1=8,4,IF(A1=9,3,IF(A1=10,3,IF(A1=\"2A\",5,IF(A1=\"OGS\",4,IF(A1=\"DSA\",5,IF(A1=\"2RC\",5,2))))))))))))))))","v":2}]
[]
[null,"Min",{"$f":"IF(OR(A$1=\"B3\",A$1=10),65,IF(A$1=\"Type A\",70,IF(A$1=\"B1\",70,IF(A$1=9,10,30))))","v":30},"Major",1]
[8]
[null,"Max",{"$f":"IF(A1=57,5,IF(A1=7,5,IF(A1=67,5,IF(A1=78,10,IF(A1=\"Anti-Skid\",80,IF(A1=8,10,IF(A$1=9,40,70)))))))","v":70},"Minor",{"$f":"IF(A$1=\"Type A\",5,IF(A$1=\"B1\",5,IF(A$1=\"B3\",5,IF(A1=\"Anti-Skid\",5,IF(A1=57,1,IF(A1=67,1,IF(A1=7,1,IF(A1=78,2,IF(A1=8,2,IF(A1=9,5,2))))))))))","v":2}]
[]
[null,"Min",{"$f":"IF(OR(A$1=\"B1\",A$1=\"B3\"),40,IF(A$1=\"Type A\",45,IF(A1=9,0,IF(A$1=\"2A\",10,IF(A1=\"DSA\",10,20)))))","v":20},"Major",1]
[16]
[null,"Max",{"$f":"IF(A$1=\"Type A\",85,IF(A$1=\"B1\",80,IF(A$1=\"B3\",80,IF(A$1=8,5,IF(A1=9,10,IF(A1=78,5,IF(A$1=\"2A\",30,IF(A$1=\"OGS\",12,IF(A1=\"DSA\",30,40)))))))))","v":40},"Minor",{"$f":"IF(A$1=\"Type A\",5,IF(A$1=\"B1\",5,IF(A$1=\"B3\",5,IF(A1=8,1,IF(A1=\"2A\",4,IF(A1=\"OGS\",2,IF(A1=\"DSA\",2,2)))))))","v":2}]
[]
[null,"Min",{"$f":"IF(OR(A$1=\"B1\",A$1=\"B3\"),20,IF(A$1=\"Type A\",25,20))","v":20},"Major",1]
[30]
[null,"Max",{"$f":"IF(OR(A$1=\"Type A\",A$1=\"B1\",A$1=\"B3\"),65,40)","v":40},"Minor",{"$f":"IF(A$1=\"Type A\",5,IF(A$1=\"B1\",5,IF(A$1=\"B3\",5,2)))","v":2}]
[]
[null,"Min",{"$f":"IF(OR(A$1=\"B1\",A$1=\"B3\"),7,IF(A$1=\"Type A\",10,0))","v":0},"Major",1]
[50]
[null,"Max",{"$f":"IF(OR(A$1=\"B1\",A$1=\"B3\"),40,IF(A$1=\"Type A\",30,IF(A$1=9,5,30)))","v":30},"Minor",{"$f":"IF(A$1=\"Type A\",2,IF(A$1=\"B1\",2,IF(A$1=\"B3\",2,IF(A1=9,1,2))))","v":2}]
[]
[null,"Min",{"$f":"IF(A$1=10,10,IF(A$1=\"B1\",2,IF(A$1=\"B3\",2,5)))","v":5},"Major",1]
[100]
[null,"Max",{"$f":"IF(OR(A$1=\"B1\",A$1=\"B3\"),20,IF(A$1=\"Type A\",10,IF(A1=\"Anti-Skid\",8,IF(A$1=10,30,IF(A1=\"2RC\",30,20)))))","v":20},"Minor",{"$f":"IF(A$1=\"Type A\",1,IF(A$1=\"B1\",2,IF(A$1=\"B3\",2,IF(A1=\"Anti-Skid\",2,IF(A1=10,4,IF(A1=\"2RC\",5,3))))))","v":3}]
[]
[null,"Min",0,"Major",{"$f":"IF(A$1=\"B1\",1,IF(A$1=\"B3\",1,IF(A1=\"Anti-Skid\",1,IF(A1=9,0.5,IF(A1=\"2A\",1,IF(A1=\"OGS\",1,1))))))","v":1}]
[200]
[null,"Max",{"$f":"IF(A1=\"Anti-Skid\",5,IF(A1=9,2,10))","v":10},"Minor",{"$f":"IF(A$1=\"B1\",1,IF(A$1=\"B3\",1,IF(A1=\"Anti-Skid\",1,IF(A1=9,0.1,IF(A1=\"2A\",2,IF(A1=\"OGS\",2,1))))))","v":1}]
[]
[null,"Min",0,"Major",{"$f":"IF(A1=\"2A\",1,IF(A1=\"OGS\",1,0.5))","v":0.5}]
["Wash"]
[null,"Max",{"$f":"IF(A$1=\"2A\",10,IF(A$1=\"OGS\",5,3))","v":3},"Minor",{"$f":"IF(A1=\"2A\",2,IF(A1=\"OGS\",1,0.2))","v":0.2}]
[]
[null,"Min",2.2999999999999998,"Major",0.1]
["FM"]
[null,"Max",3.15,"Minor",0.1]
[]
[null,"Min",{"$f":"IF(A1=5,10,30)","v":30},"Major",{"$f":"IF(A1=5,2,5)","v":5}]
[0.625]
[null,"Max",{"$f":"IF(A1=5,20,70)","v":70},"Minor",{"$f":"IF(A1=5,2,5)","v":5}]
[]
[null,"Min",{"$f":"IF(A1=\"Type A\",95,IF(A1=\"B1\",95,IF(A1=\"B3\",95,IF(A1=\"Anti-Skid\",90,30))))","v":30},"Major",{"$f":"IF(A1=\"Type A\",1,IF(A1=\"B1\",1,IF(A1=\"Anti-Skid\",1,IF(A1=\"B3\",1,5))))","v":5}]
[0.25]
[null,"Max",{"$f":"IF(A1=\"Type A\",100,IF(A1=\"B1\",100,IF(A1=\"B3\",100,IF(A1=\"Anti-Skid\",100,70))))","v":70},"Minor",{"$f":"IF(A1=\"Type A\",1,IF(A1=\"B1\",1,IF(A1=\"Anti-Skid\",1,IF(A1=\"B3\",1,5))))","v":5}]